{"text_format":"1","workbook":"xlsx","n_sheets":30,"sheets":["1. Title Sheet(标题页）","2. On-site Fuel Use（现场燃料使用）","3. Fugitive Emissions（逸散性排放）","4. Purchased Energy（能源购买）","5. Material Inputs（原材料投入）","6. Inbound Logistics（入场物流）","7. Outbound Logistics（出场物流）","8. Business Travel（差旅）","9. Employee Commuting（员工通勤）","10. Waste and Water（废弃物和水）","11. Customer Apportionment（客户分摊","12. Product Apportionment（产品分摊）","13. Results（结果）","14. Results - Percentage Split","Reference Data - Fuel EFs","Reference Data - Transport fuel","Reference Data - Electricity","Reference Data - Heat","Reference Data - Steam","Reference Data - Cooling","Reference Data - Fugitive GWP","Reference Data -Refrigerant GWP","Reference Material EFs Quantity","Reference Material EFs EEIO","Reference - Logistics Distance","Reference Passenger Transport","Reference Data - Waste EFs","VBA Backend","Dropdown menus","Sheet2"],"not_rendered":{"charts":30,"images":3,"macros":1,"external_links":0,"defined_names":30,"comments":7,"pivot_tables":0},"unopened":[],"bounds":{"document_bytes":16777216,"sheet_cells":100000,"rows_first":2000,"rows_last":500,"rows_between":2000,"halvings":0,"cell_chars":16384,"cell_head_chars":4096},"cells_cut":0,"cells_raw":0,"read":"whole","date_system":"1900"}

{"sheet":"1. Title Sheet(标题页）","index":0,"n_rows":53,"n_cols":15,"rows_kept":53,"cut":false,"hidden":false,"merged":[[0,6,0,12],[41,4,41,8],[26,4,26,8],[27,4,27,8],[38,4,38,8],[39,4,39,8],[29,4,29,8],[30,4,30,8],[34,4,34,8],[32,4,32,8],[33,4,33,8],[36,4,36,8],[52,3,52,4],[28,4,28,8],[37,4,37,8],[35,4,35,8],[40,4,40,8],[42,4,42,8],[31,4,31,8],[48,4,48,8],[49,4,49,8],[43,4,43,8],[44,4,44,8],[45,4,45,8],[46,4,46,8],[47,4,47,8],[1,6,6,12],[25,4,25,8],[7,4,8,4],[15,4,16,4],[4,4,5,4],[10,4,11,4],[12,4,13,4],[24,4,24,8],[8,6,21,12]]}
[null,null,null,null,null,null,"This tool has been reviewed by WRI for conformance with the GHG Protocol Corporate Standard\n经世界资源研究所审核确认，本工具符合温室气体核算体系企业核算与报告标准的要求。",null,null,null,null,null,null,null,{"$f":"'Dropdown menus'!F3","v":"Equity Share 股权比例"}]
[null,null,null,"标题页",null,null,"About the Tool:\nThis tool will enable Chinese exporters to measure, report and reduce supply chain emissions according to international standards and procurement requirements of key customers in export markets. The tool was funded by the China Prosperity SPF Fund from the UK Foreign and Commonwealth Office.",null,null,null,null,null,null,null,{"$f":"'Dropdown menus'!F4","v":"Financial Control 财务控制"}]
[null,null,null,"Title Page",null,null,null,null,null,null,null,null,null,null,{"$f":"'Dropdown menus'!F5","v":"Operational Control 运营控制"}]
[]
[null,"C",null,"公司名称"]
[null,"E",null,"Company Name"]
[]
[null,null,null,"报告者姓名",null,null,"www.carbontrust.com"]
[null,null,null,"Reporter Name",null,null,"About the Carbon Trust:\nWe are an independent, expert partner of leading organisations around the world, helping them contribute to and benefit from a more sustainable world:\n• We measure and certify the environmental footprint of organisations, products and services\n• We help companies assess risks and opportunities, and move to a more sustainable business model\n• We advise businesses, governments and the public sector on their opportunities in a sustainable, low carbon world\n• We assist governments and trade bodies to set up footprinting schemes, methodologies, certification systems and labelling\n• We provide bespoke tools and software to assist in the above\n• We help develop and deploy low carbon technologies and solutions, from energy efficiency to renewable power\n\n"]
[]
[null,null,null,"报告起始日期"]
[null,null,null,"Reporting period start date:"]
[null,null,null,"报告结束日期"]
[null,null,null,"Reporting period end date:"]
[]
[null,"C",null,"合并方法","Operational Control 运营控制"]
[null,"E",null,"Consolidation Approach"]
[]
[null,null,null,"使用者可以点击help键得到更多的说明"]
[null,null,null,"The user can click on the help boxes for additional instructions to appear"]
[]
[null,null,null,"内容"]
[null,null,null,"Contents"]
[null,null,null,"Worksheet","User Instructions"]
[null,null,null,"2.现场燃料使用","请输入现场燃烧和运输的燃料消耗"]
[null,null,null,"2. On-site fuel use","Enter fuel consumption for on-site combustion and on-site transport"]
[null,null,null,"3.逸散性排放","请输入在生产过程及制冷过程中直接排放到大气的气体"]
[null,null,null,"3. Fugitive Emission","Enter gases released directly into the atmosphere  from processes and refrigeration"]
[null,null,null,"4.能源购买","请输入电力总消耗量与购买的热力、蒸汽及冷力的数量"]
[null,null,null,"4. Purchased Energy","Enter total electricity consumption and quantity of heat, steam and cooling purchased"]
[null,null,null,"5.原材料投入","请输入用于现场制造所使用的原材料"]
[null,null,null,"5. Material Inputs","Enter materials used on-site for manufacturing"]
[null,null,null,"6.入场物流","请输入将原材料运送到生产地点的运输信息"]
[null,null,null,"6. Inbound Logistics","Enter transport to bring materials to your site"]
[null,null,null,"7.出场物流","请输入将产品运送出生产地点的运输信息"]
[null,null,null,"7. Outbound Logistics","Enter transport to take products from your site"]
[null,null,null,"8.差旅","请输入与员工差旅相关的信息"]
[null,null,null,"8. Business Travel","Enter information relating to employee business travel"]
[null,null,null,"9.员工通勤（上下班往返）","请输入员工通勤相关的信息"]
[null,null,null,"9. Employee Commuting","Enter information relating to employee commuting"]
[null,null,null,"10.废弃物和水","请输入与现场废弃材料和用水相关的信息"]
[null,null,null,"10. Waste and Water","Enter information relating to waste materials and water on-site"]
[null,null,null,"11.客户分摊","请输入主要的客户名称与向每个客户销售量的大概百分比"]
[null,null,null,"11. Customer Apportionment","Enter main customers and approximate percentage of sales that go to each customer"]
[null,null,null,"12.产品分摊","请输入主要产品与每类产品销售量的大概百分比"]
[null,null,null,"12. Product Apportionment","Enter main products and approximate percentage of sales that come from each product"]
[null,null,null,"13.结果","您公司碳足迹的详细结果--用绝对数值表示"]
[null,null,null,"13. Results","Results - Details of your company’s footprint in absolute numbers"]
[null,null,null,"14.结果-百分比","您公司碳足迹的详细结果--用百分比表示"]
[null,null,null,"14. Results - percentage split","Results - Details of your company’s footprint in percentages"]
[]
[null,null,null,"声明 \nStatement："]
[null,null,null,"Carbon Trust开发的原始工具中不包含排放因子。为方便用户使用，世界资源研究所在工具中填入了针对中国的排放因子。\nEmission factors are not part of the original version developed by Carbon Trust. All the China-specific emission factors in this tool are filled by World Resources Institute to facilitate the use of this tool."]

{"sheet":"2. On-site Fuel Use（现场燃料使用）","index":1,"n_rows":106,"n_cols":75,"rows_kept":106,"cut":false,"hidden":false,"merged":[]}
[]
[null,null,null,"现场燃烧",null,null,null,null,null,"现场车辆"]
[null,null,null,"On-Site Combustion",null,null,null,null,null,"On-Site Vehicles",null,null,null,null,null,"On-Site combustion",null,null,null,null,null,null,null,null,null,null,null,null,null,null,null,null,null,null,null,null,null,null,null,null,null,null,null,null,"On-Site Vehicles"]
[null,null,null,null,null,null,null,null,null,null,null,null,null,null,"Vlookup column index",2,6,7,8,9,10,11,12,13,null,3,null,5,null,null,null,null,null,null,null,null,null,null,null,null,null,null,null,null,null,null,2,6,7,8,9,10,11,12,13,null,3,null,5]
[null,"C",null,"燃料和单位","年消耗量",null,null,"C",null,"燃料和单位","车辆所有权和控制权","年消耗量",null,null,null,"Emission Factors",null,null,null,null,null,null,null,null,null,null,null,null,null,"Emissions (kg)",null,null,null,null,null,null,null,null,null,null,null,"Energy Use (MWh)",null,null,"Scope",null,"Factors",null,null,null,null,null,null,null,null,null,null,null,null,null,"Scope 1 Emissions (kg)",null,null,null,null,null,null,null,null,null,null,"Scope 3 emissions (kg CO2e)",null,null,"Energy Use (MWh)"]
[null,"E",null,"Fuel & Units","Quantity per year",null,null,"E",null,"Fuel & Units","Vehicle Ownership and Control","Quantity per year",null,null,null,"CO2e","CO2","CH4","N2O","HFC","PFC","SF6","NF3","Upstream CO2e",null,"Biogenic - Yes/No",null,"Energy Use",null,"CO2e","CO2","CH4","N2O","HFC","PFC","SF6","NF3","Upstream CO2e",null,"Biogenic CO2e",null,null,null,"To drive formulae below",{"$f":"VLOOKUP('1. Title Sheet(标题页）'!E16,ConsolidationApproachLookupTable,2,FALSE)","v":2},null,"Combustion Emission Factor (kg CO2e/unit)","CO2 Emission Factor (kg CO2/unit)","CH4 Emission Factor (kg CH4/unit)","N2O  Emission Factor (kg N2O/unit)","HFC  Emission Factor (kg HFC/unit)","PFC  Emission Factor (kg PFC/unit)","SF6  Emission Factor (kg SF6/unit)","NF3  Emission Factor (kg SF6/unit)","Upstream emissions (kg CO2e/unit)",null,"Biogenic - Yes/No",null,"Energy Use Conversion factor (MWh per unit)",null,"CO2e","CO2","CH4","N2O","HFC","PFC","SF6","NF3",null,"Biogenic CO2e",null,"Upstream (fuel + energy related)","Direct combustion emissions"]
[null,null,null,null,null,null,null,null,null,null,null,null,null,null,null,{"$f":"IF($D7=\"\",\"\",VLOOKUP($D7,'Reference Data - Fuel EFs'!$C:$O,P$4,FALSE))","v":""},{"$f":"IF($D7=\"\",\"\",VLOOKUP($D7,'Reference Data - Fuel EFs'!$C:$O,Q$4,FALSE))","v":""},{"$f":"IF($D7=\"\",\"\",VLOOKUP($D7,'Reference Data - Fuel EFs'!$C:$O,R$4,FALSE))","v":""},{"$f":"IF($D7=\"\",\"\",VLOOKUP($D7,'Reference Data - Fuel EFs'!$C:$O,S$4,FALSE))","v":""},{"$f":"IF($D7=\"\",\"\",VLOOKUP($D7,'Reference Data - Fuel EFs'!$C:$O,T$4,FALSE))","v":""},{"$f":"IF($D7=\"\",\"\",VLOOKUP($D7,'Reference Data - Fuel EFs'!$C:$O,U$4,FALSE))","v":""},{"$f":"IF($D7=\"\",\"\",VLOOKUP($D7,'Reference Data - Fuel EFs'!$C:$O,V$4,FALSE))","v":""},{"$f":"IF($D7=\"\",\"\",VLOOKUP($D7,'Reference Data - Fuel EFs'!$C:$O,W$4,FALSE))","v":""},{"$f":"IF($D7=\"\",\"\",VLOOKUP($D7,'Reference Data - Fuel EFs'!$C:$O,X$4,FALSE))","v":""},null,{"$f":"IF($D7=\"\",\"\",VLOOKUP($D7,'Reference Data - Fuel EFs'!$C:$O,Z$4,FALSE))","v":""},null,{"$f":"IF($D7=\"\",\"\",VLOOKUP($D7,'Reference Data - Fuel EFs'!$C:$O,AB$4,FALSE))","v":""},null,{"$f":"IF($D7=\"\",\"\",($E7*P7)-AN7)","v":""},{"$f":"IF($D7=\"\",\"\",IF(Z7=\"Yes\",0,$E7*Q7))","v":""},{"$f":"IF($D7=\"\",\"\",$E7*R7)","v":""},"","","","","","",null,{"$f":"IF($D7=\"\",\"\",IF(Z7=\"Yes\",Q7*E7,0))","v":""},null,{"$f":"IF($D7=\"\",\"\",AB7*E7)","v":""},null,null,{"$f":"INDEX('Dropdown menus'!$A$1:$D$6,MATCH($K7,'Dropdown menus'!$A$1:$A$6,0),$AS$6)","v":{"$error":"#N/A"}},null,{"$f":"IF($J7=\"\",\"\",VLOOKUP($J7,'Reference Data - Transport fuel'!$C:$O,AU$4,FALSE))","v":""},{"$f":"IF($J7=\"\",\"\",VLOOKUP($J7,'Reference Data - Transport fuel'!$C:$O,AV$4,FALSE))","v":""},{"$f":"IF($J7=\"\",\"\",VLOOKUP($J7,'Reference Data - Transport fuel'!$C:$O,AW$4,FALSE))","v":""},{"$f":"IF($J7=\"\",\"\",VLOOKUP($J7,'Reference Data - Transport fuel'!$C:$O,AX$4,FALSE))","v":""},{"$f":"IF($J7=\"\",\"\",VLOOKUP($J7,'Reference Data - Transport fuel'!$C:$O,AY$4,FALSE))","v":""},{"$f":"IF($J7=\"\",\"\",VLOOKUP($J7,'Reference Data - Transport fuel'!$C:$O,AZ$4,FALSE))","v":""},{"$f":"IF($J7=\"\",\"\",VLOOKUP($J7,'Reference Data - Transport fuel'!$C:$O,BA$4,FALSE))","v":""},{"$f":"IF($J7=\"\",\"\",VLOOKUP($J7,'Reference Data - Transport fuel'!$C:$O,BB$4,FALSE))","v":""},{"$f":"IF($J7=\"\",\"\",VLOOKUP($J7,'Reference Data - Transport fuel'!$C:$O,BC$4,FALSE))","v":""},null,{"$f":"IF($J7=\"\",\"\",VLOOKUP($J7,'Reference Data - Transport fuel'!$C:$O,BE$4,FALSE))","v":""},null,{"$f":"IF($J7=\"\",\"\",VLOOKUP($J7,'Reference Data - Transport fuel'!$C:$O,BG$4,FALSE))","v":""},null,{"$f":"IF($J7=\"\",\"\",IF($AS7=1,(AU7*$L7)-BR7,\"\"))","v":""},{"$f":"IF($J7=\"\",\"\",IF($AS7=1,IF(BE7=\"Yes\",0,AV7*$L7),\"\"))","v":""},{"$f":"IF($J7=\"\",\"\",IF($AS7=1,AW7*$L7,\"\"))","v":""},"","","","","",null,{"$f":"IF($J7=\"\",\"\",IF($AS7=1,IF(BE7=\"Yes\",L7*AV7,0),\"\"))","v":""},null,{"$f":"IF($J7=\"\",\"\",$L7*BC7)","v":""},{"$f":"IF($J7=\"\",\"\",IF($AS7=3,$L7*AU7,\"\"))","v":""},null,{"$f":"IF($J7=\"\",\"\",IF($AS7=1,L7*BG7,\"\"))","v":""}]
[null,null,null,null,null,null,null,null,null,null,null,null,null,null,null,{"$f":"IF($D8=\"\",\"\",VLOOKUP($D8,'Reference Data - Fuel EFs'!$C:$O,P$4,FALSE))","v":""},{"$f":"IF($D8=\"\",\"\",VLOOKUP($D8,'Reference Data - Fuel EFs'!$C:$O,Q$4,FALSE))","v":""},{"$f":"IF($D8=\"\",\"\",VLOOKUP($D8,'Reference Data - Fuel EFs'!$C:$O,R$4,FALSE))","v":""},{"$f":"IF($D8=\"\",\"\",VLOOKUP($D8,'Reference Data - Fuel EFs'!$C:$O,S$4,FALSE))","v":""},{"$f":"IF($D8=\"\",\"\",VLOOKUP($D8,'Reference Data - Fuel EFs'!$C:$O,T$4,FALSE))","v":""},{"$f":"IF($D8=\"\",\"\",VLOOKUP($D8,'Reference Data - Fuel EFs'!$C:$O,U$4,FALSE))","v":""},{"$f":"IF($D8=\"\",\"\",VLOOKUP($D8,'Reference Data - Fuel EFs'!$C:$O,V$4,FALSE))","v":""},{"$f":"IF($D8=\"\",\"\",VLOOKUP($D8,'Reference Data - Fuel EFs'!$C:$O,W$4,FALSE))","v":""},{"$f":"IF($D8=\"\",\"\",VLOOKUP($D8,'Reference Data - Fuel EFs'!$C:$O,X$4,FALSE))","v":""},null,{"$f":"IF($D8=\"\",\"\",VLOOKUP($D8,'Reference Data - Fuel EFs'!$C:$O,Z$4,FALSE))","v":""},null,{"$f":"IF($D8=\"\",\"\",VLOOKUP($D8,'Reference Data - Fuel EFs'!$C:$O,AB$4,FALSE))","v":""},null,{"$f":"IF($D8=\"\",\"\",($E8*P8)-AN8)","v":""},{"$f":"IF($D8=\"\",\"\",IF(Z8=\"Yes\",0,$E8*Q8))","v":""},{"$f":"IF($D8=\"\",\"\",$E8*R8)","v":""},{"$f":"IF($D8=\"\",\"\",$E8*S8)","v":""},{"$f":"IF($D8=\"\",\"\",$E8*T8)","v":""},{"$f":"IF($D8=\"\",\"\",$E8*U8)","v":""},{"$f":"IF($D8=\"\",\"\",$E8*V8)","v":""},{"$f":"IF($D8=\"\",\"\",$E8*W8)","v":""},{"$f":"IF($D8=\"\",\"\",$E8*X8)","v":""},null,{"$f":"IF($D8=\"\",\"\",IF(Z8=\"Yes\",Q8*E8,0))","v":""},null,{"$f":"IF($D8=\"\",\"\",AB8*E8)","v":""},null,null,{"$f":"INDEX('Dropdown menus'!$A$1:$D$6,MATCH($K8,'Dropdown menus'!$A$1:$A$6,0),$AS$6)","v":{"$error":"#N/A"}},null,{"$f":"IF($J8=\"\",\"\",VLOOKUP($J8,'Reference Data - Transport fuel'!$C:$O,AU$4,FALSE))","v":""},{"$f":"IF($J8=\"\",\"\",VLOOKUP($J8,'Reference Data - Transport fuel'!$C:$O,AV$4,FALSE))","v":""},{"$f":"IF($J8=\"\",\"\",VLOOKUP($J8,'Reference Data - Transport fuel'!$C:$O,AW$4,FALSE))","v":""},{"$f":"IF($J8=\"\",\"\",VLOOKUP($J8,'Reference Data - Transport fuel'!$C:$O,AX$4,FALSE))","v":""},{"$f":"IF($J8=\"\",\"\",VLOOKUP($J8,'Reference Data - Transport fuel'!$C:$O,AY$4,FALSE))","v":""},{"$f":"IF($J8=\"\",\"\",VLOOKUP($J8,'Reference Data - Transport fuel'!$C:$O,AZ$4,FALSE))","v":""},{"$f":"IF($J8=\"\",\"\",VLOOKUP($J8,'Reference Data - Transport fuel'!$C:$O,BA$4,FALSE))","v":""},{"$f":"IF($J8=\"\",\"\",VLOOKUP($J8,'Reference Data - Transport fuel'!$C:$O,BB$4,FALSE))","v":""},{"$f":"IF($J8=\"\",\"\",VLOOKUP($J8,'Reference Data - Transport fuel'!$C:$O,BC$4,FALSE))","v":""},null,{"$f":"IF($J8=\"\",\"\",VLOOKUP($J8,'Reference Data - Transport fuel'!$C:$O,BE$4,FALSE))","v":""},null,{"$f":"IF($J8=\"\",\"\",VLOOKUP($J8,'Reference Data - Transport fuel'!$C:$O,BG$4,FALSE))","v":""},null,{"$f":"IF($J8=\"\",\"\",IF($AS8=1,(AU8*$L8)-BR8,\"\"))","v":""},{"$f":"IF($J8=\"\",\"\",IF($AS8=1,IF(BE8=\"Yes\",0,AV8*$L8),\"\"))","v":""},{"$f":"IF($J8=\"\",\"\",IF($AS8=1,AW8*$L8,\"\"))","v":""},{"$f":"IF($J8=\"\",\"\",IF($AS8=1,AX8*$L8,\"\"))","v":""},{"$f":"IF($J8=\"\",\"\",IF($AS8=1,AY8*$L8,\"\"))","v":""},{"$f":"IF($J8=\"\",\"\",IF($AS8=1,AZ8*$L8,\"\"))","v":""},{"$f":"IF($J8=\"\",\"\",IF($AS8=1,BA8*$L8,\"\"))","v":""},{"$f":"IF($J8=\"\",\"\",IF($AS8=1,BB8*$L8,\"\"))","v":""},null,{"$f":"IF($J8=\"\",\"\",IF($AS8=1,IF(BE8=\"Yes\",L8*AV8,0),\"\"))","v":""},null,{"$f":"IF($J8=\"\",\"\",$L8*BC8)","v":""},{"$f":"IF($J8=\"\",\"\",IF($AS8=3,$L8*AU8,\"\"))","v":""},null,{"$f":"IF($J8=\"\",\"\",IF($AS8=1,L8*BG8,\"\"))","v":""}]
[null,null,null,null,null,null,null,null,null,null,null,null,null,null,null,{"$f":"IF($D9=\"\",\"\",VLOOKUP($D9,'Reference Data - Fuel EFs'!$C:$O,P$4,FALSE))","v":""},{"$f":"IF($D9=\"\",\"\",VLOOKUP($D9,'Reference Data - Fuel EFs'!$C:$O,Q$4,FALSE))","v":""},{"$f":"IF($D9=\"\",\"\",VLOOKUP($D9,'Reference Data - Fuel EFs'!$C:$O,R$4,FALSE))","v":""},{"$f":"IF($D9=\"\",\"\",VLOOKUP($D9,'Reference Data - Fuel EFs'!$C:$O,S$4,FALSE))","v":""},{"$f":"IF($D9=\"\",\"\",VLOOKUP($D9,'Reference Data - Fuel EFs'!$C:$O,T$4,FALSE))","v":""},{"$f":"IF($D9=\"\",\"\",VLOOKUP($D9,'Reference Data - Fuel EFs'!$C:$O,U$4,FALSE))","v":""},{"$f":"IF($D9=\"\",\"\",VLOOKUP($D9,'Reference Data - Fuel EFs'!$C:$O,V$4,FALSE))","v":""},{"$f":"IF($D9=\"\",\"\",VLOOKUP($D9,'Reference Data - Fuel EFs'!$C:$O,W$4,FALSE))","v":""},{"$f":"IF($D9=\"\",\"\",VLOOKUP($D9,'Reference Data - Fuel EFs'!$C:$O,X$4,FALSE))","v":""},null,{"$f":"IF($D9=\"\",\"\",VLOOKUP($D9,'Reference Data - Fuel EFs'!$C:$O,Z$4,FALSE))","v":""},null,{"$f":"IF($D9=\"\",\"\",VLOOKUP($D9,'Reference Data - Fuel EFs'!$C:$O,AB$4,FALSE))","v":""},null,"","","","","","","","","",null,"",null,"",null,null,{"$f":"INDEX('Dropdown menus'!$A$1:$D$6,MATCH($K9,'Dropdown menus'!$A$1:$A$6,0),$AS$6)","v":{"$error":"#N/A"}},null,{"$f":"IF($J9=\"\",\"\",VLOOKUP($J9,'Reference Data - Transport fuel'!$C:$O,AU$4,FALSE))","v":""},{"$f":"IF($J9=\"\",\"\",VLOOKUP($J9,'Reference Data - Transport fuel'!$C:$O,AV$4,FALSE))","v":""},{"$f":"IF($J9=\"\",\"\",VLOOKUP($J9,'Reference Data - Transport fuel'!$C:$O,AW$4,FALSE))","v":""},{"$f":"IF($J9=\"\",\"\",VLOOKUP($J9,'Reference Data - Transport fuel'!$C:$O,AX$4,FALSE))","v":""},{"$f":"IF($J9=\"\",\"\",VLOOKUP($J9,'Reference Data - Transport fuel'!$C:$O,AY$4,FALSE))","v":""},{"$f":"IF($J9=\"\",\"\",VLOOKUP($J9,'Reference Data - Transport fuel'!$C:$O,AZ$4,FALSE))","v":""},{"$f":"IF($J9=\"\",\"\",VLOOKUP($J9,'Reference Data - Transport fuel'!$C:$O,BA$4,FALSE))","v":""},{"$f":"IF($J9=\"\",\"\",VLOOKUP($J9,'Reference Data - Transport fuel'!$C:$O,BB$4,FALSE))","v":""},{"$f":"IF($J9=\"\",\"\",VLOOKUP($J9,'Reference Data - Transport fuel'!$C:$O,BC$4,FALSE))","v":""},null,{"$f":"IF($J9=\"\",\"\",VLOOKUP($J9,'Reference Data - Transport fuel'!$C:$O,BE$4,FALSE))","v":""},null,{"$f":"IF($J9=\"\",\"\",VLOOKUP($J9,'Reference Data - Transport fuel'!$C:$O,BG$4,FALSE))","v":""},null,"","","","","","","","",null,"",null,"","",null,""]
[null,null,null,null,null,null,null,null,null,null,null,null,null,null,null,{"$f":"IF($D10=\"\",\"\",VLOOKUP($D10,'Reference Data - Fuel EFs'!$C:$O,P$4,FALSE))","v":""},{"$f":"IF($D10=\"\",\"\",VLOOKUP($D10,'Reference Data - Fuel EFs'!$C:$O,Q$4,FALSE))","v":""},{"$f":"IF($D10=\"\",\"\",VLOOKUP($D10,'Reference Data - Fuel EFs'!$C:$O,R$4,FALSE))","v":""},{"$f":"IF($D10=\"\",\"\",VLOOKUP($D10,'Reference Data - Fuel EFs'!$C:$O,S$4,FALSE))","v":""},{"$f":"IF($D10=\"\",\"\",VLOOKUP($D10,'Reference Data - Fuel EFs'!$C:$O,T$4,FALSE))","v":""},{"$f":"IF($D10=\"\",\"\",VLOOKUP($D10,'Reference Data - Fuel EFs'!$C:$O,U$4,FALSE))","v":""},{"$f":"IF($D10=\"\",\"\",VLOOKUP($D10,'Reference Data - Fuel EFs'!$C:$O,V$4,FALSE))","v":""},{"$f":"IF($D10=\"\",\"\",VLOOKUP($D10,'Reference Data - Fuel EFs'!$C:$O,W$4,FALSE))","v":""},{"$f":"IF($D10=\"\",\"\",VLOOKUP($D10,'Reference Data - Fuel EFs'!$C:$O,X$4,FALSE))","v":""},null,{"$f":"IF($D10=\"\",\"\",VLOOKUP($D10,'Reference Data - Fuel EFs'!$C:$O,Z$4,FALSE))","v":""},null,{"$f":"IF($D10=\"\",\"\",VLOOKUP($D10,'Reference Data - Fuel EFs'!$C:$O,AB$4,FALSE))","v":""},null,"","","","","","","","","",null,"",null,"",null,null,{"$f":"INDEX('Dropdown menus'!$A$1:$D$6,MATCH($K10,'Dropdown menus'!$A$1:$A$6,0),$AS$6)","v":{"$error":"#N/A"}},null,{"$f":"IF($J10=\"\",\"\",VLOOKUP($J10,'Reference Data - Transport fuel'!$C:$O,AU$4,FALSE))","v":""},{"$f":"IF($J10=\"\",\"\",VLOOKUP($J10,'Reference Data - Transport fuel'!$C:$O,AV$4,FALSE))","v":""},{"$f":"IF($J10=\"\",\"\",VLOOKUP($J10,'Reference Data - Transport fuel'!$C:$O,AW$4,FALSE))","v":""},{"$f":"IF($J10=\"\",\"\",VLOOKUP($J10,'Reference Data - Transport fuel'!$C:$O,AX$4,FALSE))","v":""},{"$f":"IF($J10=\"\",\"\",VLOOKUP($J10,'Reference Data - Transport fuel'!$C:$O,AY$4,FALSE))","v":""},{"$f":"IF($J10=\"\",\"\",VLOOKUP($J10,'Reference Data - Transport fuel'!$C:$O,AZ$4,FALSE))","v":""},{"$f":"IF($J10=\"\",\"\",VLOOKUP($J10,'Reference Data - Transport fuel'!$C:$O,BA$4,FALSE))","v":""},{"$f":"IF($J10=\"\",\"\",VLOOKUP($J10,'Reference Data - Transport fuel'!$C:$O,BB$4,FALSE))","v":""},{"$f":"IF($J10=\"\",\"\",VLOOKUP($J10,'Reference Data - Transport fuel'!$C:$O,BC$4,FALSE))","v":""},null,{"$f":"IF($J10=\"\",\"\",VLOOKUP($J10,'Reference Data - Transport fuel'!$C:$O,BE$4,FALSE))","v":""},null,{"$f":"IF($J10=\"\",\"\",VLOOKUP($J10,'Reference Data - Transport fuel'!$C:$O,BG$4,FALSE))","v":""},null,"","","","","","","","",null,"",null,"","",null,""]
[null,null,null,null,null,null,null,null,null,null,null,null,null,null,null,{"$f":"IF($D11=\"\",\"\",VLOOKUP($D11,'Reference Data - Fuel EFs'!$C:$O,P$4,FALSE))","v":""},{"$f":"IF($D11=\"\",\"\",VLOOKUP($D11,'Reference Data - Fuel EFs'!$C:$O,Q$4,FALSE))","v":""},{"$f":"IF($D11=\"\",\"\",VLOOKUP($D11,'Reference Data - Fuel EFs'!$C:$O,R$4,FALSE))","v":""},{"$f":"IF($D11=\"\",\"\",VLOOKUP($D11,'Reference Data - Fuel EFs'!$C:$O,S$4,FALSE))","v":""},{"$f":"IF($D11=\"\",\"\",VLOOKUP($D11,'Reference Data - Fuel EFs'!$C:$O,T$4,FALSE))","v":""},{"$f":"IF($D11=\"\",\"\",VLOOKUP($D11,'Reference Data - Fuel EFs'!$C:$O,U$4,FALSE))","v":""},{"$f":"IF($D11=\"\",\"\",VLOOKUP($D11,'Reference Data - Fuel EFs'!$C:$O,V$4,FALSE))","v":""},{"$f":"IF($D11=\"\",\"\",VLOOKUP($D11,'Reference Data - Fuel EFs'!$C:$O,W$4,FALSE))","v":""},{"$f":"IF($D11=\"\",\"\",VLOOKUP($D11,'Reference Data - Fuel EFs'!$C:$O,X$4,FALSE))","v":""},null,{"$f":"IF($D11=\"\",\"\",VLOOKUP($D11,'Reference Data - Fuel EFs'!$C:$O,Z$4,FALSE))","v":""},null,{"$f":"IF($D11=\"\",\"\",VLOOKUP($D11,'Reference Data - Fuel EFs'!$C:$O,AB$4,FALSE))","v":""},null,"","","","","","","","","",null,"",null,"",null,null,{"$f":"INDEX('Dropdown menus'!$A$1:$D$6,MATCH($K11,'Dropdown menus'!$A$1:$A$6,0),$AS$6)","v":{"$error":"#N/A"}},null,{"$f":"IF($J11=\"\",\"\",VLOOKUP($J11,'Reference Data - Transport fuel'!$C:$O,AU$4,FALSE))","v":""},{"$f":"IF($J11=\"\",\"\",VLOOKUP($J11,'Reference Data - Transport fuel'!$C:$O,AV$4,FALSE))","v":""},{"$f":"IF($J11=\"\",\"\",VLOOKUP($J11,'Reference Data - Transport fuel'!$C:$O,AW$4,FALSE))","v":""},{"$f":"IF($J11=\"\",\"\",VLOOKUP($J11,'Reference Data - Transport fuel'!$C:$O,AX$4,FALSE))","v":""},{"$f":"IF($J11=\"\",\"\",VLOOKUP($J11,'Reference Data - Transport fuel'!$C:$O,AY$4,FALSE))","v":""},{"$f":"IF($J11=\"\",\"\",VLOOKUP($J11,'Reference Data - Transport fuel'!$C:$O,AZ$4,FALSE))","v":""},{"$f":"IF($J11=\"\",\"\",VLOOKUP($J11,'Reference Data - Transport fuel'!$C:$O,BA$4,FALSE))","v":""},{"$f":"IF($J11=\"\",\"\",VLOOKUP($J11,'Reference Data - Transport fuel'!$C:$O,BB$4,FALSE))","v":""},{"$f":"IF($J11=\"\",\"\",VLOOKUP($J11,'Reference Data - Transport fuel'!$C:$O,BC$4,FALSE))","v":""},null,{"$f":"IF($J11=\"\",\"\",VLOOKUP($J11,'Reference Data - Transport fuel'!$C:$O,BE$4,FALSE))","v":""},null,{"$f":"IF($J11=\"\",\"\",VLOOKUP($J11,'Reference Data - Transport fuel'!$C:$O,BG$4,FALSE))","v":""},null,"","","","","","","","",null,"",null,"","",null,""]
[null,null,null,null,null,null,null,null,null,null,null,null,null,null,null,{"$f":"IF($D12=\"\",\"\",VLOOKUP($D12,'Reference Data - Fuel EFs'!$C:$O,P$4,FALSE))","v":""},{"$f":"IF($D12=\"\",\"\",VLOOKUP($D12,'Reference Data - Fuel EFs'!$C:$O,Q$4,FALSE))","v":""},{"$f":"IF($D12=\"\",\"\",VLOOKUP($D12,'Reference Data - Fuel EFs'!$C:$O,R$4,FALSE))","v":""},{"$f":"IF($D12=\"\",\"\",VLOOKUP($D12,'Reference Data - Fuel EFs'!$C:$O,S$4,FALSE))","v":""},{"$f":"IF($D12=\"\",\"\",VLOOKUP($D12,'Reference Data - Fuel EFs'!$C:$O,T$4,FALSE))","v":""},{"$f":"IF($D12=\"\",\"\",VLOOKUP($D12,'Reference Data - Fuel EFs'!$C:$O,U$4,FALSE))","v":""},{"$f":"IF($D12=\"\",\"\",VLOOKUP($D12,'Reference Data - Fuel EFs'!$C:$O,V$4,FALSE))","v":""},{"$f":"IF($D12=\"\",\"\",VLOOKUP($D12,'Reference Data - Fuel EFs'!$C:$O,W$4,FALSE))","v":""},{"$f":"IF($D12=\"\",\"\",VLOOKUP($D12,'Reference Data - Fuel EFs'!$C:$O,X$4,FALSE))","v":""},null,{"$f":"IF($D12=\"\",\"\",VLOOKUP($D12,'Reference Data - Fuel EFs'!$C:$O,Z$4,FALSE))","v":""},null,{"$f":"IF($D12=\"\",\"\",VLOOKUP($D12,'Reference Data - Fuel EFs'!$C:$O,AB$4,FALSE))","v":""},null,"","","","","","","","","",null,"",null,"",null,null,{"$f":"INDEX('Dropdown menus'!$A$1:$D$6,MATCH($K12,'Dropdown menus'!$A$1:$A$6,0),$AS$6)","v":{"$error":"#N/A"}},null,{"$f":"IF($J12=\"\",\"\",VLOOKUP($J12,'Reference Data - Transport fuel'!$C:$O,AU$4,FALSE))","v":""},{"$f":"IF($J12=\"\",\"\",VLOOKUP($J12,'Reference Data - Transport fuel'!$C:$O,AV$4,FALSE))","v":""},{"$f":"IF($J12=\"\",\"\",VLOOKUP($J12,'Reference Data - Transport fuel'!$C:$O,AW$4,FALSE))","v":""},{"$f":"IF($J12=\"\",\"\",VLOOKUP($J12,'Reference Data - Transport fuel'!$C:$O,AX$4,FALSE))","v":""},{"$f":"IF($J12=\"\",\"\",VLOOKUP($J12,'Reference Data - Transport fuel'!$C:$O,AY$4,FALSE))","v":""},{"$f":"IF($J12=\"\",\"\",VLOOKUP($J12,'Reference Data - Transport fuel'!$C:$O,AZ$4,FALSE))","v":""},{"$f":"IF($J12=\"\",\"\",VLOOKUP($J12,'Reference Data - Transport fuel'!$C:$O,BA$4,FALSE))","v":""},{"$f":"IF($J12=\"\",\"\",VLOOKUP($J12,'Reference Data - Transport fuel'!$C:$O,BB$4,FALSE))","v":""},{"$f":"IF($J12=\"\",\"\",VLOOKUP($J12,'Reference Data - Transport fuel'!$C:$O,BC$4,FALSE))","v":""},null,{"$f":"IF($J12=\"\",\"\",VLOOKUP($J12,'Reference Data - Transport fuel'!$C:$O,BE$4,FALSE))","v":""},null,{"$f":"IF($J12=\"\",\"\",VLOOKUP($J12,'Reference Data - Transport fuel'!$C:$O,BG$4,FALSE))","v":""},null,"","","","","","","","",null,"",null,"","",null,""]
[null,null,null,null,null,null,null,null,null,null,null,null,null,null,null,{"$f":"IF($D13=\"\",\"\",VLOOKUP($D13,'Reference Data - Fuel EFs'!$C:$O,P$4,FALSE))","v":""},{"$f":"IF($D13=\"\",\"\",VLOOKUP($D13,'Reference Data - Fuel EFs'!$C:$O,Q$4,FALSE))","v":""},{"$f":"IF($D13=\"\",\"\",VLOOKUP($D13,'Reference Data - Fuel EFs'!$C:$O,R$4,FALSE))","v":""},{"$f":"IF($D13=\"\",\"\",VLOOKUP($D13,'Reference Data - Fuel EFs'!$C:$O,S$4,FALSE))","v":""},{"$f":"IF($D13=\"\",\"\",VLOOKUP($D13,'Reference Data - Fuel EFs'!$C:$O,T$4,FALSE))","v":""},{"$f":"IF($D13=\"\",\"\",VLOOKUP($D13,'Reference Data - Fuel EFs'!$C:$O,U$4,FALSE))","v":""},{"$f":"IF($D13=\"\",\"\",VLOOKUP($D13,'Reference Data - Fuel EFs'!$C:$O,V$4,FALSE))","v":""},{"$f":"IF($D13=\"\",\"\",VLOOKUP($D13,'Reference Data - Fuel EFs'!$C:$O,W$4,FALSE))","v":""},{"$f":"IF($D13=\"\",\"\",VLOOKUP($D13,'Reference Data - Fuel EFs'!$C:$O,X$4,FALSE))","v":""},null,{"$f":"IF($D13=\"\",\"\",VLOOKUP($D13,'Reference Data - Fuel EFs'!$C:$O,Z$4,FALSE))","v":""},null,{"$f":"IF($D13=\"\",\"\",VLOOKUP($D13,'Reference Data - Fuel EFs'!$C:$O,AB$4,FALSE))","v":""},null,"","","","","","","","","",null,"",null,"",null,null,{"$f":"INDEX('Dropdown menus'!$A$1:$D$6,MATCH($K13,'Dropdown menus'!$A$1:$A$6,0),$AS$6)","v":{"$error":"#N/A"}},null,{"$f":"IF($J13=\"\",\"\",VLOOKUP($J13,'Reference Data - Transport fuel'!$C:$O,AU$4,FALSE))","v":""},{"$f":"IF($J13=\"\",\"\",VLOOKUP($J13,'Reference Data - Transport fuel'!$C:$O,AV$4,FALSE))","v":""},{"$f":"IF($J13=\"\",\"\",VLOOKUP($J13,'Reference Data - Transport fuel'!$C:$O,AW$4,FALSE))","v":""},{"$f":"IF($J13=\"\",\"\",VLOOKUP($J13,'Reference Data - Transport fuel'!$C:$O,AX$4,FALSE))","v":""},{"$f":"IF($J13=\"\",\"\",VLOOKUP($J13,'Reference Data - Transport fuel'!$C:$O,AY$4,FALSE))","v":""},{"$f":"IF($J13=\"\",\"\",VLOOKUP($J13,'Reference Data - Transport fuel'!$C:$O,AZ$4,FALSE))","v":""},{"$f":"IF($J13=\"\",\"\",VLOOKUP($J13,'Reference Data - Transport fuel'!$C:$O,BA$4,FALSE))","v":""},{"$f":"IF($J13=\"\",\"\",VLOOKUP($J13,'Reference Data - Transport fuel'!$C:$O,BB$4,FALSE))","v":""},{"$f":"IF($J13=\"\",\"\",VLOOKUP($J13,'Reference Data - Transport fuel'!$C:$O,BC$4,FALSE))","v":""},null,{"$f":"IF($J13=\"\",\"\",VLOOKUP($J13,'Reference Data - Transport fuel'!$C:$O,BE$4,FALSE))","v":""},null,{"$f":"IF($J13=\"\",\"\",VLOOKUP($J13,'Reference Data - Transport fuel'!$C:$O,BG$4,FALSE))","v":""},null,"","","","","","","","",null,"",null,"","",null,""]
[null,null,null,null,null,null,null,null,null,null,null,null,null,null,null,{"$f":"IF($D14=\"\",\"\",VLOOKUP($D14,'Reference Data - Fuel EFs'!$C:$O,P$4,FALSE))","v":""},{"$f":"IF($D14=\"\",\"\",VLOOKUP($D14,'Reference Data - Fuel EFs'!$C:$O,Q$4,FALSE))","v":""},{"$f":"IF($D14=\"\",\"\",VLOOKUP($D14,'Reference Data - Fuel EFs'!$C:$O,R$4,FALSE))","v":""},{"$f":"IF($D14=\"\",\"\",VLOOKUP($D14,'Reference Data - Fuel EFs'!$C:$O,S$4,FALSE))","v":""},{"$f":"IF($D14=\"\",\"\",VLOOKUP($D14,'Reference Data - Fuel EFs'!$C:$O,T$4,FALSE))","v":""},{"$f":"IF($D14=\"\",\"\",VLOOKUP($D14,'Reference Data - Fuel EFs'!$C:$O,U$4,FALSE))","v":""},{"$f":"IF($D14=\"\",\"\",VLOOKUP($D14,'Reference Data - Fuel EFs'!$C:$O,V$4,FALSE))","v":""},{"$f":"IF($D14=\"\",\"\",VLOOKUP($D14,'Reference Data - Fuel EFs'!$C:$O,W$4,FALSE))","v":""},{"$f":"IF($D14=\"\",\"\",VLOOKUP($D14,'Reference Data - Fuel EFs'!$C:$O,X$4,FALSE))","v":""},null,{"$f":"IF($D14=\"\",\"\",VLOOKUP($D14,'Reference Data - Fuel EFs'!$C:$O,Z$4,FALSE))","v":""},null,{"$f":"IF($D14=\"\",\"\",VLOOKUP($D14,'Reference Data - Fuel EFs'!$C:$O,AB$4,FALSE))","v":""},null,"","","","","","","","","",null,"",null,"",null,null,{"$f":"INDEX('Dropdown menus'!$A$1:$D$6,MATCH($K14,'Dropdown menus'!$A$1:$A$6,0),$AS$6)","v":{"$error":"#N/A"}},null,{"$f":"IF($J14=\"\",\"\",VLOOKUP($J14,'Reference Data - Transport fuel'!$C:$O,AU$4,FALSE))","v":""},{"$f":"IF($J14=\"\",\"\",VLOOKUP($J14,'Reference Data - Transport fuel'!$C:$O,AV$4,FALSE))","v":""},{"$f":"IF($J14=\"\",\"\",VLOOKUP($J14,'Reference Data - Transport fuel'!$C:$O,AW$4,FALSE))","v":""},{"$f":"IF($J14=\"\",\"\",VLOOKUP($J14,'Reference Data - Transport fuel'!$C:$O,AX$4,FALSE))","v":""},{"$f":"IF($J14=\"\",\"\",VLOOKUP($J14,'Reference Data - Transport fuel'!$C:$O,AY$4,FALSE))","v":""},{"$f":"IF($J14=\"\",\"\",VLOOKUP($J14,'Reference Data - Transport fuel'!$C:$O,AZ$4,FALSE))","v":""},{"$f":"IF($J14=\"\",\"\",VLOOKUP($J14,'Reference Data - Transport fuel'!$C:$O,BA$4,FALSE))","v":""},{"$f":"IF($J14=\"\",\"\",VLOOKUP($J14,'Reference Data - Transport fuel'!$C:$O,BB$4,FALSE))","v":""},{"$f":"IF($J14=\"\",\"\",VLOOKUP($J14,'Reference Data - Transport fuel'!$C:$O,BC$4,FALSE))","v":""},null,{"$f":"IF($J14=\"\",\"\",VLOOKUP($J14,'Reference Data - Transport fuel'!$C:$O,BE$4,FALSE))","v":""},null,{"$f":"IF($J14=\"\",\"\",VLOOKUP($J14,'Reference Data - Transport fuel'!$C:$O,BG$4,FALSE))","v":""},null,"","","","","","","","",null,"",null,"","",null,""]
[null,null,null,null,null,null,null,null,null,null,null,null,null,null,null,{"$f":"IF($D15=\"\",\"\",VLOOKUP($D15,'Reference Data - Fuel EFs'!$C:$O,P$4,FALSE))","v":""},{"$f":"IF($D15=\"\",\"\",VLOOKUP($D15,'Reference Data - Fuel EFs'!$C:$O,Q$4,FALSE))","v":""},{"$f":"IF($D15=\"\",\"\",VLOOKUP($D15,'Reference Data - Fuel EFs'!$C:$O,R$4,FALSE))","v":""},{"$f":"IF($D15=\"\",\"\",VLOOKUP($D15,'Reference Data - Fuel EFs'!$C:$O,S$4,FALSE))","v":""},{"$f":"IF($D15=\"\",\"\",VLOOKUP($D15,'Reference Data - Fuel EFs'!$C:$O,T$4,FALSE))","v":""},{"$f":"IF($D15=\"\",\"\",VLOOKUP($D15,'Reference Data - Fuel EFs'!$C:$O,U$4,FALSE))","v":""},{"$f":"IF($D15=\"\",\"\",VLOOKUP($D15,'Reference Data - Fuel EFs'!$C:$O,V$4,FALSE))","v":""},{"$f":"IF($D15=\"\",\"\",VLOOKUP($D15,'Reference Data - Fuel EFs'!$C:$O,W$4,FALSE))","v":""},{"$f":"IF($D15=\"\",\"\",VLOOKUP($D15,'Reference Data - Fuel EFs'!$C:$O,X$4,FALSE))","v":""},null,{"$f":"IF($D15=\"\",\"\",VLOOKUP($D15,'Reference Data - Fuel EFs'!$C:$O,Z$4,FALSE))","v":""},null,{"$f":"IF($D15=\"\",\"\",VLOOKUP($D15,'Reference Data - Fuel EFs'!$C:$O,AB$4,FALSE))","v":""},null,"","","","","","","","","",null,"",null,"",null,null,{"$f":"INDEX('Dropdown menus'!$A$1:$D$6,MATCH($K15,'Dropdown menus'!$A$1:$A$6,0),$AS$6)","v":{"$error":"#N/A"}},null,{"$f":"IF($J15=\"\",\"\",VLOOKUP($J15,'Reference Data - Transport fuel'!$C:$O,AU$4,FALSE))","v":""},{"$f":"IF($J15=\"\",\"\",VLOOKUP($J15,'Reference Data - Transport fuel'!$C:$O,AV$4,FALSE))","v":""},{"$f":"IF($J15=\"\",\"\",VLOOKUP($J15,'Reference Data - Transport fuel'!$C:$O,AW$4,FALSE))","v":""},{"$f":"IF($J15=\"\",\"\",VLOOKUP($J15,'Reference Data - Transport fuel'!$C:$O,AX$4,FALSE))","v":""},{"$f":"IF($J15=\"\",\"\",VLOOKUP($J15,'Reference Data - Transport fuel'!$C:$O,AY$4,FALSE))","v":""},{"$f":"IF($J15=\"\",\"\",VLOOKUP($J15,'Reference Data - Transport fuel'!$C:$O,AZ$4,FALSE))","v":""},{"$f":"IF($J15=\"\",\"\",VLOOKUP($J15,'Reference Data - Transport fuel'!$C:$O,BA$4,FALSE))","v":""},{"$f":"IF($J15=\"\",\"\",VLOOKUP($J15,'Reference Data - Transport fuel'!$C:$O,BB$4,FALSE))","v":""},{"$f":"IF($J15=\"\",\"\",VLOOKUP($J15,'Reference Data - Transport fuel'!$C:$O,BC$4,FALSE))","v":""},null,{"$f":"IF($J15=\"\",\"\",VLOOKUP($J15,'Reference Data - Transport fuel'!$C:$O,BE$4,FALSE))","v":""},null,{"$f":"IF($J15=\"\",\"\",VLOOKUP($J15,'Reference Data - Transport fuel'!$C:$O,BG$4,FALSE))","v":""},null,"","","","","","","","",null,"",null,"","",null,""]
[null,null,null,null,null,null,null,null,null,null,null,null,null,null,null,{"$f":"IF($D16=\"\",\"\",VLOOKUP($D16,'Reference Data - Fuel EFs'!$C:$O,P$4,FALSE))","v":""},{"$f":"IF($D16=\"\",\"\",VLOOKUP($D16,'Reference Data - Fuel EFs'!$C:$O,Q$4,FALSE))","v":""},{"$f":"IF($D16=\"\",\"\",VLOOKUP($D16,'Reference Data - Fuel EFs'!$C:$O,R$4,FALSE))","v":""},{"$f":"IF($D16=\"\",\"\",VLOOKUP($D16,'Reference Data - Fuel EFs'!$C:$O,S$4,FALSE))","v":""},{"$f":"IF($D16=\"\",\"\",VLOOKUP($D16,'Reference Data - Fuel EFs'!$C:$O,T$4,FALSE))","v":""},{"$f":"IF($D16=\"\",\"\",VLOOKUP($D16,'Reference Data - Fuel EFs'!$C:$O,U$4,FALSE))","v":""},{"$f":"IF($D16=\"\",\"\",VLOOKUP($D16,'Reference Data - Fuel EFs'!$C:$O,V$4,FALSE))","v":""},{"$f":"IF($D16=\"\",\"\",VLOOKUP($D16,'Reference Data - Fuel EFs'!$C:$O,W$4,FALSE))","v":""},{"$f":"IF($D16=\"\",\"\",VLOOKUP($D16,'Reference Data - Fuel EFs'!$C:$O,X$4,FALSE))","v":""},null,{"$f":"IF($D16=\"\",\"\",VLOOKUP($D16,'Reference Data - Fuel EFs'!$C:$O,Z$4,FALSE))","v":""},null,{"$f":"IF($D16=\"\",\"\",VLOOKUP($D16,'Reference Data - Fuel EFs'!$C:$O,AB$4,FALSE))","v":""},null,"","","","","","","","","",null,"",null,"",null,null,{"$f":"INDEX('Dropdown menus'!$A$1:$D$6,MATCH($K16,'Dropdown menus'!$A$1:$A$6,0),$AS$6)","v":{"$error":"#N/A"}},null,{"$f":"IF($J16=\"\",\"\",VLOOKUP($J16,'Reference Data - Transport fuel'!$C:$O,AU$4,FALSE))","v":""},{"$f":"IF($J16=\"\",\"\",VLOOKUP($J16,'Reference Data - Transport fuel'!$C:$O,AV$4,FALSE))","v":""},{"$f":"IF($J16=\"\",\"\",VLOOKUP($J16,'Reference Data - Transport fuel'!$C:$O,AW$4,FALSE))","v":""},{"$f":"IF($J16=\"\",\"\",VLOOKUP($J16,'Reference Data - Transport fuel'!$C:$O,AX$4,FALSE))","v":""},{"$f":"IF($J16=\"\",\"\",VLOOKUP($J16,'Reference Data - Transport fuel'!$C:$O,AY$4,FALSE))","v":""},{"$f":"IF($J16=\"\",\"\",VLOOKUP($J16,'Reference Data - Transport fuel'!$C:$O,AZ$4,FALSE))","v":""},{"$f":"IF($J16=\"\",\"\",VLOOKUP($J16,'Reference Data - Transport fuel'!$C:$O,BA$4,FALSE))","v":""},{"$f":"IF($J16=\"\",\"\",VLOOKUP($J16,'Reference Data - Transport fuel'!$C:$O,BB$4,FALSE))","v":""},{"$f":"IF($J16=\"\",\"\",VLOOKUP($J16,'Reference Data - Transport fuel'!$C:$O,BC$4,FALSE))","v":""},null,{"$f":"IF($J16=\"\",\"\",VLOOKUP($J16,'Reference Data - Transport fuel'!$C:$O,BE$4,FALSE))","v":""},null,{"$f":"IF($J16=\"\",\"\",VLOOKUP($J16,'Reference Data - Transport fuel'!$C:$O,BG$4,FALSE))","v":""},null,"","","","","","","","",null,"",null,"","",null,""]
[null,null,null,null,null,null,null,null,null,null,null,null,null,null,null,{"$f":"IF($D17=\"\",\"\",VLOOKUP($D17,'Reference Data - Fuel EFs'!$C:$O,P$4,FALSE))","v":""},{"$f":"IF($D17=\"\",\"\",VLOOKUP($D17,'Reference Data - Fuel EFs'!$C:$O,Q$4,FALSE))","v":""},{"$f":"IF($D17=\"\",\"\",VLOOKUP($D17,'Reference Data - Fuel EFs'!$C:$O,R$4,FALSE))","v":""},{"$f":"IF($D17=\"\",\"\",VLOOKUP($D17,'Reference Data - Fuel EFs'!$C:$O,S$4,FALSE))","v":""},{"$f":"IF($D17=\"\",\"\",VLOOKUP($D17,'Reference Data - Fuel EFs'!$C:$O,T$4,FALSE))","v":""},{"$f":"IF($D17=\"\",\"\",VLOOKUP($D17,'Reference Data - Fuel EFs'!$C:$O,U$4,FALSE))","v":""},{"$f":"IF($D17=\"\",\"\",VLOOKUP($D17,'Reference Data - Fuel EFs'!$C:$O,V$4,FALSE))","v":""},{"$f":"IF($D17=\"\",\"\",VLOOKUP($D17,'Reference Data - Fuel EFs'!$C:$O,W$4,FALSE))","v":""},{"$f":"IF($D17=\"\",\"\",VLOOKUP($D17,'Reference Data - Fuel EFs'!$C:$O,X$4,FALSE))","v":""},null,{"$f":"IF($D17=\"\",\"\",VLOOKUP($D17,'Reference Data - Fuel EFs'!$C:$O,Z$4,FALSE))","v":""},null,{"$f":"IF($D17=\"\",\"\",VLOOKUP($D17,'Reference Data - Fuel EFs'!$C:$O,AB$4,FALSE))","v":""},null,"","","","","","","","","",null,"",null,"",null,null,{"$f":"INDEX('Dropdown menus'!$A$1:$D$6,MATCH($K17,'Dropdown menus'!$A$1:$A$6,0),$AS$6)","v":{"$error":"#N/A"}},null,{"$f":"IF($J17=\"\",\"\",VLOOKUP($J17,'Reference Data - Transport fuel'!$C:$O,AU$4,FALSE))","v":""},{"$f":"IF($J17=\"\",\"\",VLOOKUP($J17,'Reference Data - Transport fuel'!$C:$O,AV$4,FALSE))","v":""},{"$f":"IF($J17=\"\",\"\",VLOOKUP($J17,'Reference Data - Transport fuel'!$C:$O,AW$4,FALSE))","v":""},{"$f":"IF($J17=\"\",\"\",VLOOKUP($J17,'Reference Data - Transport fuel'!$C:$O,AX$4,FALSE))","v":""},{"$f":"IF($J17=\"\",\"\",VLOOKUP($J17,'Reference Data - Transport fuel'!$C:$O,AY$4,FALSE))","v":""},{"$f":"IF($J17=\"\",\"\",VLOOKUP($J17,'Reference Data - Transport fuel'!$C:$O,AZ$4,FALSE))","v":""},{"$f":"IF($J17=\"\",\"\",VLOOKUP($J17,'Reference Data - Transport fuel'!$C:$O,BA$4,FALSE))","v":""},{"$f":"IF($J17=\"\",\"\",VLOOKUP($J17,'Reference Data - Transport fuel'!$C:$O,BB$4,FALSE))","v":""},{"$f":"IF($J17=\"\",\"\",VLOOKUP($J17,'Reference Data - Transport fuel'!$C:$O,BC$4,FALSE))","v":""},null,{"$f":"IF($J17=\"\",\"\",VLOOKUP($J17,'Reference Data - Transport fuel'!$C:$O,BE$4,FALSE))","v":""},null,{"$f":"IF($J17=\"\",\"\",VLOOKUP($J17,'Reference Data - Transport fuel'!$C:$O,BG$4,FALSE))","v":""},null,"","","","","","","","",null,"",null,"","",null,""]
[null,null,null,null,null,null,null,null,null,null,null,null,null,null,null,{"$f":"IF($D18=\"\",\"\",VLOOKUP($D18,'Reference Data - Fuel EFs'!$C:$O,P$4,FALSE))","v":""},{"$f":"IF($D18=\"\",\"\",VLOOKUP($D18,'Reference Data - Fuel EFs'!$C:$O,Q$4,FALSE))","v":""},{"$f":"IF($D18=\"\",\"\",VLOOKUP($D18,'Reference Data - Fuel EFs'!$C:$O,R$4,FALSE))","v":""},{"$f":"IF($D18=\"\",\"\",VLOOKUP($D18,'Reference Data - Fuel EFs'!$C:$O,S$4,FALSE))","v":""},{"$f":"IF($D18=\"\",\"\",VLOOKUP($D18,'Reference Data - Fuel EFs'!$C:$O,T$4,FALSE))","v":""},{"$f":"IF($D18=\"\",\"\",VLOOKUP($D18,'Reference Data - Fuel EFs'!$C:$O,U$4,FALSE))","v":""},{"$f":"IF($D18=\"\",\"\",VLOOKUP($D18,'Reference Data - Fuel EFs'!$C:$O,V$4,FALSE))","v":""},{"$f":"IF($D18=\"\",\"\",VLOOKUP($D18,'Reference Data - Fuel EFs'!$C:$O,W$4,FALSE))","v":""},{"$f":"IF($D18=\"\",\"\",VLOOKUP($D18,'Reference Data - Fuel EFs'!$C:$O,X$4,FALSE))","v":""},null,{"$f":"IF($D18=\"\",\"\",VLOOKUP($D18,'Reference Data - Fuel EFs'!$C:$O,Z$4,FALSE))","v":""},null,{"$f":"IF($D18=\"\",\"\",VLOOKUP($D18,'Reference Data - Fuel EFs'!$C:$O,AB$4,FALSE))","v":""},null,"","","","","","","","","",null,"",null,"",null,null,{"$f":"INDEX('Dropdown menus'!$A$1:$D$6,MATCH($K18,'Dropdown menus'!$A$1:$A$6,0),$AS$6)","v":{"$error":"#N/A"}},null,{"$f":"IF($J18=\"\",\"\",VLOOKUP($J18,'Reference Data - Transport fuel'!$C:$O,AU$4,FALSE))","v":""},{"$f":"IF($J18=\"\",\"\",VLOOKUP($J18,'Reference Data - Transport fuel'!$C:$O,AV$4,FALSE))","v":""},{"$f":"IF($J18=\"\",\"\",VLOOKUP($J18,'Reference Data - Transport fuel'!$C:$O,AW$4,FALSE))","v":""},{"$f":"IF($J18=\"\",\"\",VLOOKUP($J18,'Reference Data - Transport fuel'!$C:$O,AX$4,FALSE))","v":""},{"$f":"IF($J18=\"\",\"\",VLOOKUP($J18,'Reference Data - Transport fuel'!$C:$O,AY$4,FALSE))","v":""},{"$f":"IF($J18=\"\",\"\",VLOOKUP($J18,'Reference Data - Transport fuel'!$C:$O,AZ$4,FALSE))","v":""},{"$f":"IF($J18=\"\",\"\",VLOOKUP($J18,'Reference Data - Transport fuel'!$C:$O,BA$4,FALSE))","v":""},{"$f":"IF($J18=\"\",\"\",VLOOKUP($J18,'Reference Data - Transport fuel'!$C:$O,BB$4,FALSE))","v":""},{"$f":"IF($J18=\"\",\"\",VLOOKUP($J18,'Reference Data - Transport fuel'!$C:$O,BC$4,FALSE))","v":""},null,{"$f":"IF($J18=\"\",\"\",VLOOKUP($J18,'Reference Data - Transport fuel'!$C:$O,BE$4,FALSE))","v":""},null,{"$f":"IF($J18=\"\",\"\",VLOOKUP($J18,'Reference Data - Transport fuel'!$C:$O,BG$4,FALSE))","v":""},null,"","","","","","","","",null,"",null,"","",null,""]
[null,null,null,null,null,null,null,null,null,null,null,null,null,null,null,{"$f":"IF($D19=\"\",\"\",VLOOKUP($D19,'Reference Data - Fuel EFs'!$C:$O,P$4,FALSE))","v":""},{"$f":"IF($D19=\"\",\"\",VLOOKUP($D19,'Reference Data - Fuel EFs'!$C:$O,Q$4,FALSE))","v":""},{"$f":"IF($D19=\"\",\"\",VLOOKUP($D19,'Reference Data - Fuel EFs'!$C:$O,R$4,FALSE))","v":""},{"$f":"IF($D19=\"\",\"\",VLOOKUP($D19,'Reference Data - Fuel EFs'!$C:$O,S$4,FALSE))","v":""},{"$f":"IF($D19=\"\",\"\",VLOOKUP($D19,'Reference Data - Fuel EFs'!$C:$O,T$4,FALSE))","v":""},{"$f":"IF($D19=\"\",\"\",VLOOKUP($D19,'Reference Data - Fuel EFs'!$C:$O,U$4,FALSE))","v":""},{"$f":"IF($D19=\"\",\"\",VLOOKUP($D19,'Reference Data - Fuel EFs'!$C:$O,V$4,FALSE))","v":""},{"$f":"IF($D19=\"\",\"\",VLOOKUP($D19,'Reference Data - Fuel EFs'!$C:$O,W$4,FALSE))","v":""},{"$f":"IF($D19=\"\",\"\",VLOOKUP($D19,'Reference Data - Fuel EFs'!$C:$O,X$4,FALSE))","v":""},null,{"$f":"IF($D19=\"\",\"\",VLOOKUP($D19,'Reference Data - Fuel EFs'!$C:$O,Z$4,FALSE))","v":""},null,{"$f":"IF($D19=\"\",\"\",VLOOKUP($D19,'Reference Data - Fuel EFs'!$C:$O,AB$4,FALSE))","v":""},null,"","","","","","","","","",null,"",null,"",null,null,{"$f":"INDEX('Dropdown menus'!$A$1:$D$6,MATCH($K19,'Dropdown menus'!$A$1:$A$6,0),$AS$6)","v":{"$error":"#N/A"}},null,{"$f":"IF($J19=\"\",\"\",VLOOKUP($J19,'Reference Data - Transport fuel'!$C:$O,AU$4,FALSE))","v":""},{"$f":"IF($J19=\"\",\"\",VLOOKUP($J19,'Reference Data - Transport fuel'!$C:$O,AV$4,FALSE))","v":""},{"$f":"IF($J19=\"\",\"\",VLOOKUP($J19,'Reference Data - Transport fuel'!$C:$O,AW$4,FALSE))","v":""},{"$f":"IF($J19=\"\",\"\",VLOOKUP($J19,'Reference Data - Transport fuel'!$C:$O,AX$4,FALSE))","v":""},{"$f":"IF($J19=\"\",\"\",VLOOKUP($J19,'Reference Data - Transport fuel'!$C:$O,AY$4,FALSE))","v":""},{"$f":"IF($J19=\"\",\"\",VLOOKUP($J19,'Reference Data - Transport fuel'!$C:$O,AZ$4,FALSE))","v":""},{"$f":"IF($J19=\"\",\"\",VLOOKUP($J19,'Reference Data - Transport fuel'!$C:$O,BA$4,FALSE))","v":""},{"$f":"IF($J19=\"\",\"\",VLOOKUP($J19,'Reference Data - Transport fuel'!$C:$O,BB$4,FALSE))","v":""},{"$f":"IF($J19=\"\",\"\",VLOOKUP($J19,'Reference Data - Transport fuel'!$C:$O,BC$4,FALSE))","v":""},null,{"$f":"IF($J19=\"\",\"\",VLOOKUP($J19,'Reference Data - Transport fuel'!$C:$O,BE$4,FALSE))","v":""},null,{"$f":"IF($J19=\"\",\"\",VLOOKUP($J19,'Reference Data - Transport fuel'!$C:$O,BG$4,FALSE))","v":""},null,"","","","","","","","",null,"",null,"","",null,""]
[null,null,null,null,null,null,null,null,null,null,null,null,null,null,null,{"$f":"IF($D20=\"\",\"\",VLOOKUP($D20,'Reference Data - Fuel EFs'!$C:$O,P$4,FALSE))","v":""},{"$f":"IF($D20=\"\",\"\",VLOOKUP($D20,'Reference Data - Fuel EFs'!$C:$O,Q$4,FALSE))","v":""},{"$f":"IF($D20=\"\",\"\",VLOOKUP($D20,'Reference Data - Fuel EFs'!$C:$O,R$4,FALSE))","v":""},{"$f":"IF($D20=\"\",\"\",VLOOKUP($D20,'Reference Data - Fuel EFs'!$C:$O,S$4,FALSE))","v":""},{"$f":"IF($D20=\"\",\"\",VLOOKUP($D20,'Reference Data - Fuel EFs'!$C:$O,T$4,FALSE))","v":""},{"$f":"IF($D20=\"\",\"\",VLOOKUP($D20,'Reference Data - Fuel EFs'!$C:$O,U$4,FALSE))","v":""},{"$f":"IF($D20=\"\",\"\",VLOOKUP($D20,'Reference Data - Fuel EFs'!$C:$O,V$4,FALSE))","v":""},{"$f":"IF($D20=\"\",\"\",VLOOKUP($D20,'Reference Data - Fuel EFs'!$C:$O,W$4,FALSE))","v":""},{"$f":"IF($D20=\"\",\"\",VLOOKUP($D20,'Reference Data - Fuel EFs'!$C:$O,X$4,FALSE))","v":""},null,{"$f":"IF($D20=\"\",\"\",VLOOKUP($D20,'Reference Data - Fuel EFs'!$C:$O,Z$4,FALSE))","v":""},null,{"$f":"IF($D20=\"\",\"\",VLOOKUP($D20,'Reference Data - Fuel EFs'!$C:$O,AB$4,FALSE))","v":""},null,"","","","","","","","","",null,"",null,"",null,null,{"$f":"INDEX('Dropdown menus'!$A$1:$D$6,MATCH($K20,'Dropdown menus'!$A$1:$A$6,0),$AS$6)","v":{"$error":"#N/A"}},null,{"$f":"IF($J20=\"\",\"\",VLOOKUP($J20,'Reference Data - Transport fuel'!$C:$O,AU$4,FALSE))","v":""},{"$f":"IF($J20=\"\",\"\",VLOOKUP($J20,'Reference Data - Transport fuel'!$C:$O,AV$4,FALSE))","v":""},{"$f":"IF($J20=\"\",\"\",VLOOKUP($J20,'Reference Data - Transport fuel'!$C:$O,AW$4,FALSE))","v":""},{"$f":"IF($J20=\"\",\"\",VLOOKUP($J20,'Reference Data - Transport fuel'!$C:$O,AX$4,FALSE))","v":""},{"$f":"IF($J20=\"\",\"\",VLOOKUP($J20,'Reference Data - Transport fuel'!$C:$O,AY$4,FALSE))","v":""},{"$f":"IF($J20=\"\",\"\",VLOOKUP($J20,'Reference Data - Transport fuel'!$C:$O,AZ$4,FALSE))","v":""},{"$f":"IF($J20=\"\",\"\",VLOOKUP($J20,'Reference Data - Transport fuel'!$C:$O,BA$4,FALSE))","v":""},{"$f":"IF($J20=\"\",\"\",VLOOKUP($J20,'Reference Data - Transport fuel'!$C:$O,BB$4,FALSE))","v":""},{"$f":"IF($J20=\"\",\"\",VLOOKUP($J20,'Reference Data - Transport fuel'!$C:$O,BC$4,FALSE))","v":""},null,{"$f":"IF($J20=\"\",\"\",VLOOKUP($J20,'Reference Data - Transport fuel'!$C:$O,BE$4,FALSE))","v":""},null,{"$f":"IF($J20=\"\",\"\",VLOOKUP($J20,'Reference Data - Transport fuel'!$C:$O,BG$4,FALSE))","v":""},null,"","","","","","","","",null,"",null,"","",null,""]
[null,null,null,null,null,null,null,null,null,null,null,null,null,null,null,{"$f":"IF($D21=\"\",\"\",VLOOKUP($D21,'Reference Data - Fuel EFs'!$C:$O,P$4,FALSE))","v":""},{"$f":"IF($D21=\"\",\"\",VLOOKUP($D21,'Reference Data - Fuel EFs'!$C:$O,Q$4,FALSE))","v":""},{"$f":"IF($D21=\"\",\"\",VLOOKUP($D21,'Reference Data - Fuel EFs'!$C:$O,R$4,FALSE))","v":""},{"$f":"IF($D21=\"\",\"\",VLOOKUP($D21,'Reference Data - Fuel EFs'!$C:$O,S$4,FALSE))","v":""},{"$f":"IF($D21=\"\",\"\",VLOOKUP($D21,'Reference Data - Fuel EFs'!$C:$O,T$4,FALSE))","v":""},{"$f":"IF($D21=\"\",\"\",VLOOKUP($D21,'Reference Data - Fuel EFs'!$C:$O,U$4,FALSE))","v":""},{"$f":"IF($D21=\"\",\"\",VLOOKUP($D21,'Reference Data - Fuel EFs'!$C:$O,V$4,FALSE))","v":""},{"$f":"IF($D21=\"\",\"\",VLOOKUP($D21,'Reference Data - Fuel EFs'!$C:$O,W$4,FALSE))","v":""},{"$f":"IF($D21=\"\",\"\",VLOOKUP($D21,'Reference Data - Fuel EFs'!$C:$O,X$4,FALSE))","v":""},null,{"$f":"IF($D21=\"\",\"\",VLOOKUP($D21,'Reference Data - Fuel EFs'!$C:$O,Z$4,FALSE))","v":""},null,{"$f":"IF($D21=\"\",\"\",VLOOKUP($D21,'Reference Data - Fuel EFs'!$C:$O,AB$4,FALSE))","v":""},null,"","","","","","","","","",null,"",null,"",null,null,{"$f":"INDEX('Dropdown menus'!$A$1:$D$6,MATCH($K21,'Dropdown menus'!$A$1:$A$6,0),$AS$6)","v":{"$error":"#N/A"}},null,{"$f":"IF($J21=\"\",\"\",VLOOKUP($J21,'Reference Data - Transport fuel'!$C:$O,AU$4,FALSE))","v":""},{"$f":"IF($J21=\"\",\"\",VLOOKUP($J21,'Reference Data - Transport fuel'!$C:$O,AV$4,FALSE))","v":""},{"$f":"IF($J21=\"\",\"\",VLOOKUP($J21,'Reference Data - Transport fuel'!$C:$O,AW$4,FALSE))","v":""},{"$f":"IF($J21=\"\",\"\",VLOOKUP($J21,'Reference Data - Transport fuel'!$C:$O,AX$4,FALSE))","v":""},{"$f":"IF($J21=\"\",\"\",VLOOKUP($J21,'Reference Data - Transport fuel'!$C:$O,AY$4,FALSE))","v":""},{"$f":"IF($J21=\"\",\"\",VLOOKUP($J21,'Reference Data - Transport fuel'!$C:$O,AZ$4,FALSE))","v":""},{"$f":"IF($J21=\"\",\"\",VLOOKUP($J21,'Reference Data - Transport fuel'!$C:$O,BA$4,FALSE))","v":""},{"$f":"IF($J21=\"\",\"\",VLOOKUP($J21,'Reference Data - Transport fuel'!$C:$O,BB$4,FALSE))","v":""},{"$f":"IF($J21=\"\",\"\",VLOOKUP($J21,'Reference Data - Transport fuel'!$C:$O,BC$4,FALSE))","v":""},null,{"$f":"IF($J21=\"\",\"\",VLOOKUP($J21,'Reference Data - Transport fuel'!$C:$O,BE$4,FALSE))","v":""},null,{"$f":"IF($J21=\"\",\"\",VLOOKUP($J21,'Reference Data - Transport fuel'!$C:$O,BG$4,FALSE))","v":""},null,"","","","","","","","",null,"",null,"","",null,""]
[null,null,null,null,null,null,null,null,null,null,null,null,null,null,null,{"$f":"IF($D22=\"\",\"\",VLOOKUP($D22,'Reference Data - Fuel EFs'!$C:$O,P$4,FALSE))","v":""},{"$f":"IF($D22=\"\",\"\",VLOOKUP($D22,'Reference Data - Fuel EFs'!$C:$O,Q$4,FALSE))","v":""},{"$f":"IF($D22=\"\",\"\",VLOOKUP($D22,'Reference Data - Fuel EFs'!$C:$O,R$4,FALSE))","v":""},{"$f":"IF($D22=\"\",\"\",VLOOKUP($D22,'Reference Data - Fuel EFs'!$C:$O,S$4,FALSE))","v":""},{"$f":"IF($D22=\"\",\"\",VLOOKUP($D22,'Reference Data - Fuel EFs'!$C:$O,T$4,FALSE))","v":""},{"$f":"IF($D22=\"\",\"\",VLOOKUP($D22,'Reference Data - Fuel EFs'!$C:$O,U$4,FALSE))","v":""},{"$f":"IF($D22=\"\",\"\",VLOOKUP($D22,'Reference Data - Fuel EFs'!$C:$O,V$4,FALSE))","v":""},{"$f":"IF($D22=\"\",\"\",VLOOKUP($D22,'Reference Data - Fuel EFs'!$C:$O,W$4,FALSE))","v":""},{"$f":"IF($D22=\"\",\"\",VLOOKUP($D22,'Reference Data - Fuel EFs'!$C:$O,X$4,FALSE))","v":""},null,{"$f":"IF($D22=\"\",\"\",VLOOKUP($D22,'Reference Data - Fuel EFs'!$C:$O,Z$4,FALSE))","v":""},null,{"$f":"IF($D22=\"\",\"\",VLOOKUP($D22,'Reference Data - Fuel EFs'!$C:$O,AB$4,FALSE))","v":""},null,"","","","","","","","","",null,"",null,"",null,null,{"$f":"INDEX('Dropdown menus'!$A$1:$D$6,MATCH($K22,'Dropdown menus'!$A$1:$A$6,0),$AS$6)","v":{"$error":"#N/A"}},null,{"$f":"IF($J22=\"\",\"\",VLOOKUP($J22,'Reference Data - Transport fuel'!$C:$O,AU$4,FALSE))","v":""},{"$f":"IF($J22=\"\",\"\",VLOOKUP($J22,'Reference Data - Transport fuel'!$C:$O,AV$4,FALSE))","v":""},{"$f":"IF($J22=\"\",\"\",VLOOKUP($J22,'Reference Data - Transport fuel'!$C:$O,AW$4,FALSE))","v":""},{"$f":"IF($J22=\"\",\"\",VLOOKUP($J22,'Reference Data - Transport fuel'!$C:$O,AX$4,FALSE))","v":""},{"$f":"IF($J22=\"\",\"\",VLOOKUP($J22,'Reference Data - Transport fuel'!$C:$O,AY$4,FALSE))","v":""},{"$f":"IF($J22=\"\",\"\",VLOOKUP($J22,'Reference Data - Transport fuel'!$C:$O,AZ$4,FALSE))","v":""},{"$f":"IF($J22=\"\",\"\",VLOOKUP($J22,'Reference Data - Transport fuel'!$C:$O,BA$4,FALSE))","v":""},{"$f":"IF($J22=\"\",\"\",VLOOKUP($J22,'Reference Data - Transport fuel'!$C:$O,BB$4,FALSE))","v":""},{"$f":"IF($J22=\"\",\"\",VLOOKUP($J22,'Reference Data - Transport fuel'!$C:$O,BC$4,FALSE))","v":""},null,{"$f":"IF($J22=\"\",\"\",VLOOKUP($J22,'Reference Data - Transport fuel'!$C:$O,BE$4,FALSE))","v":""},null,{"$f":"IF($J22=\"\",\"\",VLOOKUP($J22,'Reference Data - Transport fuel'!$C:$O,BG$4,FALSE))","v":""},null,"","","","","","","","",null,"",null,"","",null,""]
[null,null,null,null,null,null,null,null,null,null,null,null,null,null,null,{"$f":"IF($D23=\"\",\"\",VLOOKUP($D23,'Reference Data - Fuel EFs'!$C:$O,P$4,FALSE))","v":""},{"$f":"IF($D23=\"\",\"\",VLOOKUP($D23,'Reference Data - Fuel EFs'!$C:$O,Q$4,FALSE))","v":""},{"$f":"IF($D23=\"\",\"\",VLOOKUP($D23,'Reference Data - Fuel EFs'!$C:$O,R$4,FALSE))","v":""},{"$f":"IF($D23=\"\",\"\",VLOOKUP($D23,'Reference Data - Fuel EFs'!$C:$O,S$4,FALSE))","v":""},{"$f":"IF($D23=\"\",\"\",VLOOKUP($D23,'Reference Data - Fuel EFs'!$C:$O,T$4,FALSE))","v":""},{"$f":"IF($D23=\"\",\"\",VLOOKUP($D23,'Reference Data - Fuel EFs'!$C:$O,U$4,FALSE))","v":""},{"$f":"IF($D23=\"\",\"\",VLOOKUP($D23,'Reference Data - Fuel EFs'!$C:$O,V$4,FALSE))","v":""},{"$f":"IF($D23=\"\",\"\",VLOOKUP($D23,'Reference Data - Fuel EFs'!$C:$O,W$4,FALSE))","v":""},{"$f":"IF($D23=\"\",\"\",VLOOKUP($D23,'Reference Data - Fuel EFs'!$C:$O,X$4,FALSE))","v":""},null,{"$f":"IF($D23=\"\",\"\",VLOOKUP($D23,'Reference Data - Fuel EFs'!$C:$O,Z$4,FALSE))","v":""},null,{"$f":"IF($D23=\"\",\"\",VLOOKUP($D23,'Reference Data - Fuel EFs'!$C:$O,AB$4,FALSE))","v":""},null,"","","","","","","","","",null,"",null,"",null,null,{"$f":"INDEX('Dropdown menus'!$A$1:$D$6,MATCH($K23,'Dropdown menus'!$A$1:$A$6,0),$AS$6)","v":{"$error":"#N/A"}},null,{"$f":"IF($J23=\"\",\"\",VLOOKUP($J23,'Reference Data - Transport fuel'!$C:$O,AU$4,FALSE))","v":""},{"$f":"IF($J23=\"\",\"\",VLOOKUP($J23,'Reference Data - Transport fuel'!$C:$O,AV$4,FALSE))","v":""},{"$f":"IF($J23=\"\",\"\",VLOOKUP($J23,'Reference Data - Transport fuel'!$C:$O,AW$4,FALSE))","v":""},{"$f":"IF($J23=\"\",\"\",VLOOKUP($J23,'Reference Data - Transport fuel'!$C:$O,AX$4,FALSE))","v":""},{"$f":"IF($J23=\"\",\"\",VLOOKUP($J23,'Reference Data - Transport fuel'!$C:$O,AY$4,FALSE))","v":""},{"$f":"IF($J23=\"\",\"\",VLOOKUP($J23,'Reference Data - Transport fuel'!$C:$O,AZ$4,FALSE))","v":""},{"$f":"IF($J23=\"\",\"\",VLOOKUP($J23,'Reference Data - Transport fuel'!$C:$O,BA$4,FALSE))","v":""},{"$f":"IF($J23=\"\",\"\",VLOOKUP($J23,'Reference Data - Transport fuel'!$C:$O,BB$4,FALSE))","v":""},{"$f":"IF($J23=\"\",\"\",VLOOKUP($J23,'Reference Data - Transport fuel'!$C:$O,BC$4,FALSE))","v":""},null,{"$f":"IF($J23=\"\",\"\",VLOOKUP($J23,'Reference Data - Transport fuel'!$C:$O,BE$4,FALSE))","v":""},null,{"$f":"IF($J23=\"\",\"\",VLOOKUP($J23,'Reference Data - Transport fuel'!$C:$O,BG$4,FALSE))","v":""},null,"","","","","","","","",null,"",null,"","",null,""]
[null,null,null,null,null,null,null,null,null,null,null,null,null,null,null,{"$f":"IF($D24=\"\",\"\",VLOOKUP($D24,'Reference Data - Fuel EFs'!$C:$O,P$4,FALSE))","v":""},{"$f":"IF($D24=\"\",\"\",VLOOKUP($D24,'Reference Data - Fuel EFs'!$C:$O,Q$4,FALSE))","v":""},{"$f":"IF($D24=\"\",\"\",VLOOKUP($D24,'Reference Data - Fuel EFs'!$C:$O,R$4,FALSE))","v":""},{"$f":"IF($D24=\"\",\"\",VLOOKUP($D24,'Reference Data - Fuel EFs'!$C:$O,S$4,FALSE))","v":""},{"$f":"IF($D24=\"\",\"\",VLOOKUP($D24,'Reference Data - Fuel EFs'!$C:$O,T$4,FALSE))","v":""},{"$f":"IF($D24=\"\",\"\",VLOOKUP($D24,'Reference Data - Fuel EFs'!$C:$O,U$4,FALSE))","v":""},{"$f":"IF($D24=\"\",\"\",VLOOKUP($D24,'Reference Data - Fuel EFs'!$C:$O,V$4,FALSE))","v":""},{"$f":"IF($D24=\"\",\"\",VLOOKUP($D24,'Reference Data - Fuel EFs'!$C:$O,W$4,FALSE))","v":""},{"$f":"IF($D24=\"\",\"\",VLOOKUP($D24,'Reference Data - Fuel EFs'!$C:$O,X$4,FALSE))","v":""},null,{"$f":"IF($D24=\"\",\"\",VLOOKUP($D24,'Reference Data - Fuel EFs'!$C:$O,Z$4,FALSE))","v":""},null,{"$f":"IF($D24=\"\",\"\",VLOOKUP($D24,'Reference Data - Fuel EFs'!$C:$O,AB$4,FALSE))","v":""},null,"","","","","","","","","",null,"",null,"",null,null,{"$f":"INDEX('Dropdown menus'!$A$1:$D$6,MATCH($K24,'Dropdown menus'!$A$1:$A$6,0),$AS$6)","v":{"$error":"#N/A"}},null,{"$f":"IF($J24=\"\",\"\",VLOOKUP($J24,'Reference Data - Transport fuel'!$C:$O,AU$4,FALSE))","v":""},{"$f":"IF($J24=\"\",\"\",VLOOKUP($J24,'Reference Data - Transport fuel'!$C:$O,AV$4,FALSE))","v":""},{"$f":"IF($J24=\"\",\"\",VLOOKUP($J24,'Reference Data - Transport fuel'!$C:$O,AW$4,FALSE))","v":""},{"$f":"IF($J24=\"\",\"\",VLOOKUP($J24,'Reference Data - Transport fuel'!$C:$O,AX$4,FALSE))","v":""},{"$f":"IF($J24=\"\",\"\",VLOOKUP($J24,'Reference Data - Transport fuel'!$C:$O,AY$4,FALSE))","v":""},{"$f":"IF($J24=\"\",\"\",VLOOKUP($J24,'Reference Data - Transport fuel'!$C:$O,AZ$4,FALSE))","v":""},{"$f":"IF($J24=\"\",\"\",VLOOKUP($J24,'Reference Data - Transport fuel'!$C:$O,BA$4,FALSE))","v":""},{"$f":"IF($J24=\"\",\"\",VLOOKUP($J24,'Reference Data - Transport fuel'!$C:$O,BB$4,FALSE))","v":""},{"$f":"IF($J24=\"\",\"\",VLOOKUP($J24,'Reference Data - Transport fuel'!$C:$O,BC$4,FALSE))","v":""},null,{"$f":"IF($J24=\"\",\"\",VLOOKUP($J24,'Reference Data - Transport fuel'!$C:$O,BE$4,FALSE))","v":""},null,{"$f":"IF($J24=\"\",\"\",VLOOKUP($J24,'Reference Data - Transport fuel'!$C:$O,BG$4,FALSE))","v":""},null,"","","","","","","","",null,"",null,"","",null,""]
[null,null,null,null,null,null,null,null,null,null,null,null,null,null,null,{"$f":"IF($D25=\"\",\"\",VLOOKUP($D25,'Reference Data - Fuel EFs'!$C:$O,P$4,FALSE))","v":""},{"$f":"IF($D25=\"\",\"\",VLOOKUP($D25,'Reference Data - Fuel EFs'!$C:$O,Q$4,FALSE))","v":""},{"$f":"IF($D25=\"\",\"\",VLOOKUP($D25,'Reference Data - Fuel EFs'!$C:$O,R$4,FALSE))","v":""},{"$f":"IF($D25=\"\",\"\",VLOOKUP($D25,'Reference Data - Fuel EFs'!$C:$O,S$4,FALSE))","v":""},{"$f":"IF($D25=\"\",\"\",VLOOKUP($D25,'Reference Data - Fuel EFs'!$C:$O,T$4,FALSE))","v":""},{"$f":"IF($D25=\"\",\"\",VLOOKUP($D25,'Reference Data - Fuel EFs'!$C:$O,U$4,FALSE))","v":""},{"$f":"IF($D25=\"\",\"\",VLOOKUP($D25,'Reference Data - Fuel EFs'!$C:$O,V$4,FALSE))","v":""},{"$f":"IF($D25=\"\",\"\",VLOOKUP($D25,'Reference Data - Fuel EFs'!$C:$O,W$4,FALSE))","v":""},{"$f":"IF($D25=\"\",\"\",VLOOKUP($D25,'Reference Data - Fuel EFs'!$C:$O,X$4,FALSE))","v":""},null,{"$f":"IF($D25=\"\",\"\",VLOOKUP($D25,'Reference Data - Fuel EFs'!$C:$O,Z$4,FALSE))","v":""},null,{"$f":"IF($D25=\"\",\"\",VLOOKUP($D25,'Reference Data - Fuel EFs'!$C:$O,AB$4,FALSE))","v":""},null,"","","","","","","","","",null,"",null,"",null,null,{"$f":"INDEX('Dropdown menus'!$A$1:$D$6,MATCH($K25,'Dropdown menus'!$A$1:$A$6,0),$AS$6)","v":{"$error":"#N/A"}},null,{"$f":"IF($J25=\"\",\"\",VLOOKUP($J25,'Reference Data - Transport fuel'!$C:$O,AU$4,FALSE))","v":""},{"$f":"IF($J25=\"\",\"\",VLOOKUP($J25,'Reference Data - Transport fuel'!$C:$O,AV$4,FALSE))","v":""},{"$f":"IF($J25=\"\",\"\",VLOOKUP($J25,'Reference Data - Transport fuel'!$C:$O,AW$4,FALSE))","v":""},{"$f":"IF($J25=\"\",\"\",VLOOKUP($J25,'Reference Data - Transport fuel'!$C:$O,AX$4,FALSE))","v":""},{"$f":"IF($J25=\"\",\"\",VLOOKUP($J25,'Reference Data - Transport fuel'!$C:$O,AY$4,FALSE))","v":""},{"$f":"IF($J25=\"\",\"\",VLOOKUP($J25,'Reference Data - Transport fuel'!$C:$O,AZ$4,FALSE))","v":""},{"$f":"IF($J25=\"\",\"\",VLOOKUP($J25,'Reference Data - Transport fuel'!$C:$O,BA$4,FALSE))","v":""},{"$f":"IF($J25=\"\",\"\",VLOOKUP($J25,'Reference Data - Transport fuel'!$C:$O,BB$4,FALSE))","v":""},{"$f":"IF($J25=\"\",\"\",VLOOKUP($J25,'Reference Data - Transport fuel'!$C:$O,BC$4,FALSE))","v":""},null,{"$f":"IF($J25=\"\",\"\",VLOOKUP($J25,'Reference Data - Transport fuel'!$C:$O,BE$4,FALSE))","v":""},null,{"$f":"IF($J25=\"\",\"\",VLOOKUP($J25,'Reference Data - Transport fuel'!$C:$O,BG$4,FALSE))","v":""},null,"","","","","","","","",null,"",null,"","",null,""]
[null,null,null,null,null,null,null,null,null,null,null,null,null,null,null,{"$f":"IF($D26=\"\",\"\",VLOOKUP($D26,'Reference Data - Fuel EFs'!$C:$O,P$4,FALSE))","v":""},{"$f":"IF($D26=\"\",\"\",VLOOKUP($D26,'Reference Data - Fuel EFs'!$C:$O,Q$4,FALSE))","v":""},{"$f":"IF($D26=\"\",\"\",VLOOKUP($D26,'Reference Data - Fuel EFs'!$C:$O,R$4,FALSE))","v":""},{"$f":"IF($D26=\"\",\"\",VLOOKUP($D26,'Reference Data - Fuel EFs'!$C:$O,S$4,FALSE))","v":""},{"$f":"IF($D26=\"\",\"\",VLOOKUP($D26,'Reference Data - Fuel EFs'!$C:$O,T$4,FALSE))","v":""},{"$f":"IF($D26=\"\",\"\",VLOOKUP($D26,'Reference Data - Fuel EFs'!$C:$O,U$4,FALSE))","v":""},{"$f":"IF($D26=\"\",\"\",VLOOKUP($D26,'Reference Data - Fuel EFs'!$C:$O,V$4,FALSE))","v":""},{"$f":"IF($D26=\"\",\"\",VLOOKUP($D26,'Reference Data - Fuel EFs'!$C:$O,W$4,FALSE))","v":""},{"$f":"IF($D26=\"\",\"\",VLOOKUP($D26,'Reference Data - Fuel EFs'!$C:$O,X$4,FALSE))","v":""},null,{"$f":"IF($D26=\"\",\"\",VLOOKUP($D26,'Reference Data - Fuel EFs'!$C:$O,Z$4,FALSE))","v":""},null,{"$f":"IF($D26=\"\",\"\",VLOOKUP($D26,'Reference Data - Fuel EFs'!$C:$O,AB$4,FALSE))","v":""},null,"","","","","","","","","",null,"",null,"",null,null,{"$f":"INDEX('Dropdown menus'!$A$1:$D$6,MATCH($K26,'Dropdown menus'!$A$1:$A$6,0),$AS$6)","v":{"$error":"#N/A"}},null,{"$f":"IF($J26=\"\",\"\",VLOOKUP($J26,'Reference Data - Transport fuel'!$C:$O,AU$4,FALSE))","v":""},{"$f":"IF($J26=\"\",\"\",VLOOKUP($J26,'Reference Data - Transport fuel'!$C:$O,AV$4,FALSE))","v":""},{"$f":"IF($J26=\"\",\"\",VLOOKUP($J26,'Reference Data - Transport fuel'!$C:$O,AW$4,FALSE))","v":""},{"$f":"IF($J26=\"\",\"\",VLOOKUP($J26,'Reference Data - Transport fuel'!$C:$O,AX$4,FALSE))","v":""},{"$f":"IF($J26=\"\",\"\",VLOOKUP($J26,'Reference Data - Transport fuel'!$C:$O,AY$4,FALSE))","v":""},{"$f":"IF($J26=\"\",\"\",VLOOKUP($J26,'Reference Data - Transport fuel'!$C:$O,AZ$4,FALSE))","v":""},{"$f":"IF($J26=\"\",\"\",VLOOKUP($J26,'Reference Data - Transport fuel'!$C:$O,BA$4,FALSE))","v":""},{"$f":"IF($J26=\"\",\"\",VLOOKUP($J26,'Reference Data - Transport fuel'!$C:$O,BB$4,FALSE))","v":""},{"$f":"IF($J26=\"\",\"\",VLOOKUP($J26,'Reference Data - Transport fuel'!$C:$O,BC$4,FALSE))","v":""},null,{"$f":"IF($J26=\"\",\"\",VLOOKUP($J26,'Reference Data - Transport fuel'!$C:$O,BE$4,FALSE))","v":""},null,{"$f":"IF($J26=\"\",\"\",VLOOKUP($J26,'Reference Data - Transport fuel'!$C:$O,BG$4,FALSE))","v":""},null,"","","","","","","","",null,"",null,"","",null,""]
[null,null,null,null,null,null,null,null,null,null,null,null,null,null,null,{"$f":"IF($D27=\"\",\"\",VLOOKUP($D27,'Reference Data - Fuel EFs'!$C:$O,P$4,FALSE))","v":""},{"$f":"IF($D27=\"\",\"\",VLOOKUP($D27,'Reference Data - Fuel EFs'!$C:$O,Q$4,FALSE))","v":""},{"$f":"IF($D27=\"\",\"\",VLOOKUP($D27,'Reference Data - Fuel EFs'!$C:$O,R$4,FALSE))","v":""},{"$f":"IF($D27=\"\",\"\",VLOOKUP($D27,'Reference Data - Fuel EFs'!$C:$O,S$4,FALSE))","v":""},{"$f":"IF($D27=\"\",\"\",VLOOKUP($D27,'Reference Data - Fuel EFs'!$C:$O,T$4,FALSE))","v":""},{"$f":"IF($D27=\"\",\"\",VLOOKUP($D27,'Reference Data - Fuel EFs'!$C:$O,U$4,FALSE))","v":""},{"$f":"IF($D27=\"\",\"\",VLOOKUP($D27,'Reference Data - Fuel EFs'!$C:$O,V$4,FALSE))","v":""},{"$f":"IF($D27=\"\",\"\",VLOOKUP($D27,'Reference Data - Fuel EFs'!$C:$O,W$4,FALSE))","v":""},{"$f":"IF($D27=\"\",\"\",VLOOKUP($D27,'Reference Data - Fuel EFs'!$C:$O,X$4,FALSE))","v":""},null,{"$f":"IF($D27=\"\",\"\",VLOOKUP($D27,'Reference Data - Fuel EFs'!$C:$O,Z$4,FALSE))","v":""},null,{"$f":"IF($D27=\"\",\"\",VLOOKUP($D27,'Reference Data - Fuel EFs'!$C:$O,AB$4,FALSE))","v":""},null,"","","","","","","","","",null,"",null,"",null,null,{"$f":"INDEX('Dropdown menus'!$A$1:$D$6,MATCH($K27,'Dropdown menus'!$A$1:$A$6,0),$AS$6)","v":{"$error":"#N/A"}},null,{"$f":"IF($J27=\"\",\"\",VLOOKUP($J27,'Reference Data - Transport fuel'!$C:$O,AU$4,FALSE))","v":""},{"$f":"IF($J27=\"\",\"\",VLOOKUP($J27,'Reference Data - Transport fuel'!$C:$O,AV$4,FALSE))","v":""},{"$f":"IF($J27=\"\",\"\",VLOOKUP($J27,'Reference Data - Transport fuel'!$C:$O,AW$4,FALSE))","v":""},{"$f":"IF($J27=\"\",\"\",VLOOKUP($J27,'Reference Data - Transport fuel'!$C:$O,AX$4,FALSE))","v":""},{"$f":"IF($J27=\"\",\"\",VLOOKUP($J27,'Reference Data - Transport fuel'!$C:$O,AY$4,FALSE))","v":""},{"$f":"IF($J27=\"\",\"\",VLOOKUP($J27,'Reference Data - Transport fuel'!$C:$O,AZ$4,FALSE))","v":""},{"$f":"IF($J27=\"\",\"\",VLOOKUP($J27,'Reference Data - Transport fuel'!$C:$O,BA$4,FALSE))","v":""},{"$f":"IF($J27=\"\",\"\",VLOOKUP($J27,'Reference Data - Transport fuel'!$C:$O,BB$4,FALSE))","v":""},{"$f":"IF($J27=\"\",\"\",VLOOKUP($J27,'Reference Data - Transport fuel'!$C:$O,BC$4,FALSE))","v":""},null,{"$f":"IF($J27=\"\",\"\",VLOOKUP($J27,'Reference Data - Transport fuel'!$C:$O,BE$4,FALSE))","v":""},null,{"$f":"IF($J27=\"\",\"\",VLOOKUP($J27,'Reference Data - Transport fuel'!$C:$O,BG$4,FALSE))","v":""},null,"","","","","","","","",null,"",null,"","",null,""]
[null,null,null,null,null,null,null,null,null,null,null,null,null,null,null,{"$f":"IF($D28=\"\",\"\",VLOOKUP($D28,'Reference Data - Fuel EFs'!$C:$O,P$4,FALSE))","v":""},{"$f":"IF($D28=\"\",\"\",VLOOKUP($D28,'Reference Data - Fuel EFs'!$C:$O,Q$4,FALSE))","v":""},{"$f":"IF($D28=\"\",\"\",VLOOKUP($D28,'Reference Data - Fuel EFs'!$C:$O,R$4,FALSE))","v":""},{"$f":"IF($D28=\"\",\"\",VLOOKUP($D28,'Reference Data - Fuel EFs'!$C:$O,S$4,FALSE))","v":""},{"$f":"IF($D28=\"\",\"\",VLOOKUP($D28,'Reference Data - Fuel EFs'!$C:$O,T$4,FALSE))","v":""},{"$f":"IF($D28=\"\",\"\",VLOOKUP($D28,'Reference Data - Fuel EFs'!$C:$O,U$4,FALSE))","v":""},{"$f":"IF($D28=\"\",\"\",VLOOKUP($D28,'Reference Data - Fuel EFs'!$C:$O,V$4,FALSE))","v":""},{"$f":"IF($D28=\"\",\"\",VLOOKUP($D28,'Reference Data - Fuel EFs'!$C:$O,W$4,FALSE))","v":""},{"$f":"IF($D28=\"\",\"\",VLOOKUP($D28,'Reference Data - Fuel EFs'!$C:$O,X$4,FALSE))","v":""},null,{"$f":"IF($D28=\"\",\"\",VLOOKUP($D28,'Reference Data - Fuel EFs'!$C:$O,Z$4,FALSE))","v":""},null,{"$f":"IF($D28=\"\",\"\",VLOOKUP($D28,'Reference Data - Fuel EFs'!$C:$O,AB$4,FALSE))","v":""},null,"","","","","","","","","",null,"",null,"",null,null,{"$f":"INDEX('Dropdown menus'!$A$1:$D$6,MATCH($K28,'Dropdown menus'!$A$1:$A$6,0),$AS$6)","v":{"$error":"#N/A"}},null,{"$f":"IF($J28=\"\",\"\",VLOOKUP($J28,'Reference Data - Transport fuel'!$C:$O,AU$4,FALSE))","v":""},{"$f":"IF($J28=\"\",\"\",VLOOKUP($J28,'Reference Data - Transport fuel'!$C:$O,AV$4,FALSE))","v":""},{"$f":"IF($J28=\"\",\"\",VLOOKUP($J28,'Reference Data - Transport fuel'!$C:$O,AW$4,FALSE))","v":""},{"$f":"IF($J28=\"\",\"\",VLOOKUP($J28,'Reference Data - Transport fuel'!$C:$O,AX$4,FALSE))","v":""},{"$f":"IF($J28=\"\",\"\",VLOOKUP($J28,'Reference Data - Transport fuel'!$C:$O,AY$4,FALSE))","v":""},{"$f":"IF($J28=\"\",\"\",VLOOKUP($J28,'Reference Data - Transport fuel'!$C:$O,AZ$4,FALSE))","v":""},{"$f":"IF($J28=\"\",\"\",VLOOKUP($J28,'Reference Data - Transport fuel'!$C:$O,BA$4,FALSE))","v":""},{"$f":"IF($J28=\"\",\"\",VLOOKUP($J28,'Reference Data - Transport fuel'!$C:$O,BB$4,FALSE))","v":""},{"$f":"IF($J28=\"\",\"\",VLOOKUP($J28,'Reference Data - Transport fuel'!$C:$O,BC$4,FALSE))","v":""},null,{"$f":"IF($J28=\"\",\"\",VLOOKUP($J28,'Reference Data - Transport fuel'!$C:$O,BE$4,FALSE))","v":""},null,{"$f":"IF($J28=\"\",\"\",VLOOKUP($J28,'Reference Data - Transport fuel'!$C:$O,BG$4,FALSE))","v":""},null,"","","","","","","","",null,"",null,"","",null,""]
[null,null,null,null,null,null,null,null,null,null,null,null,null,null,null,{"$f":"IF($D29=\"\",\"\",VLOOKUP($D29,'Reference Data - Fuel EFs'!$C:$O,P$4,FALSE))","v":""},{"$f":"IF($D29=\"\",\"\",VLOOKUP($D29,'Reference Data - Fuel EFs'!$C:$O,Q$4,FALSE))","v":""},{"$f":"IF($D29=\"\",\"\",VLOOKUP($D29,'Reference Data - Fuel EFs'!$C:$O,R$4,FALSE))","v":""},{"$f":"IF($D29=\"\",\"\",VLOOKUP($D29,'Reference Data - Fuel EFs'!$C:$O,S$4,FALSE))","v":""},{"$f":"IF($D29=\"\",\"\",VLOOKUP($D29,'Reference Data - Fuel EFs'!$C:$O,T$4,FALSE))","v":""},{"$f":"IF($D29=\"\",\"\",VLOOKUP($D29,'Reference Data - Fuel EFs'!$C:$O,U$4,FALSE))","v":""},{"$f":"IF($D29=\"\",\"\",VLOOKUP($D29,'Reference Data - Fuel EFs'!$C:$O,V$4,FALSE))","v":""},{"$f":"IF($D29=\"\",\"\",VLOOKUP($D29,'Reference Data - Fuel EFs'!$C:$O,W$4,FALSE))","v":""},{"$f":"IF($D29=\"\",\"\",VLOOKUP($D29,'Reference Data - Fuel EFs'!$C:$O,X$4,FALSE))","v":""},null,{"$f":"IF($D29=\"\",\"\",VLOOKUP($D29,'Reference Data - Fuel EFs'!$C:$O,Z$4,FALSE))","v":""},null,{"$f":"IF($D29=\"\",\"\",VLOOKUP($D29,'Reference Data - Fuel EFs'!$C:$O,AB$4,FALSE))","v":""},null,"","","","","","","","","",null,"",null,"",null,null,{"$f":"INDEX('Dropdown menus'!$A$1:$D$6,MATCH($K29,'Dropdown menus'!$A$1:$A$6,0),$AS$6)","v":{"$error":"#N/A"}},null,{"$f":"IF($J29=\"\",\"\",VLOOKUP($J29,'Reference Data - Transport fuel'!$C:$O,AU$4,FALSE))","v":""},{"$f":"IF($J29=\"\",\"\",VLOOKUP($J29,'Reference Data - Transport fuel'!$C:$O,AV$4,FALSE))","v":""},{"$f":"IF($J29=\"\",\"\",VLOOKUP($J29,'Reference Data - Transport fuel'!$C:$O,AW$4,FALSE))","v":""},{"$f":"IF($J29=\"\",\"\",VLOOKUP($J29,'Reference Data - Transport fuel'!$C:$O,AX$4,FALSE))","v":""},{"$f":"IF($J29=\"\",\"\",VLOOKUP($J29,'Reference Data - Transport fuel'!$C:$O,AY$4,FALSE))","v":""},{"$f":"IF($J29=\"\",\"\",VLOOKUP($J29,'Reference Data - Transport fuel'!$C:$O,AZ$4,FALSE))","v":""},{"$f":"IF($J29=\"\",\"\",VLOOKUP($J29,'Reference Data - Transport fuel'!$C:$O,BA$4,FALSE))","v":""},{"$f":"IF($J29=\"\",\"\",VLOOKUP($J29,'Reference Data - Transport fuel'!$C:$O,BB$4,FALSE))","v":""},{"$f":"IF($J29=\"\",\"\",VLOOKUP($J29,'Reference Data - Transport fuel'!$C:$O,BC$4,FALSE))","v":""},null,{"$f":"IF($J29=\"\",\"\",VLOOKUP($J29,'Reference Data - Transport fuel'!$C:$O,BE$4,FALSE))","v":""},null,{"$f":"IF($J29=\"\",\"\",VLOOKUP($J29,'Reference Data - Transport fuel'!$C:$O,BG$4,FALSE))","v":""},null,"","","","","","","","",null,"",null,"","",null,""]
[null,null,null,null,null,null,null,null,null,null,null,null,null,null,null,{"$f":"IF($D30=\"\",\"\",VLOOKUP($D30,'Reference Data - Fuel EFs'!$C:$O,P$4,FALSE))","v":""},{"$f":"IF($D30=\"\",\"\",VLOOKUP($D30,'Reference Data - Fuel EFs'!$C:$O,Q$4,FALSE))","v":""},{"$f":"IF($D30=\"\",\"\",VLOOKUP($D30,'Reference Data - Fuel EFs'!$C:$O,R$4,FALSE))","v":""},{"$f":"IF($D30=\"\",\"\",VLOOKUP($D30,'Reference Data - Fuel EFs'!$C:$O,S$4,FALSE))","v":""},{"$f":"IF($D30=\"\",\"\",VLOOKUP($D30,'Reference Data - Fuel EFs'!$C:$O,T$4,FALSE))","v":""},{"$f":"IF($D30=\"\",\"\",VLOOKUP($D30,'Reference Data - Fuel EFs'!$C:$O,U$4,FALSE))","v":""},{"$f":"IF($D30=\"\",\"\",VLOOKUP($D30,'Reference Data - Fuel EFs'!$C:$O,V$4,FALSE))","v":""},{"$f":"IF($D30=\"\",\"\",VLOOKUP($D30,'Reference Data - Fuel EFs'!$C:$O,W$4,FALSE))","v":""},{"$f":"IF($D30=\"\",\"\",VLOOKUP($D30,'Reference Data - Fuel EFs'!$C:$O,X$4,FALSE))","v":""},null,{"$f":"IF($D30=\"\",\"\",VLOOKUP($D30,'Reference Data - Fuel EFs'!$C:$O,Z$4,FALSE))","v":""},null,{"$f":"IF($D30=\"\",\"\",VLOOKUP($D30,'Reference Data - Fuel EFs'!$C:$O,AB$4,FALSE))","v":""},null,"","","","","","","","","",null,"",null,"",null,null,{"$f":"INDEX('Dropdown menus'!$A$1:$D$6,MATCH($K30,'Dropdown menus'!$A$1:$A$6,0),$AS$6)","v":{"$error":"#N/A"}},null,{"$f":"IF($J30=\"\",\"\",VLOOKUP($J30,'Reference Data - Transport fuel'!$C:$O,AU$4,FALSE))","v":""},{"$f":"IF($J30=\"\",\"\",VLOOKUP($J30,'Reference Data - Transport fuel'!$C:$O,AV$4,FALSE))","v":""},{"$f":"IF($J30=\"\",\"\",VLOOKUP($J30,'Reference Data - Transport fuel'!$C:$O,AW$4,FALSE))","v":""},{"$f":"IF($J30=\"\",\"\",VLOOKUP($J30,'Reference Data - Transport fuel'!$C:$O,AX$4,FALSE))","v":""},{"$f":"IF($J30=\"\",\"\",VLOOKUP($J30,'Reference Data - Transport fuel'!$C:$O,AY$4,FALSE))","v":""},{"$f":"IF($J30=\"\",\"\",VLOOKUP($J30,'Reference Data - Transport fuel'!$C:$O,AZ$4,FALSE))","v":""},{"$f":"IF($J30=\"\",\"\",VLOOKUP($J30,'Reference Data - Transport fuel'!$C:$O,BA$4,FALSE))","v":""},{"$f":"IF($J30=\"\",\"\",VLOOKUP($J30,'Reference Data - Transport fuel'!$C:$O,BB$4,FALSE))","v":""},{"$f":"IF($J30=\"\",\"\",VLOOKUP($J30,'Reference Data - Transport fuel'!$C:$O,BC$4,FALSE))","v":""},null,{"$f":"IF($J30=\"\",\"\",VLOOKUP($J30,'Reference Data - Transport fuel'!$C:$O,BE$4,FALSE))","v":""},null,{"$f":"IF($J30=\"\",\"\",VLOOKUP($J30,'Reference Data - Transport fuel'!$C:$O,BG$4,FALSE))","v":""},null,"","","","","","","","",null,"",null,"","",null,""]
[null,null,null,null,null,null,null,null,null,null,null,null,null,null,null,{"$f":"IF($D31=\"\",\"\",VLOOKUP($D31,'Reference Data - Fuel EFs'!$C:$O,P$4,FALSE))","v":""},{"$f":"IF($D31=\"\",\"\",VLOOKUP($D31,'Reference Data - Fuel EFs'!$C:$O,Q$4,FALSE))","v":""},{"$f":"IF($D31=\"\",\"\",VLOOKUP($D31,'Reference Data - Fuel EFs'!$C:$O,R$4,FALSE))","v":""},{"$f":"IF($D31=\"\",\"\",VLOOKUP($D31,'Reference Data - Fuel EFs'!$C:$O,S$4,FALSE))","v":""},{"$f":"IF($D31=\"\",\"\",VLOOKUP($D31,'Reference Data - Fuel EFs'!$C:$O,T$4,FALSE))","v":""},{"$f":"IF($D31=\"\",\"\",VLOOKUP($D31,'Reference Data - Fuel EFs'!$C:$O,U$4,FALSE))","v":""},{"$f":"IF($D31=\"\",\"\",VLOOKUP($D31,'Reference Data - Fuel EFs'!$C:$O,V$4,FALSE))","v":""},{"$f":"IF($D31=\"\",\"\",VLOOKUP($D31,'Reference Data - Fuel EFs'!$C:$O,W$4,FALSE))","v":""},{"$f":"IF($D31=\"\",\"\",VLOOKUP($D31,'Reference Data - Fuel EFs'!$C:$O,X$4,FALSE))","v":""},null,{"$f":"IF($D31=\"\",\"\",VLOOKUP($D31,'Reference Data - Fuel EFs'!$C:$O,Z$4,FALSE))","v":""},null,{"$f":"IF($D31=\"\",\"\",VLOOKUP($D31,'Reference Data - Fuel EFs'!$C:$O,AB$4,FALSE))","v":""},null,"","","","","","","","","",null,"",null,"",null,null,{"$f":"INDEX('Dropdown menus'!$A$1:$D$6,MATCH($K31,'Dropdown menus'!$A$1:$A$6,0),$AS$6)","v":{"$error":"#N/A"}},null,{"$f":"IF($J31=\"\",\"\",VLOOKUP($J31,'Reference Data - Transport fuel'!$C:$O,AU$4,FALSE))","v":""},{"$f":"IF($J31=\"\",\"\",VLOOKUP($J31,'Reference Data - Transport fuel'!$C:$O,AV$4,FALSE))","v":""},{"$f":"IF($J31=\"\",\"\",VLOOKUP($J31,'Reference Data - Transport fuel'!$C:$O,AW$4,FALSE))","v":""},{"$f":"IF($J31=\"\",\"\",VLOOKUP($J31,'Reference Data - Transport fuel'!$C:$O,AX$4,FALSE))","v":""},{"$f":"IF($J31=\"\",\"\",VLOOKUP($J31,'Reference Data - Transport fuel'!$C:$O,AY$4,FALSE))","v":""},{"$f":"IF($J31=\"\",\"\",VLOOKUP($J31,'Reference Data - Transport fuel'!$C:$O,AZ$4,FALSE))","v":""},{"$f":"IF($J31=\"\",\"\",VLOOKUP($J31,'Reference Data - Transport fuel'!$C:$O,BA$4,FALSE))","v":""},{"$f":"IF($J31=\"\",\"\",VLOOKUP($J31,'Reference Data - Transport fuel'!$C:$O,BB$4,FALSE))","v":""},{"$f":"IF($J31=\"\",\"\",VLOOKUP($J31,'Reference Data - Transport fuel'!$C:$O,BC$4,FALSE))","v":""},null,{"$f":"IF($J31=\"\",\"\",VLOOKUP($J31,'Reference Data - Transport fuel'!$C:$O,BE$4,FALSE))","v":""},null,{"$f":"IF($J31=\"\",\"\",VLOOKUP($J31,'Reference Data - Transport fuel'!$C:$O,BG$4,FALSE))","v":""},null,"","","","","","","","",null,"",null,"","",null,""]
[null,null,null,null,null,null,null,null,null,null,null,null,null,null,null,{"$f":"IF($D32=\"\",\"\",VLOOKUP($D32,'Reference Data - Fuel EFs'!$C:$O,P$4,FALSE))","v":""},{"$f":"IF($D32=\"\",\"\",VLOOKUP($D32,'Reference Data - Fuel EFs'!$C:$O,Q$4,FALSE))","v":""},{"$f":"IF($D32=\"\",\"\",VLOOKUP($D32,'Reference Data - Fuel EFs'!$C:$O,R$4,FALSE))","v":""},{"$f":"IF($D32=\"\",\"\",VLOOKUP($D32,'Reference Data - Fuel EFs'!$C:$O,S$4,FALSE))","v":""},{"$f":"IF($D32=\"\",\"\",VLOOKUP($D32,'Reference Data - Fuel EFs'!$C:$O,T$4,FALSE))","v":""},{"$f":"IF($D32=\"\",\"\",VLOOKUP($D32,'Reference Data - Fuel EFs'!$C:$O,U$4,FALSE))","v":""},{"$f":"IF($D32=\"\",\"\",VLOOKUP($D32,'Reference Data - Fuel EFs'!$C:$O,V$4,FALSE))","v":""},{"$f":"IF($D32=\"\",\"\",VLOOKUP($D32,'Reference Data - Fuel EFs'!$C:$O,W$4,FALSE))","v":""},{"$f":"IF($D32=\"\",\"\",VLOOKUP($D32,'Reference Data - Fuel EFs'!$C:$O,X$4,FALSE))","v":""},null,{"$f":"IF($D32=\"\",\"\",VLOOKUP($D32,'Reference Data - Fuel EFs'!$C:$O,Z$4,FALSE))","v":""},null,{"$f":"IF($D32=\"\",\"\",VLOOKUP($D32,'Reference Data - Fuel EFs'!$C:$O,AB$4,FALSE))","v":""},null,"","","","","","","","","",null,"",null,"",null,null,{"$f":"INDEX('Dropdown menus'!$A$1:$D$6,MATCH($K32,'Dropdown menus'!$A$1:$A$6,0),$AS$6)","v":{"$error":"#N/A"}},null,{"$f":"IF($J32=\"\",\"\",VLOOKUP($J32,'Reference Data - Transport fuel'!$C:$O,AU$4,FALSE))","v":""},{"$f":"IF($J32=\"\",\"\",VLOOKUP($J32,'Reference Data - Transport fuel'!$C:$O,AV$4,FALSE))","v":""},{"$f":"IF($J32=\"\",\"\",VLOOKUP($J32,'Reference Data - Transport fuel'!$C:$O,AW$4,FALSE))","v":""},{"$f":"IF($J32=\"\",\"\",VLOOKUP($J32,'Reference Data - Transport fuel'!$C:$O,AX$4,FALSE))","v":""},{"$f":"IF($J32=\"\",\"\",VLOOKUP($J32,'Reference Data - Transport fuel'!$C:$O,AY$4,FALSE))","v":""},{"$f":"IF($J32=\"\",\"\",VLOOKUP($J32,'Reference Data - Transport fuel'!$C:$O,AZ$4,FALSE))","v":""},{"$f":"IF($J32=\"\",\"\",VLOOKUP($J32,'Reference Data - Transport fuel'!$C:$O,BA$4,FALSE))","v":""},{"$f":"IF($J32=\"\",\"\",VLOOKUP($J32,'Reference Data - Transport fuel'!$C:$O,BB$4,FALSE))","v":""},{"$f":"IF($J32=\"\",\"\",VLOOKUP($J32,'Reference Data - Transport fuel'!$C:$O,BC$4,FALSE))","v":""},null,{"$f":"IF($J32=\"\",\"\",VLOOKUP($J32,'Reference Data - Transport fuel'!$C:$O,BE$4,FALSE))","v":""},null,{"$f":"IF($J32=\"\",\"\",VLOOKUP($J32,'Reference Data - Transport fuel'!$C:$O,BG$4,FALSE))","v":""},null,"","","","","","","","",null,"",null,"","",null,""]
[null,null,null,null,null,null,null,null,null,null,null,null,null,null,null,{"$f":"IF($D33=\"\",\"\",VLOOKUP($D33,'Reference Data - Fuel EFs'!$C:$O,P$4,FALSE))","v":""},{"$f":"IF($D33=\"\",\"\",VLOOKUP($D33,'Reference Data - Fuel EFs'!$C:$O,Q$4,FALSE))","v":""},{"$f":"IF($D33=\"\",\"\",VLOOKUP($D33,'Reference Data - Fuel EFs'!$C:$O,R$4,FALSE))","v":""},{"$f":"IF($D33=\"\",\"\",VLOOKUP($D33,'Reference Data - Fuel EFs'!$C:$O,S$4,FALSE))","v":""},{"$f":"IF($D33=\"\",\"\",VLOOKUP($D33,'Reference Data - Fuel EFs'!$C:$O,T$4,FALSE))","v":""},{"$f":"IF($D33=\"\",\"\",VLOOKUP($D33,'Reference Data - Fuel EFs'!$C:$O,U$4,FALSE))","v":""},{"$f":"IF($D33=\"\",\"\",VLOOKUP($D33,'Reference Data - Fuel EFs'!$C:$O,V$4,FALSE))","v":""},{"$f":"IF($D33=\"\",\"\",VLOOKUP($D33,'Reference Data - Fuel EFs'!$C:$O,W$4,FALSE))","v":""},{"$f":"IF($D33=\"\",\"\",VLOOKUP($D33,'Reference Data - Fuel EFs'!$C:$O,X$4,FALSE))","v":""},null,{"$f":"IF($D33=\"\",\"\",VLOOKUP($D33,'Reference Data - Fuel EFs'!$C:$O,Z$4,FALSE))","v":""},null,{"$f":"IF($D33=\"\",\"\",VLOOKUP($D33,'Reference Data - Fuel EFs'!$C:$O,AB$4,FALSE))","v":""},null,"","","","","","","","","",null,"",null,"",null,null,{"$f":"INDEX('Dropdown menus'!$A$1:$D$6,MATCH($K33,'Dropdown menus'!$A$1:$A$6,0),$AS$6)","v":{"$error":"#N/A"}},null,{"$f":"IF($J33=\"\",\"\",VLOOKUP($J33,'Reference Data - Transport fuel'!$C:$O,AU$4,FALSE))","v":""},{"$f":"IF($J33=\"\",\"\",VLOOKUP($J33,'Reference Data - Transport fuel'!$C:$O,AV$4,FALSE))","v":""},{"$f":"IF($J33=\"\",\"\",VLOOKUP($J33,'Reference Data - Transport fuel'!$C:$O,AW$4,FALSE))","v":""},{"$f":"IF($J33=\"\",\"\",VLOOKUP($J33,'Reference Data - Transport fuel'!$C:$O,AX$4,FALSE))","v":""},{"$f":"IF($J33=\"\",\"\",VLOOKUP($J33,'Reference Data - Transport fuel'!$C:$O,AY$4,FALSE))","v":""},{"$f":"IF($J33=\"\",\"\",VLOOKUP($J33,'Reference Data - Transport fuel'!$C:$O,AZ$4,FALSE))","v":""},{"$f":"IF($J33=\"\",\"\",VLOOKUP($J33,'Reference Data - Transport fuel'!$C:$O,BA$4,FALSE))","v":""},{"$f":"IF($J33=\"\",\"\",VLOOKUP($J33,'Reference Data - Transport fuel'!$C:$O,BB$4,FALSE))","v":""},{"$f":"IF($J33=\"\",\"\",VLOOKUP($J33,'Reference Data - Transport fuel'!$C:$O,BC$4,FALSE))","v":""},null,{"$f":"IF($J33=\"\",\"\",VLOOKUP($J33,'Reference Data - Transport fuel'!$C:$O,BE$4,FALSE))","v":""},null,{"$f":"IF($J33=\"\",\"\",VLOOKUP($J33,'Reference Data - Transport fuel'!$C:$O,BG$4,FALSE))","v":""},null,"","","","","","","","",null,"",null,"","",null,""]
[null,null,null,null,null,null,null,null,null,null,null,null,null,null,null,{"$f":"IF($D34=\"\",\"\",VLOOKUP($D34,'Reference Data - Fuel EFs'!$C:$O,P$4,FALSE))","v":""},{"$f":"IF($D34=\"\",\"\",VLOOKUP($D34,'Reference Data - Fuel EFs'!$C:$O,Q$4,FALSE))","v":""},{"$f":"IF($D34=\"\",\"\",VLOOKUP($D34,'Reference Data - Fuel EFs'!$C:$O,R$4,FALSE))","v":""},{"$f":"IF($D34=\"\",\"\",VLOOKUP($D34,'Reference Data - Fuel EFs'!$C:$O,S$4,FALSE))","v":""},{"$f":"IF($D34=\"\",\"\",VLOOKUP($D34,'Reference Data - Fuel EFs'!$C:$O,T$4,FALSE))","v":""},{"$f":"IF($D34=\"\",\"\",VLOOKUP($D34,'Reference Data - Fuel EFs'!$C:$O,U$4,FALSE))","v":""},{"$f":"IF($D34=\"\",\"\",VLOOKUP($D34,'Reference Data - Fuel EFs'!$C:$O,V$4,FALSE))","v":""},{"$f":"IF($D34=\"\",\"\",VLOOKUP($D34,'Reference Data - Fuel EFs'!$C:$O,W$4,FALSE))","v":""},{"$f":"IF($D34=\"\",\"\",VLOOKUP($D34,'Reference Data - Fuel EFs'!$C:$O,X$4,FALSE))","v":""},null,{"$f":"IF($D34=\"\",\"\",VLOOKUP($D34,'Reference Data - Fuel EFs'!$C:$O,Z$4,FALSE))","v":""},null,{"$f":"IF($D34=\"\",\"\",VLOOKUP($D34,'Reference Data - Fuel EFs'!$C:$O,AB$4,FALSE))","v":""},null,"","","","","","","","","",null,"",null,"",null,null,{"$f":"INDEX('Dropdown menus'!$A$1:$D$6,MATCH($K34,'Dropdown menus'!$A$1:$A$6,0),$AS$6)","v":{"$error":"#N/A"}},null,{"$f":"IF($J34=\"\",\"\",VLOOKUP($J34,'Reference Data - Transport fuel'!$C:$O,AU$4,FALSE))","v":""},{"$f":"IF($J34=\"\",\"\",VLOOKUP($J34,'Reference Data - Transport fuel'!$C:$O,AV$4,FALSE))","v":""},{"$f":"IF($J34=\"\",\"\",VLOOKUP($J34,'Reference Data - Transport fuel'!$C:$O,AW$4,FALSE))","v":""},{"$f":"IF($J34=\"\",\"\",VLOOKUP($J34,'Reference Data - Transport fuel'!$C:$O,AX$4,FALSE))","v":""},{"$f":"IF($J34=\"\",\"\",VLOOKUP($J34,'Reference Data - Transport fuel'!$C:$O,AY$4,FALSE))","v":""},{"$f":"IF($J34=\"\",\"\",VLOOKUP($J34,'Reference Data - Transport fuel'!$C:$O,AZ$4,FALSE))","v":""},{"$f":"IF($J34=\"\",\"\",VLOOKUP($J34,'Reference Data - Transport fuel'!$C:$O,BA$4,FALSE))","v":""},{"$f":"IF($J34=\"\",\"\",VLOOKUP($J34,'Reference Data - Transport fuel'!$C:$O,BB$4,FALSE))","v":""},{"$f":"IF($J34=\"\",\"\",VLOOKUP($J34,'Reference Data - Transport fuel'!$C:$O,BC$4,FALSE))","v":""},null,{"$f":"IF($J34=\"\",\"\",VLOOKUP($J34,'Reference Data - Transport fuel'!$C:$O,BE$4,FALSE))","v":""},null,{"$f":"IF($J34=\"\",\"\",VLOOKUP($J34,'Reference Data - Transport fuel'!$C:$O,BG$4,FALSE))","v":""},null,"","","","","","","","",null,"",null,"","",null,""]
[null,null,null,null,null,null,null,null,null,null,null,null,null,null,null,{"$f":"IF($D35=\"\",\"\",VLOOKUP($D35,'Reference Data - Fuel EFs'!$C:$O,P$4,FALSE))","v":""},{"$f":"IF($D35=\"\",\"\",VLOOKUP($D35,'Reference Data - Fuel EFs'!$C:$O,Q$4,FALSE))","v":""},{"$f":"IF($D35=\"\",\"\",VLOOKUP($D35,'Reference Data - Fuel EFs'!$C:$O,R$4,FALSE))","v":""},{"$f":"IF($D35=\"\",\"\",VLOOKUP($D35,'Reference Data - Fuel EFs'!$C:$O,S$4,FALSE))","v":""},{"$f":"IF($D35=\"\",\"\",VLOOKUP($D35,'Reference Data - Fuel EFs'!$C:$O,T$4,FALSE))","v":""},{"$f":"IF($D35=\"\",\"\",VLOOKUP($D35,'Reference Data - Fuel EFs'!$C:$O,U$4,FALSE))","v":""},{"$f":"IF($D35=\"\",\"\",VLOOKUP($D35,'Reference Data - Fuel EFs'!$C:$O,V$4,FALSE))","v":""},{"$f":"IF($D35=\"\",\"\",VLOOKUP($D35,'Reference Data - Fuel EFs'!$C:$O,W$4,FALSE))","v":""},{"$f":"IF($D35=\"\",\"\",VLOOKUP($D35,'Reference Data - Fuel EFs'!$C:$O,X$4,FALSE))","v":""},null,{"$f":"IF($D35=\"\",\"\",VLOOKUP($D35,'Reference Data - Fuel EFs'!$C:$O,Z$4,FALSE))","v":""},null,{"$f":"IF($D35=\"\",\"\",VLOOKUP($D35,'Reference Data - Fuel EFs'!$C:$O,AB$4,FALSE))","v":""},null,"","","","","","","","","",null,"",null,"",null,null,{"$f":"INDEX('Dropdown menus'!$A$1:$D$6,MATCH($K35,'Dropdown menus'!$A$1:$A$6,0),$AS$6)","v":{"$error":"#N/A"}},null,{"$f":"IF($J35=\"\",\"\",VLOOKUP($J35,'Reference Data - Transport fuel'!$C:$O,AU$4,FALSE))","v":""},{"$f":"IF($J35=\"\",\"\",VLOOKUP($J35,'Reference Data - Transport fuel'!$C:$O,AV$4,FALSE))","v":""},{"$f":"IF($J35=\"\",\"\",VLOOKUP($J35,'Reference Data - Transport fuel'!$C:$O,AW$4,FALSE))","v":""},{"$f":"IF($J35=\"\",\"\",VLOOKUP($J35,'Reference Data - Transport fuel'!$C:$O,AX$4,FALSE))","v":""},{"$f":"IF($J35=\"\",\"\",VLOOKUP($J35,'Reference Data - Transport fuel'!$C:$O,AY$4,FALSE))","v":""},{"$f":"IF($J35=\"\",\"\",VLOOKUP($J35,'Reference Data - Transport fuel'!$C:$O,AZ$4,FALSE))","v":""},{"$f":"IF($J35=\"\",\"\",VLOOKUP($J35,'Reference Data - Transport fuel'!$C:$O,BA$4,FALSE))","v":""},{"$f":"IF($J35=\"\",\"\",VLOOKUP($J35,'Reference Data - Transport fuel'!$C:$O,BB$4,FALSE))","v":""},{"$f":"IF($J35=\"\",\"\",VLOOKUP($J35,'Reference Data - Transport fuel'!$C:$O,BC$4,FALSE))","v":""},null,{"$f":"IF($J35=\"\",\"\",VLOOKUP($J35,'Reference Data - Transport fuel'!$C:$O,BE$4,FALSE))","v":""},null,{"$f":"IF($J35=\"\",\"\",VLOOKUP($J35,'Reference Data - Transport fuel'!$C:$O,BG$4,FALSE))","v":""},null,"","","","","","","","",null,"",null,"","",null,""]
[null,null,null,null,null,null,null,null,null,null,null,null,null,null,null,{"$f":"IF($D36=\"\",\"\",VLOOKUP($D36,'Reference Data - Fuel EFs'!$C:$O,P$4,FALSE))","v":""},{"$f":"IF($D36=\"\",\"\",VLOOKUP($D36,'Reference Data - Fuel EFs'!$C:$O,Q$4,FALSE))","v":""},{"$f":"IF($D36=\"\",\"\",VLOOKUP($D36,'Reference Data - Fuel EFs'!$C:$O,R$4,FALSE))","v":""},{"$f":"IF($D36=\"\",\"\",VLOOKUP($D36,'Reference Data - Fuel EFs'!$C:$O,S$4,FALSE))","v":""},{"$f":"IF($D36=\"\",\"\",VLOOKUP($D36,'Reference Data - Fuel EFs'!$C:$O,T$4,FALSE))","v":""},{"$f":"IF($D36=\"\",\"\",VLOOKUP($D36,'Reference Data - Fuel EFs'!$C:$O,U$4,FALSE))","v":""},{"$f":"IF($D36=\"\",\"\",VLOOKUP($D36,'Reference Data - Fuel EFs'!$C:$O,V$4,FALSE))","v":""},{"$f":"IF($D36=\"\",\"\",VLOOKUP($D36,'Reference Data - Fuel EFs'!$C:$O,W$4,FALSE))","v":""},{"$f":"IF($D36=\"\",\"\",VLOOKUP($D36,'Reference Data - Fuel EFs'!$C:$O,X$4,FALSE))","v":""},null,{"$f":"IF($D36=\"\",\"\",VLOOKUP($D36,'Reference Data - Fuel EFs'!$C:$O,Z$4,FALSE))","v":""},null,{"$f":"IF($D36=\"\",\"\",VLOOKUP($D36,'Reference Data - Fuel EFs'!$C:$O,AB$4,FALSE))","v":""},null,"","","","","","","","","",null,"",null,"",null,null,{"$f":"INDEX('Dropdown menus'!$A$1:$D$6,MATCH($K36,'Dropdown menus'!$A$1:$A$6,0),$AS$6)","v":{"$error":"#N/A"}},null,{"$f":"IF($J36=\"\",\"\",VLOOKUP($J36,'Reference Data - Transport fuel'!$C:$O,AU$4,FALSE))","v":""},{"$f":"IF($J36=\"\",\"\",VLOOKUP($J36,'Reference Data - Transport fuel'!$C:$O,AV$4,FALSE))","v":""},{"$f":"IF($J36=\"\",\"\",VLOOKUP($J36,'Reference Data - Transport fuel'!$C:$O,AW$4,FALSE))","v":""},{"$f":"IF($J36=\"\",\"\",VLOOKUP($J36,'Reference Data - Transport fuel'!$C:$O,AX$4,FALSE))","v":""},{"$f":"IF($J36=\"\",\"\",VLOOKUP($J36,'Reference Data - Transport fuel'!$C:$O,AY$4,FALSE))","v":""},{"$f":"IF($J36=\"\",\"\",VLOOKUP($J36,'Reference Data - Transport fuel'!$C:$O,AZ$4,FALSE))","v":""},{"$f":"IF($J36=\"\",\"\",VLOOKUP($J36,'Reference Data - Transport fuel'!$C:$O,BA$4,FALSE))","v":""},{"$f":"IF($J36=\"\",\"\",VLOOKUP($J36,'Reference Data - Transport fuel'!$C:$O,BB$4,FALSE))","v":""},{"$f":"IF($J36=\"\",\"\",VLOOKUP($J36,'Reference Data - Transport fuel'!$C:$O,BC$4,FALSE))","v":""},null,{"$f":"IF($J36=\"\",\"\",VLOOKUP($J36,'Reference Data - Transport fuel'!$C:$O,BE$4,FALSE))","v":""},null,{"$f":"IF($J36=\"\",\"\",VLOOKUP($J36,'Reference Data - Transport fuel'!$C:$O,BG$4,FALSE))","v":""},null,"","","","","","","","",null,"",null,"","",null,""]
[null,null,null,null,null,null,null,null,null,null,null,null,null,null,null,{"$f":"IF($D37=\"\",\"\",VLOOKUP($D37,'Reference Data - Fuel EFs'!$C:$O,P$4,FALSE))","v":""},{"$f":"IF($D37=\"\",\"\",VLOOKUP($D37,'Reference Data - Fuel EFs'!$C:$O,Q$4,FALSE))","v":""},{"$f":"IF($D37=\"\",\"\",VLOOKUP($D37,'Reference Data - Fuel EFs'!$C:$O,R$4,FALSE))","v":""},{"$f":"IF($D37=\"\",\"\",VLOOKUP($D37,'Reference Data - Fuel EFs'!$C:$O,S$4,FALSE))","v":""},{"$f":"IF($D37=\"\",\"\",VLOOKUP($D37,'Reference Data - Fuel EFs'!$C:$O,T$4,FALSE))","v":""},{"$f":"IF($D37=\"\",\"\",VLOOKUP($D37,'Reference Data - Fuel EFs'!$C:$O,U$4,FALSE))","v":""},{"$f":"IF($D37=\"\",\"\",VLOOKUP($D37,'Reference Data - Fuel EFs'!$C:$O,V$4,FALSE))","v":""},{"$f":"IF($D37=\"\",\"\",VLOOKUP($D37,'Reference Data - Fuel EFs'!$C:$O,W$4,FALSE))","v":""},{"$f":"IF($D37=\"\",\"\",VLOOKUP($D37,'Reference Data - Fuel EFs'!$C:$O,X$4,FALSE))","v":""},null,{"$f":"IF($D37=\"\",\"\",VLOOKUP($D37,'Reference Data - Fuel EFs'!$C:$O,Z$4,FALSE))","v":""},null,{"$f":"IF($D37=\"\",\"\",VLOOKUP($D37,'Reference Data - Fuel EFs'!$C:$O,AB$4,FALSE))","v":""},null,"","","","","","","","","",null,"",null,"",null,null,{"$f":"INDEX('Dropdown menus'!$A$1:$D$6,MATCH($K37,'Dropdown menus'!$A$1:$A$6,0),$AS$6)","v":{"$error":"#N/A"}},null,{"$f":"IF($J37=\"\",\"\",VLOOKUP($J37,'Reference Data - Transport fuel'!$C:$O,AU$4,FALSE))","v":""},{"$f":"IF($J37=\"\",\"\",VLOOKUP($J37,'Reference Data - Transport fuel'!$C:$O,AV$4,FALSE))","v":""},{"$f":"IF($J37=\"\",\"\",VLOOKUP($J37,'Reference Data - Transport fuel'!$C:$O,AW$4,FALSE))","v":""},{"$f":"IF($J37=\"\",\"\",VLOOKUP($J37,'Reference Data - Transport fuel'!$C:$O,AX$4,FALSE))","v":""},{"$f":"IF($J37=\"\",\"\",VLOOKUP($J37,'Reference Data - Transport fuel'!$C:$O,AY$4,FALSE))","v":""},{"$f":"IF($J37=\"\",\"\",VLOOKUP($J37,'Reference Data - Transport fuel'!$C:$O,AZ$4,FALSE))","v":""},{"$f":"IF($J37=\"\",\"\",VLOOKUP($J37,'Reference Data - Transport fuel'!$C:$O,BA$4,FALSE))","v":""},{"$f":"IF($J37=\"\",\"\",VLOOKUP($J37,'Reference Data - Transport fuel'!$C:$O,BB$4,FALSE))","v":""},{"$f":"IF($J37=\"\",\"\",VLOOKUP($J37,'Reference Data - Transport fuel'!$C:$O,BC$4,FALSE))","v":""},null,{"$f":"IF($J37=\"\",\"\",VLOOKUP($J37,'Reference Data - Transport fuel'!$C:$O,BE$4,FALSE))","v":""},null,{"$f":"IF($J37=\"\",\"\",VLOOKUP($J37,'Reference Data - Transport fuel'!$C:$O,BG$4,FALSE))","v":""},null,"","","","","","","","",null,"",null,"","",null,""]
[null,null,null,null,null,null,null,null,null,null,null,null,null,null,null,{"$f":"IF($D38=\"\",\"\",VLOOKUP($D38,'Reference Data - Fuel EFs'!$C:$O,P$4,FALSE))","v":""},{"$f":"IF($D38=\"\",\"\",VLOOKUP($D38,'Reference Data - Fuel EFs'!$C:$O,Q$4,FALSE))","v":""},{"$f":"IF($D38=\"\",\"\",VLOOKUP($D38,'Reference Data - Fuel EFs'!$C:$O,R$4,FALSE))","v":""},{"$f":"IF($D38=\"\",\"\",VLOOKUP($D38,'Reference Data - Fuel EFs'!$C:$O,S$4,FALSE))","v":""},{"$f":"IF($D38=\"\",\"\",VLOOKUP($D38,'Reference Data - Fuel EFs'!$C:$O,T$4,FALSE))","v":""},{"$f":"IF($D38=\"\",\"\",VLOOKUP($D38,'Reference Data - Fuel EFs'!$C:$O,U$4,FALSE))","v":""},{"$f":"IF($D38=\"\",\"\",VLOOKUP($D38,'Reference Data - Fuel EFs'!$C:$O,V$4,FALSE))","v":""},{"$f":"IF($D38=\"\",\"\",VLOOKUP($D38,'Reference Data - Fuel EFs'!$C:$O,W$4,FALSE))","v":""},{"$f":"IF($D38=\"\",\"\",VLOOKUP($D38,'Reference Data - Fuel EFs'!$C:$O,X$4,FALSE))","v":""},null,{"$f":"IF($D38=\"\",\"\",VLOOKUP($D38,'Reference Data - Fuel EFs'!$C:$O,Z$4,FALSE))","v":""},null,{"$f":"IF($D38=\"\",\"\",VLOOKUP($D38,'Reference Data - Fuel EFs'!$C:$O,AB$4,FALSE))","v":""},null,"","","","","","","","","",null,"",null,"",null,null,{"$f":"INDEX('Dropdown menus'!$A$1:$D$6,MATCH($K38,'Dropdown menus'!$A$1:$A$6,0),$AS$6)","v":{"$error":"#N/A"}},null,{"$f":"IF($J38=\"\",\"\",VLOOKUP($J38,'Reference Data - Transport fuel'!$C:$O,AU$4,FALSE))","v":""},{"$f":"IF($J38=\"\",\"\",VLOOKUP($J38,'Reference Data - Transport fuel'!$C:$O,AV$4,FALSE))","v":""},{"$f":"IF($J38=\"\",\"\",VLOOKUP($J38,'Reference Data - Transport fuel'!$C:$O,AW$4,FALSE))","v":""},{"$f":"IF($J38=\"\",\"\",VLOOKUP($J38,'Reference Data - Transport fuel'!$C:$O,AX$4,FALSE))","v":""},{"$f":"IF($J38=\"\",\"\",VLOOKUP($J38,'Reference Data - Transport fuel'!$C:$O,AY$4,FALSE))","v":""},{"$f":"IF($J38=\"\",\"\",VLOOKUP($J38,'Reference Data - Transport fuel'!$C:$O,AZ$4,FALSE))","v":""},{"$f":"IF($J38=\"\",\"\",VLOOKUP($J38,'Reference Data - Transport fuel'!$C:$O,BA$4,FALSE))","v":""},{"$f":"IF($J38=\"\",\"\",VLOOKUP($J38,'Reference Data - Transport fuel'!$C:$O,BB$4,FALSE))","v":""},{"$f":"IF($J38=\"\",\"\",VLOOKUP($J38,'Reference Data - Transport fuel'!$C:$O,BC$4,FALSE))","v":""},null,{"$f":"IF($J38=\"\",\"\",VLOOKUP($J38,'Reference Data - Transport fuel'!$C:$O,BE$4,FALSE))","v":""},null,{"$f":"IF($J38=\"\",\"\",VLOOKUP($J38,'Reference Data - Transport fuel'!$C:$O,BG$4,FALSE))","v":""},null,"","","","","","","","",null,"",null,"","",null,""]
[null,null,null,null,null,null,null,null,null,null,null,null,null,null,null,{"$f":"IF($D39=\"\",\"\",VLOOKUP($D39,'Reference Data - Fuel EFs'!$C:$O,P$4,FALSE))","v":""},{"$f":"IF($D39=\"\",\"\",VLOOKUP($D39,'Reference Data - Fuel EFs'!$C:$O,Q$4,FALSE))","v":""},{"$f":"IF($D39=\"\",\"\",VLOOKUP($D39,'Reference Data - Fuel EFs'!$C:$O,R$4,FALSE))","v":""},{"$f":"IF($D39=\"\",\"\",VLOOKUP($D39,'Reference Data - Fuel EFs'!$C:$O,S$4,FALSE))","v":""},{"$f":"IF($D39=\"\",\"\",VLOOKUP($D39,'Reference Data - Fuel EFs'!$C:$O,T$4,FALSE))","v":""},{"$f":"IF($D39=\"\",\"\",VLOOKUP($D39,'Reference Data - Fuel EFs'!$C:$O,U$4,FALSE))","v":""},{"$f":"IF($D39=\"\",\"\",VLOOKUP($D39,'Reference Data - Fuel EFs'!$C:$O,V$4,FALSE))","v":""},{"$f":"IF($D39=\"\",\"\",VLOOKUP($D39,'Reference Data - Fuel EFs'!$C:$O,W$4,FALSE))","v":""},{"$f":"IF($D39=\"\",\"\",VLOOKUP($D39,'Reference Data - Fuel EFs'!$C:$O,X$4,FALSE))","v":""},null,{"$f":"IF($D39=\"\",\"\",VLOOKUP($D39,'Reference Data - Fuel EFs'!$C:$O,Z$4,FALSE))","v":""},null,{"$f":"IF($D39=\"\",\"\",VLOOKUP($D39,'Reference Data - Fuel EFs'!$C:$O,AB$4,FALSE))","v":""},null,"","","","","","","","","",null,"",null,"",null,null,{"$f":"INDEX('Dropdown menus'!$A$1:$D$6,MATCH($K39,'Dropdown menus'!$A$1:$A$6,0),$AS$6)","v":{"$error":"#N/A"}},null,{"$f":"IF($J39=\"\",\"\",VLOOKUP($J39,'Reference Data - Transport fuel'!$C:$O,AU$4,FALSE))","v":""},{"$f":"IF($J39=\"\",\"\",VLOOKUP($J39,'Reference Data - Transport fuel'!$C:$O,AV$4,FALSE))","v":""},{"$f":"IF($J39=\"\",\"\",VLOOKUP($J39,'Reference Data - Transport fuel'!$C:$O,AW$4,FALSE))","v":""},{"$f":"IF($J39=\"\",\"\",VLOOKUP($J39,'Reference Data - Transport fuel'!$C:$O,AX$4,FALSE))","v":""},{"$f":"IF($J39=\"\",\"\",VLOOKUP($J39,'Reference Data - Transport fuel'!$C:$O,AY$4,FALSE))","v":""},{"$f":"IF($J39=\"\",\"\",VLOOKUP($J39,'Reference Data - Transport fuel'!$C:$O,AZ$4,FALSE))","v":""},{"$f":"IF($J39=\"\",\"\",VLOOKUP($J39,'Reference Data - Transport fuel'!$C:$O,BA$4,FALSE))","v":""},{"$f":"IF($J39=\"\",\"\",VLOOKUP($J39,'Reference Data - Transport fuel'!$C:$O,BB$4,FALSE))","v":""},{"$f":"IF($J39=\"\",\"\",VLOOKUP($J39,'Reference Data - Transport fuel'!$C:$O,BC$4,FALSE))","v":""},null,{"$f":"IF($J39=\"\",\"\",VLOOKUP($J39,'Reference Data - Transport fuel'!$C:$O,BE$4,FALSE))","v":""},null,{"$f":"IF($J39=\"\",\"\",VLOOKUP($J39,'Reference Data - Transport fuel'!$C:$O,BG$4,FALSE))","v":""},null,"","","","","","","","",null,"",null,"","",null,""]
[null,null,null,null,null,null,null,null,null,null,null,null,null,null,null,{"$f":"IF($D40=\"\",\"\",VLOOKUP($D40,'Reference Data - Fuel EFs'!$C:$O,P$4,FALSE))","v":""},{"$f":"IF($D40=\"\",\"\",VLOOKUP($D40,'Reference Data - Fuel EFs'!$C:$O,Q$4,FALSE))","v":""},{"$f":"IF($D40=\"\",\"\",VLOOKUP($D40,'Reference Data - Fuel EFs'!$C:$O,R$4,FALSE))","v":""},{"$f":"IF($D40=\"\",\"\",VLOOKUP($D40,'Reference Data - Fuel EFs'!$C:$O,S$4,FALSE))","v":""},{"$f":"IF($D40=\"\",\"\",VLOOKUP($D40,'Reference Data - Fuel EFs'!$C:$O,T$4,FALSE))","v":""},{"$f":"IF($D40=\"\",\"\",VLOOKUP($D40,'Reference Data - Fuel EFs'!$C:$O,U$4,FALSE))","v":""},{"$f":"IF($D40=\"\",\"\",VLOOKUP($D40,'Reference Data - Fuel EFs'!$C:$O,V$4,FALSE))","v":""},{"$f":"IF($D40=\"\",\"\",VLOOKUP($D40,'Reference Data - Fuel EFs'!$C:$O,W$4,FALSE))","v":""},{"$f":"IF($D40=\"\",\"\",VLOOKUP($D40,'Reference Data - Fuel EFs'!$C:$O,X$4,FALSE))","v":""},null,{"$f":"IF($D40=\"\",\"\",VLOOKUP($D40,'Reference Data - Fuel EFs'!$C:$O,Z$4,FALSE))","v":""},null,{"$f":"IF($D40=\"\",\"\",VLOOKUP($D40,'Reference Data - Fuel EFs'!$C:$O,AB$4,FALSE))","v":""},null,"","","","","","","","","",null,"",null,"",null,null,{"$f":"INDEX('Dropdown menus'!$A$1:$D$6,MATCH($K40,'Dropdown menus'!$A$1:$A$6,0),$AS$6)","v":{"$error":"#N/A"}},null,{"$f":"IF($J40=\"\",\"\",VLOOKUP($J40,'Reference Data - Transport fuel'!$C:$O,AU$4,FALSE))","v":""},{"$f":"IF($J40=\"\",\"\",VLOOKUP($J40,'Reference Data - Transport fuel'!$C:$O,AV$4,FALSE))","v":""},{"$f":"IF($J40=\"\",\"\",VLOOKUP($J40,'Reference Data - Transport fuel'!$C:$O,AW$4,FALSE))","v":""},{"$f":"IF($J40=\"\",\"\",VLOOKUP($J40,'Reference Data - Transport fuel'!$C:$O,AX$4,FALSE))","v":""},{"$f":"IF($J40=\"\",\"\",VLOOKUP($J40,'Reference Data - Transport fuel'!$C:$O,AY$4,FALSE))","v":""},{"$f":"IF($J40=\"\",\"\",VLOOKUP($J40,'Reference Data - Transport fuel'!$C:$O,AZ$4,FALSE))","v":""},{"$f":"IF($J40=\"\",\"\",VLOOKUP($J40,'Reference Data - Transport fuel'!$C:$O,BA$4,FALSE))","v":""},{"$f":"IF($J40=\"\",\"\",VLOOKUP($J40,'Reference Data - Transport fuel'!$C:$O,BB$4,FALSE))","v":""},{"$f":"IF($J40=\"\",\"\",VLOOKUP($J40,'Reference Data - Transport fuel'!$C:$O,BC$4,FALSE))","v":""},null,{"$f":"IF($J40=\"\",\"\",VLOOKUP($J40,'Reference Data - Transport fuel'!$C:$O,BE$4,FALSE))","v":""},null,{"$f":"IF($J40=\"\",\"\",VLOOKUP($J40,'Reference Data - Transport fuel'!$C:$O,BG$4,FALSE))","v":""},null,"","","","","","","","",null,"",null,"","",null,""]
[null,null,null,null,null,null,null,null,null,null,null,null,null,null,null,{"$f":"IF($D41=\"\",\"\",VLOOKUP($D41,'Reference Data - Fuel EFs'!$C:$O,P$4,FALSE))","v":""},{"$f":"IF($D41=\"\",\"\",VLOOKUP($D41,'Reference Data - Fuel EFs'!$C:$O,Q$4,FALSE))","v":""},{"$f":"IF($D41=\"\",\"\",VLOOKUP($D41,'Reference Data - Fuel EFs'!$C:$O,R$4,FALSE))","v":""},{"$f":"IF($D41=\"\",\"\",VLOOKUP($D41,'Reference Data - Fuel EFs'!$C:$O,S$4,FALSE))","v":""},{"$f":"IF($D41=\"\",\"\",VLOOKUP($D41,'Reference Data - Fuel EFs'!$C:$O,T$4,FALSE))","v":""},{"$f":"IF($D41=\"\",\"\",VLOOKUP($D41,'Reference Data - Fuel EFs'!$C:$O,U$4,FALSE))","v":""},{"$f":"IF($D41=\"\",\"\",VLOOKUP($D41,'Reference Data - Fuel EFs'!$C:$O,V$4,FALSE))","v":""},{"$f":"IF($D41=\"\",\"\",VLOOKUP($D41,'Reference Data - Fuel EFs'!$C:$O,W$4,FALSE))","v":""},{"$f":"IF($D41=\"\",\"\",VLOOKUP($D41,'Reference Data - Fuel EFs'!$C:$O,X$4,FALSE))","v":""},null,{"$f":"IF($D41=\"\",\"\",VLOOKUP($D41,'Reference Data - Fuel EFs'!$C:$O,Z$4,FALSE))","v":""},null,{"$f":"IF($D41=\"\",\"\",VLOOKUP($D41,'Reference Data - Fuel EFs'!$C:$O,AB$4,FALSE))","v":""},null,"","","","","","","","","",null,"",null,"",null,null,{"$f":"INDEX('Dropdown menus'!$A$1:$D$6,MATCH($K41,'Dropdown menus'!$A$1:$A$6,0),$AS$6)","v":{"$error":"#N/A"}},null,{"$f":"IF($J41=\"\",\"\",VLOOKUP($J41,'Reference Data - Transport fuel'!$C:$O,AU$4,FALSE))","v":""},{"$f":"IF($J41=\"\",\"\",VLOOKUP($J41,'Reference Data - Transport fuel'!$C:$O,AV$4,FALSE))","v":""},{"$f":"IF($J41=\"\",\"\",VLOOKUP($J41,'Reference Data - Transport fuel'!$C:$O,AW$4,FALSE))","v":""},{"$f":"IF($J41=\"\",\"\",VLOOKUP($J41,'Reference Data - Transport fuel'!$C:$O,AX$4,FALSE))","v":""},{"$f":"IF($J41=\"\",\"\",VLOOKUP($J41,'Reference Data - Transport fuel'!$C:$O,AY$4,FALSE))","v":""},{"$f":"IF($J41=\"\",\"\",VLOOKUP($J41,'Reference Data - Transport fuel'!$C:$O,AZ$4,FALSE))","v":""},{"$f":"IF($J41=\"\",\"\",VLOOKUP($J41,'Reference Data - Transport fuel'!$C:$O,BA$4,FALSE))","v":""},{"$f":"IF($J41=\"\",\"\",VLOOKUP($J41,'Reference Data - Transport fuel'!$C:$O,BB$4,FALSE))","v":""},{"$f":"IF($J41=\"\",\"\",VLOOKUP($J41,'Reference Data - Transport fuel'!$C:$O,BC$4,FALSE))","v":""},null,{"$f":"IF($J41=\"\",\"\",VLOOKUP($J41,'Reference Data - Transport fuel'!$C:$O,BE$4,FALSE))","v":""},null,{"$f":"IF($J41=\"\",\"\",VLOOKUP($J41,'Reference Data - Transport fuel'!$C:$O,BG$4,FALSE))","v":""},null,"","","","","","","","",null,"",null,"","",null,""]
[null,null,null,null,null,null,null,null,null,null,null,null,null,null,null,{"$f":"IF($D42=\"\",\"\",VLOOKUP($D42,'Reference Data - Fuel EFs'!$C:$O,P$4,FALSE))","v":""},{"$f":"IF($D42=\"\",\"\",VLOOKUP($D42,'Reference Data - Fuel EFs'!$C:$O,Q$4,FALSE))","v":""},{"$f":"IF($D42=\"\",\"\",VLOOKUP($D42,'Reference Data - Fuel EFs'!$C:$O,R$4,FALSE))","v":""},{"$f":"IF($D42=\"\",\"\",VLOOKUP($D42,'Reference Data - Fuel EFs'!$C:$O,S$4,FALSE))","v":""},{"$f":"IF($D42=\"\",\"\",VLOOKUP($D42,'Reference Data - Fuel EFs'!$C:$O,T$4,FALSE))","v":""},{"$f":"IF($D42=\"\",\"\",VLOOKUP($D42,'Reference Data - Fuel EFs'!$C:$O,U$4,FALSE))","v":""},{"$f":"IF($D42=\"\",\"\",VLOOKUP($D42,'Reference Data - Fuel EFs'!$C:$O,V$4,FALSE))","v":""},{"$f":"IF($D42=\"\",\"\",VLOOKUP($D42,'Reference Data - Fuel EFs'!$C:$O,W$4,FALSE))","v":""},{"$f":"IF($D42=\"\",\"\",VLOOKUP($D42,'Reference Data - Fuel EFs'!$C:$O,X$4,FALSE))","v":""},null,{"$f":"IF($D42=\"\",\"\",VLOOKUP($D42,'Reference Data - Fuel EFs'!$C:$O,Z$4,FALSE))","v":""},null,{"$f":"IF($D42=\"\",\"\",VLOOKUP($D42,'Reference Data - Fuel EFs'!$C:$O,AB$4,FALSE))","v":""},null,"","","","","","","","","",null,"",null,"",null,null,{"$f":"INDEX('Dropdown menus'!$A$1:$D$6,MATCH($K42,'Dropdown menus'!$A$1:$A$6,0),$AS$6)","v":{"$error":"#N/A"}},null,{"$f":"IF($J42=\"\",\"\",VLOOKUP($J42,'Reference Data - Transport fuel'!$C:$O,AU$4,FALSE))","v":""},{"$f":"IF($J42=\"\",\"\",VLOOKUP($J42,'Reference Data - Transport fuel'!$C:$O,AV$4,FALSE))","v":""},{"$f":"IF($J42=\"\",\"\",VLOOKUP($J42,'Reference Data - Transport fuel'!$C:$O,AW$4,FALSE))","v":""},{"$f":"IF($J42=\"\",\"\",VLOOKUP($J42,'Reference Data - Transport fuel'!$C:$O,AX$4,FALSE))","v":""},{"$f":"IF($J42=\"\",\"\",VLOOKUP($J42,'Reference Data - Transport fuel'!$C:$O,AY$4,FALSE))","v":""},{"$f":"IF($J42=\"\",\"\",VLOOKUP($J42,'Reference Data - Transport fuel'!$C:$O,AZ$4,FALSE))","v":""},{"$f":"IF($J42=\"\",\"\",VLOOKUP($J42,'Reference Data - Transport fuel'!$C:$O,BA$4,FALSE))","v":""},{"$f":"IF($J42=\"\",\"\",VLOOKUP($J42,'Reference Data - Transport fuel'!$C:$O,BB$4,FALSE))","v":""},{"$f":"IF($J42=\"\",\"\",VLOOKUP($J42,'Reference Data - Transport fuel'!$C:$O,BC$4,FALSE))","v":""},null,{"$f":"IF($J42=\"\",\"\",VLOOKUP($J42,'Reference Data - Transport fuel'!$C:$O,BE$4,FALSE))","v":""},null,{"$f":"IF($J42=\"\",\"\",VLOOKUP($J42,'Reference Data - Transport fuel'!$C:$O,BG$4,FALSE))","v":""},null,"","","","","","","","",null,"",null,"","",null,""]
[null,null,null,null,null,null,null,null,null,null,null,null,null,null,null,{"$f":"IF($D43=\"\",\"\",VLOOKUP($D43,'Reference Data - Fuel EFs'!$C:$O,P$4,FALSE))","v":""},{"$f":"IF($D43=\"\",\"\",VLOOKUP($D43,'Reference Data - Fuel EFs'!$C:$O,Q$4,FALSE))","v":""},{"$f":"IF($D43=\"\",\"\",VLOOKUP($D43,'Reference Data - Fuel EFs'!$C:$O,R$4,FALSE))","v":""},{"$f":"IF($D43=\"\",\"\",VLOOKUP($D43,'Reference Data - Fuel EFs'!$C:$O,S$4,FALSE))","v":""},{"$f":"IF($D43=\"\",\"\",VLOOKUP($D43,'Reference Data - Fuel EFs'!$C:$O,T$4,FALSE))","v":""},{"$f":"IF($D43=\"\",\"\",VLOOKUP($D43,'Reference Data - Fuel EFs'!$C:$O,U$4,FALSE))","v":""},{"$f":"IF($D43=\"\",\"\",VLOOKUP($D43,'Reference Data - Fuel EFs'!$C:$O,V$4,FALSE))","v":""},{"$f":"IF($D43=\"\",\"\",VLOOKUP($D43,'Reference Data - Fuel EFs'!$C:$O,W$4,FALSE))","v":""},{"$f":"IF($D43=\"\",\"\",VLOOKUP($D43,'Reference Data - Fuel EFs'!$C:$O,X$4,FALSE))","v":""},null,{"$f":"IF($D43=\"\",\"\",VLOOKUP($D43,'Reference Data - Fuel EFs'!$C:$O,Z$4,FALSE))","v":""},null,{"$f":"IF($D43=\"\",\"\",VLOOKUP($D43,'Reference Data - Fuel EFs'!$C:$O,AB$4,FALSE))","v":""},null,"","","","","","","","","",null,"",null,"",null,null,{"$f":"INDEX('Dropdown menus'!$A$1:$D$6,MATCH($K43,'Dropdown menus'!$A$1:$A$6,0),$AS$6)","v":{"$error":"#N/A"}},null,{"$f":"IF($J43=\"\",\"\",VLOOKUP($J43,'Reference Data - Transport fuel'!$C:$O,AU$4,FALSE))","v":""},{"$f":"IF($J43=\"\",\"\",VLOOKUP($J43,'Reference Data - Transport fuel'!$C:$O,AV$4,FALSE))","v":""},{"$f":"IF($J43=\"\",\"\",VLOOKUP($J43,'Reference Data - Transport fuel'!$C:$O,AW$4,FALSE))","v":""},{"$f":"IF($J43=\"\",\"\",VLOOKUP($J43,'Reference Data - Transport fuel'!$C:$O,AX$4,FALSE))","v":""},{"$f":"IF($J43=\"\",\"\",VLOOKUP($J43,'Reference Data - Transport fuel'!$C:$O,AY$4,FALSE))","v":""},{"$f":"IF($J43=\"\",\"\",VLOOKUP($J43,'Reference Data - Transport fuel'!$C:$O,AZ$4,FALSE))","v":""},{"$f":"IF($J43=\"\",\"\",VLOOKUP($J43,'Reference Data - Transport fuel'!$C:$O,BA$4,FALSE))","v":""},{"$f":"IF($J43=\"\",\"\",VLOOKUP($J43,'Reference Data - Transport fuel'!$C:$O,BB$4,FALSE))","v":""},{"$f":"IF($J43=\"\",\"\",VLOOKUP($J43,'Reference Data - Transport fuel'!$C:$O,BC$4,FALSE))","v":""},null,{"$f":"IF($J43=\"\",\"\",VLOOKUP($J43,'Reference Data - Transport fuel'!$C:$O,BE$4,FALSE))","v":""},null,{"$f":"IF($J43=\"\",\"\",VLOOKUP($J43,'Reference Data - Transport fuel'!$C:$O,BG$4,FALSE))","v":""},null,"","","","","","","","",null,"",null,"","",null,""]
[null,null,null,null,null,null,null,null,null,null,null,null,null,null,null,{"$f":"IF($D44=\"\",\"\",VLOOKUP($D44,'Reference Data - Fuel EFs'!$C:$O,P$4,FALSE))","v":""},{"$f":"IF($D44=\"\",\"\",VLOOKUP($D44,'Reference Data - Fuel EFs'!$C:$O,Q$4,FALSE))","v":""},{"$f":"IF($D44=\"\",\"\",VLOOKUP($D44,'Reference Data - Fuel EFs'!$C:$O,R$4,FALSE))","v":""},{"$f":"IF($D44=\"\",\"\",VLOOKUP($D44,'Reference Data - Fuel EFs'!$C:$O,S$4,FALSE))","v":""},{"$f":"IF($D44=\"\",\"\",VLOOKUP($D44,'Reference Data - Fuel EFs'!$C:$O,T$4,FALSE))","v":""},{"$f":"IF($D44=\"\",\"\",VLOOKUP($D44,'Reference Data - Fuel EFs'!$C:$O,U$4,FALSE))","v":""},{"$f":"IF($D44=\"\",\"\",VLOOKUP($D44,'Reference Data - Fuel EFs'!$C:$O,V$4,FALSE))","v":""},{"$f":"IF($D44=\"\",\"\",VLOOKUP($D44,'Reference Data - Fuel EFs'!$C:$O,W$4,FALSE))","v":""},{"$f":"IF($D44=\"\",\"\",VLOOKUP($D44,'Reference Data - Fuel EFs'!$C:$O,X$4,FALSE))","v":""},null,{"$f":"IF($D44=\"\",\"\",VLOOKUP($D44,'Reference Data - Fuel EFs'!$C:$O,Z$4,FALSE))","v":""},null,{"$f":"IF($D44=\"\",\"\",VLOOKUP($D44,'Reference Data - Fuel EFs'!$C:$O,AB$4,FALSE))","v":""},null,"","","","","","","","","",null,"",null,"",null,null,{"$f":"INDEX('Dropdown menus'!$A$1:$D$6,MATCH($K44,'Dropdown menus'!$A$1:$A$6,0),$AS$6)","v":{"$error":"#N/A"}},null,{"$f":"IF($J44=\"\",\"\",VLOOKUP($J44,'Reference Data - Transport fuel'!$C:$O,AU$4,FALSE))","v":""},{"$f":"IF($J44=\"\",\"\",VLOOKUP($J44,'Reference Data - Transport fuel'!$C:$O,AV$4,FALSE))","v":""},{"$f":"IF($J44=\"\",\"\",VLOOKUP($J44,'Reference Data - Transport fuel'!$C:$O,AW$4,FALSE))","v":""},{"$f":"IF($J44=\"\",\"\",VLOOKUP($J44,'Reference Data - Transport fuel'!$C:$O,AX$4,FALSE))","v":""},{"$f":"IF($J44=\"\",\"\",VLOOKUP($J44,'Reference Data - Transport fuel'!$C:$O,AY$4,FALSE))","v":""},{"$f":"IF($J44=\"\",\"\",VLOOKUP($J44,'Reference Data - Transport fuel'!$C:$O,AZ$4,FALSE))","v":""},{"$f":"IF($J44=\"\",\"\",VLOOKUP($J44,'Reference Data - Transport fuel'!$C:$O,BA$4,FALSE))","v":""},{"$f":"IF($J44=\"\",\"\",VLOOKUP($J44,'Reference Data - Transport fuel'!$C:$O,BB$4,FALSE))","v":""},{"$f":"IF($J44=\"\",\"\",VLOOKUP($J44,'Reference Data - Transport fuel'!$C:$O,BC$4,FALSE))","v":""},null,{"$f":"IF($J44=\"\",\"\",VLOOKUP($J44,'Reference Data - Transport fuel'!$C:$O,BE$4,FALSE))","v":""},null,{"$f":"IF($J44=\"\",\"\",VLOOKUP($J44,'Reference Data - Transport fuel'!$C:$O,BG$4,FALSE))","v":""},null,"","","","","","","","",null,"",null,"","",null,""]
[null,null,null,null,null,null,null,null,null,null,null,null,null,null,null,{"$f":"IF($D45=\"\",\"\",VLOOKUP($D45,'Reference Data - Fuel EFs'!$C:$O,P$4,FALSE))","v":""},{"$f":"IF($D45=\"\",\"\",VLOOKUP($D45,'Reference Data - Fuel EFs'!$C:$O,Q$4,FALSE))","v":""},{"$f":"IF($D45=\"\",\"\",VLOOKUP($D45,'Reference Data - Fuel EFs'!$C:$O,R$4,FALSE))","v":""},{"$f":"IF($D45=\"\",\"\",VLOOKUP($D45,'Reference Data - Fuel EFs'!$C:$O,S$4,FALSE))","v":""},{"$f":"IF($D45=\"\",\"\",VLOOKUP($D45,'Reference Data - Fuel EFs'!$C:$O,T$4,FALSE))","v":""},{"$f":"IF($D45=\"\",\"\",VLOOKUP($D45,'Reference Data - Fuel EFs'!$C:$O,U$4,FALSE))","v":""},{"$f":"IF($D45=\"\",\"\",VLOOKUP($D45,'Reference Data - Fuel EFs'!$C:$O,V$4,FALSE))","v":""},{"$f":"IF($D45=\"\",\"\",VLOOKUP($D45,'Reference Data - Fuel EFs'!$C:$O,W$4,FALSE))","v":""},{"$f":"IF($D45=\"\",\"\",VLOOKUP($D45,'Reference Data - Fuel EFs'!$C:$O,X$4,FALSE))","v":""},null,{"$f":"IF($D45=\"\",\"\",VLOOKUP($D45,'Reference Data - Fuel EFs'!$C:$O,Z$4,FALSE))","v":""},null,{"$f":"IF($D45=\"\",\"\",VLOOKUP($D45,'Reference Data - Fuel EFs'!$C:$O,AB$4,FALSE))","v":""},null,"","","","","","","","","",null,"",null,"",null,null,{"$f":"INDEX('Dropdown menus'!$A$1:$D$6,MATCH($K45,'Dropdown menus'!$A$1:$A$6,0),$AS$6)","v":{"$error":"#N/A"}},null,{"$f":"IF($J45=\"\",\"\",VLOOKUP($J45,'Reference Data - Transport fuel'!$C:$O,AU$4,FALSE))","v":""},{"$f":"IF($J45=\"\",\"\",VLOOKUP($J45,'Reference Data - Transport fuel'!$C:$O,AV$4,FALSE))","v":""},{"$f":"IF($J45=\"\",\"\",VLOOKUP($J45,'Reference Data - Transport fuel'!$C:$O,AW$4,FALSE))","v":""},{"$f":"IF($J45=\"\",\"\",VLOOKUP($J45,'Reference Data - Transport fuel'!$C:$O,AX$4,FALSE))","v":""},{"$f":"IF($J45=\"\",\"\",VLOOKUP($J45,'Reference Data - Transport fuel'!$C:$O,AY$4,FALSE))","v":""},{"$f":"IF($J45=\"\",\"\",VLOOKUP($J45,'Reference Data - Transport fuel'!$C:$O,AZ$4,FALSE))","v":""},{"$f":"IF($J45=\"\",\"\",VLOOKUP($J45,'Reference Data - Transport fuel'!$C:$O,BA$4,FALSE))","v":""},{"$f":"IF($J45=\"\",\"\",VLOOKUP($J45,'Reference Data - Transport fuel'!$C:$O,BB$4,FALSE))","v":""},{"$f":"IF($J45=\"\",\"\",VLOOKUP($J45,'Reference Data - Transport fuel'!$C:$O,BC$4,FALSE))","v":""},null,{"$f":"IF($J45=\"\",\"\",VLOOKUP($J45,'Reference Data - Transport fuel'!$C:$O,BE$4,FALSE))","v":""},null,{"$f":"IF($J45=\"\",\"\",VLOOKUP($J45,'Reference Data - Transport fuel'!$C:$O,BG$4,FALSE))","v":""},null,"","","","","","","","",null,"",null,"","",null,""]
[null,null,null,null,null,null,null,null,null,null,null,null,null,null,null,{"$f":"IF($D46=\"\",\"\",VLOOKUP($D46,'Reference Data - Fuel EFs'!$C:$O,P$4,FALSE))","v":""},{"$f":"IF($D46=\"\",\"\",VLOOKUP($D46,'Reference Data - Fuel EFs'!$C:$O,Q$4,FALSE))","v":""},{"$f":"IF($D46=\"\",\"\",VLOOKUP($D46,'Reference Data - Fuel EFs'!$C:$O,R$4,FALSE))","v":""},{"$f":"IF($D46=\"\",\"\",VLOOKUP($D46,'Reference Data - Fuel EFs'!$C:$O,S$4,FALSE))","v":""},{"$f":"IF($D46=\"\",\"\",VLOOKUP($D46,'Reference Data - Fuel EFs'!$C:$O,T$4,FALSE))","v":""},{"$f":"IF($D46=\"\",\"\",VLOOKUP($D46,'Reference Data - Fuel EFs'!$C:$O,U$4,FALSE))","v":""},{"$f":"IF($D46=\"\",\"\",VLOOKUP($D46,'Reference Data - Fuel EFs'!$C:$O,V$4,FALSE))","v":""},{"$f":"IF($D46=\"\",\"\",VLOOKUP($D46,'Reference Data - Fuel EFs'!$C:$O,W$4,FALSE))","v":""},{"$f":"IF($D46=\"\",\"\",VLOOKUP($D46,'Reference Data - Fuel EFs'!$C:$O,X$4,FALSE))","v":""},null,{"$f":"IF($D46=\"\",\"\",VLOOKUP($D46,'Reference Data - Fuel EFs'!$C:$O,Z$4,FALSE))","v":""},null,{"$f":"IF($D46=\"\",\"\",VLOOKUP($D46,'Reference Data - Fuel EFs'!$C:$O,AB$4,FALSE))","v":""},null,"","","","","","","","","",null,"",null,"",null,null,{"$f":"INDEX('Dropdown menus'!$A$1:$D$6,MATCH($K46,'Dropdown menus'!$A$1:$A$6,0),$AS$6)","v":{"$error":"#N/A"}},null,{"$f":"IF($J46=\"\",\"\",VLOOKUP($J46,'Reference Data - Transport fuel'!$C:$O,AU$4,FALSE))","v":""},{"$f":"IF($J46=\"\",\"\",VLOOKUP($J46,'Reference Data - Transport fuel'!$C:$O,AV$4,FALSE))","v":""},{"$f":"IF($J46=\"\",\"\",VLOOKUP($J46,'Reference Data - Transport fuel'!$C:$O,AW$4,FALSE))","v":""},{"$f":"IF($J46=\"\",\"\",VLOOKUP($J46,'Reference Data - Transport fuel'!$C:$O,AX$4,FALSE))","v":""},{"$f":"IF($J46=\"\",\"\",VLOOKUP($J46,'Reference Data - Transport fuel'!$C:$O,AY$4,FALSE))","v":""},{"$f":"IF($J46=\"\",\"\",VLOOKUP($J46,'Reference Data - Transport fuel'!$C:$O,AZ$4,FALSE))","v":""},{"$f":"IF($J46=\"\",\"\",VLOOKUP($J46,'Reference Data - Transport fuel'!$C:$O,BA$4,FALSE))","v":""},{"$f":"IF($J46=\"\",\"\",VLOOKUP($J46,'Reference Data - Transport fuel'!$C:$O,BB$4,FALSE))","v":""},{"$f":"IF($J46=\"\",\"\",VLOOKUP($J46,'Reference Data - Transport fuel'!$C:$O,BC$4,FALSE))","v":""},null,{"$f":"IF($J46=\"\",\"\",VLOOKUP($J46,'Reference Data - Transport fuel'!$C:$O,BE$4,FALSE))","v":""},null,{"$f":"IF($J46=\"\",\"\",VLOOKUP($J46,'Reference Data - Transport fuel'!$C:$O,BG$4,FALSE))","v":""},null,"","","","","","","","",null,"",null,"","",null,""]
[null,null,null,null,null,null,null,null,null,null,null,null,null,null,null,{"$f":"IF($D47=\"\",\"\",VLOOKUP($D47,'Reference Data - Fuel EFs'!$C:$O,P$4,FALSE))","v":""},{"$f":"IF($D47=\"\",\"\",VLOOKUP($D47,'Reference Data - Fuel EFs'!$C:$O,Q$4,FALSE))","v":""},{"$f":"IF($D47=\"\",\"\",VLOOKUP($D47,'Reference Data - Fuel EFs'!$C:$O,R$4,FALSE))","v":""},{"$f":"IF($D47=\"\",\"\",VLOOKUP($D47,'Reference Data - Fuel EFs'!$C:$O,S$4,FALSE))","v":""},{"$f":"IF($D47=\"\",\"\",VLOOKUP($D47,'Reference Data - Fuel EFs'!$C:$O,T$4,FALSE))","v":""},{"$f":"IF($D47=\"\",\"\",VLOOKUP($D47,'Reference Data - Fuel EFs'!$C:$O,U$4,FALSE))","v":""},{"$f":"IF($D47=\"\",\"\",VLOOKUP($D47,'Reference Data - Fuel EFs'!$C:$O,V$4,FALSE))","v":""},{"$f":"IF($D47=\"\",\"\",VLOOKUP($D47,'Reference Data - Fuel EFs'!$C:$O,W$4,FALSE))","v":""},{"$f":"IF($D47=\"\",\"\",VLOOKUP($D47,'Reference Data - Fuel EFs'!$C:$O,X$4,FALSE))","v":""},null,{"$f":"IF($D47=\"\",\"\",VLOOKUP($D47,'Reference Data - Fuel EFs'!$C:$O,Z$4,FALSE))","v":""},null,{"$f":"IF($D47=\"\",\"\",VLOOKUP($D47,'Reference Data - Fuel EFs'!$C:$O,AB$4,FALSE))","v":""},null,"","","","","","","","","",null,"",null,"",null,null,{"$f":"INDEX('Dropdown menus'!$A$1:$D$6,MATCH($K47,'Dropdown menus'!$A$1:$A$6,0),$AS$6)","v":{"$error":"#N/A"}},null,{"$f":"IF($J47=\"\",\"\",VLOOKUP($J47,'Reference Data - Transport fuel'!$C:$O,AU$4,FALSE))","v":""},{"$f":"IF($J47=\"\",\"\",VLOOKUP($J47,'Reference Data - Transport fuel'!$C:$O,AV$4,FALSE))","v":""},{"$f":"IF($J47=\"\",\"\",VLOOKUP($J47,'Reference Data - Transport fuel'!$C:$O,AW$4,FALSE))","v":""},{"$f":"IF($J47=\"\",\"\",VLOOKUP($J47,'Reference Data - Transport fuel'!$C:$O,AX$4,FALSE))","v":""},{"$f":"IF($J47=\"\",\"\",VLOOKUP($J47,'Reference Data - Transport fuel'!$C:$O,AY$4,FALSE))","v":""},{"$f":"IF($J47=\"\",\"\",VLOOKUP($J47,'Reference Data - Transport fuel'!$C:$O,AZ$4,FALSE))","v":""},{"$f":"IF($J47=\"\",\"\",VLOOKUP($J47,'Reference Data - Transport fuel'!$C:$O,BA$4,FALSE))","v":""},{"$f":"IF($J47=\"\",\"\",VLOOKUP($J47,'Reference Data - Transport fuel'!$C:$O,BB$4,FALSE))","v":""},{"$f":"IF($J47=\"\",\"\",VLOOKUP($J47,'Reference Data - Transport fuel'!$C:$O,BC$4,FALSE))","v":""},null,{"$f":"IF($J47=\"\",\"\",VLOOKUP($J47,'Reference Data - Transport fuel'!$C:$O,BE$4,FALSE))","v":""},null,{"$f":"IF($J47=\"\",\"\",VLOOKUP($J47,'Reference Data - Transport fuel'!$C:$O,BG$4,FALSE))","v":""},null,"","","","","","","","",null,"",null,"","",null,""]
[null,null,null,null,null,null,null,null,null,null,null,null,null,null,null,{"$f":"IF($D48=\"\",\"\",VLOOKUP($D48,'Reference Data - Fuel EFs'!$C:$O,P$4,FALSE))","v":""},{"$f":"IF($D48=\"\",\"\",VLOOKUP($D48,'Reference Data - Fuel EFs'!$C:$O,Q$4,FALSE))","v":""},{"$f":"IF($D48=\"\",\"\",VLOOKUP($D48,'Reference Data - Fuel EFs'!$C:$O,R$4,FALSE))","v":""},{"$f":"IF($D48=\"\",\"\",VLOOKUP($D48,'Reference Data - Fuel EFs'!$C:$O,S$4,FALSE))","v":""},{"$f":"IF($D48=\"\",\"\",VLOOKUP($D48,'Reference Data - Fuel EFs'!$C:$O,T$4,FALSE))","v":""},{"$f":"IF($D48=\"\",\"\",VLOOKUP($D48,'Reference Data - Fuel EFs'!$C:$O,U$4,FALSE))","v":""},{"$f":"IF($D48=\"\",\"\",VLOOKUP($D48,'Reference Data - Fuel EFs'!$C:$O,V$4,FALSE))","v":""},{"$f":"IF($D48=\"\",\"\",VLOOKUP($D48,'Reference Data - Fuel EFs'!$C:$O,W$4,FALSE))","v":""},{"$f":"IF($D48=\"\",\"\",VLOOKUP($D48,'Reference Data - Fuel EFs'!$C:$O,X$4,FALSE))","v":""},null,{"$f":"IF($D48=\"\",\"\",VLOOKUP($D48,'Reference Data - Fuel EFs'!$C:$O,Z$4,FALSE))","v":""},null,{"$f":"IF($D48=\"\",\"\",VLOOKUP($D48,'Reference Data - Fuel EFs'!$C:$O,AB$4,FALSE))","v":""},null,"","","","","","","","","",null,"",null,"",null,null,{"$f":"INDEX('Dropdown menus'!$A$1:$D$6,MATCH($K48,'Dropdown menus'!$A$1:$A$6,0),$AS$6)","v":{"$error":"#N/A"}},null,{"$f":"IF($J48=\"\",\"\",VLOOKUP($J48,'Reference Data - Transport fuel'!$C:$O,AU$4,FALSE))","v":""},{"$f":"IF($J48=\"\",\"\",VLOOKUP($J48,'Reference Data - Transport fuel'!$C:$O,AV$4,FALSE))","v":""},{"$f":"IF($J48=\"\",\"\",VLOOKUP($J48,'Reference Data - Transport fuel'!$C:$O,AW$4,FALSE))","v":""},{"$f":"IF($J48=\"\",\"\",VLOOKUP($J48,'Reference Data - Transport fuel'!$C:$O,AX$4,FALSE))","v":""},{"$f":"IF($J48=\"\",\"\",VLOOKUP($J48,'Reference Data - Transport fuel'!$C:$O,AY$4,FALSE))","v":""},{"$f":"IF($J48=\"\",\"\",VLOOKUP($J48,'Reference Data - Transport fuel'!$C:$O,AZ$4,FALSE))","v":""},{"$f":"IF($J48=\"\",\"\",VLOOKUP($J48,'Reference Data - Transport fuel'!$C:$O,BA$4,FALSE))","v":""},{"$f":"IF($J48=\"\",\"\",VLOOKUP($J48,'Reference Data - Transport fuel'!$C:$O,BB$4,FALSE))","v":""},{"$f":"IF($J48=\"\",\"\",VLOOKUP($J48,'Reference Data - Transport fuel'!$C:$O,BC$4,FALSE))","v":""},null,{"$f":"IF($J48=\"\",\"\",VLOOKUP($J48,'Reference Data - Transport fuel'!$C:$O,BE$4,FALSE))","v":""},null,{"$f":"IF($J48=\"\",\"\",VLOOKUP($J48,'Reference Data - Transport fuel'!$C:$O,BG$4,FALSE))","v":""},null,"","","","","","","","",null,"",null,"","",null,""]
[null,null,null,null,null,null,null,null,null,null,null,null,null,null,null,{"$f":"IF($D49=\"\",\"\",VLOOKUP($D49,'Reference Data - Fuel EFs'!$C:$O,P$4,FALSE))","v":""},{"$f":"IF($D49=\"\",\"\",VLOOKUP($D49,'Reference Data - Fuel EFs'!$C:$O,Q$4,FALSE))","v":""},{"$f":"IF($D49=\"\",\"\",VLOOKUP($D49,'Reference Data - Fuel EFs'!$C:$O,R$4,FALSE))","v":""},{"$f":"IF($D49=\"\",\"\",VLOOKUP($D49,'Reference Data - Fuel EFs'!$C:$O,S$4,FALSE))","v":""},{"$f":"IF($D49=\"\",\"\",VLOOKUP($D49,'Reference Data - Fuel EFs'!$C:$O,T$4,FALSE))","v":""},{"$f":"IF($D49=\"\",\"\",VLOOKUP($D49,'Reference Data - Fuel EFs'!$C:$O,U$4,FALSE))","v":""},{"$f":"IF($D49=\"\",\"\",VLOOKUP($D49,'Reference Data - Fuel EFs'!$C:$O,V$4,FALSE))","v":""},{"$f":"IF($D49=\"\",\"\",VLOOKUP($D49,'Reference Data - Fuel EFs'!$C:$O,W$4,FALSE))","v":""},{"$f":"IF($D49=\"\",\"\",VLOOKUP($D49,'Reference Data - Fuel EFs'!$C:$O,X$4,FALSE))","v":""},null,{"$f":"IF($D49=\"\",\"\",VLOOKUP($D49,'Reference Data - Fuel EFs'!$C:$O,Z$4,FALSE))","v":""},null,{"$f":"IF($D49=\"\",\"\",VLOOKUP($D49,'Reference Data - Fuel EFs'!$C:$O,AB$4,FALSE))","v":""},null,"","","","","","","","","",null,"",null,"",null,null,{"$f":"INDEX('Dropdown menus'!$A$1:$D$6,MATCH($K49,'Dropdown menus'!$A$1:$A$6,0),$AS$6)","v":{"$error":"#N/A"}},null,{"$f":"IF($J49=\"\",\"\",VLOOKUP($J49,'Reference Data - Transport fuel'!$C:$O,AU$4,FALSE))","v":""},{"$f":"IF($J49=\"\",\"\",VLOOKUP($J49,'Reference Data - Transport fuel'!$C:$O,AV$4,FALSE))","v":""},{"$f":"IF($J49=\"\",\"\",VLOOKUP($J49,'Reference Data - Transport fuel'!$C:$O,AW$4,FALSE))","v":""},{"$f":"IF($J49=\"\",\"\",VLOOKUP($J49,'Reference Data - Transport fuel'!$C:$O,AX$4,FALSE))","v":""},{"$f":"IF($J49=\"\",\"\",VLOOKUP($J49,'Reference Data - Transport fuel'!$C:$O,AY$4,FALSE))","v":""},{"$f":"IF($J49=\"\",\"\",VLOOKUP($J49,'Reference Data - Transport fuel'!$C:$O,AZ$4,FALSE))","v":""},{"$f":"IF($J49=\"\",\"\",VLOOKUP($J49,'Reference Data - Transport fuel'!$C:$O,BA$4,FALSE))","v":""},{"$f":"IF($J49=\"\",\"\",VLOOKUP($J49,'Reference Data - Transport fuel'!$C:$O,BB$4,FALSE))","v":""},{"$f":"IF($J49=\"\",\"\",VLOOKUP($J49,'Reference Data - Transport fuel'!$C:$O,BC$4,FALSE))","v":""},null,{"$f":"IF($J49=\"\",\"\",VLOOKUP($J49,'Reference Data - Transport fuel'!$C:$O,BE$4,FALSE))","v":""},null,{"$f":"IF($J49=\"\",\"\",VLOOKUP($J49,'Reference Data - Transport fuel'!$C:$O,BG$4,FALSE))","v":""},null,"","","","","","","","",null,"",null,"","",null,""]
[null,null,null,null,null,null,null,null,null,null,null,null,null,null,null,{"$f":"IF($D50=\"\",\"\",VLOOKUP($D50,'Reference Data - Fuel EFs'!$C:$O,P$4,FALSE))","v":""},{"$f":"IF($D50=\"\",\"\",VLOOKUP($D50,'Reference Data - Fuel EFs'!$C:$O,Q$4,FALSE))","v":""},{"$f":"IF($D50=\"\",\"\",VLOOKUP($D50,'Reference Data - Fuel EFs'!$C:$O,R$4,FALSE))","v":""},{"$f":"IF($D50=\"\",\"\",VLOOKUP($D50,'Reference Data - Fuel EFs'!$C:$O,S$4,FALSE))","v":""},{"$f":"IF($D50=\"\",\"\",VLOOKUP($D50,'Reference Data - Fuel EFs'!$C:$O,T$4,FALSE))","v":""},{"$f":"IF($D50=\"\",\"\",VLOOKUP($D50,'Reference Data - Fuel EFs'!$C:$O,U$4,FALSE))","v":""},{"$f":"IF($D50=\"\",\"\",VLOOKUP($D50,'Reference Data - Fuel EFs'!$C:$O,V$4,FALSE))","v":""},{"$f":"IF($D50=\"\",\"\",VLOOKUP($D50,'Reference Data - Fuel EFs'!$C:$O,W$4,FALSE))","v":""},{"$f":"IF($D50=\"\",\"\",VLOOKUP($D50,'Reference Data - Fuel EFs'!$C:$O,X$4,FALSE))","v":""},null,{"$f":"IF($D50=\"\",\"\",VLOOKUP($D50,'Reference Data - Fuel EFs'!$C:$O,Z$4,FALSE))","v":""},null,{"$f":"IF($D50=\"\",\"\",VLOOKUP($D50,'Reference Data - Fuel EFs'!$C:$O,AB$4,FALSE))","v":""},null,"","","","","","","","","",null,"",null,"",null,null,{"$f":"INDEX('Dropdown menus'!$A$1:$D$6,MATCH($K50,'Dropdown menus'!$A$1:$A$6,0),$AS$6)","v":{"$error":"#N/A"}},null,{"$f":"IF($J50=\"\",\"\",VLOOKUP($J50,'Reference Data - Transport fuel'!$C:$O,AU$4,FALSE))","v":""},{"$f":"IF($J50=\"\",\"\",VLOOKUP($J50,'Reference Data - Transport fuel'!$C:$O,AV$4,FALSE))","v":""},{"$f":"IF($J50=\"\",\"\",VLOOKUP($J50,'Reference Data - Transport fuel'!$C:$O,AW$4,FALSE))","v":""},{"$f":"IF($J50=\"\",\"\",VLOOKUP($J50,'Reference Data - Transport fuel'!$C:$O,AX$4,FALSE))","v":""},{"$f":"IF($J50=\"\",\"\",VLOOKUP($J50,'Reference Data - Transport fuel'!$C:$O,AY$4,FALSE))","v":""},{"$f":"IF($J50=\"\",\"\",VLOOKUP($J50,'Reference Data - Transport fuel'!$C:$O,AZ$4,FALSE))","v":""},{"$f":"IF($J50=\"\",\"\",VLOOKUP($J50,'Reference Data - Transport fuel'!$C:$O,BA$4,FALSE))","v":""},{"$f":"IF($J50=\"\",\"\",VLOOKUP($J50,'Reference Data - Transport fuel'!$C:$O,BB$4,FALSE))","v":""},{"$f":"IF($J50=\"\",\"\",VLOOKUP($J50,'Reference Data - Transport fuel'!$C:$O,BC$4,FALSE))","v":""},null,{"$f":"IF($J50=\"\",\"\",VLOOKUP($J50,'Reference Data - Transport fuel'!$C:$O,BE$4,FALSE))","v":""},null,{"$f":"IF($J50=\"\",\"\",VLOOKUP($J50,'Reference Data - Transport fuel'!$C:$O,BG$4,FALSE))","v":""},null,"","","","","","","","",null,"",null,"","",null,""]
[null,null,null,null,null,null,null,null,null,null,null,null,null,null,null,{"$f":"IF($D51=\"\",\"\",VLOOKUP($D51,'Reference Data - Fuel EFs'!$C:$O,P$4,FALSE))","v":""},{"$f":"IF($D51=\"\",\"\",VLOOKUP($D51,'Reference Data - Fuel EFs'!$C:$O,Q$4,FALSE))","v":""},{"$f":"IF($D51=\"\",\"\",VLOOKUP($D51,'Reference Data - Fuel EFs'!$C:$O,R$4,FALSE))","v":""},{"$f":"IF($D51=\"\",\"\",VLOOKUP($D51,'Reference Data - Fuel EFs'!$C:$O,S$4,FALSE))","v":""},{"$f":"IF($D51=\"\",\"\",VLOOKUP($D51,'Reference Data - Fuel EFs'!$C:$O,T$4,FALSE))","v":""},{"$f":"IF($D51=\"\",\"\",VLOOKUP($D51,'Reference Data - Fuel EFs'!$C:$O,U$4,FALSE))","v":""},{"$f":"IF($D51=\"\",\"\",VLOOKUP($D51,'Reference Data - Fuel EFs'!$C:$O,V$4,FALSE))","v":""},{"$f":"IF($D51=\"\",\"\",VLOOKUP($D51,'Reference Data - Fuel EFs'!$C:$O,W$4,FALSE))","v":""},{"$f":"IF($D51=\"\",\"\",VLOOKUP($D51,'Reference Data - Fuel EFs'!$C:$O,X$4,FALSE))","v":""},null,{"$f":"IF($D51=\"\",\"\",VLOOKUP($D51,'Reference Data - Fuel EFs'!$C:$O,Z$4,FALSE))","v":""},null,{"$f":"IF($D51=\"\",\"\",VLOOKUP($D51,'Reference Data - Fuel EFs'!$C:$O,AB$4,FALSE))","v":""},null,"","","","","","","","","",null,"",null,"",null,null,{"$f":"INDEX('Dropdown menus'!$A$1:$D$6,MATCH($K51,'Dropdown menus'!$A$1:$A$6,0),$AS$6)","v":{"$error":"#N/A"}},null,{"$f":"IF($J51=\"\",\"\",VLOOKUP($J51,'Reference Data - Transport fuel'!$C:$O,AU$4,FALSE))","v":""},{"$f":"IF($J51=\"\",\"\",VLOOKUP($J51,'Reference Data - Transport fuel'!$C:$O,AV$4,FALSE))","v":""},{"$f":"IF($J51=\"\",\"\",VLOOKUP($J51,'Reference Data - Transport fuel'!$C:$O,AW$4,FALSE))","v":""},{"$f":"IF($J51=\"\",\"\",VLOOKUP($J51,'Reference Data - Transport fuel'!$C:$O,AX$4,FALSE))","v":""},{"$f":"IF($J51=\"\",\"\",VLOOKUP($J51,'Reference Data - Transport fuel'!$C:$O,AY$4,FALSE))","v":""},{"$f":"IF($J51=\"\",\"\",VLOOKUP($J51,'Reference Data - Transport fuel'!$C:$O,AZ$4,FALSE))","v":""},{"$f":"IF($J51=\"\",\"\",VLOOKUP($J51,'Reference Data - Transport fuel'!$C:$O,BA$4,FALSE))","v":""},{"$f":"IF($J51=\"\",\"\",VLOOKUP($J51,'Reference Data - Transport fuel'!$C:$O,BB$4,FALSE))","v":""},{"$f":"IF($J51=\"\",\"\",VLOOKUP($J51,'Reference Data - Transport fuel'!$C:$O,BC$4,FALSE))","v":""},null,{"$f":"IF($J51=\"\",\"\",VLOOKUP($J51,'Reference Data - Transport fuel'!$C:$O,BE$4,FALSE))","v":""},null,{"$f":"IF($J51=\"\",\"\",VLOOKUP($J51,'Reference Data - Transport fuel'!$C:$O,BG$4,FALSE))","v":""},null,"","","","","","","","",null,"",null,"","",null,""]
[null,null,null,null,null,null,null,null,null,null,null,null,null,null,null,{"$f":"IF($D52=\"\",\"\",VLOOKUP($D52,'Reference Data - Fuel EFs'!$C:$O,P$4,FALSE))","v":""},{"$f":"IF($D52=\"\",\"\",VLOOKUP($D52,'Reference Data - Fuel EFs'!$C:$O,Q$4,FALSE))","v":""},{"$f":"IF($D52=\"\",\"\",VLOOKUP($D52,'Reference Data - Fuel EFs'!$C:$O,R$4,FALSE))","v":""},{"$f":"IF($D52=\"\",\"\",VLOOKUP($D52,'Reference Data - Fuel EFs'!$C:$O,S$4,FALSE))","v":""},{"$f":"IF($D52=\"\",\"\",VLOOKUP($D52,'Reference Data - Fuel EFs'!$C:$O,T$4,FALSE))","v":""},{"$f":"IF($D52=\"\",\"\",VLOOKUP($D52,'Reference Data - Fuel EFs'!$C:$O,U$4,FALSE))","v":""},{"$f":"IF($D52=\"\",\"\",VLOOKUP($D52,'Reference Data - Fuel EFs'!$C:$O,V$4,FALSE))","v":""},{"$f":"IF($D52=\"\",\"\",VLOOKUP($D52,'Reference Data - Fuel EFs'!$C:$O,W$4,FALSE))","v":""},{"$f":"IF($D52=\"\",\"\",VLOOKUP($D52,'Reference Data - Fuel EFs'!$C:$O,X$4,FALSE))","v":""},null,{"$f":"IF($D52=\"\",\"\",VLOOKUP($D52,'Reference Data - Fuel EFs'!$C:$O,Z$4,FALSE))","v":""},null,{"$f":"IF($D52=\"\",\"\",VLOOKUP($D52,'Reference Data - Fuel EFs'!$C:$O,AB$4,FALSE))","v":""},null,"","","","","","","","","",null,"",null,"",null,null,{"$f":"INDEX('Dropdown menus'!$A$1:$D$6,MATCH($K52,'Dropdown menus'!$A$1:$A$6,0),$AS$6)","v":{"$error":"#N/A"}},null,{"$f":"IF($J52=\"\",\"\",VLOOKUP($J52,'Reference Data - Transport fuel'!$C:$O,AU$4,FALSE))","v":""},{"$f":"IF($J52=\"\",\"\",VLOOKUP($J52,'Reference Data - Transport fuel'!$C:$O,AV$4,FALSE))","v":""},{"$f":"IF($J52=\"\",\"\",VLOOKUP($J52,'Reference Data - Transport fuel'!$C:$O,AW$4,FALSE))","v":""},{"$f":"IF($J52=\"\",\"\",VLOOKUP($J52,'Reference Data - Transport fuel'!$C:$O,AX$4,FALSE))","v":""},{"$f":"IF($J52=\"\",\"\",VLOOKUP($J52,'Reference Data - Transport fuel'!$C:$O,AY$4,FALSE))","v":""},{"$f":"IF($J52=\"\",\"\",VLOOKUP($J52,'Reference Data - Transport fuel'!$C:$O,AZ$4,FALSE))","v":""},{"$f":"IF($J52=\"\",\"\",VLOOKUP($J52,'Reference Data - Transport fuel'!$C:$O,BA$4,FALSE))","v":""},{"$f":"IF($J52=\"\",\"\",VLOOKUP($J52,'Reference Data - Transport fuel'!$C:$O,BB$4,FALSE))","v":""},{"$f":"IF($J52=\"\",\"\",VLOOKUP($J52,'Reference Data - Transport fuel'!$C:$O,BC$4,FALSE))","v":""},null,{"$f":"IF($J52=\"\",\"\",VLOOKUP($J52,'Reference Data - Transport fuel'!$C:$O,BE$4,FALSE))","v":""},null,{"$f":"IF($J52=\"\",\"\",VLOOKUP($J52,'Reference Data - Transport fuel'!$C:$O,BG$4,FALSE))","v":""},null,"","","","","","","","",null,"",null,"","",null,""]
[null,null,null,null,null,null,null,null,null,null,null,null,null,null,null,{"$f":"IF($D53=\"\",\"\",VLOOKUP($D53,'Reference Data - Fuel EFs'!$C:$O,P$4,FALSE))","v":""},{"$f":"IF($D53=\"\",\"\",VLOOKUP($D53,'Reference Data - Fuel EFs'!$C:$O,Q$4,FALSE))","v":""},{"$f":"IF($D53=\"\",\"\",VLOOKUP($D53,'Reference Data - Fuel EFs'!$C:$O,R$4,FALSE))","v":""},{"$f":"IF($D53=\"\",\"\",VLOOKUP($D53,'Reference Data - Fuel EFs'!$C:$O,S$4,FALSE))","v":""},{"$f":"IF($D53=\"\",\"\",VLOOKUP($D53,'Reference Data - Fuel EFs'!$C:$O,T$4,FALSE))","v":""},{"$f":"IF($D53=\"\",\"\",VLOOKUP($D53,'Reference Data - Fuel EFs'!$C:$O,U$4,FALSE))","v":""},{"$f":"IF($D53=\"\",\"\",VLOOKUP($D53,'Reference Data - Fuel EFs'!$C:$O,V$4,FALSE))","v":""},{"$f":"IF($D53=\"\",\"\",VLOOKUP($D53,'Reference Data - Fuel EFs'!$C:$O,W$4,FALSE))","v":""},{"$f":"IF($D53=\"\",\"\",VLOOKUP($D53,'Reference Data - Fuel EFs'!$C:$O,X$4,FALSE))","v":""},null,{"$f":"IF($D53=\"\",\"\",VLOOKUP($D53,'Reference Data - Fuel EFs'!$C:$O,Z$4,FALSE))","v":""},null,{"$f":"IF($D53=\"\",\"\",VLOOKUP($D53,'Reference Data - Fuel EFs'!$C:$O,AB$4,FALSE))","v":""},null,"","","","","","","","","",null,"",null,"",null,null,{"$f":"INDEX('Dropdown menus'!$A$1:$D$6,MATCH($K53,'Dropdown menus'!$A$1:$A$6,0),$AS$6)","v":{"$error":"#N/A"}},null,{"$f":"IF($J53=\"\",\"\",VLOOKUP($J53,'Reference Data - Transport fuel'!$C:$O,AU$4,FALSE))","v":""},{"$f":"IF($J53=\"\",\"\",VLOOKUP($J53,'Reference Data - Transport fuel'!$C:$O,AV$4,FALSE))","v":""},{"$f":"IF($J53=\"\",\"\",VLOOKUP($J53,'Reference Data - Transport fuel'!$C:$O,AW$4,FALSE))","v":""},{"$f":"IF($J53=\"\",\"\",VLOOKUP($J53,'Reference Data - Transport fuel'!$C:$O,AX$4,FALSE))","v":""},{"$f":"IF($J53=\"\",\"\",VLOOKUP($J53,'Reference Data - Transport fuel'!$C:$O,AY$4,FALSE))","v":""},{"$f":"IF($J53=\"\",\"\",VLOOKUP($J53,'Reference Data - Transport fuel'!$C:$O,AZ$4,FALSE))","v":""},{"$f":"IF($J53=\"\",\"\",VLOOKUP($J53,'Reference Data - Transport fuel'!$C:$O,BA$4,FALSE))","v":""},{"$f":"IF($J53=\"\",\"\",VLOOKUP($J53,'Reference Data - Transport fuel'!$C:$O,BB$4,FALSE))","v":""},{"$f":"IF($J53=\"\",\"\",VLOOKUP($J53,'Reference Data - Transport fuel'!$C:$O,BC$4,FALSE))","v":""},null,{"$f":"IF($J53=\"\",\"\",VLOOKUP($J53,'Reference Data - Transport fuel'!$C:$O,BE$4,FALSE))","v":""},null,{"$f":"IF($J53=\"\",\"\",VLOOKUP($J53,'Reference Data - Transport fuel'!$C:$O,BG$4,FALSE))","v":""},null,"","","","","","","","",null,"",null,"","",null,""]
[null,null,null,null,null,null,null,null,null,null,null,null,null,null,null,{"$f":"IF($D54=\"\",\"\",VLOOKUP($D54,'Reference Data - Fuel EFs'!$C:$O,P$4,FALSE))","v":""},{"$f":"IF($D54=\"\",\"\",VLOOKUP($D54,'Reference Data - Fuel EFs'!$C:$O,Q$4,FALSE))","v":""},{"$f":"IF($D54=\"\",\"\",VLOOKUP($D54,'Reference Data - Fuel EFs'!$C:$O,R$4,FALSE))","v":""},{"$f":"IF($D54=\"\",\"\",VLOOKUP($D54,'Reference Data - Fuel EFs'!$C:$O,S$4,FALSE))","v":""},{"$f":"IF($D54=\"\",\"\",VLOOKUP($D54,'Reference Data - Fuel EFs'!$C:$O,T$4,FALSE))","v":""},{"$f":"IF($D54=\"\",\"\",VLOOKUP($D54,'Reference Data - Fuel EFs'!$C:$O,U$4,FALSE))","v":""},{"$f":"IF($D54=\"\",\"\",VLOOKUP($D54,'Reference Data - Fuel EFs'!$C:$O,V$4,FALSE))","v":""},{"$f":"IF($D54=\"\",\"\",VLOOKUP($D54,'Reference Data - Fuel EFs'!$C:$O,W$4,FALSE))","v":""},{"$f":"IF($D54=\"\",\"\",VLOOKUP($D54,'Reference Data - Fuel EFs'!$C:$O,X$4,FALSE))","v":""},null,{"$f":"IF($D54=\"\",\"\",VLOOKUP($D54,'Reference Data - Fuel EFs'!$C:$O,Z$4,FALSE))","v":""},null,{"$f":"IF($D54=\"\",\"\",VLOOKUP($D54,'Reference Data - Fuel EFs'!$C:$O,AB$4,FALSE))","v":""},null,"","","","","","","","","",null,"",null,"",null,null,{"$f":"INDEX('Dropdown menus'!$A$1:$D$6,MATCH($K54,'Dropdown menus'!$A$1:$A$6,0),$AS$6)","v":{"$error":"#N/A"}},null,{"$f":"IF($J54=\"\",\"\",VLOOKUP($J54,'Reference Data - Transport fuel'!$C:$O,AU$4,FALSE))","v":""},{"$f":"IF($J54=\"\",\"\",VLOOKUP($J54,'Reference Data - Transport fuel'!$C:$O,AV$4,FALSE))","v":""},{"$f":"IF($J54=\"\",\"\",VLOOKUP($J54,'Reference Data - Transport fuel'!$C:$O,AW$4,FALSE))","v":""},{"$f":"IF($J54=\"\",\"\",VLOOKUP($J54,'Reference Data - Transport fuel'!$C:$O,AX$4,FALSE))","v":""},{"$f":"IF($J54=\"\",\"\",VLOOKUP($J54,'Reference Data - Transport fuel'!$C:$O,AY$4,FALSE))","v":""},{"$f":"IF($J54=\"\",\"\",VLOOKUP($J54,'Reference Data - Transport fuel'!$C:$O,AZ$4,FALSE))","v":""},{"$f":"IF($J54=\"\",\"\",VLOOKUP($J54,'Reference Data - Transport fuel'!$C:$O,BA$4,FALSE))","v":""},{"$f":"IF($J54=\"\",\"\",VLOOKUP($J54,'Reference Data - Transport fuel'!$C:$O,BB$4,FALSE))","v":""},{"$f":"IF($J54=\"\",\"\",VLOOKUP($J54,'Reference Data - Transport fuel'!$C:$O,BC$4,FALSE))","v":""},null,{"$f":"IF($J54=\"\",\"\",VLOOKUP($J54,'Reference Data - Transport fuel'!$C:$O,BE$4,FALSE))","v":""},null,{"$f":"IF($J54=\"\",\"\",VLOOKUP($J54,'Reference Data - Transport fuel'!$C:$O,BG$4,FALSE))","v":""},null,"","","","","","","","",null,"",null,"","",null,""]
[null,null,null,null,null,null,null,null,null,null,null,null,null,null,null,{"$f":"IF($D55=\"\",\"\",VLOOKUP($D55,'Reference Data - Fuel EFs'!$C:$O,P$4,FALSE))","v":""},{"$f":"IF($D55=\"\",\"\",VLOOKUP($D55,'Reference Data - Fuel EFs'!$C:$O,Q$4,FALSE))","v":""},{"$f":"IF($D55=\"\",\"\",VLOOKUP($D55,'Reference Data - Fuel EFs'!$C:$O,R$4,FALSE))","v":""},{"$f":"IF($D55=\"\",\"\",VLOOKUP($D55,'Reference Data - Fuel EFs'!$C:$O,S$4,FALSE))","v":""},{"$f":"IF($D55=\"\",\"\",VLOOKUP($D55,'Reference Data - Fuel EFs'!$C:$O,T$4,FALSE))","v":""},{"$f":"IF($D55=\"\",\"\",VLOOKUP($D55,'Reference Data - Fuel EFs'!$C:$O,U$4,FALSE))","v":""},{"$f":"IF($D55=\"\",\"\",VLOOKUP($D55,'Reference Data - Fuel EFs'!$C:$O,V$4,FALSE))","v":""},{"$f":"IF($D55=\"\",\"\",VLOOKUP($D55,'Reference Data - Fuel EFs'!$C:$O,W$4,FALSE))","v":""},{"$f":"IF($D55=\"\",\"\",VLOOKUP($D55,'Reference Data - Fuel EFs'!$C:$O,X$4,FALSE))","v":""},null,{"$f":"IF($D55=\"\",\"\",VLOOKUP($D55,'Reference Data - Fuel EFs'!$C:$O,Z$4,FALSE))","v":""},null,{"$f":"IF($D55=\"\",\"\",VLOOKUP($D55,'Reference Data - Fuel EFs'!$C:$O,AB$4,FALSE))","v":""},null,"","","","","","","","","",null,"",null,"",null,null,{"$f":"INDEX('Dropdown menus'!$A$1:$D$6,MATCH($K55,'Dropdown menus'!$A$1:$A$6,0),$AS$6)","v":{"$error":"#N/A"}},null,{"$f":"IF($J55=\"\",\"\",VLOOKUP($J55,'Reference Data - Transport fuel'!$C:$O,AU$4,FALSE))","v":""},{"$f":"IF($J55=\"\",\"\",VLOOKUP($J55,'Reference Data - Transport fuel'!$C:$O,AV$4,FALSE))","v":""},{"$f":"IF($J55=\"\",\"\",VLOOKUP($J55,'Reference Data - Transport fuel'!$C:$O,AW$4,FALSE))","v":""},{"$f":"IF($J55=\"\",\"\",VLOOKUP($J55,'Reference Data - Transport fuel'!$C:$O,AX$4,FALSE))","v":""},{"$f":"IF($J55=\"\",\"\",VLOOKUP($J55,'Reference Data - Transport fuel'!$C:$O,AY$4,FALSE))","v":""},{"$f":"IF($J55=\"\",\"\",VLOOKUP($J55,'Reference Data - Transport fuel'!$C:$O,AZ$4,FALSE))","v":""},{"$f":"IF($J55=\"\",\"\",VLOOKUP($J55,'Reference Data - Transport fuel'!$C:$O,BA$4,FALSE))","v":""},{"$f":"IF($J55=\"\",\"\",VLOOKUP($J55,'Reference Data - Transport fuel'!$C:$O,BB$4,FALSE))","v":""},{"$f":"IF($J55=\"\",\"\",VLOOKUP($J55,'Reference Data - Transport fuel'!$C:$O,BC$4,FALSE))","v":""},null,{"$f":"IF($J55=\"\",\"\",VLOOKUP($J55,'Reference Data - Transport fuel'!$C:$O,BE$4,FALSE))","v":""},null,{"$f":"IF($J55=\"\",\"\",VLOOKUP($J55,'Reference Data - Transport fuel'!$C:$O,BG$4,FALSE))","v":""},null,"","","","","","","","",null,"",null,"","",null,""]
[null,null,null,null,null,null,null,null,null,null,null,null,null,null,null,{"$f":"IF($D56=\"\",\"\",VLOOKUP($D56,'Reference Data - Fuel EFs'!$C:$O,P$4,FALSE))","v":""},{"$f":"IF($D56=\"\",\"\",VLOOKUP($D56,'Reference Data - Fuel EFs'!$C:$O,Q$4,FALSE))","v":""},{"$f":"IF($D56=\"\",\"\",VLOOKUP($D56,'Reference Data - Fuel EFs'!$C:$O,R$4,FALSE))","v":""},{"$f":"IF($D56=\"\",\"\",VLOOKUP($D56,'Reference Data - Fuel EFs'!$C:$O,S$4,FALSE))","v":""},{"$f":"IF($D56=\"\",\"\",VLOOKUP($D56,'Reference Data - Fuel EFs'!$C:$O,T$4,FALSE))","v":""},{"$f":"IF($D56=\"\",\"\",VLOOKUP($D56,'Reference Data - Fuel EFs'!$C:$O,U$4,FALSE))","v":""},{"$f":"IF($D56=\"\",\"\",VLOOKUP($D56,'Reference Data - Fuel EFs'!$C:$O,V$4,FALSE))","v":""},{"$f":"IF($D56=\"\",\"\",VLOOKUP($D56,'Reference Data - Fuel EFs'!$C:$O,W$4,FALSE))","v":""},{"$f":"IF($D56=\"\",\"\",VLOOKUP($D56,'Reference Data - Fuel EFs'!$C:$O,X$4,FALSE))","v":""},null,{"$f":"IF($D56=\"\",\"\",VLOOKUP($D56,'Reference Data - Fuel EFs'!$C:$O,Z$4,FALSE))","v":""},null,{"$f":"IF($D56=\"\",\"\",VLOOKUP($D56,'Reference Data - Fuel EFs'!$C:$O,AB$4,FALSE))","v":""},null,"","","","","","","","","",null,"",null,"",null,null,{"$f":"INDEX('Dropdown menus'!$A$1:$D$6,MATCH($K56,'Dropdown menus'!$A$1:$A$6,0),$AS$6)","v":{"$error":"#N/A"}},null,{"$f":"IF($J56=\"\",\"\",VLOOKUP($J56,'Reference Data - Transport fuel'!$C:$O,AU$4,FALSE))","v":""},{"$f":"IF($J56=\"\",\"\",VLOOKUP($J56,'Reference Data - Transport fuel'!$C:$O,AV$4,FALSE))","v":""},{"$f":"IF($J56=\"\",\"\",VLOOKUP($J56,'Reference Data - Transport fuel'!$C:$O,AW$4,FALSE))","v":""},{"$f":"IF($J56=\"\",\"\",VLOOKUP($J56,'Reference Data - Transport fuel'!$C:$O,AX$4,FALSE))","v":""},{"$f":"IF($J56=\"\",\"\",VLOOKUP($J56,'Reference Data - Transport fuel'!$C:$O,AY$4,FALSE))","v":""},{"$f":"IF($J56=\"\",\"\",VLOOKUP($J56,'Reference Data - Transport fuel'!$C:$O,AZ$4,FALSE))","v":""},{"$f":"IF($J56=\"\",\"\",VLOOKUP($J56,'Reference Data - Transport fuel'!$C:$O,BA$4,FALSE))","v":""},{"$f":"IF($J56=\"\",\"\",VLOOKUP($J56,'Reference Data - Transport fuel'!$C:$O,BB$4,FALSE))","v":""},{"$f":"IF($J56=\"\",\"\",VLOOKUP($J56,'Reference Data - Transport fuel'!$C:$O,BC$4,FALSE))","v":""},null,{"$f":"IF($J56=\"\",\"\",VLOOKUP($J56,'Reference Data - Transport fuel'!$C:$O,BE$4,FALSE))","v":""},null,{"$f":"IF($J56=\"\",\"\",VLOOKUP($J56,'Reference Data - Transport fuel'!$C:$O,BG$4,FALSE))","v":""},null,"","","","","","","","",null,"",null,"","",null,""]
[null,null,null,null,null,null,null,null,null,null,null,null,null,null,null,{"$f":"IF($D57=\"\",\"\",VLOOKUP($D57,'Reference Data - Fuel EFs'!$C:$O,P$4,FALSE))","v":""},{"$f":"IF($D57=\"\",\"\",VLOOKUP($D57,'Reference Data - Fuel EFs'!$C:$O,Q$4,FALSE))","v":""},{"$f":"IF($D57=\"\",\"\",VLOOKUP($D57,'Reference Data - Fuel EFs'!$C:$O,R$4,FALSE))","v":""},{"$f":"IF($D57=\"\",\"\",VLOOKUP($D57,'Reference Data - Fuel EFs'!$C:$O,S$4,FALSE))","v":""},{"$f":"IF($D57=\"\",\"\",VLOOKUP($D57,'Reference Data - Fuel EFs'!$C:$O,T$4,FALSE))","v":""},{"$f":"IF($D57=\"\",\"\",VLOOKUP($D57,'Reference Data - Fuel EFs'!$C:$O,U$4,FALSE))","v":""},{"$f":"IF($D57=\"\",\"\",VLOOKUP($D57,'Reference Data - Fuel EFs'!$C:$O,V$4,FALSE))","v":""},{"$f":"IF($D57=\"\",\"\",VLOOKUP($D57,'Reference Data - Fuel EFs'!$C:$O,W$4,FALSE))","v":""},{"$f":"IF($D57=\"\",\"\",VLOOKUP($D57,'Reference Data - Fuel EFs'!$C:$O,X$4,FALSE))","v":""},null,{"$f":"IF($D57=\"\",\"\",VLOOKUP($D57,'Reference Data - Fuel EFs'!$C:$O,Z$4,FALSE))","v":""},null,{"$f":"IF($D57=\"\",\"\",VLOOKUP($D57,'Reference Data - Fuel EFs'!$C:$O,AB$4,FALSE))","v":""},null,"","","","","","","","","",null,"",null,"",null,null,{"$f":"INDEX('Dropdown menus'!$A$1:$D$6,MATCH($K57,'Dropdown menus'!$A$1:$A$6,0),$AS$6)","v":{"$error":"#N/A"}},null,{"$f":"IF($J57=\"\",\"\",VLOOKUP($J57,'Reference Data - Transport fuel'!$C:$O,AU$4,FALSE))","v":""},{"$f":"IF($J57=\"\",\"\",VLOOKUP($J57,'Reference Data - Transport fuel'!$C:$O,AV$4,FALSE))","v":""},{"$f":"IF($J57=\"\",\"\",VLOOKUP($J57,'Reference Data - Transport fuel'!$C:$O,AW$4,FALSE))","v":""},{"$f":"IF($J57=\"\",\"\",VLOOKUP($J57,'Reference Data - Transport fuel'!$C:$O,AX$4,FALSE))","v":""},{"$f":"IF($J57=\"\",\"\",VLOOKUP($J57,'Reference Data - Transport fuel'!$C:$O,AY$4,FALSE))","v":""},{"$f":"IF($J57=\"\",\"\",VLOOKUP($J57,'Reference Data - Transport fuel'!$C:$O,AZ$4,FALSE))","v":""},{"$f":"IF($J57=\"\",\"\",VLOOKUP($J57,'Reference Data - Transport fuel'!$C:$O,BA$4,FALSE))","v":""},{"$f":"IF($J57=\"\",\"\",VLOOKUP($J57,'Reference Data - Transport fuel'!$C:$O,BB$4,FALSE))","v":""},{"$f":"IF($J57=\"\",\"\",VLOOKUP($J57,'Reference Data - Transport fuel'!$C:$O,BC$4,FALSE))","v":""},null,{"$f":"IF($J57=\"\",\"\",VLOOKUP($J57,'Reference Data - Transport fuel'!$C:$O,BE$4,FALSE))","v":""},null,{"$f":"IF($J57=\"\",\"\",VLOOKUP($J57,'Reference Data - Transport fuel'!$C:$O,BG$4,FALSE))","v":""},null,"","","","","","","","",null,"",null,"","",null,""]
[null,null,null,null,null,null,null,null,null,null,null,null,null,null,null,{"$f":"IF($D58=\"\",\"\",VLOOKUP($D58,'Reference Data - Fuel EFs'!$C:$O,P$4,FALSE))","v":""},{"$f":"IF($D58=\"\",\"\",VLOOKUP($D58,'Reference Data - Fuel EFs'!$C:$O,Q$4,FALSE))","v":""},{"$f":"IF($D58=\"\",\"\",VLOOKUP($D58,'Reference Data - Fuel EFs'!$C:$O,R$4,FALSE))","v":""},{"$f":"IF($D58=\"\",\"\",VLOOKUP($D58,'Reference Data - Fuel EFs'!$C:$O,S$4,FALSE))","v":""},{"$f":"IF($D58=\"\",\"\",VLOOKUP($D58,'Reference Data - Fuel EFs'!$C:$O,T$4,FALSE))","v":""},{"$f":"IF($D58=\"\",\"\",VLOOKUP($D58,'Reference Data - Fuel EFs'!$C:$O,U$4,FALSE))","v":""},{"$f":"IF($D58=\"\",\"\",VLOOKUP($D58,'Reference Data - Fuel EFs'!$C:$O,V$4,FALSE))","v":""},{"$f":"IF($D58=\"\",\"\",VLOOKUP($D58,'Reference Data - Fuel EFs'!$C:$O,W$4,FALSE))","v":""},{"$f":"IF($D58=\"\",\"\",VLOOKUP($D58,'Reference Data - Fuel EFs'!$C:$O,X$4,FALSE))","v":""},null,{"$f":"IF($D58=\"\",\"\",VLOOKUP($D58,'Reference Data - Fuel EFs'!$C:$O,Z$4,FALSE))","v":""},null,{"$f":"IF($D58=\"\",\"\",VLOOKUP($D58,'Reference Data - Fuel EFs'!$C:$O,AB$4,FALSE))","v":""},null,"","","","","","","","","",null,"",null,"",null,null,{"$f":"INDEX('Dropdown menus'!$A$1:$D$6,MATCH($K58,'Dropdown menus'!$A$1:$A$6,0),$AS$6)","v":{"$error":"#N/A"}},null,{"$f":"IF($J58=\"\",\"\",VLOOKUP($J58,'Reference Data - Transport fuel'!$C:$O,AU$4,FALSE))","v":""},{"$f":"IF($J58=\"\",\"\",VLOOKUP($J58,'Reference Data - Transport fuel'!$C:$O,AV$4,FALSE))","v":""},{"$f":"IF($J58=\"\",\"\",VLOOKUP($J58,'Reference Data - Transport fuel'!$C:$O,AW$4,FALSE))","v":""},{"$f":"IF($J58=\"\",\"\",VLOOKUP($J58,'Reference Data - Transport fuel'!$C:$O,AX$4,FALSE))","v":""},{"$f":"IF($J58=\"\",\"\",VLOOKUP($J58,'Reference Data - Transport fuel'!$C:$O,AY$4,FALSE))","v":""},{"$f":"IF($J58=\"\",\"\",VLOOKUP($J58,'Reference Data - Transport fuel'!$C:$O,AZ$4,FALSE))","v":""},{"$f":"IF($J58=\"\",\"\",VLOOKUP($J58,'Reference Data - Transport fuel'!$C:$O,BA$4,FALSE))","v":""},{"$f":"IF($J58=\"\",\"\",VLOOKUP($J58,'Reference Data - Transport fuel'!$C:$O,BB$4,FALSE))","v":""},{"$f":"IF($J58=\"\",\"\",VLOOKUP($J58,'Reference Data - Transport fuel'!$C:$O,BC$4,FALSE))","v":""},null,{"$f":"IF($J58=\"\",\"\",VLOOKUP($J58,'Reference Data - Transport fuel'!$C:$O,BE$4,FALSE))","v":""},null,{"$f":"IF($J58=\"\",\"\",VLOOKUP($J58,'Reference Data - Transport fuel'!$C:$O,BG$4,FALSE))","v":""},null,"","","","","","","","",null,"",null,"","",null,""]
[null,null,null,null,null,null,null,null,null,null,null,null,null,null,null,{"$f":"IF($D59=\"\",\"\",VLOOKUP($D59,'Reference Data - Fuel EFs'!$C:$O,P$4,FALSE))","v":""},{"$f":"IF($D59=\"\",\"\",VLOOKUP($D59,'Reference Data - Fuel EFs'!$C:$O,Q$4,FALSE))","v":""},{"$f":"IF($D59=\"\",\"\",VLOOKUP($D59,'Reference Data - Fuel EFs'!$C:$O,R$4,FALSE))","v":""},{"$f":"IF($D59=\"\",\"\",VLOOKUP($D59,'Reference Data - Fuel EFs'!$C:$O,S$4,FALSE))","v":""},{"$f":"IF($D59=\"\",\"\",VLOOKUP($D59,'Reference Data - Fuel EFs'!$C:$O,T$4,FALSE))","v":""},{"$f":"IF($D59=\"\",\"\",VLOOKUP($D59,'Reference Data - Fuel EFs'!$C:$O,U$4,FALSE))","v":""},{"$f":"IF($D59=\"\",\"\",VLOOKUP($D59,'Reference Data - Fuel EFs'!$C:$O,V$4,FALSE))","v":""},{"$f":"IF($D59=\"\",\"\",VLOOKUP($D59,'Reference Data - Fuel EFs'!$C:$O,W$4,FALSE))","v":""},{"$f":"IF($D59=\"\",\"\",VLOOKUP($D59,'Reference Data - Fuel EFs'!$C:$O,X$4,FALSE))","v":""},null,{"$f":"IF($D59=\"\",\"\",VLOOKUP($D59,'Reference Data - Fuel EFs'!$C:$O,Z$4,FALSE))","v":""},null,{"$f":"IF($D59=\"\",\"\",VLOOKUP($D59,'Reference Data - Fuel EFs'!$C:$O,AB$4,FALSE))","v":""},null,"","","","","","","","","",null,"",null,"",null,null,{"$f":"INDEX('Dropdown menus'!$A$1:$D$6,MATCH($K59,'Dropdown menus'!$A$1:$A$6,0),$AS$6)","v":{"$error":"#N/A"}},null,{"$f":"IF($J59=\"\",\"\",VLOOKUP($J59,'Reference Data - Transport fuel'!$C:$O,AU$4,FALSE))","v":""},{"$f":"IF($J59=\"\",\"\",VLOOKUP($J59,'Reference Data - Transport fuel'!$C:$O,AV$4,FALSE))","v":""},{"$f":"IF($J59=\"\",\"\",VLOOKUP($J59,'Reference Data - Transport fuel'!$C:$O,AW$4,FALSE))","v":""},{"$f":"IF($J59=\"\",\"\",VLOOKUP($J59,'Reference Data - Transport fuel'!$C:$O,AX$4,FALSE))","v":""},{"$f":"IF($J59=\"\",\"\",VLOOKUP($J59,'Reference Data - Transport fuel'!$C:$O,AY$4,FALSE))","v":""},{"$f":"IF($J59=\"\",\"\",VLOOKUP($J59,'Reference Data - Transport fuel'!$C:$O,AZ$4,FALSE))","v":""},{"$f":"IF($J59=\"\",\"\",VLOOKUP($J59,'Reference Data - Transport fuel'!$C:$O,BA$4,FALSE))","v":""},{"$f":"IF($J59=\"\",\"\",VLOOKUP($J59,'Reference Data - Transport fuel'!$C:$O,BB$4,FALSE))","v":""},{"$f":"IF($J59=\"\",\"\",VLOOKUP($J59,'Reference Data - Transport fuel'!$C:$O,BC$4,FALSE))","v":""},null,{"$f":"IF($J59=\"\",\"\",VLOOKUP($J59,'Reference Data - Transport fuel'!$C:$O,BE$4,FALSE))","v":""},null,{"$f":"IF($J59=\"\",\"\",VLOOKUP($J59,'Reference Data - Transport fuel'!$C:$O,BG$4,FALSE))","v":""},null,"","","","","","","","",null,"",null,"","",null,""]
[null,null,null,null,null,null,null,null,null,null,null,null,null,null,null,{"$f":"IF($D60=\"\",\"\",VLOOKUP($D60,'Reference Data - Fuel EFs'!$C:$O,P$4,FALSE))","v":""},{"$f":"IF($D60=\"\",\"\",VLOOKUP($D60,'Reference Data - Fuel EFs'!$C:$O,Q$4,FALSE))","v":""},{"$f":"IF($D60=\"\",\"\",VLOOKUP($D60,'Reference Data - Fuel EFs'!$C:$O,R$4,FALSE))","v":""},{"$f":"IF($D60=\"\",\"\",VLOOKUP($D60,'Reference Data - Fuel EFs'!$C:$O,S$4,FALSE))","v":""},{"$f":"IF($D60=\"\",\"\",VLOOKUP($D60,'Reference Data - Fuel EFs'!$C:$O,T$4,FALSE))","v":""},{"$f":"IF($D60=\"\",\"\",VLOOKUP($D60,'Reference Data - Fuel EFs'!$C:$O,U$4,FALSE))","v":""},{"$f":"IF($D60=\"\",\"\",VLOOKUP($D60,'Reference Data - Fuel EFs'!$C:$O,V$4,FALSE))","v":""},{"$f":"IF($D60=\"\",\"\",VLOOKUP($D60,'Reference Data - Fuel EFs'!$C:$O,W$4,FALSE))","v":""},{"$f":"IF($D60=\"\",\"\",VLOOKUP($D60,'Reference Data - Fuel EFs'!$C:$O,X$4,FALSE))","v":""},null,{"$f":"IF($D60=\"\",\"\",VLOOKUP($D60,'Reference Data - Fuel EFs'!$C:$O,Z$4,FALSE))","v":""},null,{"$f":"IF($D60=\"\",\"\",VLOOKUP($D60,'Reference Data - Fuel EFs'!$C:$O,AB$4,FALSE))","v":""},null,"","","","","","","","","",null,"",null,"",null,null,{"$f":"INDEX('Dropdown menus'!$A$1:$D$6,MATCH($K60,'Dropdown menus'!$A$1:$A$6,0),$AS$6)","v":{"$error":"#N/A"}},null,{"$f":"IF($J60=\"\",\"\",VLOOKUP($J60,'Reference Data - Transport fuel'!$C:$O,AU$4,FALSE))","v":""},{"$f":"IF($J60=\"\",\"\",VLOOKUP($J60,'Reference Data - Transport fuel'!$C:$O,AV$4,FALSE))","v":""},{"$f":"IF($J60=\"\",\"\",VLOOKUP($J60,'Reference Data - Transport fuel'!$C:$O,AW$4,FALSE))","v":""},{"$f":"IF($J60=\"\",\"\",VLOOKUP($J60,'Reference Data - Transport fuel'!$C:$O,AX$4,FALSE))","v":""},{"$f":"IF($J60=\"\",\"\",VLOOKUP($J60,'Reference Data - Transport fuel'!$C:$O,AY$4,FALSE))","v":""},{"$f":"IF($J60=\"\",\"\",VLOOKUP($J60,'Reference Data - Transport fuel'!$C:$O,AZ$4,FALSE))","v":""},{"$f":"IF($J60=\"\",\"\",VLOOKUP($J60,'Reference Data - Transport fuel'!$C:$O,BA$4,FALSE))","v":""},{"$f":"IF($J60=\"\",\"\",VLOOKUP($J60,'Reference Data - Transport fuel'!$C:$O,BB$4,FALSE))","v":""},{"$f":"IF($J60=\"\",\"\",VLOOKUP($J60,'Reference Data - Transport fuel'!$C:$O,BC$4,FALSE))","v":""},null,{"$f":"IF($J60=\"\",\"\",VLOOKUP($J60,'Reference Data - Transport fuel'!$C:$O,BE$4,FALSE))","v":""},null,{"$f":"IF($J60=\"\",\"\",VLOOKUP($J60,'Reference Data - Transport fuel'!$C:$O,BG$4,FALSE))","v":""},null,"","","","","","","","",null,"",null,"","",null,""]
[null,null,null,null,null,null,null,null,null,null,null,null,null,null,null,{"$f":"IF($D61=\"\",\"\",VLOOKUP($D61,'Reference Data - Fuel EFs'!$C:$O,P$4,FALSE))","v":""},{"$f":"IF($D61=\"\",\"\",VLOOKUP($D61,'Reference Data - Fuel EFs'!$C:$O,Q$4,FALSE))","v":""},{"$f":"IF($D61=\"\",\"\",VLOOKUP($D61,'Reference Data - Fuel EFs'!$C:$O,R$4,FALSE))","v":""},{"$f":"IF($D61=\"\",\"\",VLOOKUP($D61,'Reference Data - Fuel EFs'!$C:$O,S$4,FALSE))","v":""},{"$f":"IF($D61=\"\",\"\",VLOOKUP($D61,'Reference Data - Fuel EFs'!$C:$O,T$4,FALSE))","v":""},{"$f":"IF($D61=\"\",\"\",VLOOKUP($D61,'Reference Data - Fuel EFs'!$C:$O,U$4,FALSE))","v":""},{"$f":"IF($D61=\"\",\"\",VLOOKUP($D61,'Reference Data - Fuel EFs'!$C:$O,V$4,FALSE))","v":""},{"$f":"IF($D61=\"\",\"\",VLOOKUP($D61,'Reference Data - Fuel EFs'!$C:$O,W$4,FALSE))","v":""},{"$f":"IF($D61=\"\",\"\",VLOOKUP($D61,'Reference Data - Fuel EFs'!$C:$O,X$4,FALSE))","v":""},null,{"$f":"IF($D61=\"\",\"\",VLOOKUP($D61,'Reference Data - Fuel EFs'!$C:$O,Z$4,FALSE))","v":""},null,{"$f":"IF($D61=\"\",\"\",VLOOKUP($D61,'Reference Data - Fuel EFs'!$C:$O,AB$4,FALSE))","v":""},null,"","","","","","","","","",null,"",null,"",null,null,{"$f":"INDEX('Dropdown menus'!$A$1:$D$6,MATCH($K61,'Dropdown menus'!$A$1:$A$6,0),$AS$6)","v":{"$error":"#N/A"}},null,{"$f":"IF($J61=\"\",\"\",VLOOKUP($J61,'Reference Data - Transport fuel'!$C:$O,AU$4,FALSE))","v":""},{"$f":"IF($J61=\"\",\"\",VLOOKUP($J61,'Reference Data - Transport fuel'!$C:$O,AV$4,FALSE))","v":""},{"$f":"IF($J61=\"\",\"\",VLOOKUP($J61,'Reference Data - Transport fuel'!$C:$O,AW$4,FALSE))","v":""},{"$f":"IF($J61=\"\",\"\",VLOOKUP($J61,'Reference Data - Transport fuel'!$C:$O,AX$4,FALSE))","v":""},{"$f":"IF($J61=\"\",\"\",VLOOKUP($J61,'Reference Data - Transport fuel'!$C:$O,AY$4,FALSE))","v":""},{"$f":"IF($J61=\"\",\"\",VLOOKUP($J61,'Reference Data - Transport fuel'!$C:$O,AZ$4,FALSE))","v":""},{"$f":"IF($J61=\"\",\"\",VLOOKUP($J61,'Reference Data - Transport fuel'!$C:$O,BA$4,FALSE))","v":""},{"$f":"IF($J61=\"\",\"\",VLOOKUP($J61,'Reference Data - Transport fuel'!$C:$O,BB$4,FALSE))","v":""},{"$f":"IF($J61=\"\",\"\",VLOOKUP($J61,'Reference Data - Transport fuel'!$C:$O,BC$4,FALSE))","v":""},null,{"$f":"IF($J61=\"\",\"\",VLOOKUP($J61,'Reference Data - Transport fuel'!$C:$O,BE$4,FALSE))","v":""},null,{"$f":"IF($J61=\"\",\"\",VLOOKUP($J61,'Reference Data - Transport fuel'!$C:$O,BG$4,FALSE))","v":""},null,"","","","","","","","",null,"",null,"","",null,""]
[null,null,null,null,null,null,null,null,null,null,null,null,null,null,null,{"$f":"IF($D62=\"\",\"\",VLOOKUP($D62,'Reference Data - Fuel EFs'!$C:$O,P$4,FALSE))","v":""},{"$f":"IF($D62=\"\",\"\",VLOOKUP($D62,'Reference Data - Fuel EFs'!$C:$O,Q$4,FALSE))","v":""},{"$f":"IF($D62=\"\",\"\",VLOOKUP($D62,'Reference Data - Fuel EFs'!$C:$O,R$4,FALSE))","v":""},{"$f":"IF($D62=\"\",\"\",VLOOKUP($D62,'Reference Data - Fuel EFs'!$C:$O,S$4,FALSE))","v":""},{"$f":"IF($D62=\"\",\"\",VLOOKUP($D62,'Reference Data - Fuel EFs'!$C:$O,T$4,FALSE))","v":""},{"$f":"IF($D62=\"\",\"\",VLOOKUP($D62,'Reference Data - Fuel EFs'!$C:$O,U$4,FALSE))","v":""},{"$f":"IF($D62=\"\",\"\",VLOOKUP($D62,'Reference Data - Fuel EFs'!$C:$O,V$4,FALSE))","v":""},{"$f":"IF($D62=\"\",\"\",VLOOKUP($D62,'Reference Data - Fuel EFs'!$C:$O,W$4,FALSE))","v":""},{"$f":"IF($D62=\"\",\"\",VLOOKUP($D62,'Reference Data - Fuel EFs'!$C:$O,X$4,FALSE))","v":""},null,{"$f":"IF($D62=\"\",\"\",VLOOKUP($D62,'Reference Data - Fuel EFs'!$C:$O,Z$4,FALSE))","v":""},null,{"$f":"IF($D62=\"\",\"\",VLOOKUP($D62,'Reference Data - Fuel EFs'!$C:$O,AB$4,FALSE))","v":""},null,"","","","","","","","","",null,"",null,"",null,null,{"$f":"INDEX('Dropdown menus'!$A$1:$D$6,MATCH($K62,'Dropdown menus'!$A$1:$A$6,0),$AS$6)","v":{"$error":"#N/A"}},null,{"$f":"IF($J62=\"\",\"\",VLOOKUP($J62,'Reference Data - Transport fuel'!$C:$O,AU$4,FALSE))","v":""},{"$f":"IF($J62=\"\",\"\",VLOOKUP($J62,'Reference Data - Transport fuel'!$C:$O,AV$4,FALSE))","v":""},{"$f":"IF($J62=\"\",\"\",VLOOKUP($J62,'Reference Data - Transport fuel'!$C:$O,AW$4,FALSE))","v":""},{"$f":"IF($J62=\"\",\"\",VLOOKUP($J62,'Reference Data - Transport fuel'!$C:$O,AX$4,FALSE))","v":""},{"$f":"IF($J62=\"\",\"\",VLOOKUP($J62,'Reference Data - Transport fuel'!$C:$O,AY$4,FALSE))","v":""},{"$f":"IF($J62=\"\",\"\",VLOOKUP($J62,'Reference Data - Transport fuel'!$C:$O,AZ$4,FALSE))","v":""},{"$f":"IF($J62=\"\",\"\",VLOOKUP($J62,'Reference Data - Transport fuel'!$C:$O,BA$4,FALSE))","v":""},{"$f":"IF($J62=\"\",\"\",VLOOKUP($J62,'Reference Data - Transport fuel'!$C:$O,BB$4,FALSE))","v":""},{"$f":"IF($J62=\"\",\"\",VLOOKUP($J62,'Reference Data - Transport fuel'!$C:$O,BC$4,FALSE))","v":""},null,{"$f":"IF($J62=\"\",\"\",VLOOKUP($J62,'Reference Data - Transport fuel'!$C:$O,BE$4,FALSE))","v":""},null,{"$f":"IF($J62=\"\",\"\",VLOOKUP($J62,'Reference Data - Transport fuel'!$C:$O,BG$4,FALSE))","v":""},null,"","","","","","","","",null,"",null,"","",null,""]
[null,null,null,null,null,null,null,null,null,null,null,null,null,null,null,{"$f":"IF($D63=\"\",\"\",VLOOKUP($D63,'Reference Data - Fuel EFs'!$C:$O,P$4,FALSE))","v":""},{"$f":"IF($D63=\"\",\"\",VLOOKUP($D63,'Reference Data - Fuel EFs'!$C:$O,Q$4,FALSE))","v":""},{"$f":"IF($D63=\"\",\"\",VLOOKUP($D63,'Reference Data - Fuel EFs'!$C:$O,R$4,FALSE))","v":""},{"$f":"IF($D63=\"\",\"\",VLOOKUP($D63,'Reference Data - Fuel EFs'!$C:$O,S$4,FALSE))","v":""},{"$f":"IF($D63=\"\",\"\",VLOOKUP($D63,'Reference Data - Fuel EFs'!$C:$O,T$4,FALSE))","v":""},{"$f":"IF($D63=\"\",\"\",VLOOKUP($D63,'Reference Data - Fuel EFs'!$C:$O,U$4,FALSE))","v":""},{"$f":"IF($D63=\"\",\"\",VLOOKUP($D63,'Reference Data - Fuel EFs'!$C:$O,V$4,FALSE))","v":""},{"$f":"IF($D63=\"\",\"\",VLOOKUP($D63,'Reference Data - Fuel EFs'!$C:$O,W$4,FALSE))","v":""},{"$f":"IF($D63=\"\",\"\",VLOOKUP($D63,'Reference Data - Fuel EFs'!$C:$O,X$4,FALSE))","v":""},null,{"$f":"IF($D63=\"\",\"\",VLOOKUP($D63,'Reference Data - Fuel EFs'!$C:$O,Z$4,FALSE))","v":""},null,{"$f":"IF($D63=\"\",\"\",VLOOKUP($D63,'Reference Data - Fuel EFs'!$C:$O,AB$4,FALSE))","v":""},null,"","","","","","","","","",null,"",null,"",null,null,{"$f":"INDEX('Dropdown menus'!$A$1:$D$6,MATCH($K63,'Dropdown menus'!$A$1:$A$6,0),$AS$6)","v":{"$error":"#N/A"}},null,{"$f":"IF($J63=\"\",\"\",VLOOKUP($J63,'Reference Data - Transport fuel'!$C:$O,AU$4,FALSE))","v":""},{"$f":"IF($J63=\"\",\"\",VLOOKUP($J63,'Reference Data - Transport fuel'!$C:$O,AV$4,FALSE))","v":""},{"$f":"IF($J63=\"\",\"\",VLOOKUP($J63,'Reference Data - Transport fuel'!$C:$O,AW$4,FALSE))","v":""},{"$f":"IF($J63=\"\",\"\",VLOOKUP($J63,'Reference Data - Transport fuel'!$C:$O,AX$4,FALSE))","v":""},{"$f":"IF($J63=\"\",\"\",VLOOKUP($J63,'Reference Data - Transport fuel'!$C:$O,AY$4,FALSE))","v":""},{"$f":"IF($J63=\"\",\"\",VLOOKUP($J63,'Reference Data - Transport fuel'!$C:$O,AZ$4,FALSE))","v":""},{"$f":"IF($J63=\"\",\"\",VLOOKUP($J63,'Reference Data - Transport fuel'!$C:$O,BA$4,FALSE))","v":""},{"$f":"IF($J63=\"\",\"\",VLOOKUP($J63,'Reference Data - Transport fuel'!$C:$O,BB$4,FALSE))","v":""},{"$f":"IF($J63=\"\",\"\",VLOOKUP($J63,'Reference Data - Transport fuel'!$C:$O,BC$4,FALSE))","v":""},null,{"$f":"IF($J63=\"\",\"\",VLOOKUP($J63,'Reference Data - Transport fuel'!$C:$O,BE$4,FALSE))","v":""},null,{"$f":"IF($J63=\"\",\"\",VLOOKUP($J63,'Reference Data - Transport fuel'!$C:$O,BG$4,FALSE))","v":""},null,"","","","","","","","",null,"",null,"","",null,""]
[null,null,null,null,null,null,null,null,null,null,null,null,null,null,null,{"$f":"IF($D64=\"\",\"\",VLOOKUP($D64,'Reference Data - Fuel EFs'!$C:$O,P$4,FALSE))","v":""},{"$f":"IF($D64=\"\",\"\",VLOOKUP($D64,'Reference Data - Fuel EFs'!$C:$O,Q$4,FALSE))","v":""},{"$f":"IF($D64=\"\",\"\",VLOOKUP($D64,'Reference Data - Fuel EFs'!$C:$O,R$4,FALSE))","v":""},{"$f":"IF($D64=\"\",\"\",VLOOKUP($D64,'Reference Data - Fuel EFs'!$C:$O,S$4,FALSE))","v":""},{"$f":"IF($D64=\"\",\"\",VLOOKUP($D64,'Reference Data - Fuel EFs'!$C:$O,T$4,FALSE))","v":""},{"$f":"IF($D64=\"\",\"\",VLOOKUP($D64,'Reference Data - Fuel EFs'!$C:$O,U$4,FALSE))","v":""},{"$f":"IF($D64=\"\",\"\",VLOOKUP($D64,'Reference Data - Fuel EFs'!$C:$O,V$4,FALSE))","v":""},{"$f":"IF($D64=\"\",\"\",VLOOKUP($D64,'Reference Data - Fuel EFs'!$C:$O,W$4,FALSE))","v":""},{"$f":"IF($D64=\"\",\"\",VLOOKUP($D64,'Reference Data - Fuel EFs'!$C:$O,X$4,FALSE))","v":""},null,{"$f":"IF($D64=\"\",\"\",VLOOKUP($D64,'Reference Data - Fuel EFs'!$C:$O,Z$4,FALSE))","v":""},null,{"$f":"IF($D64=\"\",\"\",VLOOKUP($D64,'Reference Data - Fuel EFs'!$C:$O,AB$4,FALSE))","v":""},null,"","","","","","","","","",null,"",null,"",null,null,{"$f":"INDEX('Dropdown menus'!$A$1:$D$6,MATCH($K64,'Dropdown menus'!$A$1:$A$6,0),$AS$6)","v":{"$error":"#N/A"}},null,{"$f":"IF($J64=\"\",\"\",VLOOKUP($J64,'Reference Data - Transport fuel'!$C:$O,AU$4,FALSE))","v":""},{"$f":"IF($J64=\"\",\"\",VLOOKUP($J64,'Reference Data - Transport fuel'!$C:$O,AV$4,FALSE))","v":""},{"$f":"IF($J64=\"\",\"\",VLOOKUP($J64,'Reference Data - Transport fuel'!$C:$O,AW$4,FALSE))","v":""},{"$f":"IF($J64=\"\",\"\",VLOOKUP($J64,'Reference Data - Transport fuel'!$C:$O,AX$4,FALSE))","v":""},{"$f":"IF($J64=\"\",\"\",VLOOKUP($J64,'Reference Data - Transport fuel'!$C:$O,AY$4,FALSE))","v":""},{"$f":"IF($J64=\"\",\"\",VLOOKUP($J64,'Reference Data - Transport fuel'!$C:$O,AZ$4,FALSE))","v":""},{"$f":"IF($J64=\"\",\"\",VLOOKUP($J64,'Reference Data - Transport fuel'!$C:$O,BA$4,FALSE))","v":""},{"$f":"IF($J64=\"\",\"\",VLOOKUP($J64,'Reference Data - Transport fuel'!$C:$O,BB$4,FALSE))","v":""},{"$f":"IF($J64=\"\",\"\",VLOOKUP($J64,'Reference Data - Transport fuel'!$C:$O,BC$4,FALSE))","v":""},null,{"$f":"IF($J64=\"\",\"\",VLOOKUP($J64,'Reference Data - Transport fuel'!$C:$O,BE$4,FALSE))","v":""},null,{"$f":"IF($J64=\"\",\"\",VLOOKUP($J64,'Reference Data - Transport fuel'!$C:$O,BG$4,FALSE))","v":""},null,"","","","","","","","",null,"",null,"","",null,""]
[null,null,null,null,null,null,null,null,null,null,null,null,null,null,null,{"$f":"IF($D65=\"\",\"\",VLOOKUP($D65,'Reference Data - Fuel EFs'!$C:$O,P$4,FALSE))","v":""},{"$f":"IF($D65=\"\",\"\",VLOOKUP($D65,'Reference Data - Fuel EFs'!$C:$O,Q$4,FALSE))","v":""},{"$f":"IF($D65=\"\",\"\",VLOOKUP($D65,'Reference Data - Fuel EFs'!$C:$O,R$4,FALSE))","v":""},{"$f":"IF($D65=\"\",\"\",VLOOKUP($D65,'Reference Data - Fuel EFs'!$C:$O,S$4,FALSE))","v":""},{"$f":"IF($D65=\"\",\"\",VLOOKUP($D65,'Reference Data - Fuel EFs'!$C:$O,T$4,FALSE))","v":""},{"$f":"IF($D65=\"\",\"\",VLOOKUP($D65,'Reference Data - Fuel EFs'!$C:$O,U$4,FALSE))","v":""},{"$f":"IF($D65=\"\",\"\",VLOOKUP($D65,'Reference Data - Fuel EFs'!$C:$O,V$4,FALSE))","v":""},{"$f":"IF($D65=\"\",\"\",VLOOKUP($D65,'Reference Data - Fuel EFs'!$C:$O,W$4,FALSE))","v":""},{"$f":"IF($D65=\"\",\"\",VLOOKUP($D65,'Reference Data - Fuel EFs'!$C:$O,X$4,FALSE))","v":""},null,{"$f":"IF($D65=\"\",\"\",VLOOKUP($D65,'Reference Data - Fuel EFs'!$C:$O,Z$4,FALSE))","v":""},null,{"$f":"IF($D65=\"\",\"\",VLOOKUP($D65,'Reference Data - Fuel EFs'!$C:$O,AB$4,FALSE))","v":""},null,"","","","","","","","","",null,"",null,"",null,null,{"$f":"INDEX('Dropdown menus'!$A$1:$D$6,MATCH($K65,'Dropdown menus'!$A$1:$A$6,0),$AS$6)","v":{"$error":"#N/A"}},null,{"$f":"IF($J65=\"\",\"\",VLOOKUP($J65,'Reference Data - Transport fuel'!$C:$O,AU$4,FALSE))","v":""},{"$f":"IF($J65=\"\",\"\",VLOOKUP($J65,'Reference Data - Transport fuel'!$C:$O,AV$4,FALSE))","v":""},{"$f":"IF($J65=\"\",\"\",VLOOKUP($J65,'Reference Data - Transport fuel'!$C:$O,AW$4,FALSE))","v":""},{"$f":"IF($J65=\"\",\"\",VLOOKUP($J65,'Reference Data - Transport fuel'!$C:$O,AX$4,FALSE))","v":""},{"$f":"IF($J65=\"\",\"\",VLOOKUP($J65,'Reference Data - Transport fuel'!$C:$O,AY$4,FALSE))","v":""},{"$f":"IF($J65=\"\",\"\",VLOOKUP($J65,'Reference Data - Transport fuel'!$C:$O,AZ$4,FALSE))","v":""},{"$f":"IF($J65=\"\",\"\",VLOOKUP($J65,'Reference Data - Transport fuel'!$C:$O,BA$4,FALSE))","v":""},{"$f":"IF($J65=\"\",\"\",VLOOKUP($J65,'Reference Data - Transport fuel'!$C:$O,BB$4,FALSE))","v":""},{"$f":"IF($J65=\"\",\"\",VLOOKUP($J65,'Reference Data - Transport fuel'!$C:$O,BC$4,FALSE))","v":""},null,{"$f":"IF($J65=\"\",\"\",VLOOKUP($J65,'Reference Data - Transport fuel'!$C:$O,BE$4,FALSE))","v":""},null,{"$f":"IF($J65=\"\",\"\",VLOOKUP($J65,'Reference Data - Transport fuel'!$C:$O,BG$4,FALSE))","v":""},null,"","","","","","","","",null,"",null,"","",null,""]
[null,null,null,null,null,null,null,null,null,null,null,null,null,null,null,{"$f":"IF($D66=\"\",\"\",VLOOKUP($D66,'Reference Data - Fuel EFs'!$C:$O,P$4,FALSE))","v":""},{"$f":"IF($D66=\"\",\"\",VLOOKUP($D66,'Reference Data - Fuel EFs'!$C:$O,Q$4,FALSE))","v":""},{"$f":"IF($D66=\"\",\"\",VLOOKUP($D66,'Reference Data - Fuel EFs'!$C:$O,R$4,FALSE))","v":""},{"$f":"IF($D66=\"\",\"\",VLOOKUP($D66,'Reference Data - Fuel EFs'!$C:$O,S$4,FALSE))","v":""},{"$f":"IF($D66=\"\",\"\",VLOOKUP($D66,'Reference Data - Fuel EFs'!$C:$O,T$4,FALSE))","v":""},{"$f":"IF($D66=\"\",\"\",VLOOKUP($D66,'Reference Data - Fuel EFs'!$C:$O,U$4,FALSE))","v":""},{"$f":"IF($D66=\"\",\"\",VLOOKUP($D66,'Reference Data - Fuel EFs'!$C:$O,V$4,FALSE))","v":""},{"$f":"IF($D66=\"\",\"\",VLOOKUP($D66,'Reference Data - Fuel EFs'!$C:$O,W$4,FALSE))","v":""},{"$f":"IF($D66=\"\",\"\",VLOOKUP($D66,'Reference Data - Fuel EFs'!$C:$O,X$4,FALSE))","v":""},null,{"$f":"IF($D66=\"\",\"\",VLOOKUP($D66,'Reference Data - Fuel EFs'!$C:$O,Z$4,FALSE))","v":""},null,{"$f":"IF($D66=\"\",\"\",VLOOKUP($D66,'Reference Data - Fuel EFs'!$C:$O,AB$4,FALSE))","v":""},null,"","","","","","","","","",null,"",null,"",null,null,{"$f":"INDEX('Dropdown menus'!$A$1:$D$6,MATCH($K66,'Dropdown menus'!$A$1:$A$6,0),$AS$6)","v":{"$error":"#N/A"}},null,{"$f":"IF($J66=\"\",\"\",VLOOKUP($J66,'Reference Data - Transport fuel'!$C:$O,AU$4,FALSE))","v":""},{"$f":"IF($J66=\"\",\"\",VLOOKUP($J66,'Reference Data - Transport fuel'!$C:$O,AV$4,FALSE))","v":""},{"$f":"IF($J66=\"\",\"\",VLOOKUP($J66,'Reference Data - Transport fuel'!$C:$O,AW$4,FALSE))","v":""},{"$f":"IF($J66=\"\",\"\",VLOOKUP($J66,'Reference Data - Transport fuel'!$C:$O,AX$4,FALSE))","v":""},{"$f":"IF($J66=\"\",\"\",VLOOKUP($J66,'Reference Data - Transport fuel'!$C:$O,AY$4,FALSE))","v":""},{"$f":"IF($J66=\"\",\"\",VLOOKUP($J66,'Reference Data - Transport fuel'!$C:$O,AZ$4,FALSE))","v":""},{"$f":"IF($J66=\"\",\"\",VLOOKUP($J66,'Reference Data - Transport fuel'!$C:$O,BA$4,FALSE))","v":""},{"$f":"IF($J66=\"\",\"\",VLOOKUP($J66,'Reference Data - Transport fuel'!$C:$O,BB$4,FALSE))","v":""},{"$f":"IF($J66=\"\",\"\",VLOOKUP($J66,'Reference Data - Transport fuel'!$C:$O,BC$4,FALSE))","v":""},null,{"$f":"IF($J66=\"\",\"\",VLOOKUP($J66,'Reference Data - Transport fuel'!$C:$O,BE$4,FALSE))","v":""},null,{"$f":"IF($J66=\"\",\"\",VLOOKUP($J66,'Reference Data - Transport fuel'!$C:$O,BG$4,FALSE))","v":""},null,"","","","","","","","",null,"",null,"","",null,""]
[null,null,null,null,null,null,null,null,null,null,null,null,null,null,null,{"$f":"IF($D67=\"\",\"\",VLOOKUP($D67,'Reference Data - Fuel EFs'!$C:$O,P$4,FALSE))","v":""},{"$f":"IF($D67=\"\",\"\",VLOOKUP($D67,'Reference Data - Fuel EFs'!$C:$O,Q$4,FALSE))","v":""},{"$f":"IF($D67=\"\",\"\",VLOOKUP($D67,'Reference Data - Fuel EFs'!$C:$O,R$4,FALSE))","v":""},{"$f":"IF($D67=\"\",\"\",VLOOKUP($D67,'Reference Data - Fuel EFs'!$C:$O,S$4,FALSE))","v":""},{"$f":"IF($D67=\"\",\"\",VLOOKUP($D67,'Reference Data - Fuel EFs'!$C:$O,T$4,FALSE))","v":""},{"$f":"IF($D67=\"\",\"\",VLOOKUP($D67,'Reference Data - Fuel EFs'!$C:$O,U$4,FALSE))","v":""},{"$f":"IF($D67=\"\",\"\",VLOOKUP($D67,'Reference Data - Fuel EFs'!$C:$O,V$4,FALSE))","v":""},{"$f":"IF($D67=\"\",\"\",VLOOKUP($D67,'Reference Data - Fuel EFs'!$C:$O,W$4,FALSE))","v":""},{"$f":"IF($D67=\"\",\"\",VLOOKUP($D67,'Reference Data - Fuel EFs'!$C:$O,X$4,FALSE))","v":""},null,{"$f":"IF($D67=\"\",\"\",VLOOKUP($D67,'Reference Data - Fuel EFs'!$C:$O,Z$4,FALSE))","v":""},null,{"$f":"IF($D67=\"\",\"\",VLOOKUP($D67,'Reference Data - Fuel EFs'!$C:$O,AB$4,FALSE))","v":""},null,"","","","","","","","","",null,"",null,"",null,null,{"$f":"INDEX('Dropdown menus'!$A$1:$D$6,MATCH($K67,'Dropdown menus'!$A$1:$A$6,0),$AS$6)","v":{"$error":"#N/A"}},null,{"$f":"IF($J67=\"\",\"\",VLOOKUP($J67,'Reference Data - Transport fuel'!$C:$O,AU$4,FALSE))","v":""},{"$f":"IF($J67=\"\",\"\",VLOOKUP($J67,'Reference Data - Transport fuel'!$C:$O,AV$4,FALSE))","v":""},{"$f":"IF($J67=\"\",\"\",VLOOKUP($J67,'Reference Data - Transport fuel'!$C:$O,AW$4,FALSE))","v":""},{"$f":"IF($J67=\"\",\"\",VLOOKUP($J67,'Reference Data - Transport fuel'!$C:$O,AX$4,FALSE))","v":""},{"$f":"IF($J67=\"\",\"\",VLOOKUP($J67,'Reference Data - Transport fuel'!$C:$O,AY$4,FALSE))","v":""},{"$f":"IF($J67=\"\",\"\",VLOOKUP($J67,'Reference Data - Transport fuel'!$C:$O,AZ$4,FALSE))","v":""},{"$f":"IF($J67=\"\",\"\",VLOOKUP($J67,'Reference Data - Transport fuel'!$C:$O,BA$4,FALSE))","v":""},{"$f":"IF($J67=\"\",\"\",VLOOKUP($J67,'Reference Data - Transport fuel'!$C:$O,BB$4,FALSE))","v":""},{"$f":"IF($J67=\"\",\"\",VLOOKUP($J67,'Reference Data - Transport fuel'!$C:$O,BC$4,FALSE))","v":""},null,{"$f":"IF($J67=\"\",\"\",VLOOKUP($J67,'Reference Data - Transport fuel'!$C:$O,BE$4,FALSE))","v":""},null,{"$f":"IF($J67=\"\",\"\",VLOOKUP($J67,'Reference Data - Transport fuel'!$C:$O,BG$4,FALSE))","v":""},null,"","","","","","","","",null,"",null,"","",null,""]
[null,null,null,null,null,null,null,null,null,null,null,null,null,null,null,{"$f":"IF($D68=\"\",\"\",VLOOKUP($D68,'Reference Data - Fuel EFs'!$C:$O,P$4,FALSE))","v":""},{"$f":"IF($D68=\"\",\"\",VLOOKUP($D68,'Reference Data - Fuel EFs'!$C:$O,Q$4,FALSE))","v":""},{"$f":"IF($D68=\"\",\"\",VLOOKUP($D68,'Reference Data - Fuel EFs'!$C:$O,R$4,FALSE))","v":""},{"$f":"IF($D68=\"\",\"\",VLOOKUP($D68,'Reference Data - Fuel EFs'!$C:$O,S$4,FALSE))","v":""},{"$f":"IF($D68=\"\",\"\",VLOOKUP($D68,'Reference Data - Fuel EFs'!$C:$O,T$4,FALSE))","v":""},{"$f":"IF($D68=\"\",\"\",VLOOKUP($D68,'Reference Data - Fuel EFs'!$C:$O,U$4,FALSE))","v":""},{"$f":"IF($D68=\"\",\"\",VLOOKUP($D68,'Reference Data - Fuel EFs'!$C:$O,V$4,FALSE))","v":""},{"$f":"IF($D68=\"\",\"\",VLOOKUP($D68,'Reference Data - Fuel EFs'!$C:$O,W$4,FALSE))","v":""},{"$f":"IF($D68=\"\",\"\",VLOOKUP($D68,'Reference Data - Fuel EFs'!$C:$O,X$4,FALSE))","v":""},null,{"$f":"IF($D68=\"\",\"\",VLOOKUP($D68,'Reference Data - Fuel EFs'!$C:$O,Z$4,FALSE))","v":""},null,{"$f":"IF($D68=\"\",\"\",VLOOKUP($D68,'Reference Data - Fuel EFs'!$C:$O,AB$4,FALSE))","v":""},null,"","","","","","","","","",null,"",null,"",null,null,{"$f":"INDEX('Dropdown menus'!$A$1:$D$6,MATCH($K68,'Dropdown menus'!$A$1:$A$6,0),$AS$6)","v":{"$error":"#N/A"}},null,{"$f":"IF($J68=\"\",\"\",VLOOKUP($J68,'Reference Data - Transport fuel'!$C:$O,AU$4,FALSE))","v":""},{"$f":"IF($J68=\"\",\"\",VLOOKUP($J68,'Reference Data - Transport fuel'!$C:$O,AV$4,FALSE))","v":""},{"$f":"IF($J68=\"\",\"\",VLOOKUP($J68,'Reference Data - Transport fuel'!$C:$O,AW$4,FALSE))","v":""},{"$f":"IF($J68=\"\",\"\",VLOOKUP($J68,'Reference Data - Transport fuel'!$C:$O,AX$4,FALSE))","v":""},{"$f":"IF($J68=\"\",\"\",VLOOKUP($J68,'Reference Data - Transport fuel'!$C:$O,AY$4,FALSE))","v":""},{"$f":"IF($J68=\"\",\"\",VLOOKUP($J68,'Reference Data - Transport fuel'!$C:$O,AZ$4,FALSE))","v":""},{"$f":"IF($J68=\"\",\"\",VLOOKUP($J68,'Reference Data - Transport fuel'!$C:$O,BA$4,FALSE))","v":""},{"$f":"IF($J68=\"\",\"\",VLOOKUP($J68,'Reference Data - Transport fuel'!$C:$O,BB$4,FALSE))","v":""},{"$f":"IF($J68=\"\",\"\",VLOOKUP($J68,'Reference Data - Transport fuel'!$C:$O,BC$4,FALSE))","v":""},null,{"$f":"IF($J68=\"\",\"\",VLOOKUP($J68,'Reference Data - Transport fuel'!$C:$O,BE$4,FALSE))","v":""},null,{"$f":"IF($J68=\"\",\"\",VLOOKUP($J68,'Reference Data - Transport fuel'!$C:$O,BG$4,FALSE))","v":""},null,"","","","","","","","",null,"",null,"","",null,""]
[null,null,null,null,null,null,null,null,null,null,null,null,null,null,null,{"$f":"IF($D69=\"\",\"\",VLOOKUP($D69,'Reference Data - Fuel EFs'!$C:$O,P$4,FALSE))","v":""},{"$f":"IF($D69=\"\",\"\",VLOOKUP($D69,'Reference Data - Fuel EFs'!$C:$O,Q$4,FALSE))","v":""},{"$f":"IF($D69=\"\",\"\",VLOOKUP($D69,'Reference Data - Fuel EFs'!$C:$O,R$4,FALSE))","v":""},{"$f":"IF($D69=\"\",\"\",VLOOKUP($D69,'Reference Data - Fuel EFs'!$C:$O,S$4,FALSE))","v":""},{"$f":"IF($D69=\"\",\"\",VLOOKUP($D69,'Reference Data - Fuel EFs'!$C:$O,T$4,FALSE))","v":""},{"$f":"IF($D69=\"\",\"\",VLOOKUP($D69,'Reference Data - Fuel EFs'!$C:$O,U$4,FALSE))","v":""},{"$f":"IF($D69=\"\",\"\",VLOOKUP($D69,'Reference Data - Fuel EFs'!$C:$O,V$4,FALSE))","v":""},{"$f":"IF($D69=\"\",\"\",VLOOKUP($D69,'Reference Data - Fuel EFs'!$C:$O,W$4,FALSE))","v":""},{"$f":"IF($D69=\"\",\"\",VLOOKUP($D69,'Reference Data - Fuel EFs'!$C:$O,X$4,FALSE))","v":""},null,{"$f":"IF($D69=\"\",\"\",VLOOKUP($D69,'Reference Data - Fuel EFs'!$C:$O,Z$4,FALSE))","v":""},null,{"$f":"IF($D69=\"\",\"\",VLOOKUP($D69,'Reference Data - Fuel EFs'!$C:$O,AB$4,FALSE))","v":""},null,"","","","","","","","","",null,"",null,"",null,null,{"$f":"INDEX('Dropdown menus'!$A$1:$D$6,MATCH($K69,'Dropdown menus'!$A$1:$A$6,0),$AS$6)","v":{"$error":"#N/A"}},null,{"$f":"IF($J69=\"\",\"\",VLOOKUP($J69,'Reference Data - Transport fuel'!$C:$O,AU$4,FALSE))","v":""},{"$f":"IF($J69=\"\",\"\",VLOOKUP($J69,'Reference Data - Transport fuel'!$C:$O,AV$4,FALSE))","v":""},{"$f":"IF($J69=\"\",\"\",VLOOKUP($J69,'Reference Data - Transport fuel'!$C:$O,AW$4,FALSE))","v":""},{"$f":"IF($J69=\"\",\"\",VLOOKUP($J69,'Reference Data - Transport fuel'!$C:$O,AX$4,FALSE))","v":""},{"$f":"IF($J69=\"\",\"\",VLOOKUP($J69,'Reference Data - Transport fuel'!$C:$O,AY$4,FALSE))","v":""},{"$f":"IF($J69=\"\",\"\",VLOOKUP($J69,'Reference Data - Transport fuel'!$C:$O,AZ$4,FALSE))","v":""},{"$f":"IF($J69=\"\",\"\",VLOOKUP($J69,'Reference Data - Transport fuel'!$C:$O,BA$4,FALSE))","v":""},{"$f":"IF($J69=\"\",\"\",VLOOKUP($J69,'Reference Data - Transport fuel'!$C:$O,BB$4,FALSE))","v":""},{"$f":"IF($J69=\"\",\"\",VLOOKUP($J69,'Reference Data - Transport fuel'!$C:$O,BC$4,FALSE))","v":""},null,{"$f":"IF($J69=\"\",\"\",VLOOKUP($J69,'Reference Data - Transport fuel'!$C:$O,BE$4,FALSE))","v":""},null,{"$f":"IF($J69=\"\",\"\",VLOOKUP($J69,'Reference Data - Transport fuel'!$C:$O,BG$4,FALSE))","v":""},null,"","","","","","","","",null,"",null,"","",null,""]
[null,null,null,null,null,null,null,null,null,null,null,null,null,null,null,{"$f":"IF($D70=\"\",\"\",VLOOKUP($D70,'Reference Data - Fuel EFs'!$C:$O,P$4,FALSE))","v":""},{"$f":"IF($D70=\"\",\"\",VLOOKUP($D70,'Reference Data - Fuel EFs'!$C:$O,Q$4,FALSE))","v":""},{"$f":"IF($D70=\"\",\"\",VLOOKUP($D70,'Reference Data - Fuel EFs'!$C:$O,R$4,FALSE))","v":""},{"$f":"IF($D70=\"\",\"\",VLOOKUP($D70,'Reference Data - Fuel EFs'!$C:$O,S$4,FALSE))","v":""},{"$f":"IF($D70=\"\",\"\",VLOOKUP($D70,'Reference Data - Fuel EFs'!$C:$O,T$4,FALSE))","v":""},{"$f":"IF($D70=\"\",\"\",VLOOKUP($D70,'Reference Data - Fuel EFs'!$C:$O,U$4,FALSE))","v":""},{"$f":"IF($D70=\"\",\"\",VLOOKUP($D70,'Reference Data - Fuel EFs'!$C:$O,V$4,FALSE))","v":""},{"$f":"IF($D70=\"\",\"\",VLOOKUP($D70,'Reference Data - Fuel EFs'!$C:$O,W$4,FALSE))","v":""},{"$f":"IF($D70=\"\",\"\",VLOOKUP($D70,'Reference Data - Fuel EFs'!$C:$O,X$4,FALSE))","v":""},null,{"$f":"IF($D70=\"\",\"\",VLOOKUP($D70,'Reference Data - Fuel EFs'!$C:$O,Z$4,FALSE))","v":""},null,{"$f":"IF($D70=\"\",\"\",VLOOKUP($D70,'Reference Data - Fuel EFs'!$C:$O,AB$4,FALSE))","v":""},null,"","","","","","","","","",null,"",null,"",null,null,{"$f":"INDEX('Dropdown menus'!$A$1:$D$6,MATCH($K70,'Dropdown menus'!$A$1:$A$6,0),$AS$6)","v":{"$error":"#N/A"}},null,{"$f":"IF($J70=\"\",\"\",VLOOKUP($J70,'Reference Data - Transport fuel'!$C:$O,AU$4,FALSE))","v":""},{"$f":"IF($J70=\"\",\"\",VLOOKUP($J70,'Reference Data - Transport fuel'!$C:$O,AV$4,FALSE))","v":""},{"$f":"IF($J70=\"\",\"\",VLOOKUP($J70,'Reference Data - Transport fuel'!$C:$O,AW$4,FALSE))","v":""},{"$f":"IF($J70=\"\",\"\",VLOOKUP($J70,'Reference Data - Transport fuel'!$C:$O,AX$4,FALSE))","v":""},{"$f":"IF($J70=\"\",\"\",VLOOKUP($J70,'Reference Data - Transport fuel'!$C:$O,AY$4,FALSE))","v":""},{"$f":"IF($J70=\"\",\"\",VLOOKUP($J70,'Reference Data - Transport fuel'!$C:$O,AZ$4,FALSE))","v":""},{"$f":"IF($J70=\"\",\"\",VLOOKUP($J70,'Reference Data - Transport fuel'!$C:$O,BA$4,FALSE))","v":""},{"$f":"IF($J70=\"\",\"\",VLOOKUP($J70,'Reference Data - Transport fuel'!$C:$O,BB$4,FALSE))","v":""},{"$f":"IF($J70=\"\",\"\",VLOOKUP($J70,'Reference Data - Transport fuel'!$C:$O,BC$4,FALSE))","v":""},null,{"$f":"IF($J70=\"\",\"\",VLOOKUP($J70,'Reference Data - Transport fuel'!$C:$O,BE$4,FALSE))","v":""},null,{"$f":"IF($J70=\"\",\"\",VLOOKUP($J70,'Reference Data - Transport fuel'!$C:$O,BG$4,FALSE))","v":""},null,"","","","","","","","",null,"",null,"","",null,""]
[null,null,null,null,null,null,null,null,null,null,null,null,null,null,null,{"$f":"IF($D71=\"\",\"\",VLOOKUP($D71,'Reference Data - Fuel EFs'!$C:$O,P$4,FALSE))","v":""},{"$f":"IF($D71=\"\",\"\",VLOOKUP($D71,'Reference Data - Fuel EFs'!$C:$O,Q$4,FALSE))","v":""},{"$f":"IF($D71=\"\",\"\",VLOOKUP($D71,'Reference Data - Fuel EFs'!$C:$O,R$4,FALSE))","v":""},{"$f":"IF($D71=\"\",\"\",VLOOKUP($D71,'Reference Data - Fuel EFs'!$C:$O,S$4,FALSE))","v":""},{"$f":"IF($D71=\"\",\"\",VLOOKUP($D71,'Reference Data - Fuel EFs'!$C:$O,T$4,FALSE))","v":""},{"$f":"IF($D71=\"\",\"\",VLOOKUP($D71,'Reference Data - Fuel EFs'!$C:$O,U$4,FALSE))","v":""},{"$f":"IF($D71=\"\",\"\",VLOOKUP($D71,'Reference Data - Fuel EFs'!$C:$O,V$4,FALSE))","v":""},{"$f":"IF($D71=\"\",\"\",VLOOKUP($D71,'Reference Data - Fuel EFs'!$C:$O,W$4,FALSE))","v":""},{"$f":"IF($D71=\"\",\"\",VLOOKUP($D71,'Reference Data - Fuel EFs'!$C:$O,X$4,FALSE))","v":""},null,{"$f":"IF($D71=\"\",\"\",VLOOKUP($D71,'Reference Data - Fuel EFs'!$C:$O,Z$4,FALSE))","v":""},null,{"$f":"IF($D71=\"\",\"\",VLOOKUP($D71,'Reference Data - Fuel EFs'!$C:$O,AB$4,FALSE))","v":""},null,"","","","","","","","","",null,"",null,"",null,null,{"$f":"INDEX('Dropdown menus'!$A$1:$D$6,MATCH($K71,'Dropdown menus'!$A$1:$A$6,0),$AS$6)","v":{"$error":"#N/A"}},null,{"$f":"IF($J71=\"\",\"\",VLOOKUP($J71,'Reference Data - Transport fuel'!$C:$O,AU$4,FALSE))","v":""},{"$f":"IF($J71=\"\",\"\",VLOOKUP($J71,'Reference Data - Transport fuel'!$C:$O,AV$4,FALSE))","v":""},{"$f":"IF($J71=\"\",\"\",VLOOKUP($J71,'Reference Data - Transport fuel'!$C:$O,AW$4,FALSE))","v":""},{"$f":"IF($J71=\"\",\"\",VLOOKUP($J71,'Reference Data - Transport fuel'!$C:$O,AX$4,FALSE))","v":""},{"$f":"IF($J71=\"\",\"\",VLOOKUP($J71,'Reference Data - Transport fuel'!$C:$O,AY$4,FALSE))","v":""},{"$f":"IF($J71=\"\",\"\",VLOOKUP($J71,'Reference Data - Transport fuel'!$C:$O,AZ$4,FALSE))","v":""},{"$f":"IF($J71=\"\",\"\",VLOOKUP($J71,'Reference Data - Transport fuel'!$C:$O,BA$4,FALSE))","v":""},{"$f":"IF($J71=\"\",\"\",VLOOKUP($J71,'Reference Data - Transport fuel'!$C:$O,BB$4,FALSE))","v":""},{"$f":"IF($J71=\"\",\"\",VLOOKUP($J71,'Reference Data - Transport fuel'!$C:$O,BC$4,FALSE))","v":""},null,{"$f":"IF($J71=\"\",\"\",VLOOKUP($J71,'Reference Data - Transport fuel'!$C:$O,BE$4,FALSE))","v":""},null,{"$f":"IF($J71=\"\",\"\",VLOOKUP($J71,'Reference Data - Transport fuel'!$C:$O,BG$4,FALSE))","v":""},null,"","","","","","","","",null,"",null,"","",null,""]
[null,null,null,null,null,null,null,null,null,null,null,null,null,null,null,{"$f":"IF($D72=\"\",\"\",VLOOKUP($D72,'Reference Data - Fuel EFs'!$C:$O,P$4,FALSE))","v":""},{"$f":"IF($D72=\"\",\"\",VLOOKUP($D72,'Reference Data - Fuel EFs'!$C:$O,Q$4,FALSE))","v":""},{"$f":"IF($D72=\"\",\"\",VLOOKUP($D72,'Reference Data - Fuel EFs'!$C:$O,R$4,FALSE))","v":""},{"$f":"IF($D72=\"\",\"\",VLOOKUP($D72,'Reference Data - Fuel EFs'!$C:$O,S$4,FALSE))","v":""},{"$f":"IF($D72=\"\",\"\",VLOOKUP($D72,'Reference Data - Fuel EFs'!$C:$O,T$4,FALSE))","v":""},{"$f":"IF($D72=\"\",\"\",VLOOKUP($D72,'Reference Data - Fuel EFs'!$C:$O,U$4,FALSE))","v":""},{"$f":"IF($D72=\"\",\"\",VLOOKUP($D72,'Reference Data - Fuel EFs'!$C:$O,V$4,FALSE))","v":""},{"$f":"IF($D72=\"\",\"\",VLOOKUP($D72,'Reference Data - Fuel EFs'!$C:$O,W$4,FALSE))","v":""},{"$f":"IF($D72=\"\",\"\",VLOOKUP($D72,'Reference Data - Fuel EFs'!$C:$O,X$4,FALSE))","v":""},null,{"$f":"IF($D72=\"\",\"\",VLOOKUP($D72,'Reference Data - Fuel EFs'!$C:$O,Z$4,FALSE))","v":""},null,{"$f":"IF($D72=\"\",\"\",VLOOKUP($D72,'Reference Data - Fuel EFs'!$C:$O,AB$4,FALSE))","v":""},null,{"$f":"IF($D72=\"\",\"\",($E72*P72)-AN72)","v":""},{"$f":"IF($D72=\"\",\"\",IF(Z72=\"Yes\",0,$E72*Q72))","v":""},{"$f":"IF($D72=\"\",\"\",$E72*R72)","v":""},{"$f":"IF($D72=\"\",\"\",$E72*S72)","v":""},{"$f":"IF($D72=\"\",\"\",$E72*T72)","v":""},{"$f":"IF($D72=\"\",\"\",$E72*U72)","v":""},{"$f":"IF($D72=\"\",\"\",$E72*V72)","v":""},{"$f":"IF($D72=\"\",\"\",$E72*W72)","v":""},{"$f":"IF($D72=\"\",\"\",$E72*X72)","v":""},null,{"$f":"IF($D72=\"\",\"\",IF(Z72=\"Yes\",Q72*E72,0))","v":""},null,{"$f":"IF($D72=\"\",\"\",AB72*E72)","v":""},null,null,{"$f":"INDEX('Dropdown menus'!$A$1:$D$6,MATCH($K72,'Dropdown menus'!$A$1:$A$6,0),$AS$6)","v":{"$error":"#N/A"}},null,{"$f":"IF($J72=\"\",\"\",VLOOKUP($J72,'Reference Data - Transport fuel'!$C:$O,AU$4,FALSE))","v":""},{"$f":"IF($J72=\"\",\"\",VLOOKUP($J72,'Reference Data - Transport fuel'!$C:$O,AV$4,FALSE))","v":""},{"$f":"IF($J72=\"\",\"\",VLOOKUP($J72,'Reference Data - Transport fuel'!$C:$O,AW$4,FALSE))","v":""},{"$f":"IF($J72=\"\",\"\",VLOOKUP($J72,'Reference Data - Transport fuel'!$C:$O,AX$4,FALSE))","v":""},{"$f":"IF($J72=\"\",\"\",VLOOKUP($J72,'Reference Data - Transport fuel'!$C:$O,AY$4,FALSE))","v":""},{"$f":"IF($J72=\"\",\"\",VLOOKUP($J72,'Reference Data - Transport fuel'!$C:$O,AZ$4,FALSE))","v":""},{"$f":"IF($J72=\"\",\"\",VLOOKUP($J72,'Reference Data - Transport fuel'!$C:$O,BA$4,FALSE))","v":""},{"$f":"IF($J72=\"\",\"\",VLOOKUP($J72,'Reference Data - Transport fuel'!$C:$O,BB$4,FALSE))","v":""},{"$f":"IF($J72=\"\",\"\",VLOOKUP($J72,'Reference Data - Transport fuel'!$C:$O,BC$4,FALSE))","v":""},null,{"$f":"IF($J72=\"\",\"\",VLOOKUP($J72,'Reference Data - Transport fuel'!$C:$O,BE$4,FALSE))","v":""},null,{"$f":"IF($J72=\"\",\"\",VLOOKUP($J72,'Reference Data - Transport fuel'!$C:$O,BG$4,FALSE))","v":""},null,{"$f":"IF($J72=\"\",\"\",IF($AS72=1,(AU72*$L72)-BR72,\"\"))","v":""},{"$f":"IF($J72=\"\",\"\",IF($AS72=1,IF(BE72=\"Yes\",0,AV72*$L72),\"\"))","v":""},{"$f":"IF($J72=\"\",\"\",IF($AS72=1,AW72*$L72,\"\"))","v":""},{"$f":"IF($J72=\"\",\"\",IF($AS72=1,AX72*$L72,\"\"))","v":""},{"$f":"IF($J72=\"\",\"\",IF($AS72=1,AY72*$L72,\"\"))","v":""},{"$f":"IF($J72=\"\",\"\",IF($AS72=1,AZ72*$L72,\"\"))","v":""},{"$f":"IF($J72=\"\",\"\",IF($AS72=1,BA72*$L72,\"\"))","v":""},{"$f":"IF($J72=\"\",\"\",IF($AS72=1,BB72*$L72,\"\"))","v":""},null,{"$f":"IF($J72=\"\",\"\",IF($AS72=1,IF(BE72=\"Yes\",L72*AV72,0),\"\"))","v":""},null,{"$f":"IF($J72=\"\",\"\",$L72*BC72)","v":""},{"$f":"IF($J72=\"\",\"\",IF($AS72=3,$L72*AU72,\"\"))","v":""},null,{"$f":"IF($J72=\"\",\"\",IF($AS72=1,L72*BG72,\"\"))","v":""}]
[null,null,null,null,null,null,null,null,null,null,null,null,null,null,null,{"$f":"IF($D73=\"\",\"\",VLOOKUP($D73,'Reference Data - Fuel EFs'!$C:$O,P$4,FALSE))","v":""},{"$f":"IF($D73=\"\",\"\",VLOOKUP($D73,'Reference Data - Fuel EFs'!$C:$O,Q$4,FALSE))","v":""},{"$f":"IF($D73=\"\",\"\",VLOOKUP($D73,'Reference Data - Fuel EFs'!$C:$O,R$4,FALSE))","v":""},{"$f":"IF($D73=\"\",\"\",VLOOKUP($D73,'Reference Data - Fuel EFs'!$C:$O,S$4,FALSE))","v":""},{"$f":"IF($D73=\"\",\"\",VLOOKUP($D73,'Reference Data - Fuel EFs'!$C:$O,T$4,FALSE))","v":""},{"$f":"IF($D73=\"\",\"\",VLOOKUP($D73,'Reference Data - Fuel EFs'!$C:$O,U$4,FALSE))","v":""},{"$f":"IF($D73=\"\",\"\",VLOOKUP($D73,'Reference Data - Fuel EFs'!$C:$O,V$4,FALSE))","v":""},{"$f":"IF($D73=\"\",\"\",VLOOKUP($D73,'Reference Data - Fuel EFs'!$C:$O,W$4,FALSE))","v":""},{"$f":"IF($D73=\"\",\"\",VLOOKUP($D73,'Reference Data - Fuel EFs'!$C:$O,X$4,FALSE))","v":""},null,{"$f":"IF($D73=\"\",\"\",VLOOKUP($D73,'Reference Data - Fuel EFs'!$C:$O,Z$4,FALSE))","v":""},null,{"$f":"IF($D73=\"\",\"\",VLOOKUP($D73,'Reference Data - Fuel EFs'!$C:$O,AB$4,FALSE))","v":""},null,"","","","","","","","","",null,"",null,"",null,null,{"$f":"INDEX('Dropdown menus'!$A$1:$D$6,MATCH($K73,'Dropdown menus'!$A$1:$A$6,0),$AS$6)","v":{"$error":"#N/A"}},null,{"$f":"IF($J73=\"\",\"\",VLOOKUP($J73,'Reference Data - Transport fuel'!$C:$O,AU$4,FALSE))","v":""},{"$f":"IF($J73=\"\",\"\",VLOOKUP($J73,'Reference Data - Transport fuel'!$C:$O,AV$4,FALSE))","v":""},{"$f":"IF($J73=\"\",\"\",VLOOKUP($J73,'Reference Data - Transport fuel'!$C:$O,AW$4,FALSE))","v":""},{"$f":"IF($J73=\"\",\"\",VLOOKUP($J73,'Reference Data - Transport fuel'!$C:$O,AX$4,FALSE))","v":""},{"$f":"IF($J73=\"\",\"\",VLOOKUP($J73,'Reference Data - Transport fuel'!$C:$O,AY$4,FALSE))","v":""},{"$f":"IF($J73=\"\",\"\",VLOOKUP($J73,'Reference Data - Transport fuel'!$C:$O,AZ$4,FALSE))","v":""},{"$f":"IF($J73=\"\",\"\",VLOOKUP($J73,'Reference Data - Transport fuel'!$C:$O,BA$4,FALSE))","v":""},{"$f":"IF($J73=\"\",\"\",VLOOKUP($J73,'Reference Data - Transport fuel'!$C:$O,BB$4,FALSE))","v":""},{"$f":"IF($J73=\"\",\"\",VLOOKUP($J73,'Reference Data - Transport fuel'!$C:$O,BC$4,FALSE))","v":""},null,{"$f":"IF($J73=\"\",\"\",VLOOKUP($J73,'Reference Data - Transport fuel'!$C:$O,BE$4,FALSE))","v":""},null,{"$f":"IF($J73=\"\",\"\",VLOOKUP($J73,'Reference Data - Transport fuel'!$C:$O,BG$4,FALSE))","v":""},null,"","","","","","","","",null,"",null,"","",null,""]
[null,null,null,null,null,null,null,null,null,null,null,null,null,null,null,{"$f":"IF($D74=\"\",\"\",VLOOKUP($D74,'Reference Data - Fuel EFs'!$C:$O,P$4,FALSE))","v":""},{"$f":"IF($D74=\"\",\"\",VLOOKUP($D74,'Reference Data - Fuel EFs'!$C:$O,Q$4,FALSE))","v":""},{"$f":"IF($D74=\"\",\"\",VLOOKUP($D74,'Reference Data - Fuel EFs'!$C:$O,R$4,FALSE))","v":""},{"$f":"IF($D74=\"\",\"\",VLOOKUP($D74,'Reference Data - Fuel EFs'!$C:$O,S$4,FALSE))","v":""},{"$f":"IF($D74=\"\",\"\",VLOOKUP($D74,'Reference Data - Fuel EFs'!$C:$O,T$4,FALSE))","v":""},{"$f":"IF($D74=\"\",\"\",VLOOKUP($D74,'Reference Data - Fuel EFs'!$C:$O,U$4,FALSE))","v":""},{"$f":"IF($D74=\"\",\"\",VLOOKUP($D74,'Reference Data - Fuel EFs'!$C:$O,V$4,FALSE))","v":""},{"$f":"IF($D74=\"\",\"\",VLOOKUP($D74,'Reference Data - Fuel EFs'!$C:$O,W$4,FALSE))","v":""},{"$f":"IF($D74=\"\",\"\",VLOOKUP($D74,'Reference Data - Fuel EFs'!$C:$O,X$4,FALSE))","v":""},null,{"$f":"IF($D74=\"\",\"\",VLOOKUP($D74,'Reference Data - Fuel EFs'!$C:$O,Z$4,FALSE))","v":""},null,{"$f":"IF($D74=\"\",\"\",VLOOKUP($D74,'Reference Data - Fuel EFs'!$C:$O,AB$4,FALSE))","v":""},null,"","","","","","","","","",null,"",null,"",null,null,{"$f":"INDEX('Dropdown menus'!$A$1:$D$6,MATCH($K74,'Dropdown menus'!$A$1:$A$6,0),$AS$6)","v":{"$error":"#N/A"}},null,{"$f":"IF($J74=\"\",\"\",VLOOKUP($J74,'Reference Data - Transport fuel'!$C:$O,AU$4,FALSE))","v":""},{"$f":"IF($J74=\"\",\"\",VLOOKUP($J74,'Reference Data - Transport fuel'!$C:$O,AV$4,FALSE))","v":""},{"$f":"IF($J74=\"\",\"\",VLOOKUP($J74,'Reference Data - Transport fuel'!$C:$O,AW$4,FALSE))","v":""},{"$f":"IF($J74=\"\",\"\",VLOOKUP($J74,'Reference Data - Transport fuel'!$C:$O,AX$4,FALSE))","v":""},{"$f":"IF($J74=\"\",\"\",VLOOKUP($J74,'Reference Data - Transport fuel'!$C:$O,AY$4,FALSE))","v":""},{"$f":"IF($J74=\"\",\"\",VLOOKUP($J74,'Reference Data - Transport fuel'!$C:$O,AZ$4,FALSE))","v":""},{"$f":"IF($J74=\"\",\"\",VLOOKUP($J74,'Reference Data - Transport fuel'!$C:$O,BA$4,FALSE))","v":""},{"$f":"IF($J74=\"\",\"\",VLOOKUP($J74,'Reference Data - Transport fuel'!$C:$O,BB$4,FALSE))","v":""},{"$f":"IF($J74=\"\",\"\",VLOOKUP($J74,'Reference Data - Transport fuel'!$C:$O,BC$4,FALSE))","v":""},null,{"$f":"IF($J74=\"\",\"\",VLOOKUP($J74,'Reference Data - Transport fuel'!$C:$O,BE$4,FALSE))","v":""},null,{"$f":"IF($J74=\"\",\"\",VLOOKUP($J74,'Reference Data - Transport fuel'!$C:$O,BG$4,FALSE))","v":""},null,"","","","","","","","",null,"",null,"","",null,""]
[null,null,null,null,null,null,null,null,null,null,null,null,null,null,null,{"$f":"IF($D75=\"\",\"\",VLOOKUP($D75,'Reference Data - Fuel EFs'!$C:$O,P$4,FALSE))","v":""},{"$f":"IF($D75=\"\",\"\",VLOOKUP($D75,'Reference Data - Fuel EFs'!$C:$O,Q$4,FALSE))","v":""},{"$f":"IF($D75=\"\",\"\",VLOOKUP($D75,'Reference Data - Fuel EFs'!$C:$O,R$4,FALSE))","v":""},{"$f":"IF($D75=\"\",\"\",VLOOKUP($D75,'Reference Data - Fuel EFs'!$C:$O,S$4,FALSE))","v":""},{"$f":"IF($D75=\"\",\"\",VLOOKUP($D75,'Reference Data - Fuel EFs'!$C:$O,T$4,FALSE))","v":""},{"$f":"IF($D75=\"\",\"\",VLOOKUP($D75,'Reference Data - Fuel EFs'!$C:$O,U$4,FALSE))","v":""},{"$f":"IF($D75=\"\",\"\",VLOOKUP($D75,'Reference Data - Fuel EFs'!$C:$O,V$4,FALSE))","v":""},{"$f":"IF($D75=\"\",\"\",VLOOKUP($D75,'Reference Data - Fuel EFs'!$C:$O,W$4,FALSE))","v":""},{"$f":"IF($D75=\"\",\"\",VLOOKUP($D75,'Reference Data - Fuel EFs'!$C:$O,X$4,FALSE))","v":""},null,{"$f":"IF($D75=\"\",\"\",VLOOKUP($D75,'Reference Data - Fuel EFs'!$C:$O,Z$4,FALSE))","v":""},null,{"$f":"IF($D75=\"\",\"\",VLOOKUP($D75,'Reference Data - Fuel EFs'!$C:$O,AB$4,FALSE))","v":""},null,"","","","","","","","","",null,"",null,"",null,null,{"$f":"INDEX('Dropdown menus'!$A$1:$D$6,MATCH($K75,'Dropdown menus'!$A$1:$A$6,0),$AS$6)","v":{"$error":"#N/A"}},null,{"$f":"IF($J75=\"\",\"\",VLOOKUP($J75,'Reference Data - Transport fuel'!$C:$O,AU$4,FALSE))","v":""},{"$f":"IF($J75=\"\",\"\",VLOOKUP($J75,'Reference Data - Transport fuel'!$C:$O,AV$4,FALSE))","v":""},{"$f":"IF($J75=\"\",\"\",VLOOKUP($J75,'Reference Data - Transport fuel'!$C:$O,AW$4,FALSE))","v":""},{"$f":"IF($J75=\"\",\"\",VLOOKUP($J75,'Reference Data - Transport fuel'!$C:$O,AX$4,FALSE))","v":""},{"$f":"IF($J75=\"\",\"\",VLOOKUP($J75,'Reference Data - Transport fuel'!$C:$O,AY$4,FALSE))","v":""},{"$f":"IF($J75=\"\",\"\",VLOOKUP($J75,'Reference Data - Transport fuel'!$C:$O,AZ$4,FALSE))","v":""},{"$f":"IF($J75=\"\",\"\",VLOOKUP($J75,'Reference Data - Transport fuel'!$C:$O,BA$4,FALSE))","v":""},{"$f":"IF($J75=\"\",\"\",VLOOKUP($J75,'Reference Data - Transport fuel'!$C:$O,BB$4,FALSE))","v":""},{"$f":"IF($J75=\"\",\"\",VLOOKUP($J75,'Reference Data - Transport fuel'!$C:$O,BC$4,FALSE))","v":""},null,{"$f":"IF($J75=\"\",\"\",VLOOKUP($J75,'Reference Data - Transport fuel'!$C:$O,BE$4,FALSE))","v":""},null,{"$f":"IF($J75=\"\",\"\",VLOOKUP($J75,'Reference Data - Transport fuel'!$C:$O,BG$4,FALSE))","v":""},null,"","","","","","","","",null,"",null,"","",null,""]
[null,null,null,null,null,null,null,null,null,null,null,null,null,null,null,{"$f":"IF($D76=\"\",\"\",VLOOKUP($D76,'Reference Data - Fuel EFs'!$C:$O,P$4,FALSE))","v":""},{"$f":"IF($D76=\"\",\"\",VLOOKUP($D76,'Reference Data - Fuel EFs'!$C:$O,Q$4,FALSE))","v":""},{"$f":"IF($D76=\"\",\"\",VLOOKUP($D76,'Reference Data - Fuel EFs'!$C:$O,R$4,FALSE))","v":""},{"$f":"IF($D76=\"\",\"\",VLOOKUP($D76,'Reference Data - Fuel EFs'!$C:$O,S$4,FALSE))","v":""},{"$f":"IF($D76=\"\",\"\",VLOOKUP($D76,'Reference Data - Fuel EFs'!$C:$O,T$4,FALSE))","v":""},{"$f":"IF($D76=\"\",\"\",VLOOKUP($D76,'Reference Data - Fuel EFs'!$C:$O,U$4,FALSE))","v":""},{"$f":"IF($D76=\"\",\"\",VLOOKUP($D76,'Reference Data - Fuel EFs'!$C:$O,V$4,FALSE))","v":""},{"$f":"IF($D76=\"\",\"\",VLOOKUP($D76,'Reference Data - Fuel EFs'!$C:$O,W$4,FALSE))","v":""},{"$f":"IF($D76=\"\",\"\",VLOOKUP($D76,'Reference Data - Fuel EFs'!$C:$O,X$4,FALSE))","v":""},null,{"$f":"IF($D76=\"\",\"\",VLOOKUP($D76,'Reference Data - Fuel EFs'!$C:$O,Z$4,FALSE))","v":""},null,{"$f":"IF($D76=\"\",\"\",VLOOKUP($D76,'Reference Data - Fuel EFs'!$C:$O,AB$4,FALSE))","v":""},null,"","","","","","","","","",null,"",null,"",null,null,{"$f":"INDEX('Dropdown menus'!$A$1:$D$6,MATCH($K76,'Dropdown menus'!$A$1:$A$6,0),$AS$6)","v":{"$error":"#N/A"}},null,{"$f":"IF($J76=\"\",\"\",VLOOKUP($J76,'Reference Data - Transport fuel'!$C:$O,AU$4,FALSE))","v":""},{"$f":"IF($J76=\"\",\"\",VLOOKUP($J76,'Reference Data - Transport fuel'!$C:$O,AV$4,FALSE))","v":""},{"$f":"IF($J76=\"\",\"\",VLOOKUP($J76,'Reference Data - Transport fuel'!$C:$O,AW$4,FALSE))","v":""},{"$f":"IF($J76=\"\",\"\",VLOOKUP($J76,'Reference Data - Transport fuel'!$C:$O,AX$4,FALSE))","v":""},{"$f":"IF($J76=\"\",\"\",VLOOKUP($J76,'Reference Data - Transport fuel'!$C:$O,AY$4,FALSE))","v":""},{"$f":"IF($J76=\"\",\"\",VLOOKUP($J76,'Reference Data - Transport fuel'!$C:$O,AZ$4,FALSE))","v":""},{"$f":"IF($J76=\"\",\"\",VLOOKUP($J76,'Reference Data - Transport fuel'!$C:$O,BA$4,FALSE))","v":""},{"$f":"IF($J76=\"\",\"\",VLOOKUP($J76,'Reference Data - Transport fuel'!$C:$O,BB$4,FALSE))","v":""},{"$f":"IF($J76=\"\",\"\",VLOOKUP($J76,'Reference Data - Transport fuel'!$C:$O,BC$4,FALSE))","v":""},null,{"$f":"IF($J76=\"\",\"\",VLOOKUP($J76,'Reference Data - Transport fuel'!$C:$O,BE$4,FALSE))","v":""},null,{"$f":"IF($J76=\"\",\"\",VLOOKUP($J76,'Reference Data - Transport fuel'!$C:$O,BG$4,FALSE))","v":""},null,"","","","","","","","",null,"",null,"","",null,""]
[null,null,null,null,null,null,null,null,null,null,null,null,null,null,null,{"$f":"IF($D77=\"\",\"\",VLOOKUP($D77,'Reference Data - Fuel EFs'!$C:$O,P$4,FALSE))","v":""},{"$f":"IF($D77=\"\",\"\",VLOOKUP($D77,'Reference Data - Fuel EFs'!$C:$O,Q$4,FALSE))","v":""},{"$f":"IF($D77=\"\",\"\",VLOOKUP($D77,'Reference Data - Fuel EFs'!$C:$O,R$4,FALSE))","v":""},{"$f":"IF($D77=\"\",\"\",VLOOKUP($D77,'Reference Data - Fuel EFs'!$C:$O,S$4,FALSE))","v":""},{"$f":"IF($D77=\"\",\"\",VLOOKUP($D77,'Reference Data - Fuel EFs'!$C:$O,T$4,FALSE))","v":""},{"$f":"IF($D77=\"\",\"\",VLOOKUP($D77,'Reference Data - Fuel EFs'!$C:$O,U$4,FALSE))","v":""},{"$f":"IF($D77=\"\",\"\",VLOOKUP($D77,'Reference Data - Fuel EFs'!$C:$O,V$4,FALSE))","v":""},{"$f":"IF($D77=\"\",\"\",VLOOKUP($D77,'Reference Data - Fuel EFs'!$C:$O,W$4,FALSE))","v":""},{"$f":"IF($D77=\"\",\"\",VLOOKUP($D77,'Reference Data - Fuel EFs'!$C:$O,X$4,FALSE))","v":""},null,{"$f":"IF($D77=\"\",\"\",VLOOKUP($D77,'Reference Data - Fuel EFs'!$C:$O,Z$4,FALSE))","v":""},null,{"$f":"IF($D77=\"\",\"\",VLOOKUP($D77,'Reference Data - Fuel EFs'!$C:$O,AB$4,FALSE))","v":""},null,"","","","","","","","","",null,"",null,"",null,null,{"$f":"INDEX('Dropdown menus'!$A$1:$D$6,MATCH($K77,'Dropdown menus'!$A$1:$A$6,0),$AS$6)","v":{"$error":"#N/A"}},null,{"$f":"IF($J77=\"\",\"\",VLOOKUP($J77,'Reference Data - Transport fuel'!$C:$O,AU$4,FALSE))","v":""},{"$f":"IF($J77=\"\",\"\",VLOOKUP($J77,'Reference Data - Transport fuel'!$C:$O,AV$4,FALSE))","v":""},{"$f":"IF($J77=\"\",\"\",VLOOKUP($J77,'Reference Data - Transport fuel'!$C:$O,AW$4,FALSE))","v":""},{"$f":"IF($J77=\"\",\"\",VLOOKUP($J77,'Reference Data - Transport fuel'!$C:$O,AX$4,FALSE))","v":""},{"$f":"IF($J77=\"\",\"\",VLOOKUP($J77,'Reference Data - Transport fuel'!$C:$O,AY$4,FALSE))","v":""},{"$f":"IF($J77=\"\",\"\",VLOOKUP($J77,'Reference Data - Transport fuel'!$C:$O,AZ$4,FALSE))","v":""},{"$f":"IF($J77=\"\",\"\",VLOOKUP($J77,'Reference Data - Transport fuel'!$C:$O,BA$4,FALSE))","v":""},{"$f":"IF($J77=\"\",\"\",VLOOKUP($J77,'Reference Data - Transport fuel'!$C:$O,BB$4,FALSE))","v":""},{"$f":"IF($J77=\"\",\"\",VLOOKUP($J77,'Reference Data - Transport fuel'!$C:$O,BC$4,FALSE))","v":""},null,{"$f":"IF($J77=\"\",\"\",VLOOKUP($J77,'Reference Data - Transport fuel'!$C:$O,BE$4,FALSE))","v":""},null,{"$f":"IF($J77=\"\",\"\",VLOOKUP($J77,'Reference Data - Transport fuel'!$C:$O,BG$4,FALSE))","v":""},null,"","","","","","","","",null,"",null,"","",null,""]
[null,null,null,null,null,null,null,null,null,null,null,null,null,null,null,{"$f":"IF($D78=\"\",\"\",VLOOKUP($D78,'Reference Data - Fuel EFs'!$C:$O,P$4,FALSE))","v":""},{"$f":"IF($D78=\"\",\"\",VLOOKUP($D78,'Reference Data - Fuel EFs'!$C:$O,Q$4,FALSE))","v":""},{"$f":"IF($D78=\"\",\"\",VLOOKUP($D78,'Reference Data - Fuel EFs'!$C:$O,R$4,FALSE))","v":""},{"$f":"IF($D78=\"\",\"\",VLOOKUP($D78,'Reference Data - Fuel EFs'!$C:$O,S$4,FALSE))","v":""},{"$f":"IF($D78=\"\",\"\",VLOOKUP($D78,'Reference Data - Fuel EFs'!$C:$O,T$4,FALSE))","v":""},{"$f":"IF($D78=\"\",\"\",VLOOKUP($D78,'Reference Data - Fuel EFs'!$C:$O,U$4,FALSE))","v":""},{"$f":"IF($D78=\"\",\"\",VLOOKUP($D78,'Reference Data - Fuel EFs'!$C:$O,V$4,FALSE))","v":""},{"$f":"IF($D78=\"\",\"\",VLOOKUP($D78,'Reference Data - Fuel EFs'!$C:$O,W$4,FALSE))","v":""},{"$f":"IF($D78=\"\",\"\",VLOOKUP($D78,'Reference Data - Fuel EFs'!$C:$O,X$4,FALSE))","v":""},null,{"$f":"IF($D78=\"\",\"\",VLOOKUP($D78,'Reference Data - Fuel EFs'!$C:$O,Z$4,FALSE))","v":""},null,{"$f":"IF($D78=\"\",\"\",VLOOKUP($D78,'Reference Data - Fuel EFs'!$C:$O,AB$4,FALSE))","v":""},null,"","","","","","","","","",null,"",null,"",null,null,{"$f":"INDEX('Dropdown menus'!$A$1:$D$6,MATCH($K78,'Dropdown menus'!$A$1:$A$6,0),$AS$6)","v":{"$error":"#N/A"}},null,{"$f":"IF($J78=\"\",\"\",VLOOKUP($J78,'Reference Data - Transport fuel'!$C:$O,AU$4,FALSE))","v":""},{"$f":"IF($J78=\"\",\"\",VLOOKUP($J78,'Reference Data - Transport fuel'!$C:$O,AV$4,FALSE))","v":""},{"$f":"IF($J78=\"\",\"\",VLOOKUP($J78,'Reference Data - Transport fuel'!$C:$O,AW$4,FALSE))","v":""},{"$f":"IF($J78=\"\",\"\",VLOOKUP($J78,'Reference Data - Transport fuel'!$C:$O,AX$4,FALSE))","v":""},{"$f":"IF($J78=\"\",\"\",VLOOKUP($J78,'Reference Data - Transport fuel'!$C:$O,AY$4,FALSE))","v":""},{"$f":"IF($J78=\"\",\"\",VLOOKUP($J78,'Reference Data - Transport fuel'!$C:$O,AZ$4,FALSE))","v":""},{"$f":"IF($J78=\"\",\"\",VLOOKUP($J78,'Reference Data - Transport fuel'!$C:$O,BA$4,FALSE))","v":""},{"$f":"IF($J78=\"\",\"\",VLOOKUP($J78,'Reference Data - Transport fuel'!$C:$O,BB$4,FALSE))","v":""},{"$f":"IF($J78=\"\",\"\",VLOOKUP($J78,'Reference Data - Transport fuel'!$C:$O,BC$4,FALSE))","v":""},null,{"$f":"IF($J78=\"\",\"\",VLOOKUP($J78,'Reference Data - Transport fuel'!$C:$O,BE$4,FALSE))","v":""},null,{"$f":"IF($J78=\"\",\"\",VLOOKUP($J78,'Reference Data - Transport fuel'!$C:$O,BG$4,FALSE))","v":""},null,"","","","","","","","",null,"",null,"","",null,""]
[null,null,null,null,null,null,null,null,null,null,null,null,null,null,null,{"$f":"IF($D79=\"\",\"\",VLOOKUP($D79,'Reference Data - Fuel EFs'!$C:$O,P$4,FALSE))","v":""},{"$f":"IF($D79=\"\",\"\",VLOOKUP($D79,'Reference Data - Fuel EFs'!$C:$O,Q$4,FALSE))","v":""},{"$f":"IF($D79=\"\",\"\",VLOOKUP($D79,'Reference Data - Fuel EFs'!$C:$O,R$4,FALSE))","v":""},{"$f":"IF($D79=\"\",\"\",VLOOKUP($D79,'Reference Data - Fuel EFs'!$C:$O,S$4,FALSE))","v":""},{"$f":"IF($D79=\"\",\"\",VLOOKUP($D79,'Reference Data - Fuel EFs'!$C:$O,T$4,FALSE))","v":""},{"$f":"IF($D79=\"\",\"\",VLOOKUP($D79,'Reference Data - Fuel EFs'!$C:$O,U$4,FALSE))","v":""},{"$f":"IF($D79=\"\",\"\",VLOOKUP($D79,'Reference Data - Fuel EFs'!$C:$O,V$4,FALSE))","v":""},{"$f":"IF($D79=\"\",\"\",VLOOKUP($D79,'Reference Data - Fuel EFs'!$C:$O,W$4,FALSE))","v":""},{"$f":"IF($D79=\"\",\"\",VLOOKUP($D79,'Reference Data - Fuel EFs'!$C:$O,X$4,FALSE))","v":""},null,{"$f":"IF($D79=\"\",\"\",VLOOKUP($D79,'Reference Data - Fuel EFs'!$C:$O,Z$4,FALSE))","v":""},null,{"$f":"IF($D79=\"\",\"\",VLOOKUP($D79,'Reference Data - Fuel EFs'!$C:$O,AB$4,FALSE))","v":""},null,"","","","","","","","","",null,"",null,"",null,null,{"$f":"INDEX('Dropdown menus'!$A$1:$D$6,MATCH($K79,'Dropdown menus'!$A$1:$A$6,0),$AS$6)","v":{"$error":"#N/A"}},null,{"$f":"IF($J79=\"\",\"\",VLOOKUP($J79,'Reference Data - Transport fuel'!$C:$O,AU$4,FALSE))","v":""},{"$f":"IF($J79=\"\",\"\",VLOOKUP($J79,'Reference Data - Transport fuel'!$C:$O,AV$4,FALSE))","v":""},{"$f":"IF($J79=\"\",\"\",VLOOKUP($J79,'Reference Data - Transport fuel'!$C:$O,AW$4,FALSE))","v":""},{"$f":"IF($J79=\"\",\"\",VLOOKUP($J79,'Reference Data - Transport fuel'!$C:$O,AX$4,FALSE))","v":""},{"$f":"IF($J79=\"\",\"\",VLOOKUP($J79,'Reference Data - Transport fuel'!$C:$O,AY$4,FALSE))","v":""},{"$f":"IF($J79=\"\",\"\",VLOOKUP($J79,'Reference Data - Transport fuel'!$C:$O,AZ$4,FALSE))","v":""},{"$f":"IF($J79=\"\",\"\",VLOOKUP($J79,'Reference Data - Transport fuel'!$C:$O,BA$4,FALSE))","v":""},{"$f":"IF($J79=\"\",\"\",VLOOKUP($J79,'Reference Data - Transport fuel'!$C:$O,BB$4,FALSE))","v":""},{"$f":"IF($J79=\"\",\"\",VLOOKUP($J79,'Reference Data - Transport fuel'!$C:$O,BC$4,FALSE))","v":""},null,{"$f":"IF($J79=\"\",\"\",VLOOKUP($J79,'Reference Data - Transport fuel'!$C:$O,BE$4,FALSE))","v":""},null,{"$f":"IF($J79=\"\",\"\",VLOOKUP($J79,'Reference Data - Transport fuel'!$C:$O,BG$4,FALSE))","v":""},null,"","","","","","","","",null,"",null,"","",null,""]
[null,null,null,null,null,null,null,null,null,null,null,null,null,null,null,{"$f":"IF($D80=\"\",\"\",VLOOKUP($D80,'Reference Data - Fuel EFs'!$C:$O,P$4,FALSE))","v":""},{"$f":"IF($D80=\"\",\"\",VLOOKUP($D80,'Reference Data - Fuel EFs'!$C:$O,Q$4,FALSE))","v":""},{"$f":"IF($D80=\"\",\"\",VLOOKUP($D80,'Reference Data - Fuel EFs'!$C:$O,R$4,FALSE))","v":""},{"$f":"IF($D80=\"\",\"\",VLOOKUP($D80,'Reference Data - Fuel EFs'!$C:$O,S$4,FALSE))","v":""},{"$f":"IF($D80=\"\",\"\",VLOOKUP($D80,'Reference Data - Fuel EFs'!$C:$O,T$4,FALSE))","v":""},{"$f":"IF($D80=\"\",\"\",VLOOKUP($D80,'Reference Data - Fuel EFs'!$C:$O,U$4,FALSE))","v":""},{"$f":"IF($D80=\"\",\"\",VLOOKUP($D80,'Reference Data - Fuel EFs'!$C:$O,V$4,FALSE))","v":""},{"$f":"IF($D80=\"\",\"\",VLOOKUP($D80,'Reference Data - Fuel EFs'!$C:$O,W$4,FALSE))","v":""},{"$f":"IF($D80=\"\",\"\",VLOOKUP($D80,'Reference Data - Fuel EFs'!$C:$O,X$4,FALSE))","v":""},null,{"$f":"IF($D80=\"\",\"\",VLOOKUP($D80,'Reference Data - Fuel EFs'!$C:$O,Z$4,FALSE))","v":""},null,{"$f":"IF($D80=\"\",\"\",VLOOKUP($D80,'Reference Data - Fuel EFs'!$C:$O,AB$4,FALSE))","v":""},null,"","","","","","","","","",null,"",null,"",null,null,{"$f":"INDEX('Dropdown menus'!$A$1:$D$6,MATCH($K80,'Dropdown menus'!$A$1:$A$6,0),$AS$6)","v":{"$error":"#N/A"}},null,{"$f":"IF($J80=\"\",\"\",VLOOKUP($J80,'Reference Data - Transport fuel'!$C:$O,AU$4,FALSE))","v":""},{"$f":"IF($J80=\"\",\"\",VLOOKUP($J80,'Reference Data - Transport fuel'!$C:$O,AV$4,FALSE))","v":""},{"$f":"IF($J80=\"\",\"\",VLOOKUP($J80,'Reference Data - Transport fuel'!$C:$O,AW$4,FALSE))","v":""},{"$f":"IF($J80=\"\",\"\",VLOOKUP($J80,'Reference Data - Transport fuel'!$C:$O,AX$4,FALSE))","v":""},{"$f":"IF($J80=\"\",\"\",VLOOKUP($J80,'Reference Data - Transport fuel'!$C:$O,AY$4,FALSE))","v":""},{"$f":"IF($J80=\"\",\"\",VLOOKUP($J80,'Reference Data - Transport fuel'!$C:$O,AZ$4,FALSE))","v":""},{"$f":"IF($J80=\"\",\"\",VLOOKUP($J80,'Reference Data - Transport fuel'!$C:$O,BA$4,FALSE))","v":""},{"$f":"IF($J80=\"\",\"\",VLOOKUP($J80,'Reference Data - Transport fuel'!$C:$O,BB$4,FALSE))","v":""},{"$f":"IF($J80=\"\",\"\",VLOOKUP($J80,'Reference Data - Transport fuel'!$C:$O,BC$4,FALSE))","v":""},null,{"$f":"IF($J80=\"\",\"\",VLOOKUP($J80,'Reference Data - Transport fuel'!$C:$O,BE$4,FALSE))","v":""},null,{"$f":"IF($J80=\"\",\"\",VLOOKUP($J80,'Reference Data - Transport fuel'!$C:$O,BG$4,FALSE))","v":""},null,"","","","","","","","",null,"",null,"","",null,""]
[null,null,null,null,null,null,null,null,null,null,null,null,null,null,null,{"$f":"IF($D81=\"\",\"\",VLOOKUP($D81,'Reference Data - Fuel EFs'!$C:$O,P$4,FALSE))","v":""},{"$f":"IF($D81=\"\",\"\",VLOOKUP($D81,'Reference Data - Fuel EFs'!$C:$O,Q$4,FALSE))","v":""},{"$f":"IF($D81=\"\",\"\",VLOOKUP($D81,'Reference Data - Fuel EFs'!$C:$O,R$4,FALSE))","v":""},{"$f":"IF($D81=\"\",\"\",VLOOKUP($D81,'Reference Data - Fuel EFs'!$C:$O,S$4,FALSE))","v":""},{"$f":"IF($D81=\"\",\"\",VLOOKUP($D81,'Reference Data - Fuel EFs'!$C:$O,T$4,FALSE))","v":""},{"$f":"IF($D81=\"\",\"\",VLOOKUP($D81,'Reference Data - Fuel EFs'!$C:$O,U$4,FALSE))","v":""},{"$f":"IF($D81=\"\",\"\",VLOOKUP($D81,'Reference Data - Fuel EFs'!$C:$O,V$4,FALSE))","v":""},{"$f":"IF($D81=\"\",\"\",VLOOKUP($D81,'Reference Data - Fuel EFs'!$C:$O,W$4,FALSE))","v":""},{"$f":"IF($D81=\"\",\"\",VLOOKUP($D81,'Reference Data - Fuel EFs'!$C:$O,X$4,FALSE))","v":""},null,{"$f":"IF($D81=\"\",\"\",VLOOKUP($D81,'Reference Data - Fuel EFs'!$C:$O,Z$4,FALSE))","v":""},null,{"$f":"IF($D81=\"\",\"\",VLOOKUP($D81,'Reference Data - Fuel EFs'!$C:$O,AB$4,FALSE))","v":""},null,"","","","","","","","","",null,"",null,"",null,null,{"$f":"INDEX('Dropdown menus'!$A$1:$D$6,MATCH($K81,'Dropdown menus'!$A$1:$A$6,0),$AS$6)","v":{"$error":"#N/A"}},null,{"$f":"IF($J81=\"\",\"\",VLOOKUP($J81,'Reference Data - Transport fuel'!$C:$O,AU$4,FALSE))","v":""},{"$f":"IF($J81=\"\",\"\",VLOOKUP($J81,'Reference Data - Transport fuel'!$C:$O,AV$4,FALSE))","v":""},{"$f":"IF($J81=\"\",\"\",VLOOKUP($J81,'Reference Data - Transport fuel'!$C:$O,AW$4,FALSE))","v":""},{"$f":"IF($J81=\"\",\"\",VLOOKUP($J81,'Reference Data - Transport fuel'!$C:$O,AX$4,FALSE))","v":""},{"$f":"IF($J81=\"\",\"\",VLOOKUP($J81,'Reference Data - Transport fuel'!$C:$O,AY$4,FALSE))","v":""},{"$f":"IF($J81=\"\",\"\",VLOOKUP($J81,'Reference Data - Transport fuel'!$C:$O,AZ$4,FALSE))","v":""},{"$f":"IF($J81=\"\",\"\",VLOOKUP($J81,'Reference Data - Transport fuel'!$C:$O,BA$4,FALSE))","v":""},{"$f":"IF($J81=\"\",\"\",VLOOKUP($J81,'Reference Data - Transport fuel'!$C:$O,BB$4,FALSE))","v":""},{"$f":"IF($J81=\"\",\"\",VLOOKUP($J81,'Reference Data - Transport fuel'!$C:$O,BC$4,FALSE))","v":""},null,{"$f":"IF($J81=\"\",\"\",VLOOKUP($J81,'Reference Data - Transport fuel'!$C:$O,BE$4,FALSE))","v":""},null,{"$f":"IF($J81=\"\",\"\",VLOOKUP($J81,'Reference Data - Transport fuel'!$C:$O,BG$4,FALSE))","v":""},null,"","","","","","","","",null,"",null,"","",null,""]
[null,null,null,null,null,null,null,null,null,null,null,null,null,null,null,{"$f":"IF($D82=\"\",\"\",VLOOKUP($D82,'Reference Data - Fuel EFs'!$C:$O,P$4,FALSE))","v":""},{"$f":"IF($D82=\"\",\"\",VLOOKUP($D82,'Reference Data - Fuel EFs'!$C:$O,Q$4,FALSE))","v":""},{"$f":"IF($D82=\"\",\"\",VLOOKUP($D82,'Reference Data - Fuel EFs'!$C:$O,R$4,FALSE))","v":""},{"$f":"IF($D82=\"\",\"\",VLOOKUP($D82,'Reference Data - Fuel EFs'!$C:$O,S$4,FALSE))","v":""},{"$f":"IF($D82=\"\",\"\",VLOOKUP($D82,'Reference Data - Fuel EFs'!$C:$O,T$4,FALSE))","v":""},{"$f":"IF($D82=\"\",\"\",VLOOKUP($D82,'Reference Data - Fuel EFs'!$C:$O,U$4,FALSE))","v":""},{"$f":"IF($D82=\"\",\"\",VLOOKUP($D82,'Reference Data - Fuel EFs'!$C:$O,V$4,FALSE))","v":""},{"$f":"IF($D82=\"\",\"\",VLOOKUP($D82,'Reference Data - Fuel EFs'!$C:$O,W$4,FALSE))","v":""},{"$f":"IF($D82=\"\",\"\",VLOOKUP($D82,'Reference Data - Fuel EFs'!$C:$O,X$4,FALSE))","v":""},null,{"$f":"IF($D82=\"\",\"\",VLOOKUP($D82,'Reference Data - Fuel EFs'!$C:$O,Z$4,FALSE))","v":""},null,{"$f":"IF($D82=\"\",\"\",VLOOKUP($D82,'Reference Data - Fuel EFs'!$C:$O,AB$4,FALSE))","v":""},null,"","","","","","","","","",null,"",null,"",null,null,{"$f":"INDEX('Dropdown menus'!$A$1:$D$6,MATCH($K82,'Dropdown menus'!$A$1:$A$6,0),$AS$6)","v":{"$error":"#N/A"}},null,{"$f":"IF($J82=\"\",\"\",VLOOKUP($J82,'Reference Data - Transport fuel'!$C:$O,AU$4,FALSE))","v":""},{"$f":"IF($J82=\"\",\"\",VLOOKUP($J82,'Reference Data - Transport fuel'!$C:$O,AV$4,FALSE))","v":""},{"$f":"IF($J82=\"\",\"\",VLOOKUP($J82,'Reference Data - Transport fuel'!$C:$O,AW$4,FALSE))","v":""},{"$f":"IF($J82=\"\",\"\",VLOOKUP($J82,'Reference Data - Transport fuel'!$C:$O,AX$4,FALSE))","v":""},{"$f":"IF($J82=\"\",\"\",VLOOKUP($J82,'Reference Data - Transport fuel'!$C:$O,AY$4,FALSE))","v":""},{"$f":"IF($J82=\"\",\"\",VLOOKUP($J82,'Reference Data - Transport fuel'!$C:$O,AZ$4,FALSE))","v":""},{"$f":"IF($J82=\"\",\"\",VLOOKUP($J82,'Reference Data - Transport fuel'!$C:$O,BA$4,FALSE))","v":""},{"$f":"IF($J82=\"\",\"\",VLOOKUP($J82,'Reference Data - Transport fuel'!$C:$O,BB$4,FALSE))","v":""},{"$f":"IF($J82=\"\",\"\",VLOOKUP($J82,'Reference Data - Transport fuel'!$C:$O,BC$4,FALSE))","v":""},null,{"$f":"IF($J82=\"\",\"\",VLOOKUP($J82,'Reference Data - Transport fuel'!$C:$O,BE$4,FALSE))","v":""},null,{"$f":"IF($J82=\"\",\"\",VLOOKUP($J82,'Reference Data - Transport fuel'!$C:$O,BG$4,FALSE))","v":""},null,"","","","","","","","",null,"",null,"","",null,""]
[null,null,null,null,null,null,null,null,null,null,null,null,null,null,null,{"$f":"IF($D83=\"\",\"\",VLOOKUP($D83,'Reference Data - Fuel EFs'!$C:$O,P$4,FALSE))","v":""},{"$f":"IF($D83=\"\",\"\",VLOOKUP($D83,'Reference Data - Fuel EFs'!$C:$O,Q$4,FALSE))","v":""},{"$f":"IF($D83=\"\",\"\",VLOOKUP($D83,'Reference Data - Fuel EFs'!$C:$O,R$4,FALSE))","v":""},{"$f":"IF($D83=\"\",\"\",VLOOKUP($D83,'Reference Data - Fuel EFs'!$C:$O,S$4,FALSE))","v":""},{"$f":"IF($D83=\"\",\"\",VLOOKUP($D83,'Reference Data - Fuel EFs'!$C:$O,T$4,FALSE))","v":""},{"$f":"IF($D83=\"\",\"\",VLOOKUP($D83,'Reference Data - Fuel EFs'!$C:$O,U$4,FALSE))","v":""},{"$f":"IF($D83=\"\",\"\",VLOOKUP($D83,'Reference Data - Fuel EFs'!$C:$O,V$4,FALSE))","v":""},{"$f":"IF($D83=\"\",\"\",VLOOKUP($D83,'Reference Data - Fuel EFs'!$C:$O,W$4,FALSE))","v":""},{"$f":"IF($D83=\"\",\"\",VLOOKUP($D83,'Reference Data - Fuel EFs'!$C:$O,X$4,FALSE))","v":""},null,{"$f":"IF($D83=\"\",\"\",VLOOKUP($D83,'Reference Data - Fuel EFs'!$C:$O,Z$4,FALSE))","v":""},null,{"$f":"IF($D83=\"\",\"\",VLOOKUP($D83,'Reference Data - Fuel EFs'!$C:$O,AB$4,FALSE))","v":""},null,"","","","","","","","","",null,"",null,"",null,null,{"$f":"INDEX('Dropdown menus'!$A$1:$D$6,MATCH($K83,'Dropdown menus'!$A$1:$A$6,0),$AS$6)","v":{"$error":"#N/A"}},null,{"$f":"IF($J83=\"\",\"\",VLOOKUP($J83,'Reference Data - Transport fuel'!$C:$O,AU$4,FALSE))","v":""},{"$f":"IF($J83=\"\",\"\",VLOOKUP($J83,'Reference Data - Transport fuel'!$C:$O,AV$4,FALSE))","v":""},{"$f":"IF($J83=\"\",\"\",VLOOKUP($J83,'Reference Data - Transport fuel'!$C:$O,AW$4,FALSE))","v":""},{"$f":"IF($J83=\"\",\"\",VLOOKUP($J83,'Reference Data - Transport fuel'!$C:$O,AX$4,FALSE))","v":""},{"$f":"IF($J83=\"\",\"\",VLOOKUP($J83,'Reference Data - Transport fuel'!$C:$O,AY$4,FALSE))","v":""},{"$f":"IF($J83=\"\",\"\",VLOOKUP($J83,'Reference Data - Transport fuel'!$C:$O,AZ$4,FALSE))","v":""},{"$f":"IF($J83=\"\",\"\",VLOOKUP($J83,'Reference Data - Transport fuel'!$C:$O,BA$4,FALSE))","v":""},{"$f":"IF($J83=\"\",\"\",VLOOKUP($J83,'Reference Data - Transport fuel'!$C:$O,BB$4,FALSE))","v":""},{"$f":"IF($J83=\"\",\"\",VLOOKUP($J83,'Reference Data - Transport fuel'!$C:$O,BC$4,FALSE))","v":""},null,{"$f":"IF($J83=\"\",\"\",VLOOKUP($J83,'Reference Data - Transport fuel'!$C:$O,BE$4,FALSE))","v":""},null,{"$f":"IF($J83=\"\",\"\",VLOOKUP($J83,'Reference Data - Transport fuel'!$C:$O,BG$4,FALSE))","v":""},null,"","","","","","","","",null,"",null,"","",null,""]
[null,null,null,null,null,null,null,null,null,null,null,null,null,null,null,{"$f":"IF($D84=\"\",\"\",VLOOKUP($D84,'Reference Data - Fuel EFs'!$C:$O,P$4,FALSE))","v":""},{"$f":"IF($D84=\"\",\"\",VLOOKUP($D84,'Reference Data - Fuel EFs'!$C:$O,Q$4,FALSE))","v":""},{"$f":"IF($D84=\"\",\"\",VLOOKUP($D84,'Reference Data - Fuel EFs'!$C:$O,R$4,FALSE))","v":""},{"$f":"IF($D84=\"\",\"\",VLOOKUP($D84,'Reference Data - Fuel EFs'!$C:$O,S$4,FALSE))","v":""},{"$f":"IF($D84=\"\",\"\",VLOOKUP($D84,'Reference Data - Fuel EFs'!$C:$O,T$4,FALSE))","v":""},{"$f":"IF($D84=\"\",\"\",VLOOKUP($D84,'Reference Data - Fuel EFs'!$C:$O,U$4,FALSE))","v":""},{"$f":"IF($D84=\"\",\"\",VLOOKUP($D84,'Reference Data - Fuel EFs'!$C:$O,V$4,FALSE))","v":""},{"$f":"IF($D84=\"\",\"\",VLOOKUP($D84,'Reference Data - Fuel EFs'!$C:$O,W$4,FALSE))","v":""},{"$f":"IF($D84=\"\",\"\",VLOOKUP($D84,'Reference Data - Fuel EFs'!$C:$O,X$4,FALSE))","v":""},null,{"$f":"IF($D84=\"\",\"\",VLOOKUP($D84,'Reference Data - Fuel EFs'!$C:$O,Z$4,FALSE))","v":""},null,{"$f":"IF($D84=\"\",\"\",VLOOKUP($D84,'Reference Data - Fuel EFs'!$C:$O,AB$4,FALSE))","v":""},null,"","","","","","","","","",null,"",null,"",null,null,{"$f":"INDEX('Dropdown menus'!$A$1:$D$6,MATCH($K84,'Dropdown menus'!$A$1:$A$6,0),$AS$6)","v":{"$error":"#N/A"}},null,{"$f":"IF($J84=\"\",\"\",VLOOKUP($J84,'Reference Data - Transport fuel'!$C:$O,AU$4,FALSE))","v":""},{"$f":"IF($J84=\"\",\"\",VLOOKUP($J84,'Reference Data - Transport fuel'!$C:$O,AV$4,FALSE))","v":""},{"$f":"IF($J84=\"\",\"\",VLOOKUP($J84,'Reference Data - Transport fuel'!$C:$O,AW$4,FALSE))","v":""},{"$f":"IF($J84=\"\",\"\",VLOOKUP($J84,'Reference Data - Transport fuel'!$C:$O,AX$4,FALSE))","v":""},{"$f":"IF($J84=\"\",\"\",VLOOKUP($J84,'Reference Data - Transport fuel'!$C:$O,AY$4,FALSE))","v":""},{"$f":"IF($J84=\"\",\"\",VLOOKUP($J84,'Reference Data - Transport fuel'!$C:$O,AZ$4,FALSE))","v":""},{"$f":"IF($J84=\"\",\"\",VLOOKUP($J84,'Reference Data - Transport fuel'!$C:$O,BA$4,FALSE))","v":""},{"$f":"IF($J84=\"\",\"\",VLOOKUP($J84,'Reference Data - Transport fuel'!$C:$O,BB$4,FALSE))","v":""},{"$f":"IF($J84=\"\",\"\",VLOOKUP($J84,'Reference Data - Transport fuel'!$C:$O,BC$4,FALSE))","v":""},null,{"$f":"IF($J84=\"\",\"\",VLOOKUP($J84,'Reference Data - Transport fuel'!$C:$O,BE$4,FALSE))","v":""},null,{"$f":"IF($J84=\"\",\"\",VLOOKUP($J84,'Reference Data - Transport fuel'!$C:$O,BG$4,FALSE))","v":""},null,"","","","","","","","",null,"",null,"","",null,""]
[null,null,null,null,null,null,null,null,null,null,null,null,null,null,null,{"$f":"IF($D85=\"\",\"\",VLOOKUP($D85,'Reference Data - Fuel EFs'!$C:$O,P$4,FALSE))","v":""},{"$f":"IF($D85=\"\",\"\",VLOOKUP($D85,'Reference Data - Fuel EFs'!$C:$O,Q$4,FALSE))","v":""},{"$f":"IF($D85=\"\",\"\",VLOOKUP($D85,'Reference Data - Fuel EFs'!$C:$O,R$4,FALSE))","v":""},{"$f":"IF($D85=\"\",\"\",VLOOKUP($D85,'Reference Data - Fuel EFs'!$C:$O,S$4,FALSE))","v":""},{"$f":"IF($D85=\"\",\"\",VLOOKUP($D85,'Reference Data - Fuel EFs'!$C:$O,T$4,FALSE))","v":""},{"$f":"IF($D85=\"\",\"\",VLOOKUP($D85,'Reference Data - Fuel EFs'!$C:$O,U$4,FALSE))","v":""},{"$f":"IF($D85=\"\",\"\",VLOOKUP($D85,'Reference Data - Fuel EFs'!$C:$O,V$4,FALSE))","v":""},{"$f":"IF($D85=\"\",\"\",VLOOKUP($D85,'Reference Data - Fuel EFs'!$C:$O,W$4,FALSE))","v":""},{"$f":"IF($D85=\"\",\"\",VLOOKUP($D85,'Reference Data - Fuel EFs'!$C:$O,X$4,FALSE))","v":""},null,{"$f":"IF($D85=\"\",\"\",VLOOKUP($D85,'Reference Data - Fuel EFs'!$C:$O,Z$4,FALSE))","v":""},null,{"$f":"IF($D85=\"\",\"\",VLOOKUP($D85,'Reference Data - Fuel EFs'!$C:$O,AB$4,FALSE))","v":""},null,"","","","","","","","","",null,"",null,"",null,null,{"$f":"INDEX('Dropdown menus'!$A$1:$D$6,MATCH($K85,'Dropdown menus'!$A$1:$A$6,0),$AS$6)","v":{"$error":"#N/A"}},null,{"$f":"IF($J85=\"\",\"\",VLOOKUP($J85,'Reference Data - Transport fuel'!$C:$O,AU$4,FALSE))","v":""},{"$f":"IF($J85=\"\",\"\",VLOOKUP($J85,'Reference Data - Transport fuel'!$C:$O,AV$4,FALSE))","v":""},{"$f":"IF($J85=\"\",\"\",VLOOKUP($J85,'Reference Data - Transport fuel'!$C:$O,AW$4,FALSE))","v":""},{"$f":"IF($J85=\"\",\"\",VLOOKUP($J85,'Reference Data - Transport fuel'!$C:$O,AX$4,FALSE))","v":""},{"$f":"IF($J85=\"\",\"\",VLOOKUP($J85,'Reference Data - Transport fuel'!$C:$O,AY$4,FALSE))","v":""},{"$f":"IF($J85=\"\",\"\",VLOOKUP($J85,'Reference Data - Transport fuel'!$C:$O,AZ$4,FALSE))","v":""},{"$f":"IF($J85=\"\",\"\",VLOOKUP($J85,'Reference Data - Transport fuel'!$C:$O,BA$4,FALSE))","v":""},{"$f":"IF($J85=\"\",\"\",VLOOKUP($J85,'Reference Data - Transport fuel'!$C:$O,BB$4,FALSE))","v":""},{"$f":"IF($J85=\"\",\"\",VLOOKUP($J85,'Reference Data - Transport fuel'!$C:$O,BC$4,FALSE))","v":""},null,{"$f":"IF($J85=\"\",\"\",VLOOKUP($J85,'Reference Data - Transport fuel'!$C:$O,BE$4,FALSE))","v":""},null,{"$f":"IF($J85=\"\",\"\",VLOOKUP($J85,'Reference Data - Transport fuel'!$C:$O,BG$4,FALSE))","v":""},null,"","","","","","","","",null,"",null,"","",null,""]
[null,null,null,null,null,null,null,null,null,null,null,null,null,null,null,{"$f":"IF($D86=\"\",\"\",VLOOKUP($D86,'Reference Data - Fuel EFs'!$C:$O,P$4,FALSE))","v":""},{"$f":"IF($D86=\"\",\"\",VLOOKUP($D86,'Reference Data - Fuel EFs'!$C:$O,Q$4,FALSE))","v":""},{"$f":"IF($D86=\"\",\"\",VLOOKUP($D86,'Reference Data - Fuel EFs'!$C:$O,R$4,FALSE))","v":""},{"$f":"IF($D86=\"\",\"\",VLOOKUP($D86,'Reference Data - Fuel EFs'!$C:$O,S$4,FALSE))","v":""},{"$f":"IF($D86=\"\",\"\",VLOOKUP($D86,'Reference Data - Fuel EFs'!$C:$O,T$4,FALSE))","v":""},{"$f":"IF($D86=\"\",\"\",VLOOKUP($D86,'Reference Data - Fuel EFs'!$C:$O,U$4,FALSE))","v":""},{"$f":"IF($D86=\"\",\"\",VLOOKUP($D86,'Reference Data - Fuel EFs'!$C:$O,V$4,FALSE))","v":""},{"$f":"IF($D86=\"\",\"\",VLOOKUP($D86,'Reference Data - Fuel EFs'!$C:$O,W$4,FALSE))","v":""},{"$f":"IF($D86=\"\",\"\",VLOOKUP($D86,'Reference Data - Fuel EFs'!$C:$O,X$4,FALSE))","v":""},null,{"$f":"IF($D86=\"\",\"\",VLOOKUP($D86,'Reference Data - Fuel EFs'!$C:$O,Z$4,FALSE))","v":""},null,{"$f":"IF($D86=\"\",\"\",VLOOKUP($D86,'Reference Data - Fuel EFs'!$C:$O,AB$4,FALSE))","v":""},null,"","","","","","","","","",null,"",null,"",null,null,{"$f":"INDEX('Dropdown menus'!$A$1:$D$6,MATCH($K86,'Dropdown menus'!$A$1:$A$6,0),$AS$6)","v":{"$error":"#N/A"}},null,{"$f":"IF($J86=\"\",\"\",VLOOKUP($J86,'Reference Data - Transport fuel'!$C:$O,AU$4,FALSE))","v":""},{"$f":"IF($J86=\"\",\"\",VLOOKUP($J86,'Reference Data - Transport fuel'!$C:$O,AV$4,FALSE))","v":""},{"$f":"IF($J86=\"\",\"\",VLOOKUP($J86,'Reference Data - Transport fuel'!$C:$O,AW$4,FALSE))","v":""},{"$f":"IF($J86=\"\",\"\",VLOOKUP($J86,'Reference Data - Transport fuel'!$C:$O,AX$4,FALSE))","v":""},{"$f":"IF($J86=\"\",\"\",VLOOKUP($J86,'Reference Data - Transport fuel'!$C:$O,AY$4,FALSE))","v":""},{"$f":"IF($J86=\"\",\"\",VLOOKUP($J86,'Reference Data - Transport fuel'!$C:$O,AZ$4,FALSE))","v":""},{"$f":"IF($J86=\"\",\"\",VLOOKUP($J86,'Reference Data - Transport fuel'!$C:$O,BA$4,FALSE))","v":""},{"$f":"IF($J86=\"\",\"\",VLOOKUP($J86,'Reference Data - Transport fuel'!$C:$O,BB$4,FALSE))","v":""},{"$f":"IF($J86=\"\",\"\",VLOOKUP($J86,'Reference Data - Transport fuel'!$C:$O,BC$4,FALSE))","v":""},null,{"$f":"IF($J86=\"\",\"\",VLOOKUP($J86,'Reference Data - Transport fuel'!$C:$O,BE$4,FALSE))","v":""},null,{"$f":"IF($J86=\"\",\"\",VLOOKUP($J86,'Reference Data - Transport fuel'!$C:$O,BG$4,FALSE))","v":""},null,"","","","","","","","",null,"",null,"","",null,""]
[null,null,null,null,null,null,null,null,null,null,null,null,null,null,null,{"$f":"IF($D87=\"\",\"\",VLOOKUP($D87,'Reference Data - Fuel EFs'!$C:$O,P$4,FALSE))","v":""},{"$f":"IF($D87=\"\",\"\",VLOOKUP($D87,'Reference Data - Fuel EFs'!$C:$O,Q$4,FALSE))","v":""},{"$f":"IF($D87=\"\",\"\",VLOOKUP($D87,'Reference Data - Fuel EFs'!$C:$O,R$4,FALSE))","v":""},{"$f":"IF($D87=\"\",\"\",VLOOKUP($D87,'Reference Data - Fuel EFs'!$C:$O,S$4,FALSE))","v":""},{"$f":"IF($D87=\"\",\"\",VLOOKUP($D87,'Reference Data - Fuel EFs'!$C:$O,T$4,FALSE))","v":""},{"$f":"IF($D87=\"\",\"\",VLOOKUP($D87,'Reference Data - Fuel EFs'!$C:$O,U$4,FALSE))","v":""},{"$f":"IF($D87=\"\",\"\",VLOOKUP($D87,'Reference Data - Fuel EFs'!$C:$O,V$4,FALSE))","v":""},{"$f":"IF($D87=\"\",\"\",VLOOKUP($D87,'Reference Data - Fuel EFs'!$C:$O,W$4,FALSE))","v":""},{"$f":"IF($D87=\"\",\"\",VLOOKUP($D87,'Reference Data - Fuel EFs'!$C:$O,X$4,FALSE))","v":""},null,{"$f":"IF($D87=\"\",\"\",VLOOKUP($D87,'Reference Data - Fuel EFs'!$C:$O,Z$4,FALSE))","v":""},null,{"$f":"IF($D87=\"\",\"\",VLOOKUP($D87,'Reference Data - Fuel EFs'!$C:$O,AB$4,FALSE))","v":""},null,"","","","","","","","","",null,"",null,"",null,null,{"$f":"INDEX('Dropdown menus'!$A$1:$D$6,MATCH($K87,'Dropdown menus'!$A$1:$A$6,0),$AS$6)","v":{"$error":"#N/A"}},null,{"$f":"IF($J87=\"\",\"\",VLOOKUP($J87,'Reference Data - Transport fuel'!$C:$O,AU$4,FALSE))","v":""},{"$f":"IF($J87=\"\",\"\",VLOOKUP($J87,'Reference Data - Transport fuel'!$C:$O,AV$4,FALSE))","v":""},{"$f":"IF($J87=\"\",\"\",VLOOKUP($J87,'Reference Data - Transport fuel'!$C:$O,AW$4,FALSE))","v":""},{"$f":"IF($J87=\"\",\"\",VLOOKUP($J87,'Reference Data - Transport fuel'!$C:$O,AX$4,FALSE))","v":""},{"$f":"IF($J87=\"\",\"\",VLOOKUP($J87,'Reference Data - Transport fuel'!$C:$O,AY$4,FALSE))","v":""},{"$f":"IF($J87=\"\",\"\",VLOOKUP($J87,'Reference Data - Transport fuel'!$C:$O,AZ$4,FALSE))","v":""},{"$f":"IF($J87=\"\",\"\",VLOOKUP($J87,'Reference Data - Transport fuel'!$C:$O,BA$4,FALSE))","v":""},{"$f":"IF($J87=\"\",\"\",VLOOKUP($J87,'Reference Data - Transport fuel'!$C:$O,BB$4,FALSE))","v":""},{"$f":"IF($J87=\"\",\"\",VLOOKUP($J87,'Reference Data - Transport fuel'!$C:$O,BC$4,FALSE))","v":""},null,{"$f":"IF($J87=\"\",\"\",VLOOKUP($J87,'Reference Data - Transport fuel'!$C:$O,BE$4,FALSE))","v":""},null,{"$f":"IF($J87=\"\",\"\",VLOOKUP($J87,'Reference Data - Transport fuel'!$C:$O,BG$4,FALSE))","v":""},null,"","","","","","","","",null,"",null,"","",null,""]
[null,null,null,null,null,null,null,null,null,null,null,null,null,null,null,{"$f":"IF($D88=\"\",\"\",VLOOKUP($D88,'Reference Data - Fuel EFs'!$C:$O,P$4,FALSE))","v":""},{"$f":"IF($D88=\"\",\"\",VLOOKUP($D88,'Reference Data - Fuel EFs'!$C:$O,Q$4,FALSE))","v":""},{"$f":"IF($D88=\"\",\"\",VLOOKUP($D88,'Reference Data - Fuel EFs'!$C:$O,R$4,FALSE))","v":""},{"$f":"IF($D88=\"\",\"\",VLOOKUP($D88,'Reference Data - Fuel EFs'!$C:$O,S$4,FALSE))","v":""},{"$f":"IF($D88=\"\",\"\",VLOOKUP($D88,'Reference Data - Fuel EFs'!$C:$O,T$4,FALSE))","v":""},{"$f":"IF($D88=\"\",\"\",VLOOKUP($D88,'Reference Data - Fuel EFs'!$C:$O,U$4,FALSE))","v":""},{"$f":"IF($D88=\"\",\"\",VLOOKUP($D88,'Reference Data - Fuel EFs'!$C:$O,V$4,FALSE))","v":""},{"$f":"IF($D88=\"\",\"\",VLOOKUP($D88,'Reference Data - Fuel EFs'!$C:$O,W$4,FALSE))","v":""},{"$f":"IF($D88=\"\",\"\",VLOOKUP($D88,'Reference Data - Fuel EFs'!$C:$O,X$4,FALSE))","v":""},null,{"$f":"IF($D88=\"\",\"\",VLOOKUP($D88,'Reference Data - Fuel EFs'!$C:$O,Z$4,FALSE))","v":""},null,{"$f":"IF($D88=\"\",\"\",VLOOKUP($D88,'Reference Data - Fuel EFs'!$C:$O,AB$4,FALSE))","v":""},null,"","","","","","","","","",null,"",null,"",null,null,{"$f":"INDEX('Dropdown menus'!$A$1:$D$6,MATCH($K88,'Dropdown menus'!$A$1:$A$6,0),$AS$6)","v":{"$error":"#N/A"}},null,{"$f":"IF($J88=\"\",\"\",VLOOKUP($J88,'Reference Data - Transport fuel'!$C:$O,AU$4,FALSE))","v":""},{"$f":"IF($J88=\"\",\"\",VLOOKUP($J88,'Reference Data - Transport fuel'!$C:$O,AV$4,FALSE))","v":""},{"$f":"IF($J88=\"\",\"\",VLOOKUP($J88,'Reference Data - Transport fuel'!$C:$O,AW$4,FALSE))","v":""},{"$f":"IF($J88=\"\",\"\",VLOOKUP($J88,'Reference Data - Transport fuel'!$C:$O,AX$4,FALSE))","v":""},{"$f":"IF($J88=\"\",\"\",VLOOKUP($J88,'Reference Data - Transport fuel'!$C:$O,AY$4,FALSE))","v":""},{"$f":"IF($J88=\"\",\"\",VLOOKUP($J88,'Reference Data - Transport fuel'!$C:$O,AZ$4,FALSE))","v":""},{"$f":"IF($J88=\"\",\"\",VLOOKUP($J88,'Reference Data - Transport fuel'!$C:$O,BA$4,FALSE))","v":""},{"$f":"IF($J88=\"\",\"\",VLOOKUP($J88,'Reference Data - Transport fuel'!$C:$O,BB$4,FALSE))","v":""},{"$f":"IF($J88=\"\",\"\",VLOOKUP($J88,'Reference Data - Transport fuel'!$C:$O,BC$4,FALSE))","v":""},null,{"$f":"IF($J88=\"\",\"\",VLOOKUP($J88,'Reference Data - Transport fuel'!$C:$O,BE$4,FALSE))","v":""},null,{"$f":"IF($J88=\"\",\"\",VLOOKUP($J88,'Reference Data - Transport fuel'!$C:$O,BG$4,FALSE))","v":""},null,"","","","","","","","",null,"",null,"","",null,""]
[null,null,null,null,null,null,null,null,null,null,null,null,null,null,null,{"$f":"IF($D89=\"\",\"\",VLOOKUP($D89,'Reference Data - Fuel EFs'!$C:$O,P$4,FALSE))","v":""},{"$f":"IF($D89=\"\",\"\",VLOOKUP($D89,'Reference Data - Fuel EFs'!$C:$O,Q$4,FALSE))","v":""},{"$f":"IF($D89=\"\",\"\",VLOOKUP($D89,'Reference Data - Fuel EFs'!$C:$O,R$4,FALSE))","v":""},{"$f":"IF($D89=\"\",\"\",VLOOKUP($D89,'Reference Data - Fuel EFs'!$C:$O,S$4,FALSE))","v":""},{"$f":"IF($D89=\"\",\"\",VLOOKUP($D89,'Reference Data - Fuel EFs'!$C:$O,T$4,FALSE))","v":""},{"$f":"IF($D89=\"\",\"\",VLOOKUP($D89,'Reference Data - Fuel EFs'!$C:$O,U$4,FALSE))","v":""},{"$f":"IF($D89=\"\",\"\",VLOOKUP($D89,'Reference Data - Fuel EFs'!$C:$O,V$4,FALSE))","v":""},{"$f":"IF($D89=\"\",\"\",VLOOKUP($D89,'Reference Data - Fuel EFs'!$C:$O,W$4,FALSE))","v":""},{"$f":"IF($D89=\"\",\"\",VLOOKUP($D89,'Reference Data - Fuel EFs'!$C:$O,X$4,FALSE))","v":""},null,{"$f":"IF($D89=\"\",\"\",VLOOKUP($D89,'Reference Data - Fuel EFs'!$C:$O,Z$4,FALSE))","v":""},null,{"$f":"IF($D89=\"\",\"\",VLOOKUP($D89,'Reference Data - Fuel EFs'!$C:$O,AB$4,FALSE))","v":""},null,"","","","","","","","","",null,"",null,"",null,null,{"$f":"INDEX('Dropdown menus'!$A$1:$D$6,MATCH($K89,'Dropdown menus'!$A$1:$A$6,0),$AS$6)","v":{"$error":"#N/A"}},null,{"$f":"IF($J89=\"\",\"\",VLOOKUP($J89,'Reference Data - Transport fuel'!$C:$O,AU$4,FALSE))","v":""},{"$f":"IF($J89=\"\",\"\",VLOOKUP($J89,'Reference Data - Transport fuel'!$C:$O,AV$4,FALSE))","v":""},{"$f":"IF($J89=\"\",\"\",VLOOKUP($J89,'Reference Data - Transport fuel'!$C:$O,AW$4,FALSE))","v":""},{"$f":"IF($J89=\"\",\"\",VLOOKUP($J89,'Reference Data - Transport fuel'!$C:$O,AX$4,FALSE))","v":""},{"$f":"IF($J89=\"\",\"\",VLOOKUP($J89,'Reference Data - Transport fuel'!$C:$O,AY$4,FALSE))","v":""},{"$f":"IF($J89=\"\",\"\",VLOOKUP($J89,'Reference Data - Transport fuel'!$C:$O,AZ$4,FALSE))","v":""},{"$f":"IF($J89=\"\",\"\",VLOOKUP($J89,'Reference Data - Transport fuel'!$C:$O,BA$4,FALSE))","v":""},{"$f":"IF($J89=\"\",\"\",VLOOKUP($J89,'Reference Data - Transport fuel'!$C:$O,BB$4,FALSE))","v":""},{"$f":"IF($J89=\"\",\"\",VLOOKUP($J89,'Reference Data - Transport fuel'!$C:$O,BC$4,FALSE))","v":""},null,{"$f":"IF($J89=\"\",\"\",VLOOKUP($J89,'Reference Data - Transport fuel'!$C:$O,BE$4,FALSE))","v":""},null,{"$f":"IF($J89=\"\",\"\",VLOOKUP($J89,'Reference Data - Transport fuel'!$C:$O,BG$4,FALSE))","v":""},null,"","","","","","","","",null,"",null,"","",null,""]
[null,null,null,null,null,null,null,null,null,null,null,null,null,null,null,{"$f":"IF($D90=\"\",\"\",VLOOKUP($D90,'Reference Data - Fuel EFs'!$C:$O,P$4,FALSE))","v":""},{"$f":"IF($D90=\"\",\"\",VLOOKUP($D90,'Reference Data - Fuel EFs'!$C:$O,Q$4,FALSE))","v":""},{"$f":"IF($D90=\"\",\"\",VLOOKUP($D90,'Reference Data - Fuel EFs'!$C:$O,R$4,FALSE))","v":""},{"$f":"IF($D90=\"\",\"\",VLOOKUP($D90,'Reference Data - Fuel EFs'!$C:$O,S$4,FALSE))","v":""},{"$f":"IF($D90=\"\",\"\",VLOOKUP($D90,'Reference Data - Fuel EFs'!$C:$O,T$4,FALSE))","v":""},{"$f":"IF($D90=\"\",\"\",VLOOKUP($D90,'Reference Data - Fuel EFs'!$C:$O,U$4,FALSE))","v":""},{"$f":"IF($D90=\"\",\"\",VLOOKUP($D90,'Reference Data - Fuel EFs'!$C:$O,V$4,FALSE))","v":""},{"$f":"IF($D90=\"\",\"\",VLOOKUP($D90,'Reference Data - Fuel EFs'!$C:$O,W$4,FALSE))","v":""},{"$f":"IF($D90=\"\",\"\",VLOOKUP($D90,'Reference Data - Fuel EFs'!$C:$O,X$4,FALSE))","v":""},null,{"$f":"IF($D90=\"\",\"\",VLOOKUP($D90,'Reference Data - Fuel EFs'!$C:$O,Z$4,FALSE))","v":""},null,{"$f":"IF($D90=\"\",\"\",VLOOKUP($D90,'Reference Data - Fuel EFs'!$C:$O,AB$4,FALSE))","v":""},null,"","","","","","","","","",null,"",null,"",null,null,{"$f":"INDEX('Dropdown menus'!$A$1:$D$6,MATCH($K90,'Dropdown menus'!$A$1:$A$6,0),$AS$6)","v":{"$error":"#N/A"}},null,{"$f":"IF($J90=\"\",\"\",VLOOKUP($J90,'Reference Data - Transport fuel'!$C:$O,AU$4,FALSE))","v":""},{"$f":"IF($J90=\"\",\"\",VLOOKUP($J90,'Reference Data - Transport fuel'!$C:$O,AV$4,FALSE))","v":""},{"$f":"IF($J90=\"\",\"\",VLOOKUP($J90,'Reference Data - Transport fuel'!$C:$O,AW$4,FALSE))","v":""},{"$f":"IF($J90=\"\",\"\",VLOOKUP($J90,'Reference Data - Transport fuel'!$C:$O,AX$4,FALSE))","v":""},{"$f":"IF($J90=\"\",\"\",VLOOKUP($J90,'Reference Data - Transport fuel'!$C:$O,AY$4,FALSE))","v":""},{"$f":"IF($J90=\"\",\"\",VLOOKUP($J90,'Reference Data - Transport fuel'!$C:$O,AZ$4,FALSE))","v":""},{"$f":"IF($J90=\"\",\"\",VLOOKUP($J90,'Reference Data - Transport fuel'!$C:$O,BA$4,FALSE))","v":""},{"$f":"IF($J90=\"\",\"\",VLOOKUP($J90,'Reference Data - Transport fuel'!$C:$O,BB$4,FALSE))","v":""},{"$f":"IF($J90=\"\",\"\",VLOOKUP($J90,'Reference Data - Transport fuel'!$C:$O,BC$4,FALSE))","v":""},null,{"$f":"IF($J90=\"\",\"\",VLOOKUP($J90,'Reference Data - Transport fuel'!$C:$O,BE$4,FALSE))","v":""},null,{"$f":"IF($J90=\"\",\"\",VLOOKUP($J90,'Reference Data - Transport fuel'!$C:$O,BG$4,FALSE))","v":""},null,"","","","","","","","",null,"",null,"","",null,""]
[null,null,null,null,null,null,null,null,null,null,null,null,null,null,null,{"$f":"IF($D91=\"\",\"\",VLOOKUP($D91,'Reference Data - Fuel EFs'!$C:$O,P$4,FALSE))","v":""},{"$f":"IF($D91=\"\",\"\",VLOOKUP($D91,'Reference Data - Fuel EFs'!$C:$O,Q$4,FALSE))","v":""},{"$f":"IF($D91=\"\",\"\",VLOOKUP($D91,'Reference Data - Fuel EFs'!$C:$O,R$4,FALSE))","v":""},{"$f":"IF($D91=\"\",\"\",VLOOKUP($D91,'Reference Data - Fuel EFs'!$C:$O,S$4,FALSE))","v":""},{"$f":"IF($D91=\"\",\"\",VLOOKUP($D91,'Reference Data - Fuel EFs'!$C:$O,T$4,FALSE))","v":""},{"$f":"IF($D91=\"\",\"\",VLOOKUP($D91,'Reference Data - Fuel EFs'!$C:$O,U$4,FALSE))","v":""},{"$f":"IF($D91=\"\",\"\",VLOOKUP($D91,'Reference Data - Fuel EFs'!$C:$O,V$4,FALSE))","v":""},{"$f":"IF($D91=\"\",\"\",VLOOKUP($D91,'Reference Data - Fuel EFs'!$C:$O,W$4,FALSE))","v":""},{"$f":"IF($D91=\"\",\"\",VLOOKUP($D91,'Reference Data - Fuel EFs'!$C:$O,X$4,FALSE))","v":""},null,{"$f":"IF($D91=\"\",\"\",VLOOKUP($D91,'Reference Data - Fuel EFs'!$C:$O,Z$4,FALSE))","v":""},null,{"$f":"IF($D91=\"\",\"\",VLOOKUP($D91,'Reference Data - Fuel EFs'!$C:$O,AB$4,FALSE))","v":""},null,"","","","","","","","","",null,"",null,"",null,null,{"$f":"INDEX('Dropdown menus'!$A$1:$D$6,MATCH($K91,'Dropdown menus'!$A$1:$A$6,0),$AS$6)","v":{"$error":"#N/A"}},null,{"$f":"IF($J91=\"\",\"\",VLOOKUP($J91,'Reference Data - Transport fuel'!$C:$O,AU$4,FALSE))","v":""},{"$f":"IF($J91=\"\",\"\",VLOOKUP($J91,'Reference Data - Transport fuel'!$C:$O,AV$4,FALSE))","v":""},{"$f":"IF($J91=\"\",\"\",VLOOKUP($J91,'Reference Data - Transport fuel'!$C:$O,AW$4,FALSE))","v":""},{"$f":"IF($J91=\"\",\"\",VLOOKUP($J91,'Reference Data - Transport fuel'!$C:$O,AX$4,FALSE))","v":""},{"$f":"IF($J91=\"\",\"\",VLOOKUP($J91,'Reference Data - Transport fuel'!$C:$O,AY$4,FALSE))","v":""},{"$f":"IF($J91=\"\",\"\",VLOOKUP($J91,'Reference Data - Transport fuel'!$C:$O,AZ$4,FALSE))","v":""},{"$f":"IF($J91=\"\",\"\",VLOOKUP($J91,'Reference Data - Transport fuel'!$C:$O,BA$4,FALSE))","v":""},{"$f":"IF($J91=\"\",\"\",VLOOKUP($J91,'Reference Data - Transport fuel'!$C:$O,BB$4,FALSE))","v":""},{"$f":"IF($J91=\"\",\"\",VLOOKUP($J91,'Reference Data - Transport fuel'!$C:$O,BC$4,FALSE))","v":""},null,{"$f":"IF($J91=\"\",\"\",VLOOKUP($J91,'Reference Data - Transport fuel'!$C:$O,BE$4,FALSE))","v":""},null,{"$f":"IF($J91=\"\",\"\",VLOOKUP($J91,'Reference Data - Transport fuel'!$C:$O,BG$4,FALSE))","v":""},null,"","","","","","","","",null,"",null,"","",null,""]
[null,null,null,null,null,null,null,null,null,null,null,null,null,null,null,{"$f":"IF($D92=\"\",\"\",VLOOKUP($D92,'Reference Data - Fuel EFs'!$C:$O,P$4,FALSE))","v":""},{"$f":"IF($D92=\"\",\"\",VLOOKUP($D92,'Reference Data - Fuel EFs'!$C:$O,Q$4,FALSE))","v":""},{"$f":"IF($D92=\"\",\"\",VLOOKUP($D92,'Reference Data - Fuel EFs'!$C:$O,R$4,FALSE))","v":""},{"$f":"IF($D92=\"\",\"\",VLOOKUP($D92,'Reference Data - Fuel EFs'!$C:$O,S$4,FALSE))","v":""},{"$f":"IF($D92=\"\",\"\",VLOOKUP($D92,'Reference Data - Fuel EFs'!$C:$O,T$4,FALSE))","v":""},{"$f":"IF($D92=\"\",\"\",VLOOKUP($D92,'Reference Data - Fuel EFs'!$C:$O,U$4,FALSE))","v":""},{"$f":"IF($D92=\"\",\"\",VLOOKUP($D92,'Reference Data - Fuel EFs'!$C:$O,V$4,FALSE))","v":""},{"$f":"IF($D92=\"\",\"\",VLOOKUP($D92,'Reference Data - Fuel EFs'!$C:$O,W$4,FALSE))","v":""},{"$f":"IF($D92=\"\",\"\",VLOOKUP($D92,'Reference Data - Fuel EFs'!$C:$O,X$4,FALSE))","v":""},null,{"$f":"IF($D92=\"\",\"\",VLOOKUP($D92,'Reference Data - Fuel EFs'!$C:$O,Z$4,FALSE))","v":""},null,{"$f":"IF($D92=\"\",\"\",VLOOKUP($D92,'Reference Data - Fuel EFs'!$C:$O,AB$4,FALSE))","v":""},null,"","","","","","","","","",null,"",null,"",null,null,{"$f":"INDEX('Dropdown menus'!$A$1:$D$6,MATCH($K92,'Dropdown menus'!$A$1:$A$6,0),$AS$6)","v":{"$error":"#N/A"}},null,{"$f":"IF($J92=\"\",\"\",VLOOKUP($J92,'Reference Data - Transport fuel'!$C:$O,AU$4,FALSE))","v":""},{"$f":"IF($J92=\"\",\"\",VLOOKUP($J92,'Reference Data - Transport fuel'!$C:$O,AV$4,FALSE))","v":""},{"$f":"IF($J92=\"\",\"\",VLOOKUP($J92,'Reference Data - Transport fuel'!$C:$O,AW$4,FALSE))","v":""},{"$f":"IF($J92=\"\",\"\",VLOOKUP($J92,'Reference Data - Transport fuel'!$C:$O,AX$4,FALSE))","v":""},{"$f":"IF($J92=\"\",\"\",VLOOKUP($J92,'Reference Data - Transport fuel'!$C:$O,AY$4,FALSE))","v":""},{"$f":"IF($J92=\"\",\"\",VLOOKUP($J92,'Reference Data - Transport fuel'!$C:$O,AZ$4,FALSE))","v":""},{"$f":"IF($J92=\"\",\"\",VLOOKUP($J92,'Reference Data - Transport fuel'!$C:$O,BA$4,FALSE))","v":""},{"$f":"IF($J92=\"\",\"\",VLOOKUP($J92,'Reference Data - Transport fuel'!$C:$O,BB$4,FALSE))","v":""},{"$f":"IF($J92=\"\",\"\",VLOOKUP($J92,'Reference Data - Transport fuel'!$C:$O,BC$4,FALSE))","v":""},null,{"$f":"IF($J92=\"\",\"\",VLOOKUP($J92,'Reference Data - Transport fuel'!$C:$O,BE$4,FALSE))","v":""},null,{"$f":"IF($J92=\"\",\"\",VLOOKUP($J92,'Reference Data - Transport fuel'!$C:$O,BG$4,FALSE))","v":""},null,"","","","","","","","",null,"",null,"","",null,""]
[null,null,null,null,null,null,null,null,null,null,null,null,null,null,null,{"$f":"IF($D93=\"\",\"\",VLOOKUP($D93,'Reference Data - Fuel EFs'!$C:$O,P$4,FALSE))","v":""},{"$f":"IF($D93=\"\",\"\",VLOOKUP($D93,'Reference Data - Fuel EFs'!$C:$O,Q$4,FALSE))","v":""},{"$f":"IF($D93=\"\",\"\",VLOOKUP($D93,'Reference Data - Fuel EFs'!$C:$O,R$4,FALSE))","v":""},{"$f":"IF($D93=\"\",\"\",VLOOKUP($D93,'Reference Data - Fuel EFs'!$C:$O,S$4,FALSE))","v":""},{"$f":"IF($D93=\"\",\"\",VLOOKUP($D93,'Reference Data - Fuel EFs'!$C:$O,T$4,FALSE))","v":""},{"$f":"IF($D93=\"\",\"\",VLOOKUP($D93,'Reference Data - Fuel EFs'!$C:$O,U$4,FALSE))","v":""},{"$f":"IF($D93=\"\",\"\",VLOOKUP($D93,'Reference Data - Fuel EFs'!$C:$O,V$4,FALSE))","v":""},{"$f":"IF($D93=\"\",\"\",VLOOKUP($D93,'Reference Data - Fuel EFs'!$C:$O,W$4,FALSE))","v":""},{"$f":"IF($D93=\"\",\"\",VLOOKUP($D93,'Reference Data - Fuel EFs'!$C:$O,X$4,FALSE))","v":""},null,{"$f":"IF($D93=\"\",\"\",VLOOKUP($D93,'Reference Data - Fuel EFs'!$C:$O,Z$4,FALSE))","v":""},null,{"$f":"IF($D93=\"\",\"\",VLOOKUP($D93,'Reference Data - Fuel EFs'!$C:$O,AB$4,FALSE))","v":""},null,"","","","","","","","","",null,"",null,"",null,null,{"$f":"INDEX('Dropdown menus'!$A$1:$D$6,MATCH($K93,'Dropdown menus'!$A$1:$A$6,0),$AS$6)","v":{"$error":"#N/A"}},null,{"$f":"IF($J93=\"\",\"\",VLOOKUP($J93,'Reference Data - Transport fuel'!$C:$O,AU$4,FALSE))","v":""},{"$f":"IF($J93=\"\",\"\",VLOOKUP($J93,'Reference Data - Transport fuel'!$C:$O,AV$4,FALSE))","v":""},{"$f":"IF($J93=\"\",\"\",VLOOKUP($J93,'Reference Data - Transport fuel'!$C:$O,AW$4,FALSE))","v":""},{"$f":"IF($J93=\"\",\"\",VLOOKUP($J93,'Reference Data - Transport fuel'!$C:$O,AX$4,FALSE))","v":""},{"$f":"IF($J93=\"\",\"\",VLOOKUP($J93,'Reference Data - Transport fuel'!$C:$O,AY$4,FALSE))","v":""},{"$f":"IF($J93=\"\",\"\",VLOOKUP($J93,'Reference Data - Transport fuel'!$C:$O,AZ$4,FALSE))","v":""},{"$f":"IF($J93=\"\",\"\",VLOOKUP($J93,'Reference Data - Transport fuel'!$C:$O,BA$4,FALSE))","v":""},{"$f":"IF($J93=\"\",\"\",VLOOKUP($J93,'Reference Data - Transport fuel'!$C:$O,BB$4,FALSE))","v":""},{"$f":"IF($J93=\"\",\"\",VLOOKUP($J93,'Reference Data - Transport fuel'!$C:$O,BC$4,FALSE))","v":""},null,{"$f":"IF($J93=\"\",\"\",VLOOKUP($J93,'Reference Data - Transport fuel'!$C:$O,BE$4,FALSE))","v":""},null,{"$f":"IF($J93=\"\",\"\",VLOOKUP($J93,'Reference Data - Transport fuel'!$C:$O,BG$4,FALSE))","v":""},null,"","","","","","","","",null,"",null,"","",null,""]
[null,null,null,null,null,null,null,null,null,null,null,null,null,null,null,{"$f":"IF($D94=\"\",\"\",VLOOKUP($D94,'Reference Data - Fuel EFs'!$C:$O,P$4,FALSE))","v":""},{"$f":"IF($D94=\"\",\"\",VLOOKUP($D94,'Reference Data - Fuel EFs'!$C:$O,Q$4,FALSE))","v":""},{"$f":"IF($D94=\"\",\"\",VLOOKUP($D94,'Reference Data - Fuel EFs'!$C:$O,R$4,FALSE))","v":""},{"$f":"IF($D94=\"\",\"\",VLOOKUP($D94,'Reference Data - Fuel EFs'!$C:$O,S$4,FALSE))","v":""},{"$f":"IF($D94=\"\",\"\",VLOOKUP($D94,'Reference Data - Fuel EFs'!$C:$O,T$4,FALSE))","v":""},{"$f":"IF($D94=\"\",\"\",VLOOKUP($D94,'Reference Data - Fuel EFs'!$C:$O,U$4,FALSE))","v":""},{"$f":"IF($D94=\"\",\"\",VLOOKUP($D94,'Reference Data - Fuel EFs'!$C:$O,V$4,FALSE))","v":""},{"$f":"IF($D94=\"\",\"\",VLOOKUP($D94,'Reference Data - Fuel EFs'!$C:$O,W$4,FALSE))","v":""},{"$f":"IF($D94=\"\",\"\",VLOOKUP($D94,'Reference Data - Fuel EFs'!$C:$O,X$4,FALSE))","v":""},null,{"$f":"IF($D94=\"\",\"\",VLOOKUP($D94,'Reference Data - Fuel EFs'!$C:$O,Z$4,FALSE))","v":""},null,{"$f":"IF($D94=\"\",\"\",VLOOKUP($D94,'Reference Data - Fuel EFs'!$C:$O,AB$4,FALSE))","v":""},null,"","","","","","","","","",null,"",null,"",null,null,{"$f":"INDEX('Dropdown menus'!$A$1:$D$6,MATCH($K94,'Dropdown menus'!$A$1:$A$6,0),$AS$6)","v":{"$error":"#N/A"}},null,{"$f":"IF($J94=\"\",\"\",VLOOKUP($J94,'Reference Data - Transport fuel'!$C:$O,AU$4,FALSE))","v":""},{"$f":"IF($J94=\"\",\"\",VLOOKUP($J94,'Reference Data - Transport fuel'!$C:$O,AV$4,FALSE))","v":""},{"$f":"IF($J94=\"\",\"\",VLOOKUP($J94,'Reference Data - Transport fuel'!$C:$O,AW$4,FALSE))","v":""},{"$f":"IF($J94=\"\",\"\",VLOOKUP($J94,'Reference Data - Transport fuel'!$C:$O,AX$4,FALSE))","v":""},{"$f":"IF($J94=\"\",\"\",VLOOKUP($J94,'Reference Data - Transport fuel'!$C:$O,AY$4,FALSE))","v":""},{"$f":"IF($J94=\"\",\"\",VLOOKUP($J94,'Reference Data - Transport fuel'!$C:$O,AZ$4,FALSE))","v":""},{"$f":"IF($J94=\"\",\"\",VLOOKUP($J94,'Reference Data - Transport fuel'!$C:$O,BA$4,FALSE))","v":""},{"$f":"IF($J94=\"\",\"\",VLOOKUP($J94,'Reference Data - Transport fuel'!$C:$O,BB$4,FALSE))","v":""},{"$f":"IF($J94=\"\",\"\",VLOOKUP($J94,'Reference Data - Transport fuel'!$C:$O,BC$4,FALSE))","v":""},null,{"$f":"IF($J94=\"\",\"\",VLOOKUP($J94,'Reference Data - Transport fuel'!$C:$O,BE$4,FALSE))","v":""},null,{"$f":"IF($J94=\"\",\"\",VLOOKUP($J94,'Reference Data - Transport fuel'!$C:$O,BG$4,FALSE))","v":""},null,"","","","","","","","",null,"",null,"","",null,""]
[null,null,null,null,null,null,null,null,null,null,null,null,null,null,null,{"$f":"IF($D95=\"\",\"\",VLOOKUP($D95,'Reference Data - Fuel EFs'!$C:$O,P$4,FALSE))","v":""},{"$f":"IF($D95=\"\",\"\",VLOOKUP($D95,'Reference Data - Fuel EFs'!$C:$O,Q$4,FALSE))","v":""},{"$f":"IF($D95=\"\",\"\",VLOOKUP($D95,'Reference Data - Fuel EFs'!$C:$O,R$4,FALSE))","v":""},{"$f":"IF($D95=\"\",\"\",VLOOKUP($D95,'Reference Data - Fuel EFs'!$C:$O,S$4,FALSE))","v":""},{"$f":"IF($D95=\"\",\"\",VLOOKUP($D95,'Reference Data - Fuel EFs'!$C:$O,T$4,FALSE))","v":""},{"$f":"IF($D95=\"\",\"\",VLOOKUP($D95,'Reference Data - Fuel EFs'!$C:$O,U$4,FALSE))","v":""},{"$f":"IF($D95=\"\",\"\",VLOOKUP($D95,'Reference Data - Fuel EFs'!$C:$O,V$4,FALSE))","v":""},{"$f":"IF($D95=\"\",\"\",VLOOKUP($D95,'Reference Data - Fuel EFs'!$C:$O,W$4,FALSE))","v":""},{"$f":"IF($D95=\"\",\"\",VLOOKUP($D95,'Reference Data - Fuel EFs'!$C:$O,X$4,FALSE))","v":""},null,{"$f":"IF($D95=\"\",\"\",VLOOKUP($D95,'Reference Data - Fuel EFs'!$C:$O,Z$4,FALSE))","v":""},null,{"$f":"IF($D95=\"\",\"\",VLOOKUP($D95,'Reference Data - Fuel EFs'!$C:$O,AB$4,FALSE))","v":""},null,"","","","","","","","","",null,"",null,"",null,null,{"$f":"INDEX('Dropdown menus'!$A$1:$D$6,MATCH($K95,'Dropdown menus'!$A$1:$A$6,0),$AS$6)","v":{"$error":"#N/A"}},null,{"$f":"IF($J95=\"\",\"\",VLOOKUP($J95,'Reference Data - Transport fuel'!$C:$O,AU$4,FALSE))","v":""},{"$f":"IF($J95=\"\",\"\",VLOOKUP($J95,'Reference Data - Transport fuel'!$C:$O,AV$4,FALSE))","v":""},{"$f":"IF($J95=\"\",\"\",VLOOKUP($J95,'Reference Data - Transport fuel'!$C:$O,AW$4,FALSE))","v":""},{"$f":"IF($J95=\"\",\"\",VLOOKUP($J95,'Reference Data - Transport fuel'!$C:$O,AX$4,FALSE))","v":""},{"$f":"IF($J95=\"\",\"\",VLOOKUP($J95,'Reference Data - Transport fuel'!$C:$O,AY$4,FALSE))","v":""},{"$f":"IF($J95=\"\",\"\",VLOOKUP($J95,'Reference Data - Transport fuel'!$C:$O,AZ$4,FALSE))","v":""},{"$f":"IF($J95=\"\",\"\",VLOOKUP($J95,'Reference Data - Transport fuel'!$C:$O,BA$4,FALSE))","v":""},{"$f":"IF($J95=\"\",\"\",VLOOKUP($J95,'Reference Data - Transport fuel'!$C:$O,BB$4,FALSE))","v":""},{"$f":"IF($J95=\"\",\"\",VLOOKUP($J95,'Reference Data - Transport fuel'!$C:$O,BC$4,FALSE))","v":""},null,{"$f":"IF($J95=\"\",\"\",VLOOKUP($J95,'Reference Data - Transport fuel'!$C:$O,BE$4,FALSE))","v":""},null,{"$f":"IF($J95=\"\",\"\",VLOOKUP($J95,'Reference Data - Transport fuel'!$C:$O,BG$4,FALSE))","v":""},null,"","","","","","","","",null,"",null,"","",null,""]
[null,null,null,null,null,null,null,null,null,null,null,null,null,null,null,{"$f":"IF($D96=\"\",\"\",VLOOKUP($D96,'Reference Data - Fuel EFs'!$C:$O,P$4,FALSE))","v":""},{"$f":"IF($D96=\"\",\"\",VLOOKUP($D96,'Reference Data - Fuel EFs'!$C:$O,Q$4,FALSE))","v":""},{"$f":"IF($D96=\"\",\"\",VLOOKUP($D96,'Reference Data - Fuel EFs'!$C:$O,R$4,FALSE))","v":""},{"$f":"IF($D96=\"\",\"\",VLOOKUP($D96,'Reference Data - Fuel EFs'!$C:$O,S$4,FALSE))","v":""},{"$f":"IF($D96=\"\",\"\",VLOOKUP($D96,'Reference Data - Fuel EFs'!$C:$O,T$4,FALSE))","v":""},{"$f":"IF($D96=\"\",\"\",VLOOKUP($D96,'Reference Data - Fuel EFs'!$C:$O,U$4,FALSE))","v":""},{"$f":"IF($D96=\"\",\"\",VLOOKUP($D96,'Reference Data - Fuel EFs'!$C:$O,V$4,FALSE))","v":""},{"$f":"IF($D96=\"\",\"\",VLOOKUP($D96,'Reference Data - Fuel EFs'!$C:$O,W$4,FALSE))","v":""},{"$f":"IF($D96=\"\",\"\",VLOOKUP($D96,'Reference Data - Fuel EFs'!$C:$O,X$4,FALSE))","v":""},null,{"$f":"IF($D96=\"\",\"\",VLOOKUP($D96,'Reference Data - Fuel EFs'!$C:$O,Z$4,FALSE))","v":""},null,{"$f":"IF($D96=\"\",\"\",VLOOKUP($D96,'Reference Data - Fuel EFs'!$C:$O,AB$4,FALSE))","v":""},null,"","","","","","","","","",null,"",null,"",null,null,{"$f":"INDEX('Dropdown menus'!$A$1:$D$6,MATCH($K96,'Dropdown menus'!$A$1:$A$6,0),$AS$6)","v":{"$error":"#N/A"}},null,{"$f":"IF($J96=\"\",\"\",VLOOKUP($J96,'Reference Data - Transport fuel'!$C:$O,AU$4,FALSE))","v":""},{"$f":"IF($J96=\"\",\"\",VLOOKUP($J96,'Reference Data - Transport fuel'!$C:$O,AV$4,FALSE))","v":""},{"$f":"IF($J96=\"\",\"\",VLOOKUP($J96,'Reference Data - Transport fuel'!$C:$O,AW$4,FALSE))","v":""},{"$f":"IF($J96=\"\",\"\",VLOOKUP($J96,'Reference Data - Transport fuel'!$C:$O,AX$4,FALSE))","v":""},{"$f":"IF($J96=\"\",\"\",VLOOKUP($J96,'Reference Data - Transport fuel'!$C:$O,AY$4,FALSE))","v":""},{"$f":"IF($J96=\"\",\"\",VLOOKUP($J96,'Reference Data - Transport fuel'!$C:$O,AZ$4,FALSE))","v":""},{"$f":"IF($J96=\"\",\"\",VLOOKUP($J96,'Reference Data - Transport fuel'!$C:$O,BA$4,FALSE))","v":""},{"$f":"IF($J96=\"\",\"\",VLOOKUP($J96,'Reference Data - Transport fuel'!$C:$O,BB$4,FALSE))","v":""},{"$f":"IF($J96=\"\",\"\",VLOOKUP($J96,'Reference Data - Transport fuel'!$C:$O,BC$4,FALSE))","v":""},null,{"$f":"IF($J96=\"\",\"\",VLOOKUP($J96,'Reference Data - Transport fuel'!$C:$O,BE$4,FALSE))","v":""},null,{"$f":"IF($J96=\"\",\"\",VLOOKUP($J96,'Reference Data - Transport fuel'!$C:$O,BG$4,FALSE))","v":""},null,"","","","","","","","",null,"",null,"","",null,""]
[null,null,null,null,null,null,null,null,null,null,null,null,null,null,null,{"$f":"IF($D97=\"\",\"\",VLOOKUP($D97,'Reference Data - Fuel EFs'!$C:$O,P$4,FALSE))","v":""},{"$f":"IF($D97=\"\",\"\",VLOOKUP($D97,'Reference Data - Fuel EFs'!$C:$O,Q$4,FALSE))","v":""},{"$f":"IF($D97=\"\",\"\",VLOOKUP($D97,'Reference Data - Fuel EFs'!$C:$O,R$4,FALSE))","v":""},{"$f":"IF($D97=\"\",\"\",VLOOKUP($D97,'Reference Data - Fuel EFs'!$C:$O,S$4,FALSE))","v":""},{"$f":"IF($D97=\"\",\"\",VLOOKUP($D97,'Reference Data - Fuel EFs'!$C:$O,T$4,FALSE))","v":""},{"$f":"IF($D97=\"\",\"\",VLOOKUP($D97,'Reference Data - Fuel EFs'!$C:$O,U$4,FALSE))","v":""},{"$f":"IF($D97=\"\",\"\",VLOOKUP($D97,'Reference Data - Fuel EFs'!$C:$O,V$4,FALSE))","v":""},{"$f":"IF($D97=\"\",\"\",VLOOKUP($D97,'Reference Data - Fuel EFs'!$C:$O,W$4,FALSE))","v":""},{"$f":"IF($D97=\"\",\"\",VLOOKUP($D97,'Reference Data - Fuel EFs'!$C:$O,X$4,FALSE))","v":""},null,{"$f":"IF($D97=\"\",\"\",VLOOKUP($D97,'Reference Data - Fuel EFs'!$C:$O,Z$4,FALSE))","v":""},null,{"$f":"IF($D97=\"\",\"\",VLOOKUP($D97,'Reference Data - Fuel EFs'!$C:$O,AB$4,FALSE))","v":""},null,"","","","","","","","","",null,"",null,"",null,null,{"$f":"INDEX('Dropdown menus'!$A$1:$D$6,MATCH($K97,'Dropdown menus'!$A$1:$A$6,0),$AS$6)","v":{"$error":"#N/A"}},null,{"$f":"IF($J97=\"\",\"\",VLOOKUP($J97,'Reference Data - Transport fuel'!$C:$O,AU$4,FALSE))","v":""},{"$f":"IF($J97=\"\",\"\",VLOOKUP($J97,'Reference Data - Transport fuel'!$C:$O,AV$4,FALSE))","v":""},{"$f":"IF($J97=\"\",\"\",VLOOKUP($J97,'Reference Data - Transport fuel'!$C:$O,AW$4,FALSE))","v":""},{"$f":"IF($J97=\"\",\"\",VLOOKUP($J97,'Reference Data - Transport fuel'!$C:$O,AX$4,FALSE))","v":""},{"$f":"IF($J97=\"\",\"\",VLOOKUP($J97,'Reference Data - Transport fuel'!$C:$O,AY$4,FALSE))","v":""},{"$f":"IF($J97=\"\",\"\",VLOOKUP($J97,'Reference Data - Transport fuel'!$C:$O,AZ$4,FALSE))","v":""},{"$f":"IF($J97=\"\",\"\",VLOOKUP($J97,'Reference Data - Transport fuel'!$C:$O,BA$4,FALSE))","v":""},{"$f":"IF($J97=\"\",\"\",VLOOKUP($J97,'Reference Data - Transport fuel'!$C:$O,BB$4,FALSE))","v":""},{"$f":"IF($J97=\"\",\"\",VLOOKUP($J97,'Reference Data - Transport fuel'!$C:$O,BC$4,FALSE))","v":""},null,{"$f":"IF($J97=\"\",\"\",VLOOKUP($J97,'Reference Data - Transport fuel'!$C:$O,BE$4,FALSE))","v":""},null,{"$f":"IF($J97=\"\",\"\",VLOOKUP($J97,'Reference Data - Transport fuel'!$C:$O,BG$4,FALSE))","v":""},null,"","","","","","","","",null,"",null,"","",null,""]
[null,null,null,null,null,null,null,null,null,null,null,null,null,null,null,{"$f":"IF($D98=\"\",\"\",VLOOKUP($D98,'Reference Data - Fuel EFs'!$C:$O,P$4,FALSE))","v":""},{"$f":"IF($D98=\"\",\"\",VLOOKUP($D98,'Reference Data - Fuel EFs'!$C:$O,Q$4,FALSE))","v":""},{"$f":"IF($D98=\"\",\"\",VLOOKUP($D98,'Reference Data - Fuel EFs'!$C:$O,R$4,FALSE))","v":""},{"$f":"IF($D98=\"\",\"\",VLOOKUP($D98,'Reference Data - Fuel EFs'!$C:$O,S$4,FALSE))","v":""},{"$f":"IF($D98=\"\",\"\",VLOOKUP($D98,'Reference Data - Fuel EFs'!$C:$O,T$4,FALSE))","v":""},{"$f":"IF($D98=\"\",\"\",VLOOKUP($D98,'Reference Data - Fuel EFs'!$C:$O,U$4,FALSE))","v":""},{"$f":"IF($D98=\"\",\"\",VLOOKUP($D98,'Reference Data - Fuel EFs'!$C:$O,V$4,FALSE))","v":""},{"$f":"IF($D98=\"\",\"\",VLOOKUP($D98,'Reference Data - Fuel EFs'!$C:$O,W$4,FALSE))","v":""},{"$f":"IF($D98=\"\",\"\",VLOOKUP($D98,'Reference Data - Fuel EFs'!$C:$O,X$4,FALSE))","v":""},null,{"$f":"IF($D98=\"\",\"\",VLOOKUP($D98,'Reference Data - Fuel EFs'!$C:$O,Z$4,FALSE))","v":""},null,{"$f":"IF($D98=\"\",\"\",VLOOKUP($D98,'Reference Data - Fuel EFs'!$C:$O,AB$4,FALSE))","v":""},null,"","","","","","","","","",null,"",null,"",null,null,{"$f":"INDEX('Dropdown menus'!$A$1:$D$6,MATCH($K98,'Dropdown menus'!$A$1:$A$6,0),$AS$6)","v":{"$error":"#N/A"}},null,{"$f":"IF($J98=\"\",\"\",VLOOKUP($J98,'Reference Data - Transport fuel'!$C:$O,AU$4,FALSE))","v":""},{"$f":"IF($J98=\"\",\"\",VLOOKUP($J98,'Reference Data - Transport fuel'!$C:$O,AV$4,FALSE))","v":""},{"$f":"IF($J98=\"\",\"\",VLOOKUP($J98,'Reference Data - Transport fuel'!$C:$O,AW$4,FALSE))","v":""},{"$f":"IF($J98=\"\",\"\",VLOOKUP($J98,'Reference Data - Transport fuel'!$C:$O,AX$4,FALSE))","v":""},{"$f":"IF($J98=\"\",\"\",VLOOKUP($J98,'Reference Data - Transport fuel'!$C:$O,AY$4,FALSE))","v":""},{"$f":"IF($J98=\"\",\"\",VLOOKUP($J98,'Reference Data - Transport fuel'!$C:$O,AZ$4,FALSE))","v":""},{"$f":"IF($J98=\"\",\"\",VLOOKUP($J98,'Reference Data - Transport fuel'!$C:$O,BA$4,FALSE))","v":""},{"$f":"IF($J98=\"\",\"\",VLOOKUP($J98,'Reference Data - Transport fuel'!$C:$O,BB$4,FALSE))","v":""},{"$f":"IF($J98=\"\",\"\",VLOOKUP($J98,'Reference Data - Transport fuel'!$C:$O,BC$4,FALSE))","v":""},null,{"$f":"IF($J98=\"\",\"\",VLOOKUP($J98,'Reference Data - Transport fuel'!$C:$O,BE$4,FALSE))","v":""},null,{"$f":"IF($J98=\"\",\"\",VLOOKUP($J98,'Reference Data - Transport fuel'!$C:$O,BG$4,FALSE))","v":""},null,"","","","","","","","",null,"",null,"","",null,""]
[null,null,null,null,null,null,null,null,null,null,null,null,null,null,null,{"$f":"IF($D99=\"\",\"\",VLOOKUP($D99,'Reference Data - Fuel EFs'!$C:$O,P$4,FALSE))","v":""},{"$f":"IF($D99=\"\",\"\",VLOOKUP($D99,'Reference Data - Fuel EFs'!$C:$O,Q$4,FALSE))","v":""},{"$f":"IF($D99=\"\",\"\",VLOOKUP($D99,'Reference Data - Fuel EFs'!$C:$O,R$4,FALSE))","v":""},{"$f":"IF($D99=\"\",\"\",VLOOKUP($D99,'Reference Data - Fuel EFs'!$C:$O,S$4,FALSE))","v":""},{"$f":"IF($D99=\"\",\"\",VLOOKUP($D99,'Reference Data - Fuel EFs'!$C:$O,T$4,FALSE))","v":""},{"$f":"IF($D99=\"\",\"\",VLOOKUP($D99,'Reference Data - Fuel EFs'!$C:$O,U$4,FALSE))","v":""},{"$f":"IF($D99=\"\",\"\",VLOOKUP($D99,'Reference Data - Fuel EFs'!$C:$O,V$4,FALSE))","v":""},{"$f":"IF($D99=\"\",\"\",VLOOKUP($D99,'Reference Data - Fuel EFs'!$C:$O,W$4,FALSE))","v":""},{"$f":"IF($D99=\"\",\"\",VLOOKUP($D99,'Reference Data - Fuel EFs'!$C:$O,X$4,FALSE))","v":""},null,{"$f":"IF($D99=\"\",\"\",VLOOKUP($D99,'Reference Data - Fuel EFs'!$C:$O,Z$4,FALSE))","v":""},null,{"$f":"IF($D99=\"\",\"\",VLOOKUP($D99,'Reference Data - Fuel EFs'!$C:$O,AB$4,FALSE))","v":""},null,"","","","","","","","","",null,"",null,"",null,null,{"$f":"INDEX('Dropdown menus'!$A$1:$D$6,MATCH($K99,'Dropdown menus'!$A$1:$A$6,0),$AS$6)","v":{"$error":"#N/A"}},null,{"$f":"IF($J99=\"\",\"\",VLOOKUP($J99,'Reference Data - Transport fuel'!$C:$O,AU$4,FALSE))","v":""},{"$f":"IF($J99=\"\",\"\",VLOOKUP($J99,'Reference Data - Transport fuel'!$C:$O,AV$4,FALSE))","v":""},{"$f":"IF($J99=\"\",\"\",VLOOKUP($J99,'Reference Data - Transport fuel'!$C:$O,AW$4,FALSE))","v":""},{"$f":"IF($J99=\"\",\"\",VLOOKUP($J99,'Reference Data - Transport fuel'!$C:$O,AX$4,FALSE))","v":""},{"$f":"IF($J99=\"\",\"\",VLOOKUP($J99,'Reference Data - Transport fuel'!$C:$O,AY$4,FALSE))","v":""},{"$f":"IF($J99=\"\",\"\",VLOOKUP($J99,'Reference Data - Transport fuel'!$C:$O,AZ$4,FALSE))","v":""},{"$f":"IF($J99=\"\",\"\",VLOOKUP($J99,'Reference Data - Transport fuel'!$C:$O,BA$4,FALSE))","v":""},{"$f":"IF($J99=\"\",\"\",VLOOKUP($J99,'Reference Data - Transport fuel'!$C:$O,BB$4,FALSE))","v":""},{"$f":"IF($J99=\"\",\"\",VLOOKUP($J99,'Reference Data - Transport fuel'!$C:$O,BC$4,FALSE))","v":""},null,{"$f":"IF($J99=\"\",\"\",VLOOKUP($J99,'Reference Data - Transport fuel'!$C:$O,BE$4,FALSE))","v":""},null,{"$f":"IF($J99=\"\",\"\",VLOOKUP($J99,'Reference Data - Transport fuel'!$C:$O,BG$4,FALSE))","v":""},null,"","","","","","","","",null,"",null,"","",null,""]
[null,null,null,null,null,null,null,null,null,null,null,null,null,null,null,{"$f":"IF($D100=\"\",\"\",VLOOKUP($D100,'Reference Data - Fuel EFs'!$C:$O,P$4,FALSE))","v":""},{"$f":"IF($D100=\"\",\"\",VLOOKUP($D100,'Reference Data - Fuel EFs'!$C:$O,Q$4,FALSE))","v":""},{"$f":"IF($D100=\"\",\"\",VLOOKUP($D100,'Reference Data - Fuel EFs'!$C:$O,R$4,FALSE))","v":""},{"$f":"IF($D100=\"\",\"\",VLOOKUP($D100,'Reference Data - Fuel EFs'!$C:$O,S$4,FALSE))","v":""},{"$f":"IF($D100=\"\",\"\",VLOOKUP($D100,'Reference Data - Fuel EFs'!$C:$O,T$4,FALSE))","v":""},{"$f":"IF($D100=\"\",\"\",VLOOKUP($D100,'Reference Data - Fuel EFs'!$C:$O,U$4,FALSE))","v":""},{"$f":"IF($D100=\"\",\"\",VLOOKUP($D100,'Reference Data - Fuel EFs'!$C:$O,V$4,FALSE))","v":""},{"$f":"IF($D100=\"\",\"\",VLOOKUP($D100,'Reference Data - Fuel EFs'!$C:$O,W$4,FALSE))","v":""},{"$f":"IF($D100=\"\",\"\",VLOOKUP($D100,'Reference Data - Fuel EFs'!$C:$O,X$4,FALSE))","v":""},null,{"$f":"IF($D100=\"\",\"\",VLOOKUP($D100,'Reference Data - Fuel EFs'!$C:$O,Z$4,FALSE))","v":""},null,{"$f":"IF($D100=\"\",\"\",VLOOKUP($D100,'Reference Data - Fuel EFs'!$C:$O,AB$4,FALSE))","v":""},null,"","","","","","","","","",null,"",null,"",null,null,{"$f":"INDEX('Dropdown menus'!$A$1:$D$6,MATCH($K100,'Dropdown menus'!$A$1:$A$6,0),$AS$6)","v":{"$error":"#N/A"}},null,{"$f":"IF($J100=\"\",\"\",VLOOKUP($J100,'Reference Data - Transport fuel'!$C:$O,AU$4,FALSE))","v":""},{"$f":"IF($J100=\"\",\"\",VLOOKUP($J100,'Reference Data - Transport fuel'!$C:$O,AV$4,FALSE))","v":""},{"$f":"IF($J100=\"\",\"\",VLOOKUP($J100,'Reference Data - Transport fuel'!$C:$O,AW$4,FALSE))","v":""},{"$f":"IF($J100=\"\",\"\",VLOOKUP($J100,'Reference Data - Transport fuel'!$C:$O,AX$4,FALSE))","v":""},{"$f":"IF($J100=\"\",\"\",VLOOKUP($J100,'Reference Data - Transport fuel'!$C:$O,AY$4,FALSE))","v":""},{"$f":"IF($J100=\"\",\"\",VLOOKUP($J100,'Reference Data - Transport fuel'!$C:$O,AZ$4,FALSE))","v":""},{"$f":"IF($J100=\"\",\"\",VLOOKUP($J100,'Reference Data - Transport fuel'!$C:$O,BA$4,FALSE))","v":""},{"$f":"IF($J100=\"\",\"\",VLOOKUP($J100,'Reference Data - Transport fuel'!$C:$O,BB$4,FALSE))","v":""},{"$f":"IF($J100=\"\",\"\",VLOOKUP($J100,'Reference Data - Transport fuel'!$C:$O,BC$4,FALSE))","v":""},null,{"$f":"IF($J100=\"\",\"\",VLOOKUP($J100,'Reference Data - Transport fuel'!$C:$O,BE$4,FALSE))","v":""},null,{"$f":"IF($J100=\"\",\"\",VLOOKUP($J100,'Reference Data - Transport fuel'!$C:$O,BG$4,FALSE))","v":""},null,"","","","","","","","",null,"",null,"","",null,""]
[null,null,null,null,null,null,null,null,null,null,null,null,null,null,null,{"$f":"IF($D101=\"\",\"\",VLOOKUP($D101,'Reference Data - Fuel EFs'!$C:$O,P$4,FALSE))","v":""},{"$f":"IF($D101=\"\",\"\",VLOOKUP($D101,'Reference Data - Fuel EFs'!$C:$O,Q$4,FALSE))","v":""},{"$f":"IF($D101=\"\",\"\",VLOOKUP($D101,'Reference Data - Fuel EFs'!$C:$O,R$4,FALSE))","v":""},{"$f":"IF($D101=\"\",\"\",VLOOKUP($D101,'Reference Data - Fuel EFs'!$C:$O,S$4,FALSE))","v":""},{"$f":"IF($D101=\"\",\"\",VLOOKUP($D101,'Reference Data - Fuel EFs'!$C:$O,T$4,FALSE))","v":""},{"$f":"IF($D101=\"\",\"\",VLOOKUP($D101,'Reference Data - Fuel EFs'!$C:$O,U$4,FALSE))","v":""},{"$f":"IF($D101=\"\",\"\",VLOOKUP($D101,'Reference Data - Fuel EFs'!$C:$O,V$4,FALSE))","v":""},{"$f":"IF($D101=\"\",\"\",VLOOKUP($D101,'Reference Data - Fuel EFs'!$C:$O,W$4,FALSE))","v":""},{"$f":"IF($D101=\"\",\"\",VLOOKUP($D101,'Reference Data - Fuel EFs'!$C:$O,X$4,FALSE))","v":""},null,{"$f":"IF($D101=\"\",\"\",VLOOKUP($D101,'Reference Data - Fuel EFs'!$C:$O,Z$4,FALSE))","v":""},null,{"$f":"IF($D101=\"\",\"\",VLOOKUP($D101,'Reference Data - Fuel EFs'!$C:$O,AB$4,FALSE))","v":""},null,"","","","","","","","","",null,"",null,"",null,null,{"$f":"INDEX('Dropdown menus'!$A$1:$D$6,MATCH($K101,'Dropdown menus'!$A$1:$A$6,0),$AS$6)","v":{"$error":"#N/A"}},null,{"$f":"IF($J101=\"\",\"\",VLOOKUP($J101,'Reference Data - Transport fuel'!$C:$O,AU$4,FALSE))","v":""},{"$f":"IF($J101=\"\",\"\",VLOOKUP($J101,'Reference Data - Transport fuel'!$C:$O,AV$4,FALSE))","v":""},{"$f":"IF($J101=\"\",\"\",VLOOKUP($J101,'Reference Data - Transport fuel'!$C:$O,AW$4,FALSE))","v":""},{"$f":"IF($J101=\"\",\"\",VLOOKUP($J101,'Reference Data - Transport fuel'!$C:$O,AX$4,FALSE))","v":""},{"$f":"IF($J101=\"\",\"\",VLOOKUP($J101,'Reference Data - Transport fuel'!$C:$O,AY$4,FALSE))","v":""},{"$f":"IF($J101=\"\",\"\",VLOOKUP($J101,'Reference Data - Transport fuel'!$C:$O,AZ$4,FALSE))","v":""},{"$f":"IF($J101=\"\",\"\",VLOOKUP($J101,'Reference Data - Transport fuel'!$C:$O,BA$4,FALSE))","v":""},{"$f":"IF($J101=\"\",\"\",VLOOKUP($J101,'Reference Data - Transport fuel'!$C:$O,BB$4,FALSE))","v":""},{"$f":"IF($J101=\"\",\"\",VLOOKUP($J101,'Reference Data - Transport fuel'!$C:$O,BC$4,FALSE))","v":""},null,{"$f":"IF($J101=\"\",\"\",VLOOKUP($J101,'Reference Data - Transport fuel'!$C:$O,BE$4,FALSE))","v":""},null,{"$f":"IF($J101=\"\",\"\",VLOOKUP($J101,'Reference Data - Transport fuel'!$C:$O,BG$4,FALSE))","v":""},null,"","","","","","","","",null,"",null,"","",null,""]
[null,null,null,null,null,null,null,null,null,null,null,null,null,null,null,{"$f":"IF($D102=\"\",\"\",VLOOKUP($D102,'Reference Data - Fuel EFs'!$C:$O,P$4,FALSE))","v":""},{"$f":"IF($D102=\"\",\"\",VLOOKUP($D102,'Reference Data - Fuel EFs'!$C:$O,Q$4,FALSE))","v":""},{"$f":"IF($D102=\"\",\"\",VLOOKUP($D102,'Reference Data - Fuel EFs'!$C:$O,R$4,FALSE))","v":""},{"$f":"IF($D102=\"\",\"\",VLOOKUP($D102,'Reference Data - Fuel EFs'!$C:$O,S$4,FALSE))","v":""},{"$f":"IF($D102=\"\",\"\",VLOOKUP($D102,'Reference Data - Fuel EFs'!$C:$O,T$4,FALSE))","v":""},{"$f":"IF($D102=\"\",\"\",VLOOKUP($D102,'Reference Data - Fuel EFs'!$C:$O,U$4,FALSE))","v":""},{"$f":"IF($D102=\"\",\"\",VLOOKUP($D102,'Reference Data - Fuel EFs'!$C:$O,V$4,FALSE))","v":""},{"$f":"IF($D102=\"\",\"\",VLOOKUP($D102,'Reference Data - Fuel EFs'!$C:$O,W$4,FALSE))","v":""},{"$f":"IF($D102=\"\",\"\",VLOOKUP($D102,'Reference Data - Fuel EFs'!$C:$O,X$4,FALSE))","v":""},null,{"$f":"IF($D102=\"\",\"\",VLOOKUP($D102,'Reference Data - Fuel EFs'!$C:$O,Z$4,FALSE))","v":""},null,{"$f":"IF($D102=\"\",\"\",VLOOKUP($D102,'Reference Data - Fuel EFs'!$C:$O,AB$4,FALSE))","v":""},null,"","","","","","","","","",null,"",null,"",null,null,{"$f":"INDEX('Dropdown menus'!$A$1:$D$6,MATCH($K102,'Dropdown menus'!$A$1:$A$6,0),$AS$6)","v":{"$error":"#N/A"}},null,{"$f":"IF($J102=\"\",\"\",VLOOKUP($J102,'Reference Data - Transport fuel'!$C:$O,AU$4,FALSE))","v":""},{"$f":"IF($J102=\"\",\"\",VLOOKUP($J102,'Reference Data - Transport fuel'!$C:$O,AV$4,FALSE))","v":""},{"$f":"IF($J102=\"\",\"\",VLOOKUP($J102,'Reference Data - Transport fuel'!$C:$O,AW$4,FALSE))","v":""},{"$f":"IF($J102=\"\",\"\",VLOOKUP($J102,'Reference Data - Transport fuel'!$C:$O,AX$4,FALSE))","v":""},{"$f":"IF($J102=\"\",\"\",VLOOKUP($J102,'Reference Data - Transport fuel'!$C:$O,AY$4,FALSE))","v":""},{"$f":"IF($J102=\"\",\"\",VLOOKUP($J102,'Reference Data - Transport fuel'!$C:$O,AZ$4,FALSE))","v":""},{"$f":"IF($J102=\"\",\"\",VLOOKUP($J102,'Reference Data - Transport fuel'!$C:$O,BA$4,FALSE))","v":""},{"$f":"IF($J102=\"\",\"\",VLOOKUP($J102,'Reference Data - Transport fuel'!$C:$O,BB$4,FALSE))","v":""},{"$f":"IF($J102=\"\",\"\",VLOOKUP($J102,'Reference Data - Transport fuel'!$C:$O,BC$4,FALSE))","v":""},null,{"$f":"IF($J102=\"\",\"\",VLOOKUP($J102,'Reference Data - Transport fuel'!$C:$O,BE$4,FALSE))","v":""},null,{"$f":"IF($J102=\"\",\"\",VLOOKUP($J102,'Reference Data - Transport fuel'!$C:$O,BG$4,FALSE))","v":""},null,"","","","","","","","",null,"",null,"","",null,""]
[null,null,null,null,null,null,null,null,null,null,null,null,null,null,null,{"$f":"IF($D103=\"\",\"\",VLOOKUP($D103,'Reference Data - Fuel EFs'!$C:$O,P$4,FALSE))","v":""},{"$f":"IF($D103=\"\",\"\",VLOOKUP($D103,'Reference Data - Fuel EFs'!$C:$O,Q$4,FALSE))","v":""},{"$f":"IF($D103=\"\",\"\",VLOOKUP($D103,'Reference Data - Fuel EFs'!$C:$O,R$4,FALSE))","v":""},{"$f":"IF($D103=\"\",\"\",VLOOKUP($D103,'Reference Data - Fuel EFs'!$C:$O,S$4,FALSE))","v":""},{"$f":"IF($D103=\"\",\"\",VLOOKUP($D103,'Reference Data - Fuel EFs'!$C:$O,T$4,FALSE))","v":""},{"$f":"IF($D103=\"\",\"\",VLOOKUP($D103,'Reference Data - Fuel EFs'!$C:$O,U$4,FALSE))","v":""},{"$f":"IF($D103=\"\",\"\",VLOOKUP($D103,'Reference Data - Fuel EFs'!$C:$O,V$4,FALSE))","v":""},{"$f":"IF($D103=\"\",\"\",VLOOKUP($D103,'Reference Data - Fuel EFs'!$C:$O,W$4,FALSE))","v":""},{"$f":"IF($D103=\"\",\"\",VLOOKUP($D103,'Reference Data - Fuel EFs'!$C:$O,X$4,FALSE))","v":""},null,{"$f":"IF($D103=\"\",\"\",VLOOKUP($D103,'Reference Data - Fuel EFs'!$C:$O,Z$4,FALSE))","v":""},null,{"$f":"IF($D103=\"\",\"\",VLOOKUP($D103,'Reference Data - Fuel EFs'!$C:$O,AB$4,FALSE))","v":""},null,"","","","","","","","","",null,"",null,"",null,null,{"$f":"INDEX('Dropdown menus'!$A$1:$D$6,MATCH($K103,'Dropdown menus'!$A$1:$A$6,0),$AS$6)","v":{"$error":"#N/A"}},null,{"$f":"IF($J103=\"\",\"\",VLOOKUP($J103,'Reference Data - Transport fuel'!$C:$O,AU$4,FALSE))","v":""},{"$f":"IF($J103=\"\",\"\",VLOOKUP($J103,'Reference Data - Transport fuel'!$C:$O,AV$4,FALSE))","v":""},{"$f":"IF($J103=\"\",\"\",VLOOKUP($J103,'Reference Data - Transport fuel'!$C:$O,AW$4,FALSE))","v":""},{"$f":"IF($J103=\"\",\"\",VLOOKUP($J103,'Reference Data - Transport fuel'!$C:$O,AX$4,FALSE))","v":""},{"$f":"IF($J103=\"\",\"\",VLOOKUP($J103,'Reference Data - Transport fuel'!$C:$O,AY$4,FALSE))","v":""},{"$f":"IF($J103=\"\",\"\",VLOOKUP($J103,'Reference Data - Transport fuel'!$C:$O,AZ$4,FALSE))","v":""},{"$f":"IF($J103=\"\",\"\",VLOOKUP($J103,'Reference Data - Transport fuel'!$C:$O,BA$4,FALSE))","v":""},{"$f":"IF($J103=\"\",\"\",VLOOKUP($J103,'Reference Data - Transport fuel'!$C:$O,BB$4,FALSE))","v":""},{"$f":"IF($J103=\"\",\"\",VLOOKUP($J103,'Reference Data - Transport fuel'!$C:$O,BC$4,FALSE))","v":""},null,{"$f":"IF($J103=\"\",\"\",VLOOKUP($J103,'Reference Data - Transport fuel'!$C:$O,BE$4,FALSE))","v":""},null,{"$f":"IF($J103=\"\",\"\",VLOOKUP($J103,'Reference Data - Transport fuel'!$C:$O,BG$4,FALSE))","v":""},null,"","","","","","","","",null,"",null,"","",null,""]
[null,null,null,null,null,null,null,null,null,null,null,null,null,null,null,{"$f":"IF($D104=\"\",\"\",VLOOKUP($D104,'Reference Data - Fuel EFs'!$C:$O,P$4,FALSE))","v":""},{"$f":"IF($D104=\"\",\"\",VLOOKUP($D104,'Reference Data - Fuel EFs'!$C:$O,Q$4,FALSE))","v":""},{"$f":"IF($D104=\"\",\"\",VLOOKUP($D104,'Reference Data - Fuel EFs'!$C:$O,R$4,FALSE))","v":""},{"$f":"IF($D104=\"\",\"\",VLOOKUP($D104,'Reference Data - Fuel EFs'!$C:$O,S$4,FALSE))","v":""},{"$f":"IF($D104=\"\",\"\",VLOOKUP($D104,'Reference Data - Fuel EFs'!$C:$O,T$4,FALSE))","v":""},{"$f":"IF($D104=\"\",\"\",VLOOKUP($D104,'Reference Data - Fuel EFs'!$C:$O,U$4,FALSE))","v":""},{"$f":"IF($D104=\"\",\"\",VLOOKUP($D104,'Reference Data - Fuel EFs'!$C:$O,V$4,FALSE))","v":""},{"$f":"IF($D104=\"\",\"\",VLOOKUP($D104,'Reference Data - Fuel EFs'!$C:$O,W$4,FALSE))","v":""},{"$f":"IF($D104=\"\",\"\",VLOOKUP($D104,'Reference Data - Fuel EFs'!$C:$O,X$4,FALSE))","v":""},null,{"$f":"IF($D104=\"\",\"\",VLOOKUP($D104,'Reference Data - Fuel EFs'!$C:$O,Z$4,FALSE))","v":""},null,{"$f":"IF($D104=\"\",\"\",VLOOKUP($D104,'Reference Data - Fuel EFs'!$C:$O,AB$4,FALSE))","v":""},null,"","","","","","","","","",null,"",null,"",null,null,{"$f":"INDEX('Dropdown menus'!$A$1:$D$6,MATCH($K104,'Dropdown menus'!$A$1:$A$6,0),$AS$6)","v":{"$error":"#N/A"}},null,{"$f":"IF($J104=\"\",\"\",VLOOKUP($J104,'Reference Data - Transport fuel'!$C:$O,AU$4,FALSE))","v":""},{"$f":"IF($J104=\"\",\"\",VLOOKUP($J104,'Reference Data - Transport fuel'!$C:$O,AV$4,FALSE))","v":""},{"$f":"IF($J104=\"\",\"\",VLOOKUP($J104,'Reference Data - Transport fuel'!$C:$O,AW$4,FALSE))","v":""},{"$f":"IF($J104=\"\",\"\",VLOOKUP($J104,'Reference Data - Transport fuel'!$C:$O,AX$4,FALSE))","v":""},{"$f":"IF($J104=\"\",\"\",VLOOKUP($J104,'Reference Data - Transport fuel'!$C:$O,AY$4,FALSE))","v":""},{"$f":"IF($J104=\"\",\"\",VLOOKUP($J104,'Reference Data - Transport fuel'!$C:$O,AZ$4,FALSE))","v":""},{"$f":"IF($J104=\"\",\"\",VLOOKUP($J104,'Reference Data - Transport fuel'!$C:$O,BA$4,FALSE))","v":""},{"$f":"IF($J104=\"\",\"\",VLOOKUP($J104,'Reference Data - Transport fuel'!$C:$O,BB$4,FALSE))","v":""},{"$f":"IF($J104=\"\",\"\",VLOOKUP($J104,'Reference Data - Transport fuel'!$C:$O,BC$4,FALSE))","v":""},null,{"$f":"IF($J104=\"\",\"\",VLOOKUP($J104,'Reference Data - Transport fuel'!$C:$O,BE$4,FALSE))","v":""},null,{"$f":"IF($J104=\"\",\"\",VLOOKUP($J104,'Reference Data - Transport fuel'!$C:$O,BG$4,FALSE))","v":""},null,"","","","","","","","",null,"",null,"","",null,""]
[null,null,null,null,null,null,null,null,null,null,null,null,null,null,null,{"$f":"IF($D105=\"\",\"\",VLOOKUP($D105,'Reference Data - Fuel EFs'!$C:$O,P$4,FALSE))","v":""},{"$f":"IF($D105=\"\",\"\",VLOOKUP($D105,'Reference Data - Fuel EFs'!$C:$O,Q$4,FALSE))","v":""},{"$f":"IF($D105=\"\",\"\",VLOOKUP($D105,'Reference Data - Fuel EFs'!$C:$O,R$4,FALSE))","v":""},{"$f":"IF($D105=\"\",\"\",VLOOKUP($D105,'Reference Data - Fuel EFs'!$C:$O,S$4,FALSE))","v":""},{"$f":"IF($D105=\"\",\"\",VLOOKUP($D105,'Reference Data - Fuel EFs'!$C:$O,T$4,FALSE))","v":""},{"$f":"IF($D105=\"\",\"\",VLOOKUP($D105,'Reference Data - Fuel EFs'!$C:$O,U$4,FALSE))","v":""},{"$f":"IF($D105=\"\",\"\",VLOOKUP($D105,'Reference Data - Fuel EFs'!$C:$O,V$4,FALSE))","v":""},{"$f":"IF($D105=\"\",\"\",VLOOKUP($D105,'Reference Data - Fuel EFs'!$C:$O,W$4,FALSE))","v":""},{"$f":"IF($D105=\"\",\"\",VLOOKUP($D105,'Reference Data - Fuel EFs'!$C:$O,X$4,FALSE))","v":""},null,{"$f":"IF($D105=\"\",\"\",VLOOKUP($D105,'Reference Data - Fuel EFs'!$C:$O,Z$4,FALSE))","v":""},null,{"$f":"IF($D105=\"\",\"\",VLOOKUP($D105,'Reference Data - Fuel EFs'!$C:$O,AB$4,FALSE))","v":""},null,"","","","","","","","","",null,"",null,"",null,null,{"$f":"INDEX('Dropdown menus'!$A$1:$D$6,MATCH($K105,'Dropdown menus'!$A$1:$A$6,0),$AS$6)","v":{"$error":"#N/A"}},null,{"$f":"IF($J105=\"\",\"\",VLOOKUP($J105,'Reference Data - Transport fuel'!$C:$O,AU$4,FALSE))","v":""},{"$f":"IF($J105=\"\",\"\",VLOOKUP($J105,'Reference Data - Transport fuel'!$C:$O,AV$4,FALSE))","v":""},{"$f":"IF($J105=\"\",\"\",VLOOKUP($J105,'Reference Data - Transport fuel'!$C:$O,AW$4,FALSE))","v":""},{"$f":"IF($J105=\"\",\"\",VLOOKUP($J105,'Reference Data - Transport fuel'!$C:$O,AX$4,FALSE))","v":""},{"$f":"IF($J105=\"\",\"\",VLOOKUP($J105,'Reference Data - Transport fuel'!$C:$O,AY$4,FALSE))","v":""},{"$f":"IF($J105=\"\",\"\",VLOOKUP($J105,'Reference Data - Transport fuel'!$C:$O,AZ$4,FALSE))","v":""},{"$f":"IF($J105=\"\",\"\",VLOOKUP($J105,'Reference Data - Transport fuel'!$C:$O,BA$4,FALSE))","v":""},{"$f":"IF($J105=\"\",\"\",VLOOKUP($J105,'Reference Data - Transport fuel'!$C:$O,BB$4,FALSE))","v":""},{"$f":"IF($J105=\"\",\"\",VLOOKUP($J105,'Reference Data - Transport fuel'!$C:$O,BC$4,FALSE))","v":""},null,{"$f":"IF($J105=\"\",\"\",VLOOKUP($J105,'Reference Data - Transport fuel'!$C:$O,BE$4,FALSE))","v":""},null,{"$f":"IF($J105=\"\",\"\",VLOOKUP($J105,'Reference Data - Transport fuel'!$C:$O,BG$4,FALSE))","v":""},null,"","","","","","","","",null,"",null,"","",null,""]
[null,null,null,null,null,null,null,null,null,null,null,null,null,null,null,{"$f":"IF($D106=\"\",\"\",VLOOKUP($D106,'Reference Data - Fuel EFs'!$C:$O,P$4,FALSE))","v":""},{"$f":"IF($D106=\"\",\"\",VLOOKUP($D106,'Reference Data - Fuel EFs'!$C:$O,Q$4,FALSE))","v":""},{"$f":"IF($D106=\"\",\"\",VLOOKUP($D106,'Reference Data - Fuel EFs'!$C:$O,R$4,FALSE))","v":""},{"$f":"IF($D106=\"\",\"\",VLOOKUP($D106,'Reference Data - Fuel EFs'!$C:$O,S$4,FALSE))","v":""},{"$f":"IF($D106=\"\",\"\",VLOOKUP($D106,'Reference Data - Fuel EFs'!$C:$O,T$4,FALSE))","v":""},{"$f":"IF($D106=\"\",\"\",VLOOKUP($D106,'Reference Data - Fuel EFs'!$C:$O,U$4,FALSE))","v":""},{"$f":"IF($D106=\"\",\"\",VLOOKUP($D106,'Reference Data - Fuel EFs'!$C:$O,V$4,FALSE))","v":""},{"$f":"IF($D106=\"\",\"\",VLOOKUP($D106,'Reference Data - Fuel EFs'!$C:$O,W$4,FALSE))","v":""},{"$f":"IF($D106=\"\",\"\",VLOOKUP($D106,'Reference Data - Fuel EFs'!$C:$O,X$4,FALSE))","v":""},null,{"$f":"IF($D106=\"\",\"\",VLOOKUP($D106,'Reference Data - Fuel EFs'!$C:$O,Z$4,FALSE))","v":""},null,{"$f":"IF($D106=\"\",\"\",VLOOKUP($D106,'Reference Data - Fuel EFs'!$C:$O,AB$4,FALSE))","v":""},null,"","","","","","","","","",null,"",null,"",null,null,{"$f":"INDEX('Dropdown menus'!$A$1:$D$6,MATCH($K106,'Dropdown menus'!$A$1:$A$6,0),$AS$6)","v":{"$error":"#N/A"}},null,{"$f":"IF($J106=\"\",\"\",VLOOKUP($J106,'Reference Data - Transport fuel'!$C:$O,AU$4,FALSE))","v":""},{"$f":"IF($J106=\"\",\"\",VLOOKUP($J106,'Reference Data - Transport fuel'!$C:$O,AV$4,FALSE))","v":""},{"$f":"IF($J106=\"\",\"\",VLOOKUP($J106,'Reference Data - Transport fuel'!$C:$O,AW$4,FALSE))","v":""},{"$f":"IF($J106=\"\",\"\",VLOOKUP($J106,'Reference Data - Transport fuel'!$C:$O,AX$4,FALSE))","v":""},{"$f":"IF($J106=\"\",\"\",VLOOKUP($J106,'Reference Data - Transport fuel'!$C:$O,AY$4,FALSE))","v":""},{"$f":"IF($J106=\"\",\"\",VLOOKUP($J106,'Reference Data - Transport fuel'!$C:$O,AZ$4,FALSE))","v":""},{"$f":"IF($J106=\"\",\"\",VLOOKUP($J106,'Reference Data - Transport fuel'!$C:$O,BA$4,FALSE))","v":""},{"$f":"IF($J106=\"\",\"\",VLOOKUP($J106,'Reference Data - Transport fuel'!$C:$O,BB$4,FALSE))","v":""},{"$f":"IF($J106=\"\",\"\",VLOOKUP($J106,'Reference Data - Transport fuel'!$C:$O,BC$4,FALSE))","v":""},null,{"$f":"IF($J106=\"\",\"\",VLOOKUP($J106,'Reference Data - Transport fuel'!$C:$O,BE$4,FALSE))","v":""},null,{"$f":"IF($J106=\"\",\"\",VLOOKUP($J106,'Reference Data - Transport fuel'!$C:$O,BG$4,FALSE))","v":""},null,"","","","","","","","",null,"",null,"","",null,""]

{"sheet":"3. Fugitive Emissions（逸散性排放）","index":2,"n_rows":35,"n_cols":25,"rows_kept":35,"cut":false,"hidden":false,"merged":[[25,4,26,4],[23,6,24,6],[29,4,30,4],[27,6,28,6],[21,4,22,4],[21,5,22,5],[21,6,22,6],[23,4,24,4],[23,5,24,5],[33,6,34,6],[33,5,34,5],[31,4,32,4],[27,4,28,4],[33,4,34,4],[31,6,32,6],[31,5,32,5],[25,5,26,5],[25,6,26,6],[29,6,30,6],[27,5,28,5],[29,5,30,5]]}
[]
[null,null,null,"过程排放"]
[null,null,null,"Process Emissions"]
[]
[null,"C",null,"气体","年排放量（千克）",null,null,null,null,null,null,"Process emissions:",null,"Refrigerant Losses"]
[null,"E",null,"Gas","Quantity per year (kg)",null,null,null,null,null,null,"Emissions (kg CO2e)",null,"Emissions (kg CO2e)",null,null,"Need a summary table for:","Emissions (kg)",null,null,"HFC Name","Emissions (kg)",null,"PFC Name","Emissions (kg)"]
[null,null,null,null,null,null,null,null,null,null,null,{"$f":"IF(ISERROR(VLOOKUP(D7,'Reference Data - Fugitive GWP'!A:C,3,FALSE)*'3. Fugitive Emissions（逸散性排放）'!E7),\"\",(VLOOKUP(D7,'Reference Data - Fugitive GWP'!A:C,3,FALSE)*'3. Fugitive Emissions（逸散性排放）'!E7))","v":""},null,{"$f":"IF(ISERROR(E34*VLOOKUP(E22,'Reference Data -Refrigerant GWP'!$A:$C,3,FALSE)),\"\",E34*VLOOKUP(E22,'Reference Data -Refrigerant GWP'!$A:$C,3,FALSE))","v":""},null,null,{"$f":"'Reference Data - Fugitive GWP'!A3","v":"Carbon dioxide 二氧化碳"},{"$f":"SUMIF($D$7:$D$16,Q7,$E$7:$E$16)+SUMIF($E$22:$G$22,Q7,$E$34:$G$34)","v":0},null,null,{"$f":"'Reference Data - Fugitive GWP'!A23","v":"HFC-125"},{"$f":"SUMIF($D$7:$D$16,U7,$E$7:$E$16)+SUMIF($E$22:$G$22,U7,$E$34:$G$34)","v":0},null,{"$f":"'Reference Data - Fugitive GWP'!A55","v":"PFC-116"},{"$f":"SUMIF($D$7:$D$16,X7,$E$7:$E$16)+SUMIF($E$22:$G$22,X7,$E$34:$G$34)","v":0}]
[null,null,null,null,null,null,null,null,null,null,null,{"$f":"IF(ISERROR(VLOOKUP(D8,'Reference Data - Fugitive GWP'!A:C,3,FALSE)*'3. Fugitive Emissions（逸散性排放）'!E8),\"\",(VLOOKUP(D8,'Reference Data - Fugitive GWP'!A:C,3,FALSE)*'3. Fugitive Emissions（逸散性排放）'!E8))","v":""},null,{"$f":"IF(ISERROR(F34*VLOOKUP(F22,'Reference Data -Refrigerant GWP'!$A:$C,3,FALSE)),\"\",F34*VLOOKUP(F22,'Reference Data -Refrigerant GWP'!$A:$C,3,FALSE))","v":""},null,null,{"$f":"'Reference Data - Fugitive GWP'!A48","v":"Methane 甲烷"},{"$f":"SUMIF($D$7:$D$16,Q8,$E$7:$E$16)+SUMIF($E$22:$G$22,Q8,$E$34:$G$34)","v":0},null,null,{"$f":"'Reference Data - Fugitive GWP'!A24","v":"HFC-134a"},{"$f":"SUMIF($D$7:$D$16,U8,$E$7:$E$16)+SUMIF($E$22:$G$22,U8,$E$34:$G$34)","v":0},null,{"$f":"'Reference Data - Fugitive GWP'!A56","v":"PFC-14"},{"$f":"SUMIF($D$7:$D$16,X8,$E$7:$E$16)+SUMIF($E$22:$G$22,X8,$E$34:$G$34)","v":0}]
[null,null,null,null,null,null,null,null,null,null,null,{"$f":"IF(ISERROR(VLOOKUP(D9,'Reference Data - Fugitive GWP'!A:C,3,FALSE)*'3. Fugitive Emissions（逸散性排放）'!E9),\"\",(VLOOKUP(D9,'Reference Data - Fugitive GWP'!A:C,3,FALSE)*'3. Fugitive Emissions（逸散性排放）'!E9))","v":""},null,{"$f":"IF(ISERROR(G34*VLOOKUP(G22,'Reference Data -Refrigerant GWP'!$A:$C,3,FALSE)),\"\",G22*VLOOKUP(G22,'Reference Data -Refrigerant GWP'!$A:$C,3,FALSE))","v":""},null,null,"Nitrogen trifluoride 三氟化氮",{"$f":"SUMIF($D$7:$D$16,Q9,$E$7:$E$16)+SUMIF($E$22:$G$22,Q9,$E$34:$G$34)","v":0},null,null,{"$f":"'Reference Data - Fugitive GWP'!A25","v":"HFC-143a"},0,null,{"$f":"'Reference Data - Fugitive GWP'!A57","v":"PFC-218"},0]
[null,null,null,null,null,null,null,null,null,null,null,{"$f":"IF(ISERROR(VLOOKUP(D10,'Reference Data - Fugitive GWP'!A:C,3,FALSE)*'3. Fugitive Emissions（逸散性排放）'!E10),\"\",(VLOOKUP(D10,'Reference Data - Fugitive GWP'!A:C,3,FALSE)*'3. Fugitive Emissions（逸散性排放）'!E10))","v":""},null,null,null,null,{"$f":"'Reference Data - Fugitive GWP'!A54","v":"Nitrous oxide 一氧化二氮"},{"$f":"SUMIF($D$7:$D$16,Q10,$E$7:$E$16)+SUMIF($E$22:$G$22,Q10,$E$34:$G$34)","v":0},null,null,{"$f":"'Reference Data - Fugitive GWP'!A26","v":"HFC-152a"},0,null,{"$f":"'Reference Data - Fugitive GWP'!A58","v":"PFC-3-1-10"},0]
[null,null,null,null,null,null,null,null,null,null,null,{"$f":"IF(ISERROR(VLOOKUP(D11,'Reference Data - Fugitive GWP'!A:C,3,FALSE)*'3. Fugitive Emissions（逸散性排放）'!E11),\"\",(VLOOKUP(D11,'Reference Data - Fugitive GWP'!A:C,3,FALSE)*'3. Fugitive Emissions（逸散性排放）'!E11))","v":""},null,null,null,null,"HFC",{"$f":"SUM(V7:V17)","v":0},null,null,{"$f":"'Reference Data - Fugitive GWP'!A27","v":"HFC-227ea"},0,null,{"$f":"'Reference Data - Fugitive GWP'!A59","v":"PFC-318"},0]
[null,null,null,null,null,null,null,null,null,null,null,{"$f":"IF(ISERROR(VLOOKUP(D12,'Reference Data - Fugitive GWP'!A:C,3,FALSE)*'3. Fugitive Emissions（逸散性排放）'!E12),\"\",(VLOOKUP(D12,'Reference Data - Fugitive GWP'!A:C,3,FALSE)*'3. Fugitive Emissions（逸散性排放）'!E12))","v":""},null,null,null,null,"PFC",{"$f":"SUM(Y7:Y14)","v":0},null,null,{"$f":"'Reference Data - Fugitive GWP'!A28","v":"HFC-23"},0,null,{"$f":"'Reference Data - Fugitive GWP'!A60","v":"PFC-4-1-12"},0]
[null,null,null,null,null,null,null,null,null,null,null,{"$f":"IF(ISERROR(VLOOKUP(D13,'Reference Data - Fugitive GWP'!A:C,3,FALSE)*'3. Fugitive Emissions（逸散性排放）'!E13),\"\",(VLOOKUP(D13,'Reference Data - Fugitive GWP'!A:C,3,FALSE)*'3. Fugitive Emissions（逸散性排放）'!E13))","v":""},null,null,null,null,{"$f":"'Reference Data - Fugitive GWP'!A64","v":"Sulfur hexafluoride 六氟化硫"},{"$f":"SUMIF($D$7:$D$16,Q13,$E$7:$E$16)+SUMIF($E$22:$G$22,Q13,$E$34:$G$34)","v":0},null,null,{"$f":"'Reference Data - Fugitive GWP'!A29","v":"HFC-236fa"},0,null,{"$f":"'Reference Data - Fugitive GWP'!A61","v":"PFC-5-1-14"},0]
[null,null,null,null,null,null,null,null,null,null,null,{"$f":"IF(ISERROR(VLOOKUP(D14,'Reference Data - Fugitive GWP'!A:C,3,FALSE)*'3. Fugitive Emissions（逸散性排放）'!E14),\"\",(VLOOKUP(D14,'Reference Data - Fugitive GWP'!A:C,3,FALSE)*'3. Fugitive Emissions（逸散性排放）'!E14))","v":""},null,null,null,null,null,null,null,null,{"$f":"'Reference Data - Fugitive GWP'!A30","v":"HFC-245fa"},0,null,{"$f":"'Reference Data - Fugitive GWP'!A62","v":"PFC-9-1-18"},0]
[null,null,null,null,null,null,null,null,null,null,null,{"$f":"IF(ISERROR(VLOOKUP(D15,'Reference Data - Fugitive GWP'!A:C,3,FALSE)*'3. Fugitive Emissions（逸散性排放）'!E15),\"\",(VLOOKUP(D15,'Reference Data - Fugitive GWP'!A:C,3,FALSE)*'3. Fugitive Emissions（逸散性排放）'!E15))","v":""},null,null,null,null,null,null,null,null,{"$f":"'Reference Data - Fugitive GWP'!A31","v":"HFC-32"},0]
[null,null,null,null,null,null,null,null,null,null,null,{"$f":"IF(ISERROR(VLOOKUP(D16,'Reference Data - Fugitive GWP'!A:C,3,FALSE)*'3. Fugitive Emissions（逸散性排放）'!E16),\"\",(VLOOKUP(D16,'Reference Data - Fugitive GWP'!A:C,3,FALSE)*'3. Fugitive Emissions（逸散性排放）'!E16))","v":""},null,null,null,null,null,null,null,null,{"$f":"'Reference Data - Fugitive GWP'!A32","v":"HFC-365mfc"},0]
[null,null,null,null,null,null,null,null,null,null,null,null,null,null,null,null,null,null,null,null,{"$f":"'Reference Data - Fugitive GWP'!A33","v":"HFC-43-10mee"},0]
[null,null,null,"制冷剂损耗"]
[null,null,null,"Refrigerant Losses"]
[null,"C",null,null,"制冷剂 1","制冷剂 2","制冷剂 3"]
[null,"E",null,null,"Refrigerant 1","Refrigerant 2","Refrigerant 3"]
[null,null,null,"制冷剂名称"]
[null,null,null,"Refrigerant name"]
[null,null,null,"报告起始期制冷剂存量（千克）"]
[null,null,null,"Refrigerant stock at start of reporting period (kg)"]
[null,null,null,"报告结束期制冷剂存量（千克）"]
[null,null,null,"Refrigerant stock at end of reporting period (kg)"]
[null,null,null,"报告期内所购买的制冷剂量（千克）"]
[null,null,null,"Refrigerant purchased during reporting period (kg)"]
[null,null,null,"新设备所填充的制冷剂量（千克）"]
[null,null,null,"Amount of refrigerant to fill new equipment (kg)"]
[null,null,null,"销售或送往厂区外用于回收利用的制冷剂量（千克）"]
[null,null,null,"Refrigerant sold or sent off-site for recovery (kg)"]
[null,null,null,"制冷剂排放总量（千克）",{"$f":"IF(ISERROR(((E24+E28)-(E26+E30+E32))),0,((E24+E28)-(E26+E30+E32)))","v":0},{"$f":"IF(ISERROR(((F24+F28)-(F26+F30+F32))),0,((F24+F28)-(F26+F30+F32)))","v":0},{"$f":"IF(ISERROR(((G24+G28)-(G26+G30+G32))),0,((G24+G28)-(G26+G30+G32)))","v":0}]
[null,null,null,"Total refrigerant emissions (kg)"]

{"sheet":"4. Purchased Energy（能源购买）","index":3,"n_rows":20,"n_cols":108,"rows_kept":20,"cut":false,"hidden":false,"merged":[]}
[]
[null,null,null,"能源购买"]
[null,null,null,"Purchased Energy"]
[]
[]
[null,"C",null,"电力",null,null,null,"C",null,"热力",null,null,null,"C",null,"蒸汽",null,null,null,"C",null,"冷力"]
[null,"E",null,"ELECTRICITY",null,null,null,"E",null,"Heat",null,null,null,"E",null,"Steam",null,null,null,"E",null,"Cooling",null,null,null,null,"Electricity",null,null,null,null,null,null,null,null,null,null,null,null,null,null,null,null,null,null,null,null,"Heat",null,null,null,null,null,null,null,null,null,null,null,null,null,null,null,null,null,null,null,null,"Steam",null,null,null,null,null,null,null,null,null,null,null,null,null,null,null,null,null,null,null,null,"Cooling"]
[null,null,null,null,null,null,null,null,null,null,null,null,null,null,null,null,null,null,null,null,null,null,null,null,null,null,2,6,7,8,9,10,11,12,5,null,null,null,null,null,null,null,null,null,null,null,null,2,5,6,7,8,9,10,11,3,null,null,null,null,null,null,null,null,null,null,null,null,2,5,6,7,8,9,10,11,3,null,null,null,null,null,null,null,null,null,null,null,null,2,5,6,7,8,9,10,11,3]
[null,null,null,"年消耗量（MWh）","区域电网",null,null,null,null,"年消耗量（GJ）","地区",null,null,null,null,"年消耗量（MWh）","技术和地区",null,null,null,null,"年消耗量（MWh）","技术和地区",null,null,null,"Emission Factors",null,null,null,null,null,null,null,null,null,"Emissions (kg)",null,null,null,null,null,null,null,null,null,null,"Emission Factors",null,null,null,null,null,null,null,null,null,"Emissions (kg)",null,null,null,null,null,null,null,null,null,null,"Emission Factors",null,null,null,null,null,null,null,null,null,"Emissions (kg)",null,null,null,null,null,null,null,null,null,null,"Emission Factors",null,null,null,null,null,null,null,null,null,"Emissions (kg)"]
[null,null,null,"Quantity per year (MWh)","Regional Grid",null,null,null,null,"Quantity per year (GJ)","Region",null,null,null,null,"Quantity per year (MWh)","Technology & Region",null,null,null,null,"Quantity per year (MWh)","Technology & Region",null,null,null,"CO2e","CO2","CH4","N2O","HFC","PFC","SF6","NF3","Upstream CO2e",null,"CO2e","CO2","CH4","N2O","HFC","PFC","SF6","NF3","Upstream CO2e",null,null,"CO2e","CO2","CH4","N2O","HFC","PFC","SF6","NF3","Upstream CO2e",null,"CO2e","CO2","CH4","N2O","HFC","PFC","SF6","NF3","Upstream CO2e",null,null,"CO2e","CO2","CH4","N2O","HFC","PFC","SF6","NF3","Upstream CO2e",null,"CO2e","CO2","CH4","N2O","HFC","PFC","SF6","NF3","Upstream CO2e",null,null,"CO2e","CO2","CH4","N2O","HFC","PFC","SF6","NF3","Upstream CO2e",null,"CO2e","CO2","CH4","N2O","HFC","PFC","SF6","NF3","Upstream CO2e"]
[null,null,null,null,null,null,null,null,null,null,null,null,null,null,null,null,null,null,null,null,null,null,null,null,null,null,{"$f":"IF($E11=\"\",\"\",VLOOKUP($E11,'Reference Data - Electricity'!$A:$L,AA$8,FALSE))","v":""},{"$f":"IF($E11=\"\",\"\",VLOOKUP($E11,'Reference Data - Electricity'!$A:$L,AB$8,FALSE))","v":""},{"$f":"IF($E11=\"\",\"\",VLOOKUP($E11,'Reference Data - Electricity'!$A:$L,AC$8,FALSE))","v":""},{"$f":"IF($E11=\"\",\"\",VLOOKUP($E11,'Reference Data - Electricity'!$A:$L,AD$8,FALSE))","v":""},{"$f":"IF($E11=\"\",\"\",VLOOKUP($E11,'Reference Data - Electricity'!$A:$L,AE$8,FALSE))","v":""},{"$f":"IF($E11=\"\",\"\",VLOOKUP($E11,'Reference Data - Electricity'!$A:$L,AF$8,FALSE))","v":""},{"$f":"IF($E11=\"\",\"\",VLOOKUP($E11,'Reference Data - Electricity'!$A:$L,AG$8,FALSE))","v":""},{"$f":"IF($E11=\"\",\"\",VLOOKUP($E11,'Reference Data - Electricity'!$A:$L,AH$8,FALSE))","v":""},{"$f":"IF($E11=\"\",\"\",VLOOKUP($E11,'Reference Data - Electricity'!$A:$L,AI$8,FALSE))","v":""},null,{"$f":"IF($E11=\"\",\"\",$D11*AA11)","v":""},{"$f":"IF($E11=\"\",\"\",$D11*AB11)","v":""},"","","","","","","",null,null,{"$f":"IF($K11=\"\",\"\",VLOOKUP($K11,'Reference Data - Heat'!$C:$M,AV$8,FALSE))","v":""},{"$f":"IF($K11=\"\",\"\",VLOOKUP($K11,'Reference Data - Heat'!$C:$M,AW$8,FALSE))","v":""},{"$f":"IF($K11=\"\",\"\",VLOOKUP($K11,'Reference Data - Heat'!$C:$M,AX$8,FALSE))","v":""},{"$f":"IF($K11=\"\",\"\",VLOOKUP($K11,'Reference Data - Heat'!$C:$M,AY$8,FALSE))","v":""},{"$f":"IF($K11=\"\",\"\",VLOOKUP($K11,'Reference Data - Heat'!$C:$M,AZ$8,FALSE))","v":""},{"$f":"IF($K11=\"\",\"\",VLOOKUP($K11,'Reference Data - Heat'!$C:$M,BA$8,FALSE))","v":""},{"$f":"IF($K11=\"\",\"\",VLOOKUP($K11,'Reference Data - Heat'!$C:$M,BB$8,FALSE))","v":""},{"$f":"IF($K11=\"\",\"\",VLOOKUP($K11,'Reference Data - Heat'!$C:$M,BC$8,FALSE))","v":""},{"$f":"IF($K11=\"\",\"\",VLOOKUP($K11,'Reference Data - Heat'!$C:$M,BD$8,FALSE))","v":""},null,{"$f":"IF($K11=\"\",\"\",$J11*AV11)","v":""},"","","","","","","","",null,null,{"$f":"IF($Q11=\"\",\"\",VLOOKUP($Q11,'Reference Data - Steam'!$C:$M,BQ$8,FALSE))","v":""},{"$f":"IF($Q11=\"\",\"\",VLOOKUP($Q11,'Reference Data - Steam'!$C:$M,BR$8,FALSE))","v":""},{"$f":"IF($Q11=\"\",\"\",VLOOKUP($Q11,'Reference Data - Steam'!$C:$M,BS$8,FALSE))","v":""},{"$f":"IF($Q11=\"\",\"\",VLOOKUP($Q11,'Reference Data - Steam'!$C:$M,BT$8,FALSE))","v":""},{"$f":"IF($Q11=\"\",\"\",VLOOKUP($Q11,'Reference Data - Steam'!$C:$M,BU$8,FALSE))","v":""},{"$f":"IF($Q11=\"\",\"\",VLOOKUP($Q11,'Reference Data - Steam'!$C:$M,BV$8,FALSE))","v":""},{"$f":"IF($Q11=\"\",\"\",VLOOKUP($Q11,'Reference Data - Steam'!$C:$M,BW$8,FALSE))","v":""},{"$f":"IF($Q11=\"\",\"\",VLOOKUP($Q11,'Reference Data - Steam'!$C:$M,BX$8,FALSE))","v":""},{"$f":"IF($Q11=\"\",\"\",VLOOKUP($Q11,'Reference Data - Steam'!$C:$M,BY$8,FALSE))","v":""},null,{"$f":"IF($Q11=\"\",\"\",$P11*BQ11)","v":""},"","","","","","","","",null,null,{"$f":"IF($W11=\"\",\"\",VLOOKUP($W11,'Reference Data - Cooling'!$C:$M,CL$8,FALSE))","v":""},{"$f":"IF($W11=\"\",\"\",VLOOKUP($W11,'Reference Data - Cooling'!$C:$M,CM$8,FALSE))","v":""},{"$f":"IF($W11=\"\",\"\",VLOOKUP($W11,'Reference Data - Cooling'!$C:$M,CN$8,FALSE))","v":""},{"$f":"IF($W11=\"\",\"\",VLOOKUP($W11,'Reference Data - Cooling'!$C:$M,CO$8,FALSE))","v":""},{"$f":"IF($W11=\"\",\"\",VLOOKUP($W11,'Reference Data - Cooling'!$C:$M,CP$8,FALSE))","v":""},{"$f":"IF($W11=\"\",\"\",VLOOKUP($W11,'Reference Data - Cooling'!$C:$M,CQ$8,FALSE))","v":""},{"$f":"IF($W11=\"\",\"\",VLOOKUP($W11,'Reference Data - Cooling'!$C:$M,CR$8,FALSE))","v":""},{"$f":"IF($W11=\"\",\"\",VLOOKUP($W11,'Reference Data - Cooling'!$C:$M,CS$8,FALSE))","v":""},{"$f":"IF($W11=\"\",\"\",VLOOKUP($W11,'Reference Data - Cooling'!$C:$M,CT$8,FALSE))","v":""},null,{"$f":"IF($W11=\"\",\"\",$V11*CL11)","v":""},"","","","","","","",""]
[null,null,null,null,null,null,null,null,null,null,null,null,null,null,null,null,null,null,null,null,null,null,null,null,null,null,{"$f":"IF($E12=\"\",\"\",VLOOKUP($E12,'Reference Data - Electricity'!$A:$L,AA$8,FALSE))","v":""},{"$f":"IF($E12=\"\",\"\",VLOOKUP($E12,'Reference Data - Electricity'!$A:$L,AB$8,FALSE))","v":""},{"$f":"IF($E12=\"\",\"\",VLOOKUP($E12,'Reference Data - Electricity'!$A:$L,AC$8,FALSE))","v":""},{"$f":"IF($E12=\"\",\"\",VLOOKUP($E12,'Reference Data - Electricity'!$A:$L,AD$8,FALSE))","v":""},{"$f":"IF($E12=\"\",\"\",VLOOKUP($E12,'Reference Data - Electricity'!$A:$L,AE$8,FALSE))","v":""},{"$f":"IF($E12=\"\",\"\",VLOOKUP($E12,'Reference Data - Electricity'!$A:$L,AF$8,FALSE))","v":""},{"$f":"IF($E12=\"\",\"\",VLOOKUP($E12,'Reference Data - Electricity'!$A:$L,AG$8,FALSE))","v":""},{"$f":"IF($E12=\"\",\"\",VLOOKUP($E12,'Reference Data - Electricity'!$A:$L,AH$8,FALSE))","v":""},{"$f":"IF($E12=\"\",\"\",VLOOKUP($E12,'Reference Data - Electricity'!$A:$L,AI$8,FALSE))","v":""},null,{"$f":"IF($E12=\"\",\"\",$D12*AA12)","v":""},{"$f":"IF($E12=\"\",\"\",$D12*AB12)","v":""},{"$f":"IF($E12=\"\",\"\",$D12*AC12)","v":""},{"$f":"IF($E12=\"\",\"\",$D12*AD12)","v":""},{"$f":"IF($E12=\"\",\"\",$D12*AE12)","v":""},{"$f":"IF($E12=\"\",\"\",$D12*AF12)","v":""},{"$f":"IF($E12=\"\",\"\",$D12*AG12)","v":""},{"$f":"IF($E12=\"\",\"\",$D12*AH12)","v":""},{"$f":"IF($E12=\"\",\"\",$D12*AI12)","v":""},null,null,{"$f":"IF($K12=\"\",\"\",VLOOKUP($K12,'Reference Data - Heat'!$C:$M,AV$8,FALSE))","v":""},{"$f":"IF($K12=\"\",\"\",VLOOKUP($K12,'Reference Data - Heat'!$C:$M,AW$8,FALSE))","v":""},{"$f":"IF($K12=\"\",\"\",VLOOKUP($K12,'Reference Data - Heat'!$C:$M,AX$8,FALSE))","v":""},{"$f":"IF($K12=\"\",\"\",VLOOKUP($K12,'Reference Data - Heat'!$C:$M,AY$8,FALSE))","v":""},{"$f":"IF($K12=\"\",\"\",VLOOKUP($K12,'Reference Data - Heat'!$C:$M,AZ$8,FALSE))","v":""},{"$f":"IF($K12=\"\",\"\",VLOOKUP($K12,'Reference Data - Heat'!$C:$M,BA$8,FALSE))","v":""},{"$f":"IF($K12=\"\",\"\",VLOOKUP($K12,'Reference Data - Heat'!$C:$M,BB$8,FALSE))","v":""},{"$f":"IF($K12=\"\",\"\",VLOOKUP($K12,'Reference Data - Heat'!$C:$M,BC$8,FALSE))","v":""},{"$f":"IF($K12=\"\",\"\",VLOOKUP($K12,'Reference Data - Heat'!$C:$M,BD$8,FALSE))","v":""},null,{"$f":"IF($K12=\"\",\"\",$J12*AV12)","v":""},{"$f":"IF($K12=\"\",\"\",$J12*AW12)","v":""},{"$f":"IF($K12=\"\",\"\",$J12*AX12)","v":""},{"$f":"IF($K12=\"\",\"\",$J12*AY12)","v":""},{"$f":"IF($K12=\"\",\"\",$J12*AZ12)","v":""},{"$f":"IF($K12=\"\",\"\",$J12*BA12)","v":""},{"$f":"IF($K12=\"\",\"\",$J12*BB12)","v":""},{"$f":"IF($K12=\"\",\"\",$J12*BC12)","v":""},{"$f":"IF($K12=\"\",\"\",$J12*BD12)","v":""},null,null,{"$f":"IF($Q12=\"\",\"\",VLOOKUP($Q12,'Reference Data - Steam'!$C:$M,BQ$8,FALSE))","v":""},{"$f":"IF($Q12=\"\",\"\",VLOOKUP($Q12,'Reference Data - Steam'!$C:$M,BR$8,FALSE))","v":""},{"$f":"IF($Q12=\"\",\"\",VLOOKUP($Q12,'Reference Data - Steam'!$C:$M,BS$8,FALSE))","v":""},{"$f":"IF($Q12=\"\",\"\",VLOOKUP($Q12,'Reference Data - Steam'!$C:$M,BT$8,FALSE))","v":""},{"$f":"IF($Q12=\"\",\"\",VLOOKUP($Q12,'Reference Data - Steam'!$C:$M,BU$8,FALSE))","v":""},{"$f":"IF($Q12=\"\",\"\",VLOOKUP($Q12,'Reference Data - Steam'!$C:$M,BV$8,FALSE))","v":""},{"$f":"IF($Q12=\"\",\"\",VLOOKUP($Q12,'Reference Data - Steam'!$C:$M,BW$8,FALSE))","v":""},{"$f":"IF($Q12=\"\",\"\",VLOOKUP($Q12,'Reference Data - Steam'!$C:$M,BX$8,FALSE))","v":""},{"$f":"IF($Q12=\"\",\"\",VLOOKUP($Q12,'Reference Data - Steam'!$C:$M,BY$8,FALSE))","v":""},null,{"$f":"IF($Q12=\"\",\"\",$P12*BQ12)","v":""},{"$f":"IF($Q12=\"\",\"\",$P12*BR12)","v":""},{"$f":"IF($Q12=\"\",\"\",$P12*BS12)","v":""},{"$f":"IF($Q12=\"\",\"\",$P12*BT12)","v":""},{"$f":"IF($Q12=\"\",\"\",$P12*BU12)","v":""},{"$f":"IF($Q12=\"\",\"\",$P12*BV12)","v":""},{"$f":"IF($Q12=\"\",\"\",$P12*BW12)","v":""},{"$f":"IF($Q12=\"\",\"\",$P12*BX12)","v":""},{"$f":"IF($Q12=\"\",\"\",$P12*BY12)","v":""},null,null,{"$f":"IF($W12=\"\",\"\",VLOOKUP($W12,'Reference Data - Cooling'!$C:$M,CL$8,FALSE))","v":""},{"$f":"IF($W12=\"\",\"\",VLOOKUP($W12,'Reference Data - Cooling'!$C:$M,CM$8,FALSE))","v":""},{"$f":"IF($W12=\"\",\"\",VLOOKUP($W12,'Reference Data - Cooling'!$C:$M,CN$8,FALSE))","v":""},{"$f":"IF($W12=\"\",\"\",VLOOKUP($W12,'Reference Data - Cooling'!$C:$M,CO$8,FALSE))","v":""},{"$f":"IF($W12=\"\",\"\",VLOOKUP($W12,'Reference Data - Cooling'!$C:$M,CP$8,FALSE))","v":""},{"$f":"IF($W12=\"\",\"\",VLOOKUP($W12,'Reference Data - Cooling'!$C:$M,CQ$8,FALSE))","v":""},{"$f":"IF($W12=\"\",\"\",VLOOKUP($W12,'Reference Data - Cooling'!$C:$M,CR$8,FALSE))","v":""},{"$f":"IF($W12=\"\",\"\",VLOOKUP($W12,'Reference Data - Cooling'!$C:$M,CS$8,FALSE))","v":""},{"$f":"IF($W12=\"\",\"\",VLOOKUP($W12,'Reference Data - Cooling'!$C:$M,CT$8,FALSE))","v":""},null,{"$f":"IF($W12=\"\",\"\",$V12*CL12)","v":""},{"$f":"IF($W12=\"\",\"\",$V12*CM12)","v":""},{"$f":"IF($W12=\"\",\"\",$V12*CN12)","v":""},{"$f":"IF($W12=\"\",\"\",$V12*CO12)","v":""},{"$f":"IF($W12=\"\",\"\",$V12*CP12)","v":""},{"$f":"IF($W12=\"\",\"\",$V12*CQ12)","v":""},{"$f":"IF($W12=\"\",\"\",$V12*CR12)","v":""},{"$f":"IF($W12=\"\",\"\",$V12*CS12)","v":""},{"$f":"IF($W12=\"\",\"\",$V12*CT12)","v":""}]
[null,null,null,null,null,null,null,null,null,null,null,null,null,null,null,null,null,null,null,null,null,null,null,null,null,null,{"$f":"IF($E13=\"\",\"\",VLOOKUP($E13,'Reference Data - Electricity'!$A:$L,AA$8,FALSE))","v":""},{"$f":"IF($E13=\"\",\"\",VLOOKUP($E13,'Reference Data - Electricity'!$A:$L,AB$8,FALSE))","v":""},{"$f":"IF($E13=\"\",\"\",VLOOKUP($E13,'Reference Data - Electricity'!$A:$L,AC$8,FALSE))","v":""},{"$f":"IF($E13=\"\",\"\",VLOOKUP($E13,'Reference Data - Electricity'!$A:$L,AD$8,FALSE))","v":""},{"$f":"IF($E13=\"\",\"\",VLOOKUP($E13,'Reference Data - Electricity'!$A:$L,AE$8,FALSE))","v":""},{"$f":"IF($E13=\"\",\"\",VLOOKUP($E13,'Reference Data - Electricity'!$A:$L,AF$8,FALSE))","v":""},{"$f":"IF($E13=\"\",\"\",VLOOKUP($E13,'Reference Data - Electricity'!$A:$L,AG$8,FALSE))","v":""},{"$f":"IF($E13=\"\",\"\",VLOOKUP($E13,'Reference Data - Electricity'!$A:$L,AH$8,FALSE))","v":""},{"$f":"IF($E13=\"\",\"\",VLOOKUP($E13,'Reference Data - Electricity'!$A:$L,AI$8,FALSE))","v":""},null,"","","","","","","","","",null,null,{"$f":"IF($K13=\"\",\"\",VLOOKUP($K13,'Reference Data - Heat'!$C:$M,AV$8,FALSE))","v":""},{"$f":"IF($K13=\"\",\"\",VLOOKUP($K13,'Reference Data - Heat'!$C:$M,AW$8,FALSE))","v":""},{"$f":"IF($K13=\"\",\"\",VLOOKUP($K13,'Reference Data - Heat'!$C:$M,AX$8,FALSE))","v":""},{"$f":"IF($K13=\"\",\"\",VLOOKUP($K13,'Reference Data - Heat'!$C:$M,AY$8,FALSE))","v":""},{"$f":"IF($K13=\"\",\"\",VLOOKUP($K13,'Reference Data - Heat'!$C:$M,AZ$8,FALSE))","v":""},{"$f":"IF($K13=\"\",\"\",VLOOKUP($K13,'Reference Data - Heat'!$C:$M,BA$8,FALSE))","v":""},{"$f":"IF($K13=\"\",\"\",VLOOKUP($K13,'Reference Data - Heat'!$C:$M,BB$8,FALSE))","v":""},{"$f":"IF($K13=\"\",\"\",VLOOKUP($K13,'Reference Data - Heat'!$C:$M,BC$8,FALSE))","v":""},{"$f":"IF($K13=\"\",\"\",VLOOKUP($K13,'Reference Data - Heat'!$C:$M,BD$8,FALSE))","v":""},null,"","","","","","","","","",null,null,{"$f":"IF($Q13=\"\",\"\",VLOOKUP($Q13,'Reference Data - Steam'!$C:$M,BQ$8,FALSE))","v":""},{"$f":"IF($Q13=\"\",\"\",VLOOKUP($Q13,'Reference Data - Steam'!$C:$M,BR$8,FALSE))","v":""},{"$f":"IF($Q13=\"\",\"\",VLOOKUP($Q13,'Reference Data - Steam'!$C:$M,BS$8,FALSE))","v":""},{"$f":"IF($Q13=\"\",\"\",VLOOKUP($Q13,'Reference Data - Steam'!$C:$M,BT$8,FALSE))","v":""},{"$f":"IF($Q13=\"\",\"\",VLOOKUP($Q13,'Reference Data - Steam'!$C:$M,BU$8,FALSE))","v":""},{"$f":"IF($Q13=\"\",\"\",VLOOKUP($Q13,'Reference Data - Steam'!$C:$M,BV$8,FALSE))","v":""},{"$f":"IF($Q13=\"\",\"\",VLOOKUP($Q13,'Reference Data - Steam'!$C:$M,BW$8,FALSE))","v":""},{"$f":"IF($Q13=\"\",\"\",VLOOKUP($Q13,'Reference Data - Steam'!$C:$M,BX$8,FALSE))","v":""},{"$f":"IF($Q13=\"\",\"\",VLOOKUP($Q13,'Reference Data - Steam'!$C:$M,BY$8,FALSE))","v":""},null,"","","","","","","","","",null,null,{"$f":"IF($W13=\"\",\"\",VLOOKUP($W13,'Reference Data - Cooling'!$C:$M,CL$8,FALSE))","v":""},{"$f":"IF($W13=\"\",\"\",VLOOKUP($W13,'Reference Data - Cooling'!$C:$M,CM$8,FALSE))","v":""},{"$f":"IF($W13=\"\",\"\",VLOOKUP($W13,'Reference Data - Cooling'!$C:$M,CN$8,FALSE))","v":""},{"$f":"IF($W13=\"\",\"\",VLOOKUP($W13,'Reference Data - Cooling'!$C:$M,CO$8,FALSE))","v":""},{"$f":"IF($W13=\"\",\"\",VLOOKUP($W13,'Reference Data - Cooling'!$C:$M,CP$8,FALSE))","v":""},{"$f":"IF($W13=\"\",\"\",VLOOKUP($W13,'Reference Data - Cooling'!$C:$M,CQ$8,FALSE))","v":""},{"$f":"IF($W13=\"\",\"\",VLOOKUP($W13,'Reference Data - Cooling'!$C:$M,CR$8,FALSE))","v":""},{"$f":"IF($W13=\"\",\"\",VLOOKUP($W13,'Reference Data - Cooling'!$C:$M,CS$8,FALSE))","v":""},{"$f":"IF($W13=\"\",\"\",VLOOKUP($W13,'Reference Data - Cooling'!$C:$M,CT$8,FALSE))","v":""},null,"","","","","","","","",""]
[null,null,null,null,null,null,null,null,null,null,null,null,null,null,null,null,null,null,null,null,null,null,null,null,null,null,{"$f":"IF($E14=\"\",\"\",VLOOKUP($E14,'Reference Data - Electricity'!$A:$L,AA$8,FALSE))","v":""},{"$f":"IF($E14=\"\",\"\",VLOOKUP($E14,'Reference Data - Electricity'!$A:$L,AB$8,FALSE))","v":""},{"$f":"IF($E14=\"\",\"\",VLOOKUP($E14,'Reference Data - Electricity'!$A:$L,AC$8,FALSE))","v":""},{"$f":"IF($E14=\"\",\"\",VLOOKUP($E14,'Reference Data - Electricity'!$A:$L,AD$8,FALSE))","v":""},{"$f":"IF($E14=\"\",\"\",VLOOKUP($E14,'Reference Data - Electricity'!$A:$L,AE$8,FALSE))","v":""},{"$f":"IF($E14=\"\",\"\",VLOOKUP($E14,'Reference Data - Electricity'!$A:$L,AF$8,FALSE))","v":""},{"$f":"IF($E14=\"\",\"\",VLOOKUP($E14,'Reference Data - Electricity'!$A:$L,AG$8,FALSE))","v":""},{"$f":"IF($E14=\"\",\"\",VLOOKUP($E14,'Reference Data - Electricity'!$A:$L,AH$8,FALSE))","v":""},{"$f":"IF($E14=\"\",\"\",VLOOKUP($E14,'Reference Data - Electricity'!$A:$L,AI$8,FALSE))","v":""},null,"","","","","","","","","",null,null,{"$f":"IF($K14=\"\",\"\",VLOOKUP($K14,'Reference Data - Heat'!$C:$M,AV$8,FALSE))","v":""},{"$f":"IF($K14=\"\",\"\",VLOOKUP($K14,'Reference Data - Heat'!$C:$M,AW$8,FALSE))","v":""},{"$f":"IF($K14=\"\",\"\",VLOOKUP($K14,'Reference Data - Heat'!$C:$M,AX$8,FALSE))","v":""},{"$f":"IF($K14=\"\",\"\",VLOOKUP($K14,'Reference Data - Heat'!$C:$M,AY$8,FALSE))","v":""},{"$f":"IF($K14=\"\",\"\",VLOOKUP($K14,'Reference Data - Heat'!$C:$M,AZ$8,FALSE))","v":""},{"$f":"IF($K14=\"\",\"\",VLOOKUP($K14,'Reference Data - Heat'!$C:$M,BA$8,FALSE))","v":""},{"$f":"IF($K14=\"\",\"\",VLOOKUP($K14,'Reference Data - Heat'!$C:$M,BB$8,FALSE))","v":""},{"$f":"IF($K14=\"\",\"\",VLOOKUP($K14,'Reference Data - Heat'!$C:$M,BC$8,FALSE))","v":""},{"$f":"IF($K14=\"\",\"\",VLOOKUP($K14,'Reference Data - Heat'!$C:$M,BD$8,FALSE))","v":""},null,"","","","","","","","","",null,null,{"$f":"IF($Q14=\"\",\"\",VLOOKUP($Q14,'Reference Data - Steam'!$C:$M,BQ$8,FALSE))","v":""},{"$f":"IF($Q14=\"\",\"\",VLOOKUP($Q14,'Reference Data - Steam'!$C:$M,BR$8,FALSE))","v":""},{"$f":"IF($Q14=\"\",\"\",VLOOKUP($Q14,'Reference Data - Steam'!$C:$M,BS$8,FALSE))","v":""},{"$f":"IF($Q14=\"\",\"\",VLOOKUP($Q14,'Reference Data - Steam'!$C:$M,BT$8,FALSE))","v":""},{"$f":"IF($Q14=\"\",\"\",VLOOKUP($Q14,'Reference Data - Steam'!$C:$M,BU$8,FALSE))","v":""},{"$f":"IF($Q14=\"\",\"\",VLOOKUP($Q14,'Reference Data - Steam'!$C:$M,BV$8,FALSE))","v":""},{"$f":"IF($Q14=\"\",\"\",VLOOKUP($Q14,'Reference Data - Steam'!$C:$M,BW$8,FALSE))","v":""},{"$f":"IF($Q14=\"\",\"\",VLOOKUP($Q14,'Reference Data - Steam'!$C:$M,BX$8,FALSE))","v":""},{"$f":"IF($Q14=\"\",\"\",VLOOKUP($Q14,'Reference Data - Steam'!$C:$M,BY$8,FALSE))","v":""},null,"","","","","","","","","",null,null,{"$f":"IF($W14=\"\",\"\",VLOOKUP($W14,'Reference Data - Cooling'!$C:$M,CL$8,FALSE))","v":""},{"$f":"IF($W14=\"\",\"\",VLOOKUP($W14,'Reference Data - Cooling'!$C:$M,CM$8,FALSE))","v":""},{"$f":"IF($W14=\"\",\"\",VLOOKUP($W14,'Reference Data - Cooling'!$C:$M,CN$8,FALSE))","v":""},{"$f":"IF($W14=\"\",\"\",VLOOKUP($W14,'Reference Data - Cooling'!$C:$M,CO$8,FALSE))","v":""},{"$f":"IF($W14=\"\",\"\",VLOOKUP($W14,'Reference Data - Cooling'!$C:$M,CP$8,FALSE))","v":""},{"$f":"IF($W14=\"\",\"\",VLOOKUP($W14,'Reference Data - Cooling'!$C:$M,CQ$8,FALSE))","v":""},{"$f":"IF($W14=\"\",\"\",VLOOKUP($W14,'Reference Data - Cooling'!$C:$M,CR$8,FALSE))","v":""},{"$f":"IF($W14=\"\",\"\",VLOOKUP($W14,'Reference Data - Cooling'!$C:$M,CS$8,FALSE))","v":""},{"$f":"IF($W14=\"\",\"\",VLOOKUP($W14,'Reference Data - Cooling'!$C:$M,CT$8,FALSE))","v":""},null,"","","","","","","","",""]
[null,null,null,null,null,null,null,null,null,null,null,null,null,null,null,null,null,null,null,null,null,null,null,null,null,null,{"$f":"IF($E15=\"\",\"\",VLOOKUP($E15,'Reference Data - Electricity'!$A:$L,AA$8,FALSE))","v":""},{"$f":"IF($E15=\"\",\"\",VLOOKUP($E15,'Reference Data - Electricity'!$A:$L,AB$8,FALSE))","v":""},{"$f":"IF($E15=\"\",\"\",VLOOKUP($E15,'Reference Data - Electricity'!$A:$L,AC$8,FALSE))","v":""},{"$f":"IF($E15=\"\",\"\",VLOOKUP($E15,'Reference Data - Electricity'!$A:$L,AD$8,FALSE))","v":""},{"$f":"IF($E15=\"\",\"\",VLOOKUP($E15,'Reference Data - Electricity'!$A:$L,AE$8,FALSE))","v":""},{"$f":"IF($E15=\"\",\"\",VLOOKUP($E15,'Reference Data - Electricity'!$A:$L,AF$8,FALSE))","v":""},{"$f":"IF($E15=\"\",\"\",VLOOKUP($E15,'Reference Data - Electricity'!$A:$L,AG$8,FALSE))","v":""},{"$f":"IF($E15=\"\",\"\",VLOOKUP($E15,'Reference Data - Electricity'!$A:$L,AH$8,FALSE))","v":""},{"$f":"IF($E15=\"\",\"\",VLOOKUP($E15,'Reference Data - Electricity'!$A:$L,AI$8,FALSE))","v":""},null,"","","","","","","","","",null,null,{"$f":"IF($K15=\"\",\"\",VLOOKUP($K15,'Reference Data - Heat'!$C:$M,AV$8,FALSE))","v":""},{"$f":"IF($K15=\"\",\"\",VLOOKUP($K15,'Reference Data - Heat'!$C:$M,AW$8,FALSE))","v":""},{"$f":"IF($K15=\"\",\"\",VLOOKUP($K15,'Reference Data - Heat'!$C:$M,AX$8,FALSE))","v":""},{"$f":"IF($K15=\"\",\"\",VLOOKUP($K15,'Reference Data - Heat'!$C:$M,AY$8,FALSE))","v":""},{"$f":"IF($K15=\"\",\"\",VLOOKUP($K15,'Reference Data - Heat'!$C:$M,AZ$8,FALSE))","v":""},{"$f":"IF($K15=\"\",\"\",VLOOKUP($K15,'Reference Data - Heat'!$C:$M,BA$8,FALSE))","v":""},{"$f":"IF($K15=\"\",\"\",VLOOKUP($K15,'Reference Data - Heat'!$C:$M,BB$8,FALSE))","v":""},{"$f":"IF($K15=\"\",\"\",VLOOKUP($K15,'Reference Data - Heat'!$C:$M,BC$8,FALSE))","v":""},{"$f":"IF($K15=\"\",\"\",VLOOKUP($K15,'Reference Data - Heat'!$C:$M,BD$8,FALSE))","v":""},null,"","","","","","","","","",null,null,{"$f":"IF($Q15=\"\",\"\",VLOOKUP($Q15,'Reference Data - Steam'!$C:$M,BQ$8,FALSE))","v":""},{"$f":"IF($Q15=\"\",\"\",VLOOKUP($Q15,'Reference Data - Steam'!$C:$M,BR$8,FALSE))","v":""},{"$f":"IF($Q15=\"\",\"\",VLOOKUP($Q15,'Reference Data - Steam'!$C:$M,BS$8,FALSE))","v":""},{"$f":"IF($Q15=\"\",\"\",VLOOKUP($Q15,'Reference Data - Steam'!$C:$M,BT$8,FALSE))","v":""},{"$f":"IF($Q15=\"\",\"\",VLOOKUP($Q15,'Reference Data - Steam'!$C:$M,BU$8,FALSE))","v":""},{"$f":"IF($Q15=\"\",\"\",VLOOKUP($Q15,'Reference Data - Steam'!$C:$M,BV$8,FALSE))","v":""},{"$f":"IF($Q15=\"\",\"\",VLOOKUP($Q15,'Reference Data - Steam'!$C:$M,BW$8,FALSE))","v":""},{"$f":"IF($Q15=\"\",\"\",VLOOKUP($Q15,'Reference Data - Steam'!$C:$M,BX$8,FALSE))","v":""},{"$f":"IF($Q15=\"\",\"\",VLOOKUP($Q15,'Reference Data - Steam'!$C:$M,BY$8,FALSE))","v":""},null,"","","","","","","","","",null,null,{"$f":"IF($W15=\"\",\"\",VLOOKUP($W15,'Reference Data - Cooling'!$C:$M,CL$8,FALSE))","v":""},{"$f":"IF($W15=\"\",\"\",VLOOKUP($W15,'Reference Data - Cooling'!$C:$M,CM$8,FALSE))","v":""},{"$f":"IF($W15=\"\",\"\",VLOOKUP($W15,'Reference Data - Cooling'!$C:$M,CN$8,FALSE))","v":""},{"$f":"IF($W15=\"\",\"\",VLOOKUP($W15,'Reference Data - Cooling'!$C:$M,CO$8,FALSE))","v":""},{"$f":"IF($W15=\"\",\"\",VLOOKUP($W15,'Reference Data - Cooling'!$C:$M,CP$8,FALSE))","v":""},{"$f":"IF($W15=\"\",\"\",VLOOKUP($W15,'Reference Data - Cooling'!$C:$M,CQ$8,FALSE))","v":""},{"$f":"IF($W15=\"\",\"\",VLOOKUP($W15,'Reference Data - Cooling'!$C:$M,CR$8,FALSE))","v":""},{"$f":"IF($W15=\"\",\"\",VLOOKUP($W15,'Reference Data - Cooling'!$C:$M,CS$8,FALSE))","v":""},{"$f":"IF($W15=\"\",\"\",VLOOKUP($W15,'Reference Data - Cooling'!$C:$M,CT$8,FALSE))","v":""},null,"","","","","","","","",""]
[null,null,null,null,null,null,null,null,null,null,null,null,null,null,null,null,null,null,null,null,null,null,null,null,null,null,{"$f":"IF($E16=\"\",\"\",VLOOKUP($E16,'Reference Data - Electricity'!$A:$L,AA$8,FALSE))","v":""},{"$f":"IF($E16=\"\",\"\",VLOOKUP($E16,'Reference Data - Electricity'!$A:$L,AB$8,FALSE))","v":""},{"$f":"IF($E16=\"\",\"\",VLOOKUP($E16,'Reference Data - Electricity'!$A:$L,AC$8,FALSE))","v":""},{"$f":"IF($E16=\"\",\"\",VLOOKUP($E16,'Reference Data - Electricity'!$A:$L,AD$8,FALSE))","v":""},{"$f":"IF($E16=\"\",\"\",VLOOKUP($E16,'Reference Data - Electricity'!$A:$L,AE$8,FALSE))","v":""},{"$f":"IF($E16=\"\",\"\",VLOOKUP($E16,'Reference Data - Electricity'!$A:$L,AF$8,FALSE))","v":""},{"$f":"IF($E16=\"\",\"\",VLOOKUP($E16,'Reference Data - Electricity'!$A:$L,AG$8,FALSE))","v":""},{"$f":"IF($E16=\"\",\"\",VLOOKUP($E16,'Reference Data - Electricity'!$A:$L,AH$8,FALSE))","v":""},{"$f":"IF($E16=\"\",\"\",VLOOKUP($E16,'Reference Data - Electricity'!$A:$L,AI$8,FALSE))","v":""},null,"","","","","","","","","",null,null,{"$f":"IF($K16=\"\",\"\",VLOOKUP($K16,'Reference Data - Heat'!$C:$M,AV$8,FALSE))","v":""},{"$f":"IF($K16=\"\",\"\",VLOOKUP($K16,'Reference Data - Heat'!$C:$M,AW$8,FALSE))","v":""},{"$f":"IF($K16=\"\",\"\",VLOOKUP($K16,'Reference Data - Heat'!$C:$M,AX$8,FALSE))","v":""},{"$f":"IF($K16=\"\",\"\",VLOOKUP($K16,'Reference Data - Heat'!$C:$M,AY$8,FALSE))","v":""},{"$f":"IF($K16=\"\",\"\",VLOOKUP($K16,'Reference Data - Heat'!$C:$M,AZ$8,FALSE))","v":""},{"$f":"IF($K16=\"\",\"\",VLOOKUP($K16,'Reference Data - Heat'!$C:$M,BA$8,FALSE))","v":""},{"$f":"IF($K16=\"\",\"\",VLOOKUP($K16,'Reference Data - Heat'!$C:$M,BB$8,FALSE))","v":""},{"$f":"IF($K16=\"\",\"\",VLOOKUP($K16,'Reference Data - Heat'!$C:$M,BC$8,FALSE))","v":""},{"$f":"IF($K16=\"\",\"\",VLOOKUP($K16,'Reference Data - Heat'!$C:$M,BD$8,FALSE))","v":""},null,"","","","","","","","","",null,null,{"$f":"IF($Q16=\"\",\"\",VLOOKUP($Q16,'Reference Data - Steam'!$C:$M,BQ$8,FALSE))","v":""},{"$f":"IF($Q16=\"\",\"\",VLOOKUP($Q16,'Reference Data - Steam'!$C:$M,BR$8,FALSE))","v":""},{"$f":"IF($Q16=\"\",\"\",VLOOKUP($Q16,'Reference Data - Steam'!$C:$M,BS$8,FALSE))","v":""},{"$f":"IF($Q16=\"\",\"\",VLOOKUP($Q16,'Reference Data - Steam'!$C:$M,BT$8,FALSE))","v":""},{"$f":"IF($Q16=\"\",\"\",VLOOKUP($Q16,'Reference Data - Steam'!$C:$M,BU$8,FALSE))","v":""},{"$f":"IF($Q16=\"\",\"\",VLOOKUP($Q16,'Reference Data - Steam'!$C:$M,BV$8,FALSE))","v":""},{"$f":"IF($Q16=\"\",\"\",VLOOKUP($Q16,'Reference Data - Steam'!$C:$M,BW$8,FALSE))","v":""},{"$f":"IF($Q16=\"\",\"\",VLOOKUP($Q16,'Reference Data - Steam'!$C:$M,BX$8,FALSE))","v":""},{"$f":"IF($Q16=\"\",\"\",VLOOKUP($Q16,'Reference Data - Steam'!$C:$M,BY$8,FALSE))","v":""},null,"","","","","","","","","",null,null,{"$f":"IF($W16=\"\",\"\",VLOOKUP($W16,'Reference Data - Cooling'!$C:$M,CL$8,FALSE))","v":""},{"$f":"IF($W16=\"\",\"\",VLOOKUP($W16,'Reference Data - Cooling'!$C:$M,CM$8,FALSE))","v":""},{"$f":"IF($W16=\"\",\"\",VLOOKUP($W16,'Reference Data - Cooling'!$C:$M,CN$8,FALSE))","v":""},{"$f":"IF($W16=\"\",\"\",VLOOKUP($W16,'Reference Data - Cooling'!$C:$M,CO$8,FALSE))","v":""},{"$f":"IF($W16=\"\",\"\",VLOOKUP($W16,'Reference Data - Cooling'!$C:$M,CP$8,FALSE))","v":""},{"$f":"IF($W16=\"\",\"\",VLOOKUP($W16,'Reference Data - Cooling'!$C:$M,CQ$8,FALSE))","v":""},{"$f":"IF($W16=\"\",\"\",VLOOKUP($W16,'Reference Data - Cooling'!$C:$M,CR$8,FALSE))","v":""},{"$f":"IF($W16=\"\",\"\",VLOOKUP($W16,'Reference Data - Cooling'!$C:$M,CS$8,FALSE))","v":""},{"$f":"IF($W16=\"\",\"\",VLOOKUP($W16,'Reference Data - Cooling'!$C:$M,CT$8,FALSE))","v":""},null,"","","","","","","","",""]
[null,null,null,null,null,null,null,null,null,null,null,null,null,null,null,null,null,null,null,null,null,null,null,null,null,null,{"$f":"IF($E17=\"\",\"\",VLOOKUP($E17,'Reference Data - Electricity'!$A:$L,AA$8,FALSE))","v":""},{"$f":"IF($E17=\"\",\"\",VLOOKUP($E17,'Reference Data - Electricity'!$A:$L,AB$8,FALSE))","v":""},{"$f":"IF($E17=\"\",\"\",VLOOKUP($E17,'Reference Data - Electricity'!$A:$L,AC$8,FALSE))","v":""},{"$f":"IF($E17=\"\",\"\",VLOOKUP($E17,'Reference Data - Electricity'!$A:$L,AD$8,FALSE))","v":""},{"$f":"IF($E17=\"\",\"\",VLOOKUP($E17,'Reference Data - Electricity'!$A:$L,AE$8,FALSE))","v":""},{"$f":"IF($E17=\"\",\"\",VLOOKUP($E17,'Reference Data - Electricity'!$A:$L,AF$8,FALSE))","v":""},{"$f":"IF($E17=\"\",\"\",VLOOKUP($E17,'Reference Data - Electricity'!$A:$L,AG$8,FALSE))","v":""},{"$f":"IF($E17=\"\",\"\",VLOOKUP($E17,'Reference Data - Electricity'!$A:$L,AH$8,FALSE))","v":""},{"$f":"IF($E17=\"\",\"\",VLOOKUP($E17,'Reference Data - Electricity'!$A:$L,AI$8,FALSE))","v":""},null,"","","","","","","","","",null,null,{"$f":"IF($K17=\"\",\"\",VLOOKUP($K17,'Reference Data - Heat'!$C:$M,AV$8,FALSE))","v":""},{"$f":"IF($K17=\"\",\"\",VLOOKUP($K17,'Reference Data - Heat'!$C:$M,AW$8,FALSE))","v":""},{"$f":"IF($K17=\"\",\"\",VLOOKUP($K17,'Reference Data - Heat'!$C:$M,AX$8,FALSE))","v":""},{"$f":"IF($K17=\"\",\"\",VLOOKUP($K17,'Reference Data - Heat'!$C:$M,AY$8,FALSE))","v":""},{"$f":"IF($K17=\"\",\"\",VLOOKUP($K17,'Reference Data - Heat'!$C:$M,AZ$8,FALSE))","v":""},{"$f":"IF($K17=\"\",\"\",VLOOKUP($K17,'Reference Data - Heat'!$C:$M,BA$8,FALSE))","v":""},{"$f":"IF($K17=\"\",\"\",VLOOKUP($K17,'Reference Data - Heat'!$C:$M,BB$8,FALSE))","v":""},{"$f":"IF($K17=\"\",\"\",VLOOKUP($K17,'Reference Data - Heat'!$C:$M,BC$8,FALSE))","v":""},{"$f":"IF($K17=\"\",\"\",VLOOKUP($K17,'Reference Data - Heat'!$C:$M,BD$8,FALSE))","v":""},null,"","","","","","","","","",null,null,{"$f":"IF($Q17=\"\",\"\",VLOOKUP($Q17,'Reference Data - Steam'!$C:$M,BQ$8,FALSE))","v":""},{"$f":"IF($Q17=\"\",\"\",VLOOKUP($Q17,'Reference Data - Steam'!$C:$M,BR$8,FALSE))","v":""},{"$f":"IF($Q17=\"\",\"\",VLOOKUP($Q17,'Reference Data - Steam'!$C:$M,BS$8,FALSE))","v":""},{"$f":"IF($Q17=\"\",\"\",VLOOKUP($Q17,'Reference Data - Steam'!$C:$M,BT$8,FALSE))","v":""},{"$f":"IF($Q17=\"\",\"\",VLOOKUP($Q17,'Reference Data - Steam'!$C:$M,BU$8,FALSE))","v":""},{"$f":"IF($Q17=\"\",\"\",VLOOKUP($Q17,'Reference Data - Steam'!$C:$M,BV$8,FALSE))","v":""},{"$f":"IF($Q17=\"\",\"\",VLOOKUP($Q17,'Reference Data - Steam'!$C:$M,BW$8,FALSE))","v":""},{"$f":"IF($Q17=\"\",\"\",VLOOKUP($Q17,'Reference Data - Steam'!$C:$M,BX$8,FALSE))","v":""},{"$f":"IF($Q17=\"\",\"\",VLOOKUP($Q17,'Reference Data - Steam'!$C:$M,BY$8,FALSE))","v":""},null,"","","","","","","","","",null,null,{"$f":"IF($W17=\"\",\"\",VLOOKUP($W17,'Reference Data - Cooling'!$C:$M,CL$8,FALSE))","v":""},{"$f":"IF($W17=\"\",\"\",VLOOKUP($W17,'Reference Data - Cooling'!$C:$M,CM$8,FALSE))","v":""},{"$f":"IF($W17=\"\",\"\",VLOOKUP($W17,'Reference Data - Cooling'!$C:$M,CN$8,FALSE))","v":""},{"$f":"IF($W17=\"\",\"\",VLOOKUP($W17,'Reference Data - Cooling'!$C:$M,CO$8,FALSE))","v":""},{"$f":"IF($W17=\"\",\"\",VLOOKUP($W17,'Reference Data - Cooling'!$C:$M,CP$8,FALSE))","v":""},{"$f":"IF($W17=\"\",\"\",VLOOKUP($W17,'Reference Data - Cooling'!$C:$M,CQ$8,FALSE))","v":""},{"$f":"IF($W17=\"\",\"\",VLOOKUP($W17,'Reference Data - Cooling'!$C:$M,CR$8,FALSE))","v":""},{"$f":"IF($W17=\"\",\"\",VLOOKUP($W17,'Reference Data - Cooling'!$C:$M,CS$8,FALSE))","v":""},{"$f":"IF($W17=\"\",\"\",VLOOKUP($W17,'Reference Data - Cooling'!$C:$M,CT$8,FALSE))","v":""},null,"","","","","","","","",""]
[null,null,null,null,null,null,null,null,null,null,null,null,null,null,null,null,null,null,null,null,null,null,null,null,null,null,{"$f":"IF($E18=\"\",\"\",VLOOKUP($E18,'Reference Data - Electricity'!$A:$L,AA$8,FALSE))","v":""},{"$f":"IF($E18=\"\",\"\",VLOOKUP($E18,'Reference Data - Electricity'!$A:$L,AB$8,FALSE))","v":""},{"$f":"IF($E18=\"\",\"\",VLOOKUP($E18,'Reference Data - Electricity'!$A:$L,AC$8,FALSE))","v":""},{"$f":"IF($E18=\"\",\"\",VLOOKUP($E18,'Reference Data - Electricity'!$A:$L,AD$8,FALSE))","v":""},{"$f":"IF($E18=\"\",\"\",VLOOKUP($E18,'Reference Data - Electricity'!$A:$L,AE$8,FALSE))","v":""},{"$f":"IF($E18=\"\",\"\",VLOOKUP($E18,'Reference Data - Electricity'!$A:$L,AF$8,FALSE))","v":""},{"$f":"IF($E18=\"\",\"\",VLOOKUP($E18,'Reference Data - Electricity'!$A:$L,AG$8,FALSE))","v":""},{"$f":"IF($E18=\"\",\"\",VLOOKUP($E18,'Reference Data - Electricity'!$A:$L,AH$8,FALSE))","v":""},{"$f":"IF($E18=\"\",\"\",VLOOKUP($E18,'Reference Data - Electricity'!$A:$L,AI$8,FALSE))","v":""},null,"","","","","","","","","",null,null,{"$f":"IF($K18=\"\",\"\",VLOOKUP($K18,'Reference Data - Heat'!$C:$M,AV$8,FALSE))","v":""},{"$f":"IF($K18=\"\",\"\",VLOOKUP($K18,'Reference Data - Heat'!$C:$M,AW$8,FALSE))","v":""},{"$f":"IF($K18=\"\",\"\",VLOOKUP($K18,'Reference Data - Heat'!$C:$M,AX$8,FALSE))","v":""},{"$f":"IF($K18=\"\",\"\",VLOOKUP($K18,'Reference Data - Heat'!$C:$M,AY$8,FALSE))","v":""},{"$f":"IF($K18=\"\",\"\",VLOOKUP($K18,'Reference Data - Heat'!$C:$M,AZ$8,FALSE))","v":""},{"$f":"IF($K18=\"\",\"\",VLOOKUP($K18,'Reference Data - Heat'!$C:$M,BA$8,FALSE))","v":""},{"$f":"IF($K18=\"\",\"\",VLOOKUP($K18,'Reference Data - Heat'!$C:$M,BB$8,FALSE))","v":""},{"$f":"IF($K18=\"\",\"\",VLOOKUP($K18,'Reference Data - Heat'!$C:$M,BC$8,FALSE))","v":""},{"$f":"IF($K18=\"\",\"\",VLOOKUP($K18,'Reference Data - Heat'!$C:$M,BD$8,FALSE))","v":""},null,"","","","","","","","","",null,null,{"$f":"IF($Q18=\"\",\"\",VLOOKUP($Q18,'Reference Data - Steam'!$C:$M,BQ$8,FALSE))","v":""},{"$f":"IF($Q18=\"\",\"\",VLOOKUP($Q18,'Reference Data - Steam'!$C:$M,BR$8,FALSE))","v":""},{"$f":"IF($Q18=\"\",\"\",VLOOKUP($Q18,'Reference Data - Steam'!$C:$M,BS$8,FALSE))","v":""},{"$f":"IF($Q18=\"\",\"\",VLOOKUP($Q18,'Reference Data - Steam'!$C:$M,BT$8,FALSE))","v":""},{"$f":"IF($Q18=\"\",\"\",VLOOKUP($Q18,'Reference Data - Steam'!$C:$M,BU$8,FALSE))","v":""},{"$f":"IF($Q18=\"\",\"\",VLOOKUP($Q18,'Reference Data - Steam'!$C:$M,BV$8,FALSE))","v":""},{"$f":"IF($Q18=\"\",\"\",VLOOKUP($Q18,'Reference Data - Steam'!$C:$M,BW$8,FALSE))","v":""},{"$f":"IF($Q18=\"\",\"\",VLOOKUP($Q18,'Reference Data - Steam'!$C:$M,BX$8,FALSE))","v":""},{"$f":"IF($Q18=\"\",\"\",VLOOKUP($Q18,'Reference Data - Steam'!$C:$M,BY$8,FALSE))","v":""},null,"","","","","","","","","",null,null,{"$f":"IF($W18=\"\",\"\",VLOOKUP($W18,'Reference Data - Cooling'!$C:$M,CL$8,FALSE))","v":""},{"$f":"IF($W18=\"\",\"\",VLOOKUP($W18,'Reference Data - Cooling'!$C:$M,CM$8,FALSE))","v":""},{"$f":"IF($W18=\"\",\"\",VLOOKUP($W18,'Reference Data - Cooling'!$C:$M,CN$8,FALSE))","v":""},{"$f":"IF($W18=\"\",\"\",VLOOKUP($W18,'Reference Data - Cooling'!$C:$M,CO$8,FALSE))","v":""},{"$f":"IF($W18=\"\",\"\",VLOOKUP($W18,'Reference Data - Cooling'!$C:$M,CP$8,FALSE))","v":""},{"$f":"IF($W18=\"\",\"\",VLOOKUP($W18,'Reference Data - Cooling'!$C:$M,CQ$8,FALSE))","v":""},{"$f":"IF($W18=\"\",\"\",VLOOKUP($W18,'Reference Data - Cooling'!$C:$M,CR$8,FALSE))","v":""},{"$f":"IF($W18=\"\",\"\",VLOOKUP($W18,'Reference Data - Cooling'!$C:$M,CS$8,FALSE))","v":""},{"$f":"IF($W18=\"\",\"\",VLOOKUP($W18,'Reference Data - Cooling'!$C:$M,CT$8,FALSE))","v":""},null,"","","","","","","","",""]
[null,null,null,null,null,null,null,null,null,null,null,null,null,null,null,null,null,null,null,null,null,null,null,null,null,null,{"$f":"IF($E19=\"\",\"\",VLOOKUP($E19,'Reference Data - Electricity'!$A:$L,AA$8,FALSE))","v":""},{"$f":"IF($E19=\"\",\"\",VLOOKUP($E19,'Reference Data - Electricity'!$A:$L,AB$8,FALSE))","v":""},{"$f":"IF($E19=\"\",\"\",VLOOKUP($E19,'Reference Data - Electricity'!$A:$L,AC$8,FALSE))","v":""},{"$f":"IF($E19=\"\",\"\",VLOOKUP($E19,'Reference Data - Electricity'!$A:$L,AD$8,FALSE))","v":""},{"$f":"IF($E19=\"\",\"\",VLOOKUP($E19,'Reference Data - Electricity'!$A:$L,AE$8,FALSE))","v":""},{"$f":"IF($E19=\"\",\"\",VLOOKUP($E19,'Reference Data - Electricity'!$A:$L,AF$8,FALSE))","v":""},{"$f":"IF($E19=\"\",\"\",VLOOKUP($E19,'Reference Data - Electricity'!$A:$L,AG$8,FALSE))","v":""},{"$f":"IF($E19=\"\",\"\",VLOOKUP($E19,'Reference Data - Electricity'!$A:$L,AH$8,FALSE))","v":""},{"$f":"IF($E19=\"\",\"\",VLOOKUP($E19,'Reference Data - Electricity'!$A:$L,AI$8,FALSE))","v":""},null,"","","","","","","","","",null,null,{"$f":"IF($K19=\"\",\"\",VLOOKUP($K19,'Reference Data - Heat'!$C:$M,AV$8,FALSE))","v":""},{"$f":"IF($K19=\"\",\"\",VLOOKUP($K19,'Reference Data - Heat'!$C:$M,AW$8,FALSE))","v":""},{"$f":"IF($K19=\"\",\"\",VLOOKUP($K19,'Reference Data - Heat'!$C:$M,AX$8,FALSE))","v":""},{"$f":"IF($K19=\"\",\"\",VLOOKUP($K19,'Reference Data - Heat'!$C:$M,AY$8,FALSE))","v":""},{"$f":"IF($K19=\"\",\"\",VLOOKUP($K19,'Reference Data - Heat'!$C:$M,AZ$8,FALSE))","v":""},{"$f":"IF($K19=\"\",\"\",VLOOKUP($K19,'Reference Data - Heat'!$C:$M,BA$8,FALSE))","v":""},{"$f":"IF($K19=\"\",\"\",VLOOKUP($K19,'Reference Data - Heat'!$C:$M,BB$8,FALSE))","v":""},{"$f":"IF($K19=\"\",\"\",VLOOKUP($K19,'Reference Data - Heat'!$C:$M,BC$8,FALSE))","v":""},{"$f":"IF($K19=\"\",\"\",VLOOKUP($K19,'Reference Data - Heat'!$C:$M,BD$8,FALSE))","v":""},null,"","","","","","","","","",null,null,{"$f":"IF($Q19=\"\",\"\",VLOOKUP($Q19,'Reference Data - Steam'!$C:$M,BQ$8,FALSE))","v":""},{"$f":"IF($Q19=\"\",\"\",VLOOKUP($Q19,'Reference Data - Steam'!$C:$M,BR$8,FALSE))","v":""},{"$f":"IF($Q19=\"\",\"\",VLOOKUP($Q19,'Reference Data - Steam'!$C:$M,BS$8,FALSE))","v":""},{"$f":"IF($Q19=\"\",\"\",VLOOKUP($Q19,'Reference Data - Steam'!$C:$M,BT$8,FALSE))","v":""},{"$f":"IF($Q19=\"\",\"\",VLOOKUP($Q19,'Reference Data - Steam'!$C:$M,BU$8,FALSE))","v":""},{"$f":"IF($Q19=\"\",\"\",VLOOKUP($Q19,'Reference Data - Steam'!$C:$M,BV$8,FALSE))","v":""},{"$f":"IF($Q19=\"\",\"\",VLOOKUP($Q19,'Reference Data - Steam'!$C:$M,BW$8,FALSE))","v":""},{"$f":"IF($Q19=\"\",\"\",VLOOKUP($Q19,'Reference Data - Steam'!$C:$M,BX$8,FALSE))","v":""},{"$f":"IF($Q19=\"\",\"\",VLOOKUP($Q19,'Reference Data - Steam'!$C:$M,BY$8,FALSE))","v":""},null,"","","","","","","","","",null,null,{"$f":"IF($W19=\"\",\"\",VLOOKUP($W19,'Reference Data - Cooling'!$C:$M,CL$8,FALSE))","v":""},{"$f":"IF($W19=\"\",\"\",VLOOKUP($W19,'Reference Data - Cooling'!$C:$M,CM$8,FALSE))","v":""},{"$f":"IF($W19=\"\",\"\",VLOOKUP($W19,'Reference Data - Cooling'!$C:$M,CN$8,FALSE))","v":""},{"$f":"IF($W19=\"\",\"\",VLOOKUP($W19,'Reference Data - Cooling'!$C:$M,CO$8,FALSE))","v":""},{"$f":"IF($W19=\"\",\"\",VLOOKUP($W19,'Reference Data - Cooling'!$C:$M,CP$8,FALSE))","v":""},{"$f":"IF($W19=\"\",\"\",VLOOKUP($W19,'Reference Data - Cooling'!$C:$M,CQ$8,FALSE))","v":""},{"$f":"IF($W19=\"\",\"\",VLOOKUP($W19,'Reference Data - Cooling'!$C:$M,CR$8,FALSE))","v":""},{"$f":"IF($W19=\"\",\"\",VLOOKUP($W19,'Reference Data - Cooling'!$C:$M,CS$8,FALSE))","v":""},{"$f":"IF($W19=\"\",\"\",VLOOKUP($W19,'Reference Data - Cooling'!$C:$M,CT$8,FALSE))","v":""},null,"","","","","","","","",""]
[null,null,null,null,null,null,null,null,null,null,null,null,null,null,null,null,null,null,null,null,null,null,null,null,null,null,{"$f":"IF($E20=\"\",\"\",VLOOKUP($E20,'Reference Data - Electricity'!$A:$L,AA$8,FALSE))","v":""},{"$f":"IF($E20=\"\",\"\",VLOOKUP($E20,'Reference Data - Electricity'!$A:$L,AB$8,FALSE))","v":""},{"$f":"IF($E20=\"\",\"\",VLOOKUP($E20,'Reference Data - Electricity'!$A:$L,AC$8,FALSE))","v":""},{"$f":"IF($E20=\"\",\"\",VLOOKUP($E20,'Reference Data - Electricity'!$A:$L,AD$8,FALSE))","v":""},{"$f":"IF($E20=\"\",\"\",VLOOKUP($E20,'Reference Data - Electricity'!$A:$L,AE$8,FALSE))","v":""},{"$f":"IF($E20=\"\",\"\",VLOOKUP($E20,'Reference Data - Electricity'!$A:$L,AF$8,FALSE))","v":""},{"$f":"IF($E20=\"\",\"\",VLOOKUP($E20,'Reference Data - Electricity'!$A:$L,AG$8,FALSE))","v":""},{"$f":"IF($E20=\"\",\"\",VLOOKUP($E20,'Reference Data - Electricity'!$A:$L,AH$8,FALSE))","v":""},{"$f":"IF($E20=\"\",\"\",VLOOKUP($E20,'Reference Data - Electricity'!$A:$L,AI$8,FALSE))","v":""},null,"","","","","","","","","",null,null,{"$f":"IF($K20=\"\",\"\",VLOOKUP($K20,'Reference Data - Heat'!$C:$M,AV$8,FALSE))","v":""},{"$f":"IF($K20=\"\",\"\",VLOOKUP($K20,'Reference Data - Heat'!$C:$M,AW$8,FALSE))","v":""},{"$f":"IF($K20=\"\",\"\",VLOOKUP($K20,'Reference Data - Heat'!$C:$M,AX$8,FALSE))","v":""},{"$f":"IF($K20=\"\",\"\",VLOOKUP($K20,'Reference Data - Heat'!$C:$M,AY$8,FALSE))","v":""},{"$f":"IF($K20=\"\",\"\",VLOOKUP($K20,'Reference Data - Heat'!$C:$M,AZ$8,FALSE))","v":""},{"$f":"IF($K20=\"\",\"\",VLOOKUP($K20,'Reference Data - Heat'!$C:$M,BA$8,FALSE))","v":""},{"$f":"IF($K20=\"\",\"\",VLOOKUP($K20,'Reference Data - Heat'!$C:$M,BB$8,FALSE))","v":""},{"$f":"IF($K20=\"\",\"\",VLOOKUP($K20,'Reference Data - Heat'!$C:$M,BC$8,FALSE))","v":""},{"$f":"IF($K20=\"\",\"\",VLOOKUP($K20,'Reference Data - Heat'!$C:$M,BD$8,FALSE))","v":""},null,"","","","","","","","","",null,null,{"$f":"IF($Q20=\"\",\"\",VLOOKUP($Q20,'Reference Data - Steam'!$C:$M,BQ$8,FALSE))","v":""},{"$f":"IF($Q20=\"\",\"\",VLOOKUP($Q20,'Reference Data - Steam'!$C:$M,BR$8,FALSE))","v":""},{"$f":"IF($Q20=\"\",\"\",VLOOKUP($Q20,'Reference Data - Steam'!$C:$M,BS$8,FALSE))","v":""},{"$f":"IF($Q20=\"\",\"\",VLOOKUP($Q20,'Reference Data - Steam'!$C:$M,BT$8,FALSE))","v":""},{"$f":"IF($Q20=\"\",\"\",VLOOKUP($Q20,'Reference Data - Steam'!$C:$M,BU$8,FALSE))","v":""},{"$f":"IF($Q20=\"\",\"\",VLOOKUP($Q20,'Reference Data - Steam'!$C:$M,BV$8,FALSE))","v":""},{"$f":"IF($Q20=\"\",\"\",VLOOKUP($Q20,'Reference Data - Steam'!$C:$M,BW$8,FALSE))","v":""},{"$f":"IF($Q20=\"\",\"\",VLOOKUP($Q20,'Reference Data - Steam'!$C:$M,BX$8,FALSE))","v":""},{"$f":"IF($Q20=\"\",\"\",VLOOKUP($Q20,'Reference Data - Steam'!$C:$M,BY$8,FALSE))","v":""},null,"","","","","","","","","",null,null,{"$f":"IF($W20=\"\",\"\",VLOOKUP($W20,'Reference Data - Cooling'!$C:$M,CL$8,FALSE))","v":""},{"$f":"IF($W20=\"\",\"\",VLOOKUP($W20,'Reference Data - Cooling'!$C:$M,CM$8,FALSE))","v":""},{"$f":"IF($W20=\"\",\"\",VLOOKUP($W20,'Reference Data - Cooling'!$C:$M,CN$8,FALSE))","v":""},{"$f":"IF($W20=\"\",\"\",VLOOKUP($W20,'Reference Data - Cooling'!$C:$M,CO$8,FALSE))","v":""},{"$f":"IF($W20=\"\",\"\",VLOOKUP($W20,'Reference Data - Cooling'!$C:$M,CP$8,FALSE))","v":""},{"$f":"IF($W20=\"\",\"\",VLOOKUP($W20,'Reference Data - Cooling'!$C:$M,CQ$8,FALSE))","v":""},{"$f":"IF($W20=\"\",\"\",VLOOKUP($W20,'Reference Data - Cooling'!$C:$M,CR$8,FALSE))","v":""},{"$f":"IF($W20=\"\",\"\",VLOOKUP($W20,'Reference Data - Cooling'!$C:$M,CS$8,FALSE))","v":""},{"$f":"IF($W20=\"\",\"\",VLOOKUP($W20,'Reference Data - Cooling'!$C:$M,CT$8,FALSE))","v":""},null,"","","","","","","","",""]

{"sheet":"5. Material Inputs（原材料投入）","index":4,"n_rows":106,"n_cols":21,"rows_kept":106,"cut":false,"hidden":false,"merged":[]}
[]
[null,null,null,"原材料投入—数量",null,null,null,null,null,null,null,"原材料投入—财务估算",null,null,null,null,null,"Total (kg CO2e):",null,"Total (kg CO2e):"]
[null,null,null,"Material inputs - Quantity",null,null,null,null,null,null,null,"Material inputs - Financial Approximation",null,null,null,null,null,{"$f":"SUM(S:S)","v":0},null,{"$f":"SUM(U:U)","v":0}]
[]
[null,"C",null,"产品描述","材料类型和计量单位","年消耗量","材料引起排放的百分比",null,null,"C",null,"产品描述","财务分类","年价值（人民币）","材料引起排放的百分比"]
[null,"E",null,"Description","Material & Unit of Measurement","Quantity per year","Percentage of material emissions",null,null,"E",null,"Description","Financial Category","Value per year (RMB)","Percentage of material emissions",null,"Supporting Calculations -->","Emission Factor","CO2e (kg)",null,"CO2e (kg)"]
[null,null,null,null,null,null,null,null,null,null,null,null,null,null,null,null,null,{"$f":"IF($E7=\"\",\"\",VLOOKUP($E7,'Reference Material EFs Quantity'!$C:$D,2,FALSE))","v":""},{"$f":"IF(F7=\"\",\"\",R7*F7)","v":""},null,{"$f":"IF(M7=\"\",\"\",VLOOKUP(M7,'Reference Material EFs EEIO'!A:B,2,FALSE)*N7)","v":""}]
[null,null,null,null,null,null,null,null,null,null,null,null,null,null,null,null,null,{"$f":"IF($E8=\"\",\"\",VLOOKUP($E8,'Reference Material EFs Quantity'!$C:$D,2,FALSE))","v":""},{"$f":"IF(F8=\"\",\"\",R8*F8)","v":""},null,{"$f":"IF(M8=\"\",\"\",VLOOKUP(M8,'Reference Material EFs EEIO'!A:B,2,FALSE)*N8)","v":""}]
[null,null,null,null,null,null,null,null,null,null,null,null,null,null,null,null,null,{"$f":"IF($E9=\"\",\"\",VLOOKUP($E9,'Reference Material EFs Quantity'!$C:$D,2,FALSE))","v":""},"",null,{"$f":"IF(M9=\"\",\"\",VLOOKUP(M9,'Reference Material EFs EEIO'!A:B,2,FALSE)*N9)","v":""}]
[null,null,null,null,null,null,{"$f":"IF(ISERROR(S10/($R$3+$T$3)),\"\",S10/($R$3+$T$3))","v":""},null,null,null,null,null,null,null,{"$f":"IF(ISERROR(U10/($R$3+$T$3)),\"\",U10/($R$3+$T$3))","v":""},null,null,{"$f":"IF($E10=\"\",\"\",VLOOKUP($E10,'Reference Material EFs Quantity'!$C:$D,2,FALSE))","v":""},"",null,{"$f":"IF(M10=\"\",\"\",VLOOKUP(M10,'Reference Material EFs EEIO'!A:B,2,FALSE)*N10)","v":""}]
[null,null,null,null,null,null,"",null,null,null,null,null,null,null,"",null,null,{"$f":"IF($E11=\"\",\"\",VLOOKUP($E11,'Reference Material EFs Quantity'!$C:$D,2,FALSE))","v":""},"",null,{"$f":"IF(M11=\"\",\"\",VLOOKUP(M11,'Reference Material EFs EEIO'!A:B,2,FALSE)*N11)","v":""}]
[null,null,null,null,null,null,"",null,null,null,null,null,null,null,"",null,null,{"$f":"IF($E12=\"\",\"\",VLOOKUP($E12,'Reference Material EFs Quantity'!$C:$D,2,FALSE))","v":""},"",null,{"$f":"IF(M12=\"\",\"\",VLOOKUP(M12,'Reference Material EFs EEIO'!A:B,2,FALSE)*N12)","v":""}]
[null,null,null,null,null,null,"",null,null,null,null,null,null,null,"",null,null,{"$f":"IF($E13=\"\",\"\",VLOOKUP($E13,'Reference Material EFs Quantity'!$C:$D,2,FALSE))","v":""},"",null,{"$f":"IF(M13=\"\",\"\",VLOOKUP(M13,'Reference Material EFs EEIO'!A:B,2,FALSE)*N13)","v":""}]
[null,null,null,null,null,null,"",null,null,null,null,null,null,null,"",null,null,{"$f":"IF($E14=\"\",\"\",VLOOKUP($E14,'Reference Material EFs Quantity'!$C:$D,2,FALSE))","v":""},"",null,{"$f":"IF(M14=\"\",\"\",VLOOKUP(M14,'Reference Material EFs EEIO'!A:B,2,FALSE)*N14)","v":""}]
[null,null,null,null,null,null,"",null,null,null,null,null,null,null,"",null,null,{"$f":"IF($E15=\"\",\"\",VLOOKUP($E15,'Reference Material EFs Quantity'!$C:$D,2,FALSE))","v":""},"",null,{"$f":"IF(M15=\"\",\"\",VLOOKUP(M15,'Reference Material EFs EEIO'!A:B,2,FALSE)*N15)","v":""}]
[null,null,null,null,null,null,"",null,null,null,null,null,null,null,"",null,null,{"$f":"IF($E16=\"\",\"\",VLOOKUP($E16,'Reference Material EFs Quantity'!$C:$D,2,FALSE))","v":""},"",null,{"$f":"IF(M16=\"\",\"\",VLOOKUP(M16,'Reference Material EFs EEIO'!A:B,2,FALSE)*N16)","v":""}]
[null,null,null,null,null,null,"",null,null,null,null,null,null,null,"",null,null,{"$f":"IF($E17=\"\",\"\",VLOOKUP($E17,'Reference Material EFs Quantity'!$C:$D,2,FALSE))","v":""},"",null,{"$f":"IF(M17=\"\",\"\",VLOOKUP(M17,'Reference Material EFs EEIO'!A:B,2,FALSE)*N17)","v":""}]
[null,null,null,null,null,null,"",null,null,null,null,null,null,null,"",null,null,{"$f":"IF($E18=\"\",\"\",VLOOKUP($E18,'Reference Material EFs Quantity'!$C:$D,2,FALSE))","v":""},"",null,{"$f":"IF(M18=\"\",\"\",VLOOKUP(M18,'Reference Material EFs EEIO'!A:B,2,FALSE)*N18)","v":""}]
[null,null,null,null,null,null,"",null,null,null,null,null,null,null,"",null,null,{"$f":"IF($E19=\"\",\"\",VLOOKUP($E19,'Reference Material EFs Quantity'!$C:$D,2,FALSE))","v":""},"",null,{"$f":"IF(M19=\"\",\"\",VLOOKUP(M19,'Reference Material EFs EEIO'!A:B,2,FALSE)*N19)","v":""}]
[null,null,null,null,null,null,"",null,null,null,null,null,null,null,"",null,null,{"$f":"IF($E20=\"\",\"\",VLOOKUP($E20,'Reference Material EFs Quantity'!$C:$D,2,FALSE))","v":""},"",null,{"$f":"IF(M20=\"\",\"\",VLOOKUP(M20,'Reference Material EFs EEIO'!A:B,2,FALSE)*N20)","v":""}]
[null,null,null,null,null,null,"",null,null,null,null,null,null,null,"",null,null,{"$f":"IF($E21=\"\",\"\",VLOOKUP($E21,'Reference Material EFs Quantity'!$C:$D,2,FALSE))","v":""},"",null,{"$f":"IF(M21=\"\",\"\",VLOOKUP(M21,'Reference Material EFs EEIO'!A:B,2,FALSE)*N21)","v":""}]
[null,null,null,null,null,null,"",null,null,null,null,null,null,null,"",null,null,{"$f":"IF($E22=\"\",\"\",VLOOKUP($E22,'Reference Material EFs Quantity'!$C:$D,2,FALSE))","v":""},"",null,{"$f":"IF(M22=\"\",\"\",VLOOKUP(M22,'Reference Material EFs EEIO'!A:B,2,FALSE)*N22)","v":""}]
[null,null,null,null,null,null,"",null,null,null,null,null,null,null,"",null,null,{"$f":"IF($E23=\"\",\"\",VLOOKUP($E23,'Reference Material EFs Quantity'!$C:$D,2,FALSE))","v":""},"",null,{"$f":"IF(M23=\"\",\"\",VLOOKUP(M23,'Reference Material EFs EEIO'!A:B,2,FALSE)*N23)","v":""}]
[null,null,null,null,null,null,"",null,null,null,null,null,null,null,"",null,null,{"$f":"IF($E24=\"\",\"\",VLOOKUP($E24,'Reference Material EFs Quantity'!$C:$D,2,FALSE))","v":""},"",null,{"$f":"IF(M24=\"\",\"\",VLOOKUP(M24,'Reference Material EFs EEIO'!A:B,2,FALSE)*N24)","v":""}]
[null,null,null,null,null,null,"",null,null,null,null,null,null,null,"",null,null,{"$f":"IF($E25=\"\",\"\",VLOOKUP($E25,'Reference Material EFs Quantity'!$C:$D,2,FALSE))","v":""},"",null,{"$f":"IF(M25=\"\",\"\",VLOOKUP(M25,'Reference Material EFs EEIO'!A:B,2,FALSE)*N25)","v":""}]
[null,null,null,null,null,null,"",null,null,null,null,null,null,null,"",null,null,{"$f":"IF($E26=\"\",\"\",VLOOKUP($E26,'Reference Material EFs Quantity'!$C:$D,2,FALSE))","v":""},"",null,{"$f":"IF(M26=\"\",\"\",VLOOKUP(M26,'Reference Material EFs EEIO'!A:B,2,FALSE)*N26)","v":""}]
[null,null,null,null,null,null,"",null,null,null,null,null,null,null,"",null,null,{"$f":"IF($E27=\"\",\"\",VLOOKUP($E27,'Reference Material EFs Quantity'!$C:$D,2,FALSE))","v":""},"",null,{"$f":"IF(M27=\"\",\"\",VLOOKUP(M27,'Reference Material EFs EEIO'!A:B,2,FALSE)*N27)","v":""}]
[null,null,null,null,null,null,"",null,null,null,null,null,null,null,"",null,null,{"$f":"IF($E28=\"\",\"\",VLOOKUP($E28,'Reference Material EFs Quantity'!$C:$D,2,FALSE))","v":""},"",null,{"$f":"IF(M28=\"\",\"\",VLOOKUP(M28,'Reference Material EFs EEIO'!A:B,2,FALSE)*N28)","v":""}]
[null,null,null,null,null,null,"",null,null,null,null,null,null,null,"",null,null,{"$f":"IF($E29=\"\",\"\",VLOOKUP($E29,'Reference Material EFs Quantity'!$C:$D,2,FALSE))","v":""},"",null,{"$f":"IF(M29=\"\",\"\",VLOOKUP(M29,'Reference Material EFs EEIO'!A:B,2,FALSE)*N29)","v":""}]
[null,null,null,null,null,null,"",null,null,null,null,null,null,null,"",null,null,{"$f":"IF($E30=\"\",\"\",VLOOKUP($E30,'Reference Material EFs Quantity'!$C:$D,2,FALSE))","v":""},"",null,{"$f":"IF(M30=\"\",\"\",VLOOKUP(M30,'Reference Material EFs EEIO'!A:B,2,FALSE)*N30)","v":""}]
[null,null,null,null,null,null,"",null,null,null,null,null,null,null,"",null,null,{"$f":"IF($E31=\"\",\"\",VLOOKUP($E31,'Reference Material EFs Quantity'!$C:$D,2,FALSE))","v":""},"",null,{"$f":"IF(M31=\"\",\"\",VLOOKUP(M31,'Reference Material EFs EEIO'!A:B,2,FALSE)*N31)","v":""}]
[null,null,null,null,null,null,"",null,null,null,null,null,null,null,"",null,null,{"$f":"IF($E32=\"\",\"\",VLOOKUP($E32,'Reference Material EFs Quantity'!$C:$D,2,FALSE))","v":""},"",null,{"$f":"IF(M32=\"\",\"\",VLOOKUP(M32,'Reference Material EFs EEIO'!A:B,2,FALSE)*N32)","v":""}]
[null,null,null,null,null,null,"",null,null,null,null,null,null,null,"",null,null,{"$f":"IF($E33=\"\",\"\",VLOOKUP($E33,'Reference Material EFs Quantity'!$C:$D,2,FALSE))","v":""},"",null,{"$f":"IF(M33=\"\",\"\",VLOOKUP(M33,'Reference Material EFs EEIO'!A:B,2,FALSE)*N33)","v":""}]
[null,null,null,null,null,null,"",null,null,null,null,null,null,null,"",null,null,{"$f":"IF($E34=\"\",\"\",VLOOKUP($E34,'Reference Material EFs Quantity'!$C:$D,2,FALSE))","v":""},"",null,{"$f":"IF(M34=\"\",\"\",VLOOKUP(M34,'Reference Material EFs EEIO'!A:B,2,FALSE)*N34)","v":""}]
[null,null,null,null,null,null,"",null,null,null,null,null,null,null,"",null,null,{"$f":"IF($E35=\"\",\"\",VLOOKUP($E35,'Reference Material EFs Quantity'!$C:$D,2,FALSE))","v":""},"",null,{"$f":"IF(M35=\"\",\"\",VLOOKUP(M35,'Reference Material EFs EEIO'!A:B,2,FALSE)*N35)","v":""}]
[null,null,null,null,null,null,"",null,null,null,null,null,null,null,"",null,null,{"$f":"IF($E36=\"\",\"\",VLOOKUP($E36,'Reference Material EFs Quantity'!$C:$D,2,FALSE))","v":""},"",null,{"$f":"IF(M36=\"\",\"\",VLOOKUP(M36,'Reference Material EFs EEIO'!A:B,2,FALSE)*N36)","v":""}]
[null,null,null,null,null,null,"",null,null,null,null,null,null,null,"",null,null,{"$f":"IF($E37=\"\",\"\",VLOOKUP($E37,'Reference Material EFs Quantity'!$C:$D,2,FALSE))","v":""},"",null,{"$f":"IF(M37=\"\",\"\",VLOOKUP(M37,'Reference Material EFs EEIO'!A:B,2,FALSE)*N37)","v":""}]
[null,null,null,null,null,null,"",null,null,null,null,null,null,null,"",null,null,{"$f":"IF($E38=\"\",\"\",VLOOKUP($E38,'Reference Material EFs Quantity'!$C:$D,2,FALSE))","v":""},"",null,{"$f":"IF(M38=\"\",\"\",VLOOKUP(M38,'Reference Material EFs EEIO'!A:B,2,FALSE)*N38)","v":""}]
[null,null,null,null,null,null,"",null,null,null,null,null,null,null,"",null,null,{"$f":"IF($E39=\"\",\"\",VLOOKUP($E39,'Reference Material EFs Quantity'!$C:$D,2,FALSE))","v":""},"",null,{"$f":"IF(M39=\"\",\"\",VLOOKUP(M39,'Reference Material EFs EEIO'!A:B,2,FALSE)*N39)","v":""}]
[null,null,null,null,null,null,"",null,null,null,null,null,null,null,"",null,null,{"$f":"IF($E40=\"\",\"\",VLOOKUP($E40,'Reference Material EFs Quantity'!$C:$D,2,FALSE))","v":""},"",null,{"$f":"IF(M40=\"\",\"\",VLOOKUP(M40,'Reference Material EFs EEIO'!A:B,2,FALSE)*N40)","v":""}]
[null,null,null,null,null,null,"",null,null,null,null,null,null,null,"",null,null,{"$f":"IF($E41=\"\",\"\",VLOOKUP($E41,'Reference Material EFs Quantity'!$C:$D,2,FALSE))","v":""},"",null,{"$f":"IF(M41=\"\",\"\",VLOOKUP(M41,'Reference Material EFs EEIO'!A:B,2,FALSE)*N41)","v":""}]
[null,null,null,null,null,null,"",null,null,null,null,null,null,null,"",null,null,{"$f":"IF($E42=\"\",\"\",VLOOKUP($E42,'Reference Material EFs Quantity'!$C:$D,2,FALSE))","v":""},"",null,{"$f":"IF(M42=\"\",\"\",VLOOKUP(M42,'Reference Material EFs EEIO'!A:B,2,FALSE)*N42)","v":""}]
[null,null,null,null,null,null,"",null,null,null,null,null,null,null,"",null,null,{"$f":"IF($E43=\"\",\"\",VLOOKUP($E43,'Reference Material EFs Quantity'!$C:$D,2,FALSE))","v":""},"",null,{"$f":"IF(M43=\"\",\"\",VLOOKUP(M43,'Reference Material EFs EEIO'!A:B,2,FALSE)*N43)","v":""}]
[null,null,null,null,null,null,"",null,null,null,null,null,null,null,"",null,null,{"$f":"IF($E44=\"\",\"\",VLOOKUP($E44,'Reference Material EFs Quantity'!$C:$D,2,FALSE))","v":""},"",null,{"$f":"IF(M44=\"\",\"\",VLOOKUP(M44,'Reference Material EFs EEIO'!A:B,2,FALSE)*N44)","v":""}]
[null,null,null,null,null,null,"",null,null,null,null,null,null,null,"",null,null,{"$f":"IF($E45=\"\",\"\",VLOOKUP($E45,'Reference Material EFs Quantity'!$C:$D,2,FALSE))","v":""},"",null,{"$f":"IF(M45=\"\",\"\",VLOOKUP(M45,'Reference Material EFs EEIO'!A:B,2,FALSE)*N45)","v":""}]
[null,null,null,null,null,null,"",null,null,null,null,null,null,null,"",null,null,{"$f":"IF($E46=\"\",\"\",VLOOKUP($E46,'Reference Material EFs Quantity'!$C:$D,2,FALSE))","v":""},"",null,{"$f":"IF(M46=\"\",\"\",VLOOKUP(M46,'Reference Material EFs EEIO'!A:B,2,FALSE)*N46)","v":""}]
[null,null,null,null,null,null,"",null,null,null,null,null,null,null,"",null,null,{"$f":"IF($E47=\"\",\"\",VLOOKUP($E47,'Reference Material EFs Quantity'!$C:$D,2,FALSE))","v":""},"",null,{"$f":"IF(M47=\"\",\"\",VLOOKUP(M47,'Reference Material EFs EEIO'!A:B,2,FALSE)*N47)","v":""}]
[null,null,null,null,null,null,"",null,null,null,null,null,null,null,"",null,null,{"$f":"IF($E48=\"\",\"\",VLOOKUP($E48,'Reference Material EFs Quantity'!$C:$D,2,FALSE))","v":""},"",null,{"$f":"IF(M48=\"\",\"\",VLOOKUP(M48,'Reference Material EFs EEIO'!A:B,2,FALSE)*N48)","v":""}]
[null,null,null,null,null,null,"",null,null,null,null,null,null,null,"",null,null,{"$f":"IF($E49=\"\",\"\",VLOOKUP($E49,'Reference Material EFs Quantity'!$C:$D,2,FALSE))","v":""},"",null,{"$f":"IF(M49=\"\",\"\",VLOOKUP(M49,'Reference Material EFs EEIO'!A:B,2,FALSE)*N49)","v":""}]
[null,null,null,null,null,null,"",null,null,null,null,null,null,null,"",null,null,{"$f":"IF($E50=\"\",\"\",VLOOKUP($E50,'Reference Material EFs Quantity'!$C:$D,2,FALSE))","v":""},"",null,{"$f":"IF(M50=\"\",\"\",VLOOKUP(M50,'Reference Material EFs EEIO'!A:B,2,FALSE)*N50)","v":""}]
[null,null,null,null,null,null,"",null,null,null,null,null,null,null,"",null,null,{"$f":"IF($E51=\"\",\"\",VLOOKUP($E51,'Reference Material EFs Quantity'!$C:$D,2,FALSE))","v":""},"",null,{"$f":"IF(M51=\"\",\"\",VLOOKUP(M51,'Reference Material EFs EEIO'!A:B,2,FALSE)*N51)","v":""}]
[null,null,null,null,null,null,"",null,null,null,null,null,null,null,"",null,null,{"$f":"IF($E52=\"\",\"\",VLOOKUP($E52,'Reference Material EFs Quantity'!$C:$D,2,FALSE))","v":""},"",null,{"$f":"IF(M52=\"\",\"\",VLOOKUP(M52,'Reference Material EFs EEIO'!A:B,2,FALSE)*N52)","v":""}]
[null,null,null,null,null,null,"",null,null,null,null,null,null,null,"",null,null,{"$f":"IF($E53=\"\",\"\",VLOOKUP($E53,'Reference Material EFs Quantity'!$C:$D,2,FALSE))","v":""},"",null,{"$f":"IF(M53=\"\",\"\",VLOOKUP(M53,'Reference Material EFs EEIO'!A:B,2,FALSE)*N53)","v":""}]
[null,null,null,null,null,null,"",null,null,null,null,null,null,null,"",null,null,{"$f":"IF($E54=\"\",\"\",VLOOKUP($E54,'Reference Material EFs Quantity'!$C:$D,2,FALSE))","v":""},"",null,{"$f":"IF(M54=\"\",\"\",VLOOKUP(M54,'Reference Material EFs EEIO'!A:B,2,FALSE)*N54)","v":""}]
[null,null,null,null,null,null,"",null,null,null,null,null,null,null,"",null,null,{"$f":"IF($E55=\"\",\"\",VLOOKUP($E55,'Reference Material EFs Quantity'!$C:$D,2,FALSE))","v":""},"",null,{"$f":"IF(M55=\"\",\"\",VLOOKUP(M55,'Reference Material EFs EEIO'!A:B,2,FALSE)*N55)","v":""}]
[null,null,null,null,null,null,"",null,null,null,null,null,null,null,"",null,null,{"$f":"IF($E56=\"\",\"\",VLOOKUP($E56,'Reference Material EFs Quantity'!$C:$D,2,FALSE))","v":""},"",null,{"$f":"IF(M56=\"\",\"\",VLOOKUP(M56,'Reference Material EFs EEIO'!A:B,2,FALSE)*N56)","v":""}]
[null,null,null,null,null,null,"",null,null,null,null,null,null,null,"",null,null,{"$f":"IF($E57=\"\",\"\",VLOOKUP($E57,'Reference Material EFs Quantity'!$C:$D,2,FALSE))","v":""},"",null,{"$f":"IF(M57=\"\",\"\",VLOOKUP(M57,'Reference Material EFs EEIO'!A:B,2,FALSE)*N57)","v":""}]
[null,null,null,null,null,null,"",null,null,null,null,null,null,null,"",null,null,{"$f":"IF($E58=\"\",\"\",VLOOKUP($E58,'Reference Material EFs Quantity'!$C:$D,2,FALSE))","v":""},"",null,{"$f":"IF(M58=\"\",\"\",VLOOKUP(M58,'Reference Material EFs EEIO'!A:B,2,FALSE)*N58)","v":""}]
[null,null,null,null,null,null,"",null,null,null,null,null,null,null,"",null,null,{"$f":"IF($E59=\"\",\"\",VLOOKUP($E59,'Reference Material EFs Quantity'!$C:$D,2,FALSE))","v":""},"",null,{"$f":"IF(M59=\"\",\"\",VLOOKUP(M59,'Reference Material EFs EEIO'!A:B,2,FALSE)*N59)","v":""}]
[null,null,null,null,null,null,"",null,null,null,null,null,null,null,"",null,null,{"$f":"IF($E60=\"\",\"\",VLOOKUP($E60,'Reference Material EFs Quantity'!$C:$D,2,FALSE))","v":""},"",null,{"$f":"IF(M60=\"\",\"\",VLOOKUP(M60,'Reference Material EFs EEIO'!A:B,2,FALSE)*N60)","v":""}]
[null,null,null,null,null,null,"",null,null,null,null,null,null,null,"",null,null,{"$f":"IF($E61=\"\",\"\",VLOOKUP($E61,'Reference Material EFs Quantity'!$C:$D,2,FALSE))","v":""},"",null,{"$f":"IF(M61=\"\",\"\",VLOOKUP(M61,'Reference Material EFs EEIO'!A:B,2,FALSE)*N61)","v":""}]
[null,null,null,null,null,null,"",null,null,null,null,null,null,null,"",null,null,{"$f":"IF($E62=\"\",\"\",VLOOKUP($E62,'Reference Material EFs Quantity'!$C:$D,2,FALSE))","v":""},"",null,{"$f":"IF(M62=\"\",\"\",VLOOKUP(M62,'Reference Material EFs EEIO'!A:B,2,FALSE)*N62)","v":""}]
[null,null,null,null,null,null,"",null,null,null,null,null,null,null,"",null,null,{"$f":"IF($E63=\"\",\"\",VLOOKUP($E63,'Reference Material EFs Quantity'!$C:$D,2,FALSE))","v":""},"",null,{"$f":"IF(M63=\"\",\"\",VLOOKUP(M63,'Reference Material EFs EEIO'!A:B,2,FALSE)*N63)","v":""}]
[null,null,null,null,null,null,"",null,null,null,null,null,null,null,"",null,null,{"$f":"IF($E64=\"\",\"\",VLOOKUP($E64,'Reference Material EFs Quantity'!$C:$D,2,FALSE))","v":""},"",null,{"$f":"IF(M64=\"\",\"\",VLOOKUP(M64,'Reference Material EFs EEIO'!A:B,2,FALSE)*N64)","v":""}]
[null,null,null,null,null,null,"",null,null,null,null,null,null,null,"",null,null,{"$f":"IF($E65=\"\",\"\",VLOOKUP($E65,'Reference Material EFs Quantity'!$C:$D,2,FALSE))","v":""},"",null,{"$f":"IF(M65=\"\",\"\",VLOOKUP(M65,'Reference Material EFs EEIO'!A:B,2,FALSE)*N65)","v":""}]
[null,null,null,null,null,null,"",null,null,null,null,null,null,null,"",null,null,{"$f":"IF($E66=\"\",\"\",VLOOKUP($E66,'Reference Material EFs Quantity'!$C:$D,2,FALSE))","v":""},"",null,{"$f":"IF(M66=\"\",\"\",VLOOKUP(M66,'Reference Material EFs EEIO'!A:B,2,FALSE)*N66)","v":""}]
[null,null,null,null,null,null,"",null,null,null,null,null,null,null,"",null,null,{"$f":"IF($E67=\"\",\"\",VLOOKUP($E67,'Reference Material EFs Quantity'!$C:$D,2,FALSE))","v":""},"",null,{"$f":"IF(M67=\"\",\"\",VLOOKUP(M67,'Reference Material EFs EEIO'!A:B,2,FALSE)*N67)","v":""}]
[null,null,null,null,null,null,"",null,null,null,null,null,null,null,"",null,null,{"$f":"IF($E68=\"\",\"\",VLOOKUP($E68,'Reference Material EFs Quantity'!$C:$D,2,FALSE))","v":""},"",null,{"$f":"IF(M68=\"\",\"\",VLOOKUP(M68,'Reference Material EFs EEIO'!A:B,2,FALSE)*N68)","v":""}]
[null,null,null,null,null,null,"",null,null,null,null,null,null,null,"",null,null,{"$f":"IF($E69=\"\",\"\",VLOOKUP($E69,'Reference Material EFs Quantity'!$C:$D,2,FALSE))","v":""},"",null,{"$f":"IF(M69=\"\",\"\",VLOOKUP(M69,'Reference Material EFs EEIO'!A:B,2,FALSE)*N69)","v":""}]
[null,null,null,null,null,null,"",null,null,null,null,null,null,null,"",null,null,{"$f":"IF($E70=\"\",\"\",VLOOKUP($E70,'Reference Material EFs Quantity'!$C:$D,2,FALSE))","v":""},"",null,{"$f":"IF(M70=\"\",\"\",VLOOKUP(M70,'Reference Material EFs EEIO'!A:B,2,FALSE)*N70)","v":""}]
[null,null,null,null,null,null,"",null,null,null,null,null,null,null,"",null,null,{"$f":"IF($E71=\"\",\"\",VLOOKUP($E71,'Reference Material EFs Quantity'!$C:$D,2,FALSE))","v":""},"",null,{"$f":"IF(M71=\"\",\"\",VLOOKUP(M71,'Reference Material EFs EEIO'!A:B,2,FALSE)*N71)","v":""}]
[null,null,null,null,null,null,{"$f":"IF(ISERROR(S72/($R$3+$T$3)),\"\",S72/($R$3+$T$3))","v":""},null,null,null,null,null,null,null,{"$f":"IF(ISERROR(U72/($R$3+$T$3)),\"\",U72/($R$3+$T$3))","v":""},null,null,{"$f":"IF($E72=\"\",\"\",VLOOKUP($E72,'Reference Material EFs Quantity'!$C:$D,2,FALSE))","v":""},{"$f":"IF(F72=\"\",\"\",R72*F72)","v":""},null,{"$f":"IF(M72=\"\",\"\",VLOOKUP(M72,'Reference Material EFs EEIO'!A:B,2,FALSE)*N72)","v":""}]
[null,null,null,null,null,null,"",null,null,null,null,null,null,null,"",null,null,{"$f":"IF($E73=\"\",\"\",VLOOKUP($E73,'Reference Material EFs Quantity'!$C:$D,2,FALSE))","v":""},"",null,{"$f":"IF(M73=\"\",\"\",VLOOKUP(M73,'Reference Material EFs EEIO'!A:B,2,FALSE)*N73)","v":""}]
[null,null,null,null,null,null,"",null,null,null,null,null,null,null,"",null,null,{"$f":"IF($E74=\"\",\"\",VLOOKUP($E74,'Reference Material EFs Quantity'!$C:$D,2,FALSE))","v":""},"",null,{"$f":"IF(M74=\"\",\"\",VLOOKUP(M74,'Reference Material EFs EEIO'!A:B,2,FALSE)*N74)","v":""}]
[null,null,null,null,null,null,"",null,null,null,null,null,null,null,"",null,null,{"$f":"IF($E75=\"\",\"\",VLOOKUP($E75,'Reference Material EFs Quantity'!$C:$D,2,FALSE))","v":""},"",null,{"$f":"IF(M75=\"\",\"\",VLOOKUP(M75,'Reference Material EFs EEIO'!A:B,2,FALSE)*N75)","v":""}]
[null,null,null,null,null,null,"",null,null,null,null,null,null,null,"",null,null,{"$f":"IF($E76=\"\",\"\",VLOOKUP($E76,'Reference Material EFs Quantity'!$C:$D,2,FALSE))","v":""},"",null,{"$f":"IF(M76=\"\",\"\",VLOOKUP(M76,'Reference Material EFs EEIO'!A:B,2,FALSE)*N76)","v":""}]
[null,null,null,null,null,null,"",null,null,null,null,null,null,null,"",null,null,{"$f":"IF($E77=\"\",\"\",VLOOKUP($E77,'Reference Material EFs Quantity'!$C:$D,2,FALSE))","v":""},"",null,{"$f":"IF(M77=\"\",\"\",VLOOKUP(M77,'Reference Material EFs EEIO'!A:B,2,FALSE)*N77)","v":""}]
[null,null,null,null,null,null,"",null,null,null,null,null,null,null,"",null,null,{"$f":"IF($E78=\"\",\"\",VLOOKUP($E78,'Reference Material EFs Quantity'!$C:$D,2,FALSE))","v":""},"",null,{"$f":"IF(M78=\"\",\"\",VLOOKUP(M78,'Reference Material EFs EEIO'!A:B,2,FALSE)*N78)","v":""}]
[null,null,null,null,null,null,"",null,null,null,null,null,null,null,"",null,null,{"$f":"IF($E79=\"\",\"\",VLOOKUP($E79,'Reference Material EFs Quantity'!$C:$D,2,FALSE))","v":""},"",null,{"$f":"IF(M79=\"\",\"\",VLOOKUP(M79,'Reference Material EFs EEIO'!A:B,2,FALSE)*N79)","v":""}]
[null,null,null,null,null,null,"",null,null,null,null,null,null,null,"",null,null,{"$f":"IF($E80=\"\",\"\",VLOOKUP($E80,'Reference Material EFs Quantity'!$C:$D,2,FALSE))","v":""},"",null,{"$f":"IF(M80=\"\",\"\",VLOOKUP(M80,'Reference Material EFs EEIO'!A:B,2,FALSE)*N80)","v":""}]
[null,null,null,null,null,null,"",null,null,null,null,null,null,null,"",null,null,{"$f":"IF($E81=\"\",\"\",VLOOKUP($E81,'Reference Material EFs Quantity'!$C:$D,2,FALSE))","v":""},"",null,{"$f":"IF(M81=\"\",\"\",VLOOKUP(M81,'Reference Material EFs EEIO'!A:B,2,FALSE)*N81)","v":""}]
[null,null,null,null,null,null,"",null,null,null,null,null,null,null,"",null,null,{"$f":"IF($E82=\"\",\"\",VLOOKUP($E82,'Reference Material EFs Quantity'!$C:$D,2,FALSE))","v":""},"",null,{"$f":"IF(M82=\"\",\"\",VLOOKUP(M82,'Reference Material EFs EEIO'!A:B,2,FALSE)*N82)","v":""}]
[null,null,null,null,null,null,"",null,null,null,null,null,null,null,"",null,null,{"$f":"IF($E83=\"\",\"\",VLOOKUP($E83,'Reference Material EFs Quantity'!$C:$D,2,FALSE))","v":""},"",null,{"$f":"IF(M83=\"\",\"\",VLOOKUP(M83,'Reference Material EFs EEIO'!A:B,2,FALSE)*N83)","v":""}]
[null,null,null,null,null,null,"",null,null,null,null,null,null,null,"",null,null,{"$f":"IF($E84=\"\",\"\",VLOOKUP($E84,'Reference Material EFs Quantity'!$C:$D,2,FALSE))","v":""},"",null,{"$f":"IF(M84=\"\",\"\",VLOOKUP(M84,'Reference Material EFs EEIO'!A:B,2,FALSE)*N84)","v":""}]
[null,null,null,null,null,null,"",null,null,null,null,null,null,null,"",null,null,{"$f":"IF($E85=\"\",\"\",VLOOKUP($E85,'Reference Material EFs Quantity'!$C:$D,2,FALSE))","v":""},"",null,{"$f":"IF(M85=\"\",\"\",VLOOKUP(M85,'Reference Material EFs EEIO'!A:B,2,FALSE)*N85)","v":""}]
[null,null,null,null,null,null,"",null,null,null,null,null,null,null,"",null,null,{"$f":"IF($E86=\"\",\"\",VLOOKUP($E86,'Reference Material EFs Quantity'!$C:$D,2,FALSE))","v":""},"",null,{"$f":"IF(M86=\"\",\"\",VLOOKUP(M86,'Reference Material EFs EEIO'!A:B,2,FALSE)*N86)","v":""}]
[null,null,null,null,null,null,"",null,null,null,null,null,null,null,"",null,null,{"$f":"IF($E87=\"\",\"\",VLOOKUP($E87,'Reference Material EFs Quantity'!$C:$D,2,FALSE))","v":""},"",null,{"$f":"IF(M87=\"\",\"\",VLOOKUP(M87,'Reference Material EFs EEIO'!A:B,2,FALSE)*N87)","v":""}]
[null,null,null,null,null,null,"",null,null,null,null,null,null,null,"",null,null,{"$f":"IF($E88=\"\",\"\",VLOOKUP($E88,'Reference Material EFs Quantity'!$C:$D,2,FALSE))","v":""},"",null,{"$f":"IF(M88=\"\",\"\",VLOOKUP(M88,'Reference Material EFs EEIO'!A:B,2,FALSE)*N88)","v":""}]
[null,null,null,null,null,null,"",null,null,null,null,null,null,null,"",null,null,{"$f":"IF($E89=\"\",\"\",VLOOKUP($E89,'Reference Material EFs Quantity'!$C:$D,2,FALSE))","v":""},"",null,{"$f":"IF(M89=\"\",\"\",VLOOKUP(M89,'Reference Material EFs EEIO'!A:B,2,FALSE)*N89)","v":""}]
[null,null,null,null,null,null,"",null,null,null,null,null,null,null,"",null,null,{"$f":"IF($E90=\"\",\"\",VLOOKUP($E90,'Reference Material EFs Quantity'!$C:$D,2,FALSE))","v":""},"",null,{"$f":"IF(M90=\"\",\"\",VLOOKUP(M90,'Reference Material EFs EEIO'!A:B,2,FALSE)*N90)","v":""}]
[null,null,null,null,null,null,"",null,null,null,null,null,null,null,"",null,null,{"$f":"IF($E91=\"\",\"\",VLOOKUP($E91,'Reference Material EFs Quantity'!$C:$D,2,FALSE))","v":""},"",null,{"$f":"IF(M91=\"\",\"\",VLOOKUP(M91,'Reference Material EFs EEIO'!A:B,2,FALSE)*N91)","v":""}]
[null,null,null,null,null,null,"",null,null,null,null,null,null,null,"",null,null,{"$f":"IF($E92=\"\",\"\",VLOOKUP($E92,'Reference Material EFs Quantity'!$C:$D,2,FALSE))","v":""},"",null,{"$f":"IF(M92=\"\",\"\",VLOOKUP(M92,'Reference Material EFs EEIO'!A:B,2,FALSE)*N92)","v":""}]
[null,null,null,null,null,null,"",null,null,null,null,null,null,null,"",null,null,{"$f":"IF($E93=\"\",\"\",VLOOKUP($E93,'Reference Material EFs Quantity'!$C:$D,2,FALSE))","v":""},"",null,{"$f":"IF(M93=\"\",\"\",VLOOKUP(M93,'Reference Material EFs EEIO'!A:B,2,FALSE)*N93)","v":""}]
[null,null,null,null,null,null,"",null,null,null,null,null,null,null,"",null,null,{"$f":"IF($E94=\"\",\"\",VLOOKUP($E94,'Reference Material EFs Quantity'!$C:$D,2,FALSE))","v":""},"",null,{"$f":"IF(M94=\"\",\"\",VLOOKUP(M94,'Reference Material EFs EEIO'!A:B,2,FALSE)*N94)","v":""}]
[null,null,null,null,null,null,"",null,null,null,null,null,null,null,"",null,null,{"$f":"IF($E95=\"\",\"\",VLOOKUP($E95,'Reference Material EFs Quantity'!$C:$D,2,FALSE))","v":""},"",null,{"$f":"IF(M95=\"\",\"\",VLOOKUP(M95,'Reference Material EFs EEIO'!A:B,2,FALSE)*N95)","v":""}]
[null,null,null,null,null,null,"",null,null,null,null,null,null,null,"",null,null,{"$f":"IF($E96=\"\",\"\",VLOOKUP($E96,'Reference Material EFs Quantity'!$C:$D,2,FALSE))","v":""},"",null,{"$f":"IF(M96=\"\",\"\",VLOOKUP(M96,'Reference Material EFs EEIO'!A:B,2,FALSE)*N96)","v":""}]
[null,null,null,null,null,null,"",null,null,null,null,null,null,null,"",null,null,{"$f":"IF($E97=\"\",\"\",VLOOKUP($E97,'Reference Material EFs Quantity'!$C:$D,2,FALSE))","v":""},"",null,{"$f":"IF(M97=\"\",\"\",VLOOKUP(M97,'Reference Material EFs EEIO'!A:B,2,FALSE)*N97)","v":""}]
[null,null,null,null,null,null,"",null,null,null,null,null,null,null,"",null,null,{"$f":"IF($E98=\"\",\"\",VLOOKUP($E98,'Reference Material EFs Quantity'!$C:$D,2,FALSE))","v":""},"",null,{"$f":"IF(M98=\"\",\"\",VLOOKUP(M98,'Reference Material EFs EEIO'!A:B,2,FALSE)*N98)","v":""}]
[null,null,null,null,null,null,"",null,null,null,null,null,null,null,"",null,null,{"$f":"IF($E99=\"\",\"\",VLOOKUP($E99,'Reference Material EFs Quantity'!$C:$D,2,FALSE))","v":""},"",null,{"$f":"IF(M99=\"\",\"\",VLOOKUP(M99,'Reference Material EFs EEIO'!A:B,2,FALSE)*N99)","v":""}]
[null,null,null,null,null,null,"",null,null,null,null,null,null,null,"",null,null,{"$f":"IF($E100=\"\",\"\",VLOOKUP($E100,'Reference Material EFs Quantity'!$C:$D,2,FALSE))","v":""},"",null,{"$f":"IF(M100=\"\",\"\",VLOOKUP(M100,'Reference Material EFs EEIO'!A:B,2,FALSE)*N100)","v":""}]
[null,null,null,null,null,null,"",null,null,null,null,null,null,null,"",null,null,{"$f":"IF($E101=\"\",\"\",VLOOKUP($E101,'Reference Material EFs Quantity'!$C:$D,2,FALSE))","v":""},"",null,{"$f":"IF(M101=\"\",\"\",VLOOKUP(M101,'Reference Material EFs EEIO'!A:B,2,FALSE)*N101)","v":""}]
[null,null,null,null,null,null,"",null,null,null,null,null,null,null,"",null,null,{"$f":"IF($E102=\"\",\"\",VLOOKUP($E102,'Reference Material EFs Quantity'!$C:$D,2,FALSE))","v":""},"",null,{"$f":"IF(M102=\"\",\"\",VLOOKUP(M102,'Reference Material EFs EEIO'!A:B,2,FALSE)*N102)","v":""}]
[null,null,null,null,null,null,"",null,null,null,null,null,null,null,"",null,null,{"$f":"IF($E103=\"\",\"\",VLOOKUP($E103,'Reference Material EFs Quantity'!$C:$D,2,FALSE))","v":""},"",null,{"$f":"IF(M103=\"\",\"\",VLOOKUP(M103,'Reference Material EFs EEIO'!A:B,2,FALSE)*N103)","v":""}]
[null,null,null,null,null,null,"",null,null,null,null,null,null,null,"",null,null,{"$f":"IF($E104=\"\",\"\",VLOOKUP($E104,'Reference Material EFs Quantity'!$C:$D,2,FALSE))","v":""},"",null,{"$f":"IF(M104=\"\",\"\",VLOOKUP(M104,'Reference Material EFs EEIO'!A:B,2,FALSE)*N104)","v":""}]
[null,null,null,null,null,null,"",null,null,null,null,null,null,null,"",null,null,{"$f":"IF($E105=\"\",\"\",VLOOKUP($E105,'Reference Material EFs Quantity'!$C:$D,2,FALSE))","v":""},"",null,{"$f":"IF(M105=\"\",\"\",VLOOKUP(M105,'Reference Material EFs EEIO'!A:B,2,FALSE)*N105)","v":""}]
[null,null,null,null,null,null,"",null,null,null,null,null,null,null,"",null,null,{"$f":"IF($E106=\"\",\"\",VLOOKUP($E106,'Reference Material EFs Quantity'!$C:$D,2,FALSE))","v":""},"",null,{"$f":"IF(M106=\"\",\"\",VLOOKUP(M106,'Reference Material EFs EEIO'!A:B,2,FALSE)*N106)","v":""}]

{"sheet":"6. Inbound Logistics（入场物流）","index":5,"n_rows":106,"n_cols":81,"rows_kept":106,"cut":false,"hidden":false,"merged":[]}
[]
[null,null,null,"入场物流--基于燃料数量",null,null,null,null,null,null,null,"入场物流--基于运输距离"]
[null,null,null,"Inbound Logistics - by quantity of fuel",null,null,null,null,null,null,null,"Inbound Logistics - by distance transported",null,null,null,null,null,"By Fuel",null,null,null,null,null,null,null,null,null,null,null,null,null,null,null,null,null,null,null,null,null,null,null,null,null,null,null,null,null,null,null,null,"By Distance"]
[null,null,null,null,null,null,null,null,null,null,null,null,null,null,null,null,null,null,null,2,6,7,8,9,10,11,12,13,null,3,null,5,null,null,null,null,null,null,null,null,null,null,null,null,null,null,null,null,null,null,null,null,2,6,7,8,9,10,11,12,13,null,4,null,5]
[null,"C",null,"物流承担方","运输工具所有权和控制权","燃料类型和单位","年消耗量",null,null,"C",null,"物流承担方","运输工具所有权和控制权","方式和描述","每年吨千米",null,null,"Scope",null,"Factors",null,null,null,null,null,null,null,null,null,null,null,null,null,"Scope 1 Emissions (kg)",null,null,null,null,null,null,null,null,null,null,"Scope 3 emissions (kg CO2e)",null,null,"Energy Use (MWh)",null,null,"Scope",null,"Factors",null,null,null,null,null,null,null,null,null,null,null,null,null,"Scope 1 Emissions (kg)",null,null,null,null,null,null,null,null,null,null,"Scope 3 emissions (kg CO2e)",null,null,"Energy Use (MWh)"]
[null,"E",null,"Logistics Provider","Vehicle Ownership and Control","Fuel & Units","Quantity per year",null,null,"E",null,"Logistics Provider","Vehicle Ownership and Control","Mode & Description","Tonne-km per year",null,null,{"$f":"VLOOKUP('1. Title Sheet(标题页）'!$E$16,ConsolidationApproachLookupTable,2,FALSE)","v":2},null,"Combustion Emission Factor (kg CO2e/unit)","CO2 Emission Factor (kg CO2/unit)","CH4 Emission Factor (kg CH4/unit)","N2O  Emission Factor (kg N2O/unit)","HFC  Emission Factor (kg HFC/unit)","PFC  Emission Factor (kg PFC/unit)","SF6  Emission Factor (kg SF6/unit)","NF3  Emission Factor (kg SF6/unit)","Upstream emissions (kg CO2e/unit)",null,"Biogenic - Yes/No",null,"Energy Use Conversion factor (MWh per unit)",null,"CO2e","CO2","CH4","N2O","HFC","PFC","SF6","NF3",null,"Biogenic CO2e",null,"Upstream (fuel + energy related)","Direct combustion emissions",null,null,null,null,{"$f":"VLOOKUP('1. Title Sheet(标题页）'!$E$16,ConsolidationApproachLookupTable,2,FALSE)","v":2},null,"Combustion Emission Factor (kg CO2e/unit)","CO2 Emission Factor (kg CO2/unit)","CH4 Emission Factor (kg CH4/unit)","N2O  Emission Factor (kg N2O/unit)","HFC  Emission Factor (kg HFC/unit)","PFC  Emission Factor (kg PFC/unit)","SF6  Emission Factor (kg SF6/unit)","NF3  Emission Factor (kg SF6/unit)","Upstream emissions (kg CO2e/unit)",null,"Biogenic - Yes/No",null,"Energy Use Conversion factor (MWh per unit)",null,"CO2e","CO2","CH4","N2O","HFC","PFC","SF6","NF3",null,"Biogenic CO2e",null,"Upstream (fuel + energy related)","Direct combustion emissions"]
[null,null,null,null,null,null,null,null,null,null,null,null,null,null,null,null,null,{"$f":"INDEX('Dropdown menus'!$A$1:$D$6,MATCH($E7,'Dropdown menus'!$A$1:$A$6,0),$R$6)","v":{"$error":"#N/A"}},null,{"$f":"IF($F7=\"\",\"\",VLOOKUP($F7,'Reference Data - Transport fuel'!$C:$O,T$4,FALSE))","v":""},{"$f":"IF($F7=\"\",\"\",VLOOKUP($F7,'Reference Data - Transport fuel'!$C:$O,U$4,FALSE))","v":""},{"$f":"IF($F7=\"\",\"\",VLOOKUP($F7,'Reference Data - Transport fuel'!$C:$O,V$4,FALSE))","v":""},{"$f":"IF($F7=\"\",\"\",VLOOKUP($F7,'Reference Data - Transport fuel'!$C:$O,W$4,FALSE))","v":""},{"$f":"IF($F7=\"\",\"\",VLOOKUP($F7,'Reference Data - Transport fuel'!$C:$O,X$4,FALSE))","v":""},{"$f":"IF($F7=\"\",\"\",VLOOKUP($F7,'Reference Data - Transport fuel'!$C:$O,Y$4,FALSE))","v":""},{"$f":"IF($F7=\"\",\"\",VLOOKUP($F7,'Reference Data - Transport fuel'!$C:$O,Z$4,FALSE))","v":""},{"$f":"IF($F7=\"\",\"\",VLOOKUP($F7,'Reference Data - Transport fuel'!$C:$O,AA$4,FALSE))","v":""},{"$f":"IF($F7=\"\",\"\",VLOOKUP($F7,'Reference Data - Transport fuel'!$C:$O,AB$4,FALSE))","v":""},null,{"$f":"IF($F7=\"\",\"\",VLOOKUP($F7,'Reference Data - Transport fuel'!$C:$O,AD$4,FALSE))","v":""},null,{"$f":"IF($F7=\"\",\"\",VLOOKUP($F7,'Reference Data - Transport fuel'!$C:$O,AF$4,FALSE))","v":""},null,{"$f":"IF($F7=\"\",\"\",IF($R7=1,(T7*$G7)-AQ7,\"\"))","v":""},{"$f":"IF($F7=\"\",\"\",IF($R7=1,IF(AD7=\"Yes\",0,U7*$G7),\"\"))","v":""},{"$f":"IF($F7=\"\",\"\",IF($R7=1,V7*$G7,\"\"))","v":""},"","","","","",null,{"$f":"IF($F7=\"\",\"\",IF($R7=1,IF(AD7=\"Yes\",G7*U7,0),\"\"))","v":""},null,{"$f":"IF($F7=\"\",\"\",$G7*AB7)","v":""},{"$f":"IF($F7=\"\",\"\",IF($R7=3,$G7*T7,\"\"))","v":""},null,{"$f":"IF($F7=\"\",\"\",IF($R7=1,G7*AF7,\"\"))","v":""},null,null,{"$f":"INDEX('Dropdown menus'!$A$1:$D$6,MATCH($M7,'Dropdown menus'!$A$1:$A$6,0),$AY$6)","v":{"$error":"#N/A"}},null,{"$f":"IF($N7=\"\",\"\",VLOOKUP($N7,'Reference - Logistics Distance'!$C:$O,BA$4,FALSE))","v":""},{"$f":"IF($N7=\"\",\"\",VLOOKUP($N7,'Reference - Logistics Distance'!$C:$O,BB$4,FALSE))","v":""},{"$f":"IF($N7=\"\",\"\",VLOOKUP($N7,'Reference - Logistics Distance'!$C:$O,BC$4,FALSE))","v":""},{"$f":"IF($N7=\"\",\"\",VLOOKUP($N7,'Reference - Logistics Distance'!$C:$O,BD$4,FALSE))","v":""},{"$f":"IF($N7=\"\",\"\",VLOOKUP($N7,'Reference - Logistics Distance'!$C:$O,BE$4,FALSE))","v":""},{"$f":"IF($N7=\"\",\"\",VLOOKUP($N7,'Reference - Logistics Distance'!$C:$O,BF$4,FALSE))","v":""},{"$f":"IF($N7=\"\",\"\",VLOOKUP($N7,'Reference - Logistics Distance'!$C:$O,BG$4,FALSE))","v":""},{"$f":"IF($N7=\"\",\"\",VLOOKUP($N7,'Reference - Logistics Distance'!$C:$O,BH$4,FALSE))","v":""},{"$f":"IF($N7=\"\",\"\",VLOOKUP($N7,'Reference - Logistics Distance'!$C:$O,BI$4,FALSE))","v":""},null,{"$f":"IF($N7=\"\",\"\",VLOOKUP($N7,'Reference - Logistics Distance'!$C:$O,BK$4,FALSE))","v":""},null,{"$f":"IF($N7=\"\",\"\",VLOOKUP($N7,'Reference - Logistics Distance'!$C:$O,BM$4,FALSE))","v":""},null,{"$f":"IF($N7=\"\",\"\",IF($AY7=1,(BA7*$O7)-BX7,\"\"))","v":""},{"$f":"IF($N7=\"\",\"\",IF($AY7=1,IF(BK7=\"Yes\",0,BB7*$O7),\"\"))","v":""},{"$f":"IF($N7=\"\",\"\",IF($AY7=1,BC7*$O7,\"\"))","v":""},"","","","","",null,{"$f":"IF($N7=\"\",\"\",IF($AY7=1,IF(BK7=\"Yes\",O7*BB7,0),\"\"))","v":""},null,{"$f":"IF($N7=\"\",\"\",$O7*BI7)","v":""},{"$f":"IF($N7=\"\",\"\",IF($AY7=3,BA7*$O7,\"\"))","v":""},null,{"$f":"IF($N7=\"\",\"\",IF($AY7=1,$O7*BM7,\"\"))","v":""}]
[null,null,null,null,null,null,null,null,null,null,null,null,null,null,null,null,null,{"$f":"INDEX('Dropdown menus'!$A$1:$D$6,MATCH($E8,'Dropdown menus'!$A$1:$A$6,0),$R$6)","v":{"$error":"#N/A"}},null,{"$f":"IF($F8=\"\",\"\",VLOOKUP($F8,'Reference Data - Transport fuel'!$C:$O,T$4,FALSE))","v":""},{"$f":"IF($F8=\"\",\"\",VLOOKUP($F8,'Reference Data - Transport fuel'!$C:$O,U$4,FALSE))","v":""},{"$f":"IF($F8=\"\",\"\",VLOOKUP($F8,'Reference Data - Transport fuel'!$C:$O,V$4,FALSE))","v":""},{"$f":"IF($F8=\"\",\"\",VLOOKUP($F8,'Reference Data - Transport fuel'!$C:$O,W$4,FALSE))","v":""},{"$f":"IF($F8=\"\",\"\",VLOOKUP($F8,'Reference Data - Transport fuel'!$C:$O,X$4,FALSE))","v":""},{"$f":"IF($F8=\"\",\"\",VLOOKUP($F8,'Reference Data - Transport fuel'!$C:$O,Y$4,FALSE))","v":""},{"$f":"IF($F8=\"\",\"\",VLOOKUP($F8,'Reference Data - Transport fuel'!$C:$O,Z$4,FALSE))","v":""},{"$f":"IF($F8=\"\",\"\",VLOOKUP($F8,'Reference Data - Transport fuel'!$C:$O,AA$4,FALSE))","v":""},{"$f":"IF($F8=\"\",\"\",VLOOKUP($F8,'Reference Data - Transport fuel'!$C:$O,AB$4,FALSE))","v":""},null,{"$f":"IF($F8=\"\",\"\",VLOOKUP($F8,'Reference Data - Transport fuel'!$C:$O,AD$4,FALSE))","v":""},null,{"$f":"IF($F8=\"\",\"\",VLOOKUP($F8,'Reference Data - Transport fuel'!$C:$O,AF$4,FALSE))","v":""},null,{"$f":"IF($F8=\"\",\"\",IF($R8=1,(T8*$G8)-AQ8,\"\"))","v":""},{"$f":"IF($F8=\"\",\"\",IF($R8=1,IF(AD8=\"Yes\",0,U8*$G8),\"\"))","v":""},{"$f":"IF($F8=\"\",\"\",IF($R8=1,V8*$G8,\"\"))","v":""},{"$f":"IF($F8=\"\",\"\",IF($R8=1,W8*$G8,\"\"))","v":""},{"$f":"IF($F8=\"\",\"\",IF($R8=1,X8*$G8,\"\"))","v":""},{"$f":"IF($F8=\"\",\"\",IF($R8=1,Y8*$G8,\"\"))","v":""},{"$f":"IF($F8=\"\",\"\",IF($R8=1,Z8*$G8,\"\"))","v":""},{"$f":"IF($F8=\"\",\"\",IF($R8=1,AA8*$G8,\"\"))","v":""},null,{"$f":"IF($F8=\"\",\"\",IF($R8=1,IF(AD8=\"Yes\",G8*U8,0),\"\"))","v":""},null,{"$f":"IF($F8=\"\",\"\",$G8*AB8)","v":""},{"$f":"IF($F8=\"\",\"\",IF($R8=3,$G8*T8,\"\"))","v":""},null,{"$f":"IF($F8=\"\",\"\",IF($R8=1,G8*AF8,\"\"))","v":""},null,null,{"$f":"INDEX('Dropdown menus'!$A$1:$D$6,MATCH($M8,'Dropdown menus'!$A$1:$A$6,0),$AY$6)","v":{"$error":"#N/A"}},null,{"$f":"IF($N8=\"\",\"\",VLOOKUP($N8,'Reference - Logistics Distance'!$C:$O,BA$4,FALSE))","v":""},{"$f":"IF($N8=\"\",\"\",VLOOKUP($N8,'Reference - Logistics Distance'!$C:$O,BB$4,FALSE))","v":""},{"$f":"IF($N8=\"\",\"\",VLOOKUP($N8,'Reference - Logistics Distance'!$C:$O,BC$4,FALSE))","v":""},{"$f":"IF($N8=\"\",\"\",VLOOKUP($N8,'Reference - Logistics Distance'!$C:$O,BD$4,FALSE))","v":""},{"$f":"IF($N8=\"\",\"\",VLOOKUP($N8,'Reference - Logistics Distance'!$C:$O,BE$4,FALSE))","v":""},{"$f":"IF($N8=\"\",\"\",VLOOKUP($N8,'Reference - Logistics Distance'!$C:$O,BF$4,FALSE))","v":""},{"$f":"IF($N8=\"\",\"\",VLOOKUP($N8,'Reference - Logistics Distance'!$C:$O,BG$4,FALSE))","v":""},{"$f":"IF($N8=\"\",\"\",VLOOKUP($N8,'Reference - Logistics Distance'!$C:$O,BH$4,FALSE))","v":""},{"$f":"IF($N8=\"\",\"\",VLOOKUP($N8,'Reference - Logistics Distance'!$C:$O,BI$4,FALSE))","v":""},null,{"$f":"IF($N8=\"\",\"\",VLOOKUP($N8,'Reference - Logistics Distance'!$C:$O,BK$4,FALSE))","v":""},null,{"$f":"IF($N8=\"\",\"\",VLOOKUP($N8,'Reference - Logistics Distance'!$C:$O,BM$4,FALSE))","v":""},null,{"$f":"IF($N8=\"\",\"\",IF($AY8=1,(BA8*$O8)-BX8,\"\"))","v":""},{"$f":"IF($N8=\"\",\"\",IF($AY8=1,IF(BK8=\"Yes\",0,BB8*$O8),\"\"))","v":""},{"$f":"IF($N8=\"\",\"\",IF($AY8=1,BC8*$O8,\"\"))","v":""},{"$f":"IF($N8=\"\",\"\",IF($AY8=1,BD8*$O8,\"\"))","v":""},{"$f":"IF($N8=\"\",\"\",IF($AY8=1,BE8*$O8,\"\"))","v":""},{"$f":"IF($N8=\"\",\"\",IF($AY8=1,BF8*$O8,\"\"))","v":""},{"$f":"IF($N8=\"\",\"\",IF($AY8=1,BG8*$O8,\"\"))","v":""},{"$f":"IF($N8=\"\",\"\",IF($AY8=1,BH8*$O8,\"\"))","v":""},null,{"$f":"IF($N8=\"\",\"\",IF($AY8=1,IF(BK8=\"Yes\",O8*BB8,0),\"\"))","v":""},null,{"$f":"IF($N8=\"\",\"\",$O8*BI8)","v":""},{"$f":"IF($N8=\"\",\"\",IF($AY8=3,BA8*$O8,\"\"))","v":""},null,{"$f":"IF($N8=\"\",\"\",IF($AY8=1,$O8*BM8,\"\"))","v":""}]
[null,null,null,null,null,null,null,null,null,null,null,null,null,null,null,null,null,{"$f":"INDEX('Dropdown menus'!$A$1:$D$6,MATCH($E9,'Dropdown menus'!$A$1:$A$6,0),$R$6)","v":{"$error":"#N/A"}},null,{"$f":"IF($F9=\"\",\"\",VLOOKUP($F9,'Reference Data - Transport fuel'!$C:$O,T$4,FALSE))","v":""},{"$f":"IF($F9=\"\",\"\",VLOOKUP($F9,'Reference Data - Transport fuel'!$C:$O,U$4,FALSE))","v":""},{"$f":"IF($F9=\"\",\"\",VLOOKUP($F9,'Reference Data - Transport fuel'!$C:$O,V$4,FALSE))","v":""},{"$f":"IF($F9=\"\",\"\",VLOOKUP($F9,'Reference Data - Transport fuel'!$C:$O,W$4,FALSE))","v":""},{"$f":"IF($F9=\"\",\"\",VLOOKUP($F9,'Reference Data - Transport fuel'!$C:$O,X$4,FALSE))","v":""},{"$f":"IF($F9=\"\",\"\",VLOOKUP($F9,'Reference Data - Transport fuel'!$C:$O,Y$4,FALSE))","v":""},{"$f":"IF($F9=\"\",\"\",VLOOKUP($F9,'Reference Data - Transport fuel'!$C:$O,Z$4,FALSE))","v":""},{"$f":"IF($F9=\"\",\"\",VLOOKUP($F9,'Reference Data - Transport fuel'!$C:$O,AA$4,FALSE))","v":""},{"$f":"IF($F9=\"\",\"\",VLOOKUP($F9,'Reference Data - Transport fuel'!$C:$O,AB$4,FALSE))","v":""},null,{"$f":"IF($F9=\"\",\"\",VLOOKUP($F9,'Reference Data - Transport fuel'!$C:$O,AD$4,FALSE))","v":""},null,{"$f":"IF($F9=\"\",\"\",VLOOKUP($F9,'Reference Data - Transport fuel'!$C:$O,AF$4,FALSE))","v":""},null,"","","","","","","","",null,"",null,"","",null,"",null,null,{"$f":"INDEX('Dropdown menus'!$A$1:$D$6,MATCH($M9,'Dropdown menus'!$A$1:$A$6,0),$AY$6)","v":{"$error":"#N/A"}},null,{"$f":"IF($N9=\"\",\"\",VLOOKUP($N9,'Reference - Logistics Distance'!$C:$O,BA$4,FALSE))","v":""},{"$f":"IF($N9=\"\",\"\",VLOOKUP($N9,'Reference - Logistics Distance'!$C:$O,BB$4,FALSE))","v":""},{"$f":"IF($N9=\"\",\"\",VLOOKUP($N9,'Reference - Logistics Distance'!$C:$O,BC$4,FALSE))","v":""},{"$f":"IF($N9=\"\",\"\",VLOOKUP($N9,'Reference - Logistics Distance'!$C:$O,BD$4,FALSE))","v":""},{"$f":"IF($N9=\"\",\"\",VLOOKUP($N9,'Reference - Logistics Distance'!$C:$O,BE$4,FALSE))","v":""},{"$f":"IF($N9=\"\",\"\",VLOOKUP($N9,'Reference - Logistics Distance'!$C:$O,BF$4,FALSE))","v":""},{"$f":"IF($N9=\"\",\"\",VLOOKUP($N9,'Reference - Logistics Distance'!$C:$O,BG$4,FALSE))","v":""},{"$f":"IF($N9=\"\",\"\",VLOOKUP($N9,'Reference - Logistics Distance'!$C:$O,BH$4,FALSE))","v":""},{"$f":"IF($N9=\"\",\"\",VLOOKUP($N9,'Reference - Logistics Distance'!$C:$O,BI$4,FALSE))","v":""},null,{"$f":"IF($N9=\"\",\"\",VLOOKUP($N9,'Reference - Logistics Distance'!$C:$O,BK$4,FALSE))","v":""},null,{"$f":"IF($N9=\"\",\"\",VLOOKUP($N9,'Reference - Logistics Distance'!$C:$O,BM$4,FALSE))","v":""},null,"","","","","","","","",null,"",null,"","",null,""]
[null,null,null,null,null,null,null,null,null,null,null,null,null,null,null,null,null,{"$f":"INDEX('Dropdown menus'!$A$1:$D$6,MATCH($E10,'Dropdown menus'!$A$1:$A$6,0),$R$6)","v":{"$error":"#N/A"}},null,{"$f":"IF($F10=\"\",\"\",VLOOKUP($F10,'Reference Data - Transport fuel'!$C:$O,T$4,FALSE))","v":""},{"$f":"IF($F10=\"\",\"\",VLOOKUP($F10,'Reference Data - Transport fuel'!$C:$O,U$4,FALSE))","v":""},{"$f":"IF($F10=\"\",\"\",VLOOKUP($F10,'Reference Data - Transport fuel'!$C:$O,V$4,FALSE))","v":""},{"$f":"IF($F10=\"\",\"\",VLOOKUP($F10,'Reference Data - Transport fuel'!$C:$O,W$4,FALSE))","v":""},{"$f":"IF($F10=\"\",\"\",VLOOKUP($F10,'Reference Data - Transport fuel'!$C:$O,X$4,FALSE))","v":""},{"$f":"IF($F10=\"\",\"\",VLOOKUP($F10,'Reference Data - Transport fuel'!$C:$O,Y$4,FALSE))","v":""},{"$f":"IF($F10=\"\",\"\",VLOOKUP($F10,'Reference Data - Transport fuel'!$C:$O,Z$4,FALSE))","v":""},{"$f":"IF($F10=\"\",\"\",VLOOKUP($F10,'Reference Data - Transport fuel'!$C:$O,AA$4,FALSE))","v":""},{"$f":"IF($F10=\"\",\"\",VLOOKUP($F10,'Reference Data - Transport fuel'!$C:$O,AB$4,FALSE))","v":""},null,{"$f":"IF($F10=\"\",\"\",VLOOKUP($F10,'Reference Data - Transport fuel'!$C:$O,AD$4,FALSE))","v":""},null,{"$f":"IF($F10=\"\",\"\",VLOOKUP($F10,'Reference Data - Transport fuel'!$C:$O,AF$4,FALSE))","v":""},null,"","","","","","","","",null,"",null,"","",null,"",null,null,{"$f":"INDEX('Dropdown menus'!$A$1:$D$6,MATCH($M10,'Dropdown menus'!$A$1:$A$6,0),$AY$6)","v":{"$error":"#N/A"}},null,{"$f":"IF($N10=\"\",\"\",VLOOKUP($N10,'Reference - Logistics Distance'!$C:$O,BA$4,FALSE))","v":""},{"$f":"IF($N10=\"\",\"\",VLOOKUP($N10,'Reference - Logistics Distance'!$C:$O,BB$4,FALSE))","v":""},{"$f":"IF($N10=\"\",\"\",VLOOKUP($N10,'Reference - Logistics Distance'!$C:$O,BC$4,FALSE))","v":""},{"$f":"IF($N10=\"\",\"\",VLOOKUP($N10,'Reference - Logistics Distance'!$C:$O,BD$4,FALSE))","v":""},{"$f":"IF($N10=\"\",\"\",VLOOKUP($N10,'Reference - Logistics Distance'!$C:$O,BE$4,FALSE))","v":""},{"$f":"IF($N10=\"\",\"\",VLOOKUP($N10,'Reference - Logistics Distance'!$C:$O,BF$4,FALSE))","v":""},{"$f":"IF($N10=\"\",\"\",VLOOKUP($N10,'Reference - Logistics Distance'!$C:$O,BG$4,FALSE))","v":""},{"$f":"IF($N10=\"\",\"\",VLOOKUP($N10,'Reference - Logistics Distance'!$C:$O,BH$4,FALSE))","v":""},{"$f":"IF($N10=\"\",\"\",VLOOKUP($N10,'Reference - Logistics Distance'!$C:$O,BI$4,FALSE))","v":""},null,{"$f":"IF($N10=\"\",\"\",VLOOKUP($N10,'Reference - Logistics Distance'!$C:$O,BK$4,FALSE))","v":""},null,{"$f":"IF($N10=\"\",\"\",VLOOKUP($N10,'Reference - Logistics Distance'!$C:$O,BM$4,FALSE))","v":""},null,"","","","","","","","",null,"",null,"","",null,""]
[null,null,null,null,null,null,null,null,null,null,null,null,null,null,null,null,null,{"$f":"INDEX('Dropdown menus'!$A$1:$D$6,MATCH($E11,'Dropdown menus'!$A$1:$A$6,0),$R$6)","v":{"$error":"#N/A"}},null,{"$f":"IF($F11=\"\",\"\",VLOOKUP($F11,'Reference Data - Transport fuel'!$C:$O,T$4,FALSE))","v":""},{"$f":"IF($F11=\"\",\"\",VLOOKUP($F11,'Reference Data - Transport fuel'!$C:$O,U$4,FALSE))","v":""},{"$f":"IF($F11=\"\",\"\",VLOOKUP($F11,'Reference Data - Transport fuel'!$C:$O,V$4,FALSE))","v":""},{"$f":"IF($F11=\"\",\"\",VLOOKUP($F11,'Reference Data - Transport fuel'!$C:$O,W$4,FALSE))","v":""},{"$f":"IF($F11=\"\",\"\",VLOOKUP($F11,'Reference Data - Transport fuel'!$C:$O,X$4,FALSE))","v":""},{"$f":"IF($F11=\"\",\"\",VLOOKUP($F11,'Reference Data - Transport fuel'!$C:$O,Y$4,FALSE))","v":""},{"$f":"IF($F11=\"\",\"\",VLOOKUP($F11,'Reference Data - Transport fuel'!$C:$O,Z$4,FALSE))","v":""},{"$f":"IF($F11=\"\",\"\",VLOOKUP($F11,'Reference Data - Transport fuel'!$C:$O,AA$4,FALSE))","v":""},{"$f":"IF($F11=\"\",\"\",VLOOKUP($F11,'Reference Data - Transport fuel'!$C:$O,AB$4,FALSE))","v":""},null,{"$f":"IF($F11=\"\",\"\",VLOOKUP($F11,'Reference Data - Transport fuel'!$C:$O,AD$4,FALSE))","v":""},null,{"$f":"IF($F11=\"\",\"\",VLOOKUP($F11,'Reference Data - Transport fuel'!$C:$O,AF$4,FALSE))","v":""},null,"","","","","","","","",null,"",null,"","",null,"",null,null,{"$f":"INDEX('Dropdown menus'!$A$1:$D$6,MATCH($M11,'Dropdown menus'!$A$1:$A$6,0),$AY$6)","v":{"$error":"#N/A"}},null,{"$f":"IF($N11=\"\",\"\",VLOOKUP($N11,'Reference - Logistics Distance'!$C:$O,BA$4,FALSE))","v":""},{"$f":"IF($N11=\"\",\"\",VLOOKUP($N11,'Reference - Logistics Distance'!$C:$O,BB$4,FALSE))","v":""},{"$f":"IF($N11=\"\",\"\",VLOOKUP($N11,'Reference - Logistics Distance'!$C:$O,BC$4,FALSE))","v":""},{"$f":"IF($N11=\"\",\"\",VLOOKUP($N11,'Reference - Logistics Distance'!$C:$O,BD$4,FALSE))","v":""},{"$f":"IF($N11=\"\",\"\",VLOOKUP($N11,'Reference - Logistics Distance'!$C:$O,BE$4,FALSE))","v":""},{"$f":"IF($N11=\"\",\"\",VLOOKUP($N11,'Reference - Logistics Distance'!$C:$O,BF$4,FALSE))","v":""},{"$f":"IF($N11=\"\",\"\",VLOOKUP($N11,'Reference - Logistics Distance'!$C:$O,BG$4,FALSE))","v":""},{"$f":"IF($N11=\"\",\"\",VLOOKUP($N11,'Reference - Logistics Distance'!$C:$O,BH$4,FALSE))","v":""},{"$f":"IF($N11=\"\",\"\",VLOOKUP($N11,'Reference - Logistics Distance'!$C:$O,BI$4,FALSE))","v":""},null,{"$f":"IF($N11=\"\",\"\",VLOOKUP($N11,'Reference - Logistics Distance'!$C:$O,BK$4,FALSE))","v":""},null,{"$f":"IF($N11=\"\",\"\",VLOOKUP($N11,'Reference - Logistics Distance'!$C:$O,BM$4,FALSE))","v":""},null,"","","","","","","","",null,"",null,"","",null,""]
[null,null,null,null,null,null,null,null,null,null,null,null,null,null,null,null,null,{"$f":"INDEX('Dropdown menus'!$A$1:$D$6,MATCH($E12,'Dropdown menus'!$A$1:$A$6,0),$R$6)","v":{"$error":"#N/A"}},null,{"$f":"IF($F12=\"\",\"\",VLOOKUP($F12,'Reference Data - Transport fuel'!$C:$O,T$4,FALSE))","v":""},{"$f":"IF($F12=\"\",\"\",VLOOKUP($F12,'Reference Data - Transport fuel'!$C:$O,U$4,FALSE))","v":""},{"$f":"IF($F12=\"\",\"\",VLOOKUP($F12,'Reference Data - Transport fuel'!$C:$O,V$4,FALSE))","v":""},{"$f":"IF($F12=\"\",\"\",VLOOKUP($F12,'Reference Data - Transport fuel'!$C:$O,W$4,FALSE))","v":""},{"$f":"IF($F12=\"\",\"\",VLOOKUP($F12,'Reference Data - Transport fuel'!$C:$O,X$4,FALSE))","v":""},{"$f":"IF($F12=\"\",\"\",VLOOKUP($F12,'Reference Data - Transport fuel'!$C:$O,Y$4,FALSE))","v":""},{"$f":"IF($F12=\"\",\"\",VLOOKUP($F12,'Reference Data - Transport fuel'!$C:$O,Z$4,FALSE))","v":""},{"$f":"IF($F12=\"\",\"\",VLOOKUP($F12,'Reference Data - Transport fuel'!$C:$O,AA$4,FALSE))","v":""},{"$f":"IF($F12=\"\",\"\",VLOOKUP($F12,'Reference Data - Transport fuel'!$C:$O,AB$4,FALSE))","v":""},null,{"$f":"IF($F12=\"\",\"\",VLOOKUP($F12,'Reference Data - Transport fuel'!$C:$O,AD$4,FALSE))","v":""},null,{"$f":"IF($F12=\"\",\"\",VLOOKUP($F12,'Reference Data - Transport fuel'!$C:$O,AF$4,FALSE))","v":""},null,"","","","","","","","",null,"",null,"","",null,"",null,null,{"$f":"INDEX('Dropdown menus'!$A$1:$D$6,MATCH($M12,'Dropdown menus'!$A$1:$A$6,0),$AY$6)","v":{"$error":"#N/A"}},null,{"$f":"IF($N12=\"\",\"\",VLOOKUP($N12,'Reference - Logistics Distance'!$C:$O,BA$4,FALSE))","v":""},{"$f":"IF($N12=\"\",\"\",VLOOKUP($N12,'Reference - Logistics Distance'!$C:$O,BB$4,FALSE))","v":""},{"$f":"IF($N12=\"\",\"\",VLOOKUP($N12,'Reference - Logistics Distance'!$C:$O,BC$4,FALSE))","v":""},{"$f":"IF($N12=\"\",\"\",VLOOKUP($N12,'Reference - Logistics Distance'!$C:$O,BD$4,FALSE))","v":""},{"$f":"IF($N12=\"\",\"\",VLOOKUP($N12,'Reference - Logistics Distance'!$C:$O,BE$4,FALSE))","v":""},{"$f":"IF($N12=\"\",\"\",VLOOKUP($N12,'Reference - Logistics Distance'!$C:$O,BF$4,FALSE))","v":""},{"$f":"IF($N12=\"\",\"\",VLOOKUP($N12,'Reference - Logistics Distance'!$C:$O,BG$4,FALSE))","v":""},{"$f":"IF($N12=\"\",\"\",VLOOKUP($N12,'Reference - Logistics Distance'!$C:$O,BH$4,FALSE))","v":""},{"$f":"IF($N12=\"\",\"\",VLOOKUP($N12,'Reference - Logistics Distance'!$C:$O,BI$4,FALSE))","v":""},null,{"$f":"IF($N12=\"\",\"\",VLOOKUP($N12,'Reference - Logistics Distance'!$C:$O,BK$4,FALSE))","v":""},null,{"$f":"IF($N12=\"\",\"\",VLOOKUP($N12,'Reference - Logistics Distance'!$C:$O,BM$4,FALSE))","v":""},null,"","","","","","","","",null,"",null,"","",null,""]
[null,null,null,null,null,null,null,null,null,null,null,null,null,null,null,null,null,{"$f":"INDEX('Dropdown menus'!$A$1:$D$6,MATCH($E13,'Dropdown menus'!$A$1:$A$6,0),$R$6)","v":{"$error":"#N/A"}},null,{"$f":"IF($F13=\"\",\"\",VLOOKUP($F13,'Reference Data - Transport fuel'!$C:$O,T$4,FALSE))","v":""},{"$f":"IF($F13=\"\",\"\",VLOOKUP($F13,'Reference Data - Transport fuel'!$C:$O,U$4,FALSE))","v":""},{"$f":"IF($F13=\"\",\"\",VLOOKUP($F13,'Reference Data - Transport fuel'!$C:$O,V$4,FALSE))","v":""},{"$f":"IF($F13=\"\",\"\",VLOOKUP($F13,'Reference Data - Transport fuel'!$C:$O,W$4,FALSE))","v":""},{"$f":"IF($F13=\"\",\"\",VLOOKUP($F13,'Reference Data - Transport fuel'!$C:$O,X$4,FALSE))","v":""},{"$f":"IF($F13=\"\",\"\",VLOOKUP($F13,'Reference Data - Transport fuel'!$C:$O,Y$4,FALSE))","v":""},{"$f":"IF($F13=\"\",\"\",VLOOKUP($F13,'Reference Data - Transport fuel'!$C:$O,Z$4,FALSE))","v":""},{"$f":"IF($F13=\"\",\"\",VLOOKUP($F13,'Reference Data - Transport fuel'!$C:$O,AA$4,FALSE))","v":""},{"$f":"IF($F13=\"\",\"\",VLOOKUP($F13,'Reference Data - Transport fuel'!$C:$O,AB$4,FALSE))","v":""},null,{"$f":"IF($F13=\"\",\"\",VLOOKUP($F13,'Reference Data - Transport fuel'!$C:$O,AD$4,FALSE))","v":""},null,{"$f":"IF($F13=\"\",\"\",VLOOKUP($F13,'Reference Data - Transport fuel'!$C:$O,AF$4,FALSE))","v":""},null,"","","","","","","","",null,"",null,"","",null,"",null,null,{"$f":"INDEX('Dropdown menus'!$A$1:$D$6,MATCH($M13,'Dropdown menus'!$A$1:$A$6,0),$AY$6)","v":{"$error":"#N/A"}},null,{"$f":"IF($N13=\"\",\"\",VLOOKUP($N13,'Reference - Logistics Distance'!$C:$O,BA$4,FALSE))","v":""},{"$f":"IF($N13=\"\",\"\",VLOOKUP($N13,'Reference - Logistics Distance'!$C:$O,BB$4,FALSE))","v":""},{"$f":"IF($N13=\"\",\"\",VLOOKUP($N13,'Reference - Logistics Distance'!$C:$O,BC$4,FALSE))","v":""},{"$f":"IF($N13=\"\",\"\",VLOOKUP($N13,'Reference - Logistics Distance'!$C:$O,BD$4,FALSE))","v":""},{"$f":"IF($N13=\"\",\"\",VLOOKUP($N13,'Reference - Logistics Distance'!$C:$O,BE$4,FALSE))","v":""},{"$f":"IF($N13=\"\",\"\",VLOOKUP($N13,'Reference - Logistics Distance'!$C:$O,BF$4,FALSE))","v":""},{"$f":"IF($N13=\"\",\"\",VLOOKUP($N13,'Reference - Logistics Distance'!$C:$O,BG$4,FALSE))","v":""},{"$f":"IF($N13=\"\",\"\",VLOOKUP($N13,'Reference - Logistics Distance'!$C:$O,BH$4,FALSE))","v":""},{"$f":"IF($N13=\"\",\"\",VLOOKUP($N13,'Reference - Logistics Distance'!$C:$O,BI$4,FALSE))","v":""},null,{"$f":"IF($N13=\"\",\"\",VLOOKUP($N13,'Reference - Logistics Distance'!$C:$O,BK$4,FALSE))","v":""},null,{"$f":"IF($N13=\"\",\"\",VLOOKUP($N13,'Reference - Logistics Distance'!$C:$O,BM$4,FALSE))","v":""},null,"","","","","","","","",null,"",null,"","",null,""]
[null,null,null,null,null,null,null,null,null,null,null,null,null,null,null,null,null,{"$f":"INDEX('Dropdown menus'!$A$1:$D$6,MATCH($E14,'Dropdown menus'!$A$1:$A$6,0),$R$6)","v":{"$error":"#N/A"}},null,{"$f":"IF($F14=\"\",\"\",VLOOKUP($F14,'Reference Data - Transport fuel'!$C:$O,T$4,FALSE))","v":""},{"$f":"IF($F14=\"\",\"\",VLOOKUP($F14,'Reference Data - Transport fuel'!$C:$O,U$4,FALSE))","v":""},{"$f":"IF($F14=\"\",\"\",VLOOKUP($F14,'Reference Data - Transport fuel'!$C:$O,V$4,FALSE))","v":""},{"$f":"IF($F14=\"\",\"\",VLOOKUP($F14,'Reference Data - Transport fuel'!$C:$O,W$4,FALSE))","v":""},{"$f":"IF($F14=\"\",\"\",VLOOKUP($F14,'Reference Data - Transport fuel'!$C:$O,X$4,FALSE))","v":""},{"$f":"IF($F14=\"\",\"\",VLOOKUP($F14,'Reference Data - Transport fuel'!$C:$O,Y$4,FALSE))","v":""},{"$f":"IF($F14=\"\",\"\",VLOOKUP($F14,'Reference Data - Transport fuel'!$C:$O,Z$4,FALSE))","v":""},{"$f":"IF($F14=\"\",\"\",VLOOKUP($F14,'Reference Data - Transport fuel'!$C:$O,AA$4,FALSE))","v":""},{"$f":"IF($F14=\"\",\"\",VLOOKUP($F14,'Reference Data - Transport fuel'!$C:$O,AB$4,FALSE))","v":""},null,{"$f":"IF($F14=\"\",\"\",VLOOKUP($F14,'Reference Data - Transport fuel'!$C:$O,AD$4,FALSE))","v":""},null,{"$f":"IF($F14=\"\",\"\",VLOOKUP($F14,'Reference Data - Transport fuel'!$C:$O,AF$4,FALSE))","v":""},null,"","","","","","","","",null,"",null,"","",null,"",null,null,{"$f":"INDEX('Dropdown menus'!$A$1:$D$6,MATCH($M14,'Dropdown menus'!$A$1:$A$6,0),$AY$6)","v":{"$error":"#N/A"}},null,{"$f":"IF($N14=\"\",\"\",VLOOKUP($N14,'Reference - Logistics Distance'!$C:$O,BA$4,FALSE))","v":""},{"$f":"IF($N14=\"\",\"\",VLOOKUP($N14,'Reference - Logistics Distance'!$C:$O,BB$4,FALSE))","v":""},{"$f":"IF($N14=\"\",\"\",VLOOKUP($N14,'Reference - Logistics Distance'!$C:$O,BC$4,FALSE))","v":""},{"$f":"IF($N14=\"\",\"\",VLOOKUP($N14,'Reference - Logistics Distance'!$C:$O,BD$4,FALSE))","v":""},{"$f":"IF($N14=\"\",\"\",VLOOKUP($N14,'Reference - Logistics Distance'!$C:$O,BE$4,FALSE))","v":""},{"$f":"IF($N14=\"\",\"\",VLOOKUP($N14,'Reference - Logistics Distance'!$C:$O,BF$4,FALSE))","v":""},{"$f":"IF($N14=\"\",\"\",VLOOKUP($N14,'Reference - Logistics Distance'!$C:$O,BG$4,FALSE))","v":""},{"$f":"IF($N14=\"\",\"\",VLOOKUP($N14,'Reference - Logistics Distance'!$C:$O,BH$4,FALSE))","v":""},{"$f":"IF($N14=\"\",\"\",VLOOKUP($N14,'Reference - Logistics Distance'!$C:$O,BI$4,FALSE))","v":""},null,{"$f":"IF($N14=\"\",\"\",VLOOKUP($N14,'Reference - Logistics Distance'!$C:$O,BK$4,FALSE))","v":""},null,{"$f":"IF($N14=\"\",\"\",VLOOKUP($N14,'Reference - Logistics Distance'!$C:$O,BM$4,FALSE))","v":""},null,"","","","","","","","",null,"",null,"","",null,""]
[null,null,null,null,null,null,null,null,null,null,null,null,null,null,null,null,null,{"$f":"INDEX('Dropdown menus'!$A$1:$D$6,MATCH($E15,'Dropdown menus'!$A$1:$A$6,0),$R$6)","v":{"$error":"#N/A"}},null,{"$f":"IF($F15=\"\",\"\",VLOOKUP($F15,'Reference Data - Transport fuel'!$C:$O,T$4,FALSE))","v":""},{"$f":"IF($F15=\"\",\"\",VLOOKUP($F15,'Reference Data - Transport fuel'!$C:$O,U$4,FALSE))","v":""},{"$f":"IF($F15=\"\",\"\",VLOOKUP($F15,'Reference Data - Transport fuel'!$C:$O,V$4,FALSE))","v":""},{"$f":"IF($F15=\"\",\"\",VLOOKUP($F15,'Reference Data - Transport fuel'!$C:$O,W$4,FALSE))","v":""},{"$f":"IF($F15=\"\",\"\",VLOOKUP($F15,'Reference Data - Transport fuel'!$C:$O,X$4,FALSE))","v":""},{"$f":"IF($F15=\"\",\"\",VLOOKUP($F15,'Reference Data - Transport fuel'!$C:$O,Y$4,FALSE))","v":""},{"$f":"IF($F15=\"\",\"\",VLOOKUP($F15,'Reference Data - Transport fuel'!$C:$O,Z$4,FALSE))","v":""},{"$f":"IF($F15=\"\",\"\",VLOOKUP($F15,'Reference Data - Transport fuel'!$C:$O,AA$4,FALSE))","v":""},{"$f":"IF($F15=\"\",\"\",VLOOKUP($F15,'Reference Data - Transport fuel'!$C:$O,AB$4,FALSE))","v":""},null,{"$f":"IF($F15=\"\",\"\",VLOOKUP($F15,'Reference Data - Transport fuel'!$C:$O,AD$4,FALSE))","v":""},null,{"$f":"IF($F15=\"\",\"\",VLOOKUP($F15,'Reference Data - Transport fuel'!$C:$O,AF$4,FALSE))","v":""},null,"","","","","","","","",null,"",null,"","",null,"",null,null,{"$f":"INDEX('Dropdown menus'!$A$1:$D$6,MATCH($M15,'Dropdown menus'!$A$1:$A$6,0),$AY$6)","v":{"$error":"#N/A"}},null,{"$f":"IF($N15=\"\",\"\",VLOOKUP($N15,'Reference - Logistics Distance'!$C:$O,BA$4,FALSE))","v":""},{"$f":"IF($N15=\"\",\"\",VLOOKUP($N15,'Reference - Logistics Distance'!$C:$O,BB$4,FALSE))","v":""},{"$f":"IF($N15=\"\",\"\",VLOOKUP($N15,'Reference - Logistics Distance'!$C:$O,BC$4,FALSE))","v":""},{"$f":"IF($N15=\"\",\"\",VLOOKUP($N15,'Reference - Logistics Distance'!$C:$O,BD$4,FALSE))","v":""},{"$f":"IF($N15=\"\",\"\",VLOOKUP($N15,'Reference - Logistics Distance'!$C:$O,BE$4,FALSE))","v":""},{"$f":"IF($N15=\"\",\"\",VLOOKUP($N15,'Reference - Logistics Distance'!$C:$O,BF$4,FALSE))","v":""},{"$f":"IF($N15=\"\",\"\",VLOOKUP($N15,'Reference - Logistics Distance'!$C:$O,BG$4,FALSE))","v":""},{"$f":"IF($N15=\"\",\"\",VLOOKUP($N15,'Reference - Logistics Distance'!$C:$O,BH$4,FALSE))","v":""},{"$f":"IF($N15=\"\",\"\",VLOOKUP($N15,'Reference - Logistics Distance'!$C:$O,BI$4,FALSE))","v":""},null,{"$f":"IF($N15=\"\",\"\",VLOOKUP($N15,'Reference - Logistics Distance'!$C:$O,BK$4,FALSE))","v":""},null,{"$f":"IF($N15=\"\",\"\",VLOOKUP($N15,'Reference - Logistics Distance'!$C:$O,BM$4,FALSE))","v":""},null,"","","","","","","","",null,"",null,"","",null,""]
[null,null,null,null,null,null,null,null,null,null,null,null,null,null,null,null,null,{"$f":"INDEX('Dropdown menus'!$A$1:$D$6,MATCH($E16,'Dropdown menus'!$A$1:$A$6,0),$R$6)","v":{"$error":"#N/A"}},null,{"$f":"IF($F16=\"\",\"\",VLOOKUP($F16,'Reference Data - Transport fuel'!$C:$O,T$4,FALSE))","v":""},{"$f":"IF($F16=\"\",\"\",VLOOKUP($F16,'Reference Data - Transport fuel'!$C:$O,U$4,FALSE))","v":""},{"$f":"IF($F16=\"\",\"\",VLOOKUP($F16,'Reference Data - Transport fuel'!$C:$O,V$4,FALSE))","v":""},{"$f":"IF($F16=\"\",\"\",VLOOKUP($F16,'Reference Data - Transport fuel'!$C:$O,W$4,FALSE))","v":""},{"$f":"IF($F16=\"\",\"\",VLOOKUP($F16,'Reference Data - Transport fuel'!$C:$O,X$4,FALSE))","v":""},{"$f":"IF($F16=\"\",\"\",VLOOKUP($F16,'Reference Data - Transport fuel'!$C:$O,Y$4,FALSE))","v":""},{"$f":"IF($F16=\"\",\"\",VLOOKUP($F16,'Reference Data - Transport fuel'!$C:$O,Z$4,FALSE))","v":""},{"$f":"IF($F16=\"\",\"\",VLOOKUP($F16,'Reference Data - Transport fuel'!$C:$O,AA$4,FALSE))","v":""},{"$f":"IF($F16=\"\",\"\",VLOOKUP($F16,'Reference Data - Transport fuel'!$C:$O,AB$4,FALSE))","v":""},null,{"$f":"IF($F16=\"\",\"\",VLOOKUP($F16,'Reference Data - Transport fuel'!$C:$O,AD$4,FALSE))","v":""},null,{"$f":"IF($F16=\"\",\"\",VLOOKUP($F16,'Reference Data - Transport fuel'!$C:$O,AF$4,FALSE))","v":""},null,"","","","","","","","",null,"",null,"","",null,"",null,null,{"$f":"INDEX('Dropdown menus'!$A$1:$D$6,MATCH($M16,'Dropdown menus'!$A$1:$A$6,0),$AY$6)","v":{"$error":"#N/A"}},null,{"$f":"IF($N16=\"\",\"\",VLOOKUP($N16,'Reference - Logistics Distance'!$C:$O,BA$4,FALSE))","v":""},{"$f":"IF($N16=\"\",\"\",VLOOKUP($N16,'Reference - Logistics Distance'!$C:$O,BB$4,FALSE))","v":""},{"$f":"IF($N16=\"\",\"\",VLOOKUP($N16,'Reference - Logistics Distance'!$C:$O,BC$4,FALSE))","v":""},{"$f":"IF($N16=\"\",\"\",VLOOKUP($N16,'Reference - Logistics Distance'!$C:$O,BD$4,FALSE))","v":""},{"$f":"IF($N16=\"\",\"\",VLOOKUP($N16,'Reference - Logistics Distance'!$C:$O,BE$4,FALSE))","v":""},{"$f":"IF($N16=\"\",\"\",VLOOKUP($N16,'Reference - Logistics Distance'!$C:$O,BF$4,FALSE))","v":""},{"$f":"IF($N16=\"\",\"\",VLOOKUP($N16,'Reference - Logistics Distance'!$C:$O,BG$4,FALSE))","v":""},{"$f":"IF($N16=\"\",\"\",VLOOKUP($N16,'Reference - Logistics Distance'!$C:$O,BH$4,FALSE))","v":""},{"$f":"IF($N16=\"\",\"\",VLOOKUP($N16,'Reference - Logistics Distance'!$C:$O,BI$4,FALSE))","v":""},null,{"$f":"IF($N16=\"\",\"\",VLOOKUP($N16,'Reference - Logistics Distance'!$C:$O,BK$4,FALSE))","v":""},null,{"$f":"IF($N16=\"\",\"\",VLOOKUP($N16,'Reference - Logistics Distance'!$C:$O,BM$4,FALSE))","v":""},null,"","","","","","","","",null,"",null,"","",null,""]
[null,null,null,null,null,null,null,null,null,null,null,null,null,null,null,null,null,{"$f":"INDEX('Dropdown menus'!$A$1:$D$6,MATCH($E17,'Dropdown menus'!$A$1:$A$6,0),$R$6)","v":{"$error":"#N/A"}},null,{"$f":"IF($F17=\"\",\"\",VLOOKUP($F17,'Reference Data - Transport fuel'!$C:$O,T$4,FALSE))","v":""},{"$f":"IF($F17=\"\",\"\",VLOOKUP($F17,'Reference Data - Transport fuel'!$C:$O,U$4,FALSE))","v":""},{"$f":"IF($F17=\"\",\"\",VLOOKUP($F17,'Reference Data - Transport fuel'!$C:$O,V$4,FALSE))","v":""},{"$f":"IF($F17=\"\",\"\",VLOOKUP($F17,'Reference Data - Transport fuel'!$C:$O,W$4,FALSE))","v":""},{"$f":"IF($F17=\"\",\"\",VLOOKUP($F17,'Reference Data - Transport fuel'!$C:$O,X$4,FALSE))","v":""},{"$f":"IF($F17=\"\",\"\",VLOOKUP($F17,'Reference Data - Transport fuel'!$C:$O,Y$4,FALSE))","v":""},{"$f":"IF($F17=\"\",\"\",VLOOKUP($F17,'Reference Data - Transport fuel'!$C:$O,Z$4,FALSE))","v":""},{"$f":"IF($F17=\"\",\"\",VLOOKUP($F17,'Reference Data - Transport fuel'!$C:$O,AA$4,FALSE))","v":""},{"$f":"IF($F17=\"\",\"\",VLOOKUP($F17,'Reference Data - Transport fuel'!$C:$O,AB$4,FALSE))","v":""},null,{"$f":"IF($F17=\"\",\"\",VLOOKUP($F17,'Reference Data - Transport fuel'!$C:$O,AD$4,FALSE))","v":""},null,{"$f":"IF($F17=\"\",\"\",VLOOKUP($F17,'Reference Data - Transport fuel'!$C:$O,AF$4,FALSE))","v":""},null,"","","","","","","","",null,"",null,"","",null,"",null,null,{"$f":"INDEX('Dropdown menus'!$A$1:$D$6,MATCH($M17,'Dropdown menus'!$A$1:$A$6,0),$AY$6)","v":{"$error":"#N/A"}},null,{"$f":"IF($N17=\"\",\"\",VLOOKUP($N17,'Reference - Logistics Distance'!$C:$O,BA$4,FALSE))","v":""},{"$f":"IF($N17=\"\",\"\",VLOOKUP($N17,'Reference - Logistics Distance'!$C:$O,BB$4,FALSE))","v":""},{"$f":"IF($N17=\"\",\"\",VLOOKUP($N17,'Reference - Logistics Distance'!$C:$O,BC$4,FALSE))","v":""},{"$f":"IF($N17=\"\",\"\",VLOOKUP($N17,'Reference - Logistics Distance'!$C:$O,BD$4,FALSE))","v":""},{"$f":"IF($N17=\"\",\"\",VLOOKUP($N17,'Reference - Logistics Distance'!$C:$O,BE$4,FALSE))","v":""},{"$f":"IF($N17=\"\",\"\",VLOOKUP($N17,'Reference - Logistics Distance'!$C:$O,BF$4,FALSE))","v":""},{"$f":"IF($N17=\"\",\"\",VLOOKUP($N17,'Reference - Logistics Distance'!$C:$O,BG$4,FALSE))","v":""},{"$f":"IF($N17=\"\",\"\",VLOOKUP($N17,'Reference - Logistics Distance'!$C:$O,BH$4,FALSE))","v":""},{"$f":"IF($N17=\"\",\"\",VLOOKUP($N17,'Reference - Logistics Distance'!$C:$O,BI$4,FALSE))","v":""},null,{"$f":"IF($N17=\"\",\"\",VLOOKUP($N17,'Reference - Logistics Distance'!$C:$O,BK$4,FALSE))","v":""},null,{"$f":"IF($N17=\"\",\"\",VLOOKUP($N17,'Reference - Logistics Distance'!$C:$O,BM$4,FALSE))","v":""},null,"","","","","","","","",null,"",null,"","",null,""]
[null,null,null,null,null,null,null,null,null,null,null,null,null,null,null,null,null,{"$f":"INDEX('Dropdown menus'!$A$1:$D$6,MATCH($E18,'Dropdown menus'!$A$1:$A$6,0),$R$6)","v":{"$error":"#N/A"}},null,{"$f":"IF($F18=\"\",\"\",VLOOKUP($F18,'Reference Data - Transport fuel'!$C:$O,T$4,FALSE))","v":""},{"$f":"IF($F18=\"\",\"\",VLOOKUP($F18,'Reference Data - Transport fuel'!$C:$O,U$4,FALSE))","v":""},{"$f":"IF($F18=\"\",\"\",VLOOKUP($F18,'Reference Data - Transport fuel'!$C:$O,V$4,FALSE))","v":""},{"$f":"IF($F18=\"\",\"\",VLOOKUP($F18,'Reference Data - Transport fuel'!$C:$O,W$4,FALSE))","v":""},{"$f":"IF($F18=\"\",\"\",VLOOKUP($F18,'Reference Data - Transport fuel'!$C:$O,X$4,FALSE))","v":""},{"$f":"IF($F18=\"\",\"\",VLOOKUP($F18,'Reference Data - Transport fuel'!$C:$O,Y$4,FALSE))","v":""},{"$f":"IF($F18=\"\",\"\",VLOOKUP($F18,'Reference Data - Transport fuel'!$C:$O,Z$4,FALSE))","v":""},{"$f":"IF($F18=\"\",\"\",VLOOKUP($F18,'Reference Data - Transport fuel'!$C:$O,AA$4,FALSE))","v":""},{"$f":"IF($F18=\"\",\"\",VLOOKUP($F18,'Reference Data - Transport fuel'!$C:$O,AB$4,FALSE))","v":""},null,{"$f":"IF($F18=\"\",\"\",VLOOKUP($F18,'Reference Data - Transport fuel'!$C:$O,AD$4,FALSE))","v":""},null,{"$f":"IF($F18=\"\",\"\",VLOOKUP($F18,'Reference Data - Transport fuel'!$C:$O,AF$4,FALSE))","v":""},null,"","","","","","","","",null,"",null,"","",null,"",null,null,{"$f":"INDEX('Dropdown menus'!$A$1:$D$6,MATCH($M18,'Dropdown menus'!$A$1:$A$6,0),$AY$6)","v":{"$error":"#N/A"}},null,{"$f":"IF($N18=\"\",\"\",VLOOKUP($N18,'Reference - Logistics Distance'!$C:$O,BA$4,FALSE))","v":""},{"$f":"IF($N18=\"\",\"\",VLOOKUP($N18,'Reference - Logistics Distance'!$C:$O,BB$4,FALSE))","v":""},{"$f":"IF($N18=\"\",\"\",VLOOKUP($N18,'Reference - Logistics Distance'!$C:$O,BC$4,FALSE))","v":""},{"$f":"IF($N18=\"\",\"\",VLOOKUP($N18,'Reference - Logistics Distance'!$C:$O,BD$4,FALSE))","v":""},{"$f":"IF($N18=\"\",\"\",VLOOKUP($N18,'Reference - Logistics Distance'!$C:$O,BE$4,FALSE))","v":""},{"$f":"IF($N18=\"\",\"\",VLOOKUP($N18,'Reference - Logistics Distance'!$C:$O,BF$4,FALSE))","v":""},{"$f":"IF($N18=\"\",\"\",VLOOKUP($N18,'Reference - Logistics Distance'!$C:$O,BG$4,FALSE))","v":""},{"$f":"IF($N18=\"\",\"\",VLOOKUP($N18,'Reference - Logistics Distance'!$C:$O,BH$4,FALSE))","v":""},{"$f":"IF($N18=\"\",\"\",VLOOKUP($N18,'Reference - Logistics Distance'!$C:$O,BI$4,FALSE))","v":""},null,{"$f":"IF($N18=\"\",\"\",VLOOKUP($N18,'Reference - Logistics Distance'!$C:$O,BK$4,FALSE))","v":""},null,{"$f":"IF($N18=\"\",\"\",VLOOKUP($N18,'Reference - Logistics Distance'!$C:$O,BM$4,FALSE))","v":""},null,"","","","","","","","",null,"",null,"","",null,""]
[null,null,null,null,null,null,null,null,null,null,null,null,null,null,null,null,null,{"$f":"INDEX('Dropdown menus'!$A$1:$D$6,MATCH($E19,'Dropdown menus'!$A$1:$A$6,0),$R$6)","v":{"$error":"#N/A"}},null,{"$f":"IF($F19=\"\",\"\",VLOOKUP($F19,'Reference Data - Transport fuel'!$C:$O,T$4,FALSE))","v":""},{"$f":"IF($F19=\"\",\"\",VLOOKUP($F19,'Reference Data - Transport fuel'!$C:$O,U$4,FALSE))","v":""},{"$f":"IF($F19=\"\",\"\",VLOOKUP($F19,'Reference Data - Transport fuel'!$C:$O,V$4,FALSE))","v":""},{"$f":"IF($F19=\"\",\"\",VLOOKUP($F19,'Reference Data - Transport fuel'!$C:$O,W$4,FALSE))","v":""},{"$f":"IF($F19=\"\",\"\",VLOOKUP($F19,'Reference Data - Transport fuel'!$C:$O,X$4,FALSE))","v":""},{"$f":"IF($F19=\"\",\"\",VLOOKUP($F19,'Reference Data - Transport fuel'!$C:$O,Y$4,FALSE))","v":""},{"$f":"IF($F19=\"\",\"\",VLOOKUP($F19,'Reference Data - Transport fuel'!$C:$O,Z$4,FALSE))","v":""},{"$f":"IF($F19=\"\",\"\",VLOOKUP($F19,'Reference Data - Transport fuel'!$C:$O,AA$4,FALSE))","v":""},{"$f":"IF($F19=\"\",\"\",VLOOKUP($F19,'Reference Data - Transport fuel'!$C:$O,AB$4,FALSE))","v":""},null,{"$f":"IF($F19=\"\",\"\",VLOOKUP($F19,'Reference Data - Transport fuel'!$C:$O,AD$4,FALSE))","v":""},null,{"$f":"IF($F19=\"\",\"\",VLOOKUP($F19,'Reference Data - Transport fuel'!$C:$O,AF$4,FALSE))","v":""},null,"","","","","","","","",null,"",null,"","",null,"",null,null,{"$f":"INDEX('Dropdown menus'!$A$1:$D$6,MATCH($M19,'Dropdown menus'!$A$1:$A$6,0),$AY$6)","v":{"$error":"#N/A"}},null,{"$f":"IF($N19=\"\",\"\",VLOOKUP($N19,'Reference - Logistics Distance'!$C:$O,BA$4,FALSE))","v":""},{"$f":"IF($N19=\"\",\"\",VLOOKUP($N19,'Reference - Logistics Distance'!$C:$O,BB$4,FALSE))","v":""},{"$f":"IF($N19=\"\",\"\",VLOOKUP($N19,'Reference - Logistics Distance'!$C:$O,BC$4,FALSE))","v":""},{"$f":"IF($N19=\"\",\"\",VLOOKUP($N19,'Reference - Logistics Distance'!$C:$O,BD$4,FALSE))","v":""},{"$f":"IF($N19=\"\",\"\",VLOOKUP($N19,'Reference - Logistics Distance'!$C:$O,BE$4,FALSE))","v":""},{"$f":"IF($N19=\"\",\"\",VLOOKUP($N19,'Reference - Logistics Distance'!$C:$O,BF$4,FALSE))","v":""},{"$f":"IF($N19=\"\",\"\",VLOOKUP($N19,'Reference - Logistics Distance'!$C:$O,BG$4,FALSE))","v":""},{"$f":"IF($N19=\"\",\"\",VLOOKUP($N19,'Reference - Logistics Distance'!$C:$O,BH$4,FALSE))","v":""},{"$f":"IF($N19=\"\",\"\",VLOOKUP($N19,'Reference - Logistics Distance'!$C:$O,BI$4,FALSE))","v":""},null,{"$f":"IF($N19=\"\",\"\",VLOOKUP($N19,'Reference - Logistics Distance'!$C:$O,BK$4,FALSE))","v":""},null,{"$f":"IF($N19=\"\",\"\",VLOOKUP($N19,'Reference - Logistics Distance'!$C:$O,BM$4,FALSE))","v":""},null,"","","","","","","","",null,"",null,"","",null,""]
[null,null,null,null,null,null,null,null,null,null,null,null,null,null,null,null,null,{"$f":"INDEX('Dropdown menus'!$A$1:$D$6,MATCH($E20,'Dropdown menus'!$A$1:$A$6,0),$R$6)","v":{"$error":"#N/A"}},null,{"$f":"IF($F20=\"\",\"\",VLOOKUP($F20,'Reference Data - Transport fuel'!$C:$O,T$4,FALSE))","v":""},{"$f":"IF($F20=\"\",\"\",VLOOKUP($F20,'Reference Data - Transport fuel'!$C:$O,U$4,FALSE))","v":""},{"$f":"IF($F20=\"\",\"\",VLOOKUP($F20,'Reference Data - Transport fuel'!$C:$O,V$4,FALSE))","v":""},{"$f":"IF($F20=\"\",\"\",VLOOKUP($F20,'Reference Data - Transport fuel'!$C:$O,W$4,FALSE))","v":""},{"$f":"IF($F20=\"\",\"\",VLOOKUP($F20,'Reference Data - Transport fuel'!$C:$O,X$4,FALSE))","v":""},{"$f":"IF($F20=\"\",\"\",VLOOKUP($F20,'Reference Data - Transport fuel'!$C:$O,Y$4,FALSE))","v":""},{"$f":"IF($F20=\"\",\"\",VLOOKUP($F20,'Reference Data - Transport fuel'!$C:$O,Z$4,FALSE))","v":""},{"$f":"IF($F20=\"\",\"\",VLOOKUP($F20,'Reference Data - Transport fuel'!$C:$O,AA$4,FALSE))","v":""},{"$f":"IF($F20=\"\",\"\",VLOOKUP($F20,'Reference Data - Transport fuel'!$C:$O,AB$4,FALSE))","v":""},null,{"$f":"IF($F20=\"\",\"\",VLOOKUP($F20,'Reference Data - Transport fuel'!$C:$O,AD$4,FALSE))","v":""},null,{"$f":"IF($F20=\"\",\"\",VLOOKUP($F20,'Reference Data - Transport fuel'!$C:$O,AF$4,FALSE))","v":""},null,"","","","","","","","",null,"",null,"","",null,"",null,null,{"$f":"INDEX('Dropdown menus'!$A$1:$D$6,MATCH($M20,'Dropdown menus'!$A$1:$A$6,0),$AY$6)","v":{"$error":"#N/A"}},null,{"$f":"IF($N20=\"\",\"\",VLOOKUP($N20,'Reference - Logistics Distance'!$C:$O,BA$4,FALSE))","v":""},{"$f":"IF($N20=\"\",\"\",VLOOKUP($N20,'Reference - Logistics Distance'!$C:$O,BB$4,FALSE))","v":""},{"$f":"IF($N20=\"\",\"\",VLOOKUP($N20,'Reference - Logistics Distance'!$C:$O,BC$4,FALSE))","v":""},{"$f":"IF($N20=\"\",\"\",VLOOKUP($N20,'Reference - Logistics Distance'!$C:$O,BD$4,FALSE))","v":""},{"$f":"IF($N20=\"\",\"\",VLOOKUP($N20,'Reference - Logistics Distance'!$C:$O,BE$4,FALSE))","v":""},{"$f":"IF($N20=\"\",\"\",VLOOKUP($N20,'Reference - Logistics Distance'!$C:$O,BF$4,FALSE))","v":""},{"$f":"IF($N20=\"\",\"\",VLOOKUP($N20,'Reference - Logistics Distance'!$C:$O,BG$4,FALSE))","v":""},{"$f":"IF($N20=\"\",\"\",VLOOKUP($N20,'Reference - Logistics Distance'!$C:$O,BH$4,FALSE))","v":""},{"$f":"IF($N20=\"\",\"\",VLOOKUP($N20,'Reference - Logistics Distance'!$C:$O,BI$4,FALSE))","v":""},null,{"$f":"IF($N20=\"\",\"\",VLOOKUP($N20,'Reference - Logistics Distance'!$C:$O,BK$4,FALSE))","v":""},null,{"$f":"IF($N20=\"\",\"\",VLOOKUP($N20,'Reference - Logistics Distance'!$C:$O,BM$4,FALSE))","v":""},null,"","","","","","","","",null,"",null,"","",null,""]
[null,null,null,null,null,null,null,null,null,null,null,null,null,null,null,null,null,{"$f":"INDEX('Dropdown menus'!$A$1:$D$6,MATCH($E21,'Dropdown menus'!$A$1:$A$6,0),$R$6)","v":{"$error":"#N/A"}},null,{"$f":"IF($F21=\"\",\"\",VLOOKUP($F21,'Reference Data - Transport fuel'!$C:$O,T$4,FALSE))","v":""},{"$f":"IF($F21=\"\",\"\",VLOOKUP($F21,'Reference Data - Transport fuel'!$C:$O,U$4,FALSE))","v":""},{"$f":"IF($F21=\"\",\"\",VLOOKUP($F21,'Reference Data - Transport fuel'!$C:$O,V$4,FALSE))","v":""},{"$f":"IF($F21=\"\",\"\",VLOOKUP($F21,'Reference Data - Transport fuel'!$C:$O,W$4,FALSE))","v":""},{"$f":"IF($F21=\"\",\"\",VLOOKUP($F21,'Reference Data - Transport fuel'!$C:$O,X$4,FALSE))","v":""},{"$f":"IF($F21=\"\",\"\",VLOOKUP($F21,'Reference Data - Transport fuel'!$C:$O,Y$4,FALSE))","v":""},{"$f":"IF($F21=\"\",\"\",VLOOKUP($F21,'Reference Data - Transport fuel'!$C:$O,Z$4,FALSE))","v":""},{"$f":"IF($F21=\"\",\"\",VLOOKUP($F21,'Reference Data - Transport fuel'!$C:$O,AA$4,FALSE))","v":""},{"$f":"IF($F21=\"\",\"\",VLOOKUP($F21,'Reference Data - Transport fuel'!$C:$O,AB$4,FALSE))","v":""},null,{"$f":"IF($F21=\"\",\"\",VLOOKUP($F21,'Reference Data - Transport fuel'!$C:$O,AD$4,FALSE))","v":""},null,{"$f":"IF($F21=\"\",\"\",VLOOKUP($F21,'Reference Data - Transport fuel'!$C:$O,AF$4,FALSE))","v":""},null,"","","","","","","","",null,"",null,"","",null,"",null,null,{"$f":"INDEX('Dropdown menus'!$A$1:$D$6,MATCH($M21,'Dropdown menus'!$A$1:$A$6,0),$AY$6)","v":{"$error":"#N/A"}},null,{"$f":"IF($N21=\"\",\"\",VLOOKUP($N21,'Reference - Logistics Distance'!$C:$O,BA$4,FALSE))","v":""},{"$f":"IF($N21=\"\",\"\",VLOOKUP($N21,'Reference - Logistics Distance'!$C:$O,BB$4,FALSE))","v":""},{"$f":"IF($N21=\"\",\"\",VLOOKUP($N21,'Reference - Logistics Distance'!$C:$O,BC$4,FALSE))","v":""},{"$f":"IF($N21=\"\",\"\",VLOOKUP($N21,'Reference - Logistics Distance'!$C:$O,BD$4,FALSE))","v":""},{"$f":"IF($N21=\"\",\"\",VLOOKUP($N21,'Reference - Logistics Distance'!$C:$O,BE$4,FALSE))","v":""},{"$f":"IF($N21=\"\",\"\",VLOOKUP($N21,'Reference - Logistics Distance'!$C:$O,BF$4,FALSE))","v":""},{"$f":"IF($N21=\"\",\"\",VLOOKUP($N21,'Reference - Logistics Distance'!$C:$O,BG$4,FALSE))","v":""},{"$f":"IF($N21=\"\",\"\",VLOOKUP($N21,'Reference - Logistics Distance'!$C:$O,BH$4,FALSE))","v":""},{"$f":"IF($N21=\"\",\"\",VLOOKUP($N21,'Reference - Logistics Distance'!$C:$O,BI$4,FALSE))","v":""},null,{"$f":"IF($N21=\"\",\"\",VLOOKUP($N21,'Reference - Logistics Distance'!$C:$O,BK$4,FALSE))","v":""},null,{"$f":"IF($N21=\"\",\"\",VLOOKUP($N21,'Reference - Logistics Distance'!$C:$O,BM$4,FALSE))","v":""},null,"","","","","","","","",null,"",null,"","",null,""]
[null,null,null,null,null,null,null,null,null,null,null,null,null,null,null,null,null,{"$f":"INDEX('Dropdown menus'!$A$1:$D$6,MATCH($E22,'Dropdown menus'!$A$1:$A$6,0),$R$6)","v":{"$error":"#N/A"}},null,{"$f":"IF($F22=\"\",\"\",VLOOKUP($F22,'Reference Data - Transport fuel'!$C:$O,T$4,FALSE))","v":""},{"$f":"IF($F22=\"\",\"\",VLOOKUP($F22,'Reference Data - Transport fuel'!$C:$O,U$4,FALSE))","v":""},{"$f":"IF($F22=\"\",\"\",VLOOKUP($F22,'Reference Data - Transport fuel'!$C:$O,V$4,FALSE))","v":""},{"$f":"IF($F22=\"\",\"\",VLOOKUP($F22,'Reference Data - Transport fuel'!$C:$O,W$4,FALSE))","v":""},{"$f":"IF($F22=\"\",\"\",VLOOKUP($F22,'Reference Data - Transport fuel'!$C:$O,X$4,FALSE))","v":""},{"$f":"IF($F22=\"\",\"\",VLOOKUP($F22,'Reference Data - Transport fuel'!$C:$O,Y$4,FALSE))","v":""},{"$f":"IF($F22=\"\",\"\",VLOOKUP($F22,'Reference Data - Transport fuel'!$C:$O,Z$4,FALSE))","v":""},{"$f":"IF($F22=\"\",\"\",VLOOKUP($F22,'Reference Data - Transport fuel'!$C:$O,AA$4,FALSE))","v":""},{"$f":"IF($F22=\"\",\"\",VLOOKUP($F22,'Reference Data - Transport fuel'!$C:$O,AB$4,FALSE))","v":""},null,{"$f":"IF($F22=\"\",\"\",VLOOKUP($F22,'Reference Data - Transport fuel'!$C:$O,AD$4,FALSE))","v":""},null,{"$f":"IF($F22=\"\",\"\",VLOOKUP($F22,'Reference Data - Transport fuel'!$C:$O,AF$4,FALSE))","v":""},null,"","","","","","","","",null,"",null,"","",null,"",null,null,{"$f":"INDEX('Dropdown menus'!$A$1:$D$6,MATCH($M22,'Dropdown menus'!$A$1:$A$6,0),$AY$6)","v":{"$error":"#N/A"}},null,{"$f":"IF($N22=\"\",\"\",VLOOKUP($N22,'Reference - Logistics Distance'!$C:$O,BA$4,FALSE))","v":""},{"$f":"IF($N22=\"\",\"\",VLOOKUP($N22,'Reference - Logistics Distance'!$C:$O,BB$4,FALSE))","v":""},{"$f":"IF($N22=\"\",\"\",VLOOKUP($N22,'Reference - Logistics Distance'!$C:$O,BC$4,FALSE))","v":""},{"$f":"IF($N22=\"\",\"\",VLOOKUP($N22,'Reference - Logistics Distance'!$C:$O,BD$4,FALSE))","v":""},{"$f":"IF($N22=\"\",\"\",VLOOKUP($N22,'Reference - Logistics Distance'!$C:$O,BE$4,FALSE))","v":""},{"$f":"IF($N22=\"\",\"\",VLOOKUP($N22,'Reference - Logistics Distance'!$C:$O,BF$4,FALSE))","v":""},{"$f":"IF($N22=\"\",\"\",VLOOKUP($N22,'Reference - Logistics Distance'!$C:$O,BG$4,FALSE))","v":""},{"$f":"IF($N22=\"\",\"\",VLOOKUP($N22,'Reference - Logistics Distance'!$C:$O,BH$4,FALSE))","v":""},{"$f":"IF($N22=\"\",\"\",VLOOKUP($N22,'Reference - Logistics Distance'!$C:$O,BI$4,FALSE))","v":""},null,{"$f":"IF($N22=\"\",\"\",VLOOKUP($N22,'Reference - Logistics Distance'!$C:$O,BK$4,FALSE))","v":""},null,{"$f":"IF($N22=\"\",\"\",VLOOKUP($N22,'Reference - Logistics Distance'!$C:$O,BM$4,FALSE))","v":""},null,"","","","","","","","",null,"",null,"","",null,""]
[null,null,null,null,null,null,null,null,null,null,null,null,null,null,null,null,null,{"$f":"INDEX('Dropdown menus'!$A$1:$D$6,MATCH($E23,'Dropdown menus'!$A$1:$A$6,0),$R$6)","v":{"$error":"#N/A"}},null,{"$f":"IF($F23=\"\",\"\",VLOOKUP($F23,'Reference Data - Transport fuel'!$C:$O,T$4,FALSE))","v":""},{"$f":"IF($F23=\"\",\"\",VLOOKUP($F23,'Reference Data - Transport fuel'!$C:$O,U$4,FALSE))","v":""},{"$f":"IF($F23=\"\",\"\",VLOOKUP($F23,'Reference Data - Transport fuel'!$C:$O,V$4,FALSE))","v":""},{"$f":"IF($F23=\"\",\"\",VLOOKUP($F23,'Reference Data - Transport fuel'!$C:$O,W$4,FALSE))","v":""},{"$f":"IF($F23=\"\",\"\",VLOOKUP($F23,'Reference Data - Transport fuel'!$C:$O,X$4,FALSE))","v":""},{"$f":"IF($F23=\"\",\"\",VLOOKUP($F23,'Reference Data - Transport fuel'!$C:$O,Y$4,FALSE))","v":""},{"$f":"IF($F23=\"\",\"\",VLOOKUP($F23,'Reference Data - Transport fuel'!$C:$O,Z$4,FALSE))","v":""},{"$f":"IF($F23=\"\",\"\",VLOOKUP($F23,'Reference Data - Transport fuel'!$C:$O,AA$4,FALSE))","v":""},{"$f":"IF($F23=\"\",\"\",VLOOKUP($F23,'Reference Data - Transport fuel'!$C:$O,AB$4,FALSE))","v":""},null,{"$f":"IF($F23=\"\",\"\",VLOOKUP($F23,'Reference Data - Transport fuel'!$C:$O,AD$4,FALSE))","v":""},null,{"$f":"IF($F23=\"\",\"\",VLOOKUP($F23,'Reference Data - Transport fuel'!$C:$O,AF$4,FALSE))","v":""},null,"","","","","","","","",null,"",null,"","",null,"",null,null,{"$f":"INDEX('Dropdown menus'!$A$1:$D$6,MATCH($M23,'Dropdown menus'!$A$1:$A$6,0),$AY$6)","v":{"$error":"#N/A"}},null,{"$f":"IF($N23=\"\",\"\",VLOOKUP($N23,'Reference - Logistics Distance'!$C:$O,BA$4,FALSE))","v":""},{"$f":"IF($N23=\"\",\"\",VLOOKUP($N23,'Reference - Logistics Distance'!$C:$O,BB$4,FALSE))","v":""},{"$f":"IF($N23=\"\",\"\",VLOOKUP($N23,'Reference - Logistics Distance'!$C:$O,BC$4,FALSE))","v":""},{"$f":"IF($N23=\"\",\"\",VLOOKUP($N23,'Reference - Logistics Distance'!$C:$O,BD$4,FALSE))","v":""},{"$f":"IF($N23=\"\",\"\",VLOOKUP($N23,'Reference - Logistics Distance'!$C:$O,BE$4,FALSE))","v":""},{"$f":"IF($N23=\"\",\"\",VLOOKUP($N23,'Reference - Logistics Distance'!$C:$O,BF$4,FALSE))","v":""},{"$f":"IF($N23=\"\",\"\",VLOOKUP($N23,'Reference - Logistics Distance'!$C:$O,BG$4,FALSE))","v":""},{"$f":"IF($N23=\"\",\"\",VLOOKUP($N23,'Reference - Logistics Distance'!$C:$O,BH$4,FALSE))","v":""},{"$f":"IF($N23=\"\",\"\",VLOOKUP($N23,'Reference - Logistics Distance'!$C:$O,BI$4,FALSE))","v":""},null,{"$f":"IF($N23=\"\",\"\",VLOOKUP($N23,'Reference - Logistics Distance'!$C:$O,BK$4,FALSE))","v":""},null,{"$f":"IF($N23=\"\",\"\",VLOOKUP($N23,'Reference - Logistics Distance'!$C:$O,BM$4,FALSE))","v":""},null,"","","","","","","","",null,"",null,"","",null,""]
[null,null,null,null,null,null,null,null,null,null,null,null,null,null,null,null,null,{"$f":"INDEX('Dropdown menus'!$A$1:$D$6,MATCH($E24,'Dropdown menus'!$A$1:$A$6,0),$R$6)","v":{"$error":"#N/A"}},null,{"$f":"IF($F24=\"\",\"\",VLOOKUP($F24,'Reference Data - Transport fuel'!$C:$O,T$4,FALSE))","v":""},{"$f":"IF($F24=\"\",\"\",VLOOKUP($F24,'Reference Data - Transport fuel'!$C:$O,U$4,FALSE))","v":""},{"$f":"IF($F24=\"\",\"\",VLOOKUP($F24,'Reference Data - Transport fuel'!$C:$O,V$4,FALSE))","v":""},{"$f":"IF($F24=\"\",\"\",VLOOKUP($F24,'Reference Data - Transport fuel'!$C:$O,W$4,FALSE))","v":""},{"$f":"IF($F24=\"\",\"\",VLOOKUP($F24,'Reference Data - Transport fuel'!$C:$O,X$4,FALSE))","v":""},{"$f":"IF($F24=\"\",\"\",VLOOKUP($F24,'Reference Data - Transport fuel'!$C:$O,Y$4,FALSE))","v":""},{"$f":"IF($F24=\"\",\"\",VLOOKUP($F24,'Reference Data - Transport fuel'!$C:$O,Z$4,FALSE))","v":""},{"$f":"IF($F24=\"\",\"\",VLOOKUP($F24,'Reference Data - Transport fuel'!$C:$O,AA$4,FALSE))","v":""},{"$f":"IF($F24=\"\",\"\",VLOOKUP($F24,'Reference Data - Transport fuel'!$C:$O,AB$4,FALSE))","v":""},null,{"$f":"IF($F24=\"\",\"\",VLOOKUP($F24,'Reference Data - Transport fuel'!$C:$O,AD$4,FALSE))","v":""},null,{"$f":"IF($F24=\"\",\"\",VLOOKUP($F24,'Reference Data - Transport fuel'!$C:$O,AF$4,FALSE))","v":""},null,"","","","","","","","",null,"",null,"","",null,"",null,null,{"$f":"INDEX('Dropdown menus'!$A$1:$D$6,MATCH($M24,'Dropdown menus'!$A$1:$A$6,0),$AY$6)","v":{"$error":"#N/A"}},null,{"$f":"IF($N24=\"\",\"\",VLOOKUP($N24,'Reference - Logistics Distance'!$C:$O,BA$4,FALSE))","v":""},{"$f":"IF($N24=\"\",\"\",VLOOKUP($N24,'Reference - Logistics Distance'!$C:$O,BB$4,FALSE))","v":""},{"$f":"IF($N24=\"\",\"\",VLOOKUP($N24,'Reference - Logistics Distance'!$C:$O,BC$4,FALSE))","v":""},{"$f":"IF($N24=\"\",\"\",VLOOKUP($N24,'Reference - Logistics Distance'!$C:$O,BD$4,FALSE))","v":""},{"$f":"IF($N24=\"\",\"\",VLOOKUP($N24,'Reference - Logistics Distance'!$C:$O,BE$4,FALSE))","v":""},{"$f":"IF($N24=\"\",\"\",VLOOKUP($N24,'Reference - Logistics Distance'!$C:$O,BF$4,FALSE))","v":""},{"$f":"IF($N24=\"\",\"\",VLOOKUP($N24,'Reference - Logistics Distance'!$C:$O,BG$4,FALSE))","v":""},{"$f":"IF($N24=\"\",\"\",VLOOKUP($N24,'Reference - Logistics Distance'!$C:$O,BH$4,FALSE))","v":""},{"$f":"IF($N24=\"\",\"\",VLOOKUP($N24,'Reference - Logistics Distance'!$C:$O,BI$4,FALSE))","v":""},null,{"$f":"IF($N24=\"\",\"\",VLOOKUP($N24,'Reference - Logistics Distance'!$C:$O,BK$4,FALSE))","v":""},null,{"$f":"IF($N24=\"\",\"\",VLOOKUP($N24,'Reference - Logistics Distance'!$C:$O,BM$4,FALSE))","v":""},null,"","","","","","","","",null,"",null,"","",null,""]
[null,null,null,null,null,null,null,null,null,null,null,null,null,null,null,null,null,{"$f":"INDEX('Dropdown menus'!$A$1:$D$6,MATCH($E25,'Dropdown menus'!$A$1:$A$6,0),$R$6)","v":{"$error":"#N/A"}},null,{"$f":"IF($F25=\"\",\"\",VLOOKUP($F25,'Reference Data - Transport fuel'!$C:$O,T$4,FALSE))","v":""},{"$f":"IF($F25=\"\",\"\",VLOOKUP($F25,'Reference Data - Transport fuel'!$C:$O,U$4,FALSE))","v":""},{"$f":"IF($F25=\"\",\"\",VLOOKUP($F25,'Reference Data - Transport fuel'!$C:$O,V$4,FALSE))","v":""},{"$f":"IF($F25=\"\",\"\",VLOOKUP($F25,'Reference Data - Transport fuel'!$C:$O,W$4,FALSE))","v":""},{"$f":"IF($F25=\"\",\"\",VLOOKUP($F25,'Reference Data - Transport fuel'!$C:$O,X$4,FALSE))","v":""},{"$f":"IF($F25=\"\",\"\",VLOOKUP($F25,'Reference Data - Transport fuel'!$C:$O,Y$4,FALSE))","v":""},{"$f":"IF($F25=\"\",\"\",VLOOKUP($F25,'Reference Data - Transport fuel'!$C:$O,Z$4,FALSE))","v":""},{"$f":"IF($F25=\"\",\"\",VLOOKUP($F25,'Reference Data - Transport fuel'!$C:$O,AA$4,FALSE))","v":""},{"$f":"IF($F25=\"\",\"\",VLOOKUP($F25,'Reference Data - Transport fuel'!$C:$O,AB$4,FALSE))","v":""},null,{"$f":"IF($F25=\"\",\"\",VLOOKUP($F25,'Reference Data - Transport fuel'!$C:$O,AD$4,FALSE))","v":""},null,{"$f":"IF($F25=\"\",\"\",VLOOKUP($F25,'Reference Data - Transport fuel'!$C:$O,AF$4,FALSE))","v":""},null,"","","","","","","","",null,"",null,"","",null,"",null,null,{"$f":"INDEX('Dropdown menus'!$A$1:$D$6,MATCH($M25,'Dropdown menus'!$A$1:$A$6,0),$AY$6)","v":{"$error":"#N/A"}},null,{"$f":"IF($N25=\"\",\"\",VLOOKUP($N25,'Reference - Logistics Distance'!$C:$O,BA$4,FALSE))","v":""},{"$f":"IF($N25=\"\",\"\",VLOOKUP($N25,'Reference - Logistics Distance'!$C:$O,BB$4,FALSE))","v":""},{"$f":"IF($N25=\"\",\"\",VLOOKUP($N25,'Reference - Logistics Distance'!$C:$O,BC$4,FALSE))","v":""},{"$f":"IF($N25=\"\",\"\",VLOOKUP($N25,'Reference - Logistics Distance'!$C:$O,BD$4,FALSE))","v":""},{"$f":"IF($N25=\"\",\"\",VLOOKUP($N25,'Reference - Logistics Distance'!$C:$O,BE$4,FALSE))","v":""},{"$f":"IF($N25=\"\",\"\",VLOOKUP($N25,'Reference - Logistics Distance'!$C:$O,BF$4,FALSE))","v":""},{"$f":"IF($N25=\"\",\"\",VLOOKUP($N25,'Reference - Logistics Distance'!$C:$O,BG$4,FALSE))","v":""},{"$f":"IF($N25=\"\",\"\",VLOOKUP($N25,'Reference - Logistics Distance'!$C:$O,BH$4,FALSE))","v":""},{"$f":"IF($N25=\"\",\"\",VLOOKUP($N25,'Reference - Logistics Distance'!$C:$O,BI$4,FALSE))","v":""},null,{"$f":"IF($N25=\"\",\"\",VLOOKUP($N25,'Reference - Logistics Distance'!$C:$O,BK$4,FALSE))","v":""},null,{"$f":"IF($N25=\"\",\"\",VLOOKUP($N25,'Reference - Logistics Distance'!$C:$O,BM$4,FALSE))","v":""},null,"","","","","","","","",null,"",null,"","",null,""]
[null,null,null,null,null,null,null,null,null,null,null,null,null,null,null,null,null,{"$f":"INDEX('Dropdown menus'!$A$1:$D$6,MATCH($E26,'Dropdown menus'!$A$1:$A$6,0),$R$6)","v":{"$error":"#N/A"}},null,{"$f":"IF($F26=\"\",\"\",VLOOKUP($F26,'Reference Data - Transport fuel'!$C:$O,T$4,FALSE))","v":""},{"$f":"IF($F26=\"\",\"\",VLOOKUP($F26,'Reference Data - Transport fuel'!$C:$O,U$4,FALSE))","v":""},{"$f":"IF($F26=\"\",\"\",VLOOKUP($F26,'Reference Data - Transport fuel'!$C:$O,V$4,FALSE))","v":""},{"$f":"IF($F26=\"\",\"\",VLOOKUP($F26,'Reference Data - Transport fuel'!$C:$O,W$4,FALSE))","v":""},{"$f":"IF($F26=\"\",\"\",VLOOKUP($F26,'Reference Data - Transport fuel'!$C:$O,X$4,FALSE))","v":""},{"$f":"IF($F26=\"\",\"\",VLOOKUP($F26,'Reference Data - Transport fuel'!$C:$O,Y$4,FALSE))","v":""},{"$f":"IF($F26=\"\",\"\",VLOOKUP($F26,'Reference Data - Transport fuel'!$C:$O,Z$4,FALSE))","v":""},{"$f":"IF($F26=\"\",\"\",VLOOKUP($F26,'Reference Data - Transport fuel'!$C:$O,AA$4,FALSE))","v":""},{"$f":"IF($F26=\"\",\"\",VLOOKUP($F26,'Reference Data - Transport fuel'!$C:$O,AB$4,FALSE))","v":""},null,{"$f":"IF($F26=\"\",\"\",VLOOKUP($F26,'Reference Data - Transport fuel'!$C:$O,AD$4,FALSE))","v":""},null,{"$f":"IF($F26=\"\",\"\",VLOOKUP($F26,'Reference Data - Transport fuel'!$C:$O,AF$4,FALSE))","v":""},null,"","","","","","","","",null,"",null,"","",null,"",null,null,{"$f":"INDEX('Dropdown menus'!$A$1:$D$6,MATCH($M26,'Dropdown menus'!$A$1:$A$6,0),$AY$6)","v":{"$error":"#N/A"}},null,{"$f":"IF($N26=\"\",\"\",VLOOKUP($N26,'Reference - Logistics Distance'!$C:$O,BA$4,FALSE))","v":""},{"$f":"IF($N26=\"\",\"\",VLOOKUP($N26,'Reference - Logistics Distance'!$C:$O,BB$4,FALSE))","v":""},{"$f":"IF($N26=\"\",\"\",VLOOKUP($N26,'Reference - Logistics Distance'!$C:$O,BC$4,FALSE))","v":""},{"$f":"IF($N26=\"\",\"\",VLOOKUP($N26,'Reference - Logistics Distance'!$C:$O,BD$4,FALSE))","v":""},{"$f":"IF($N26=\"\",\"\",VLOOKUP($N26,'Reference - Logistics Distance'!$C:$O,BE$4,FALSE))","v":""},{"$f":"IF($N26=\"\",\"\",VLOOKUP($N26,'Reference - Logistics Distance'!$C:$O,BF$4,FALSE))","v":""},{"$f":"IF($N26=\"\",\"\",VLOOKUP($N26,'Reference - Logistics Distance'!$C:$O,BG$4,FALSE))","v":""},{"$f":"IF($N26=\"\",\"\",VLOOKUP($N26,'Reference - Logistics Distance'!$C:$O,BH$4,FALSE))","v":""},{"$f":"IF($N26=\"\",\"\",VLOOKUP($N26,'Reference - Logistics Distance'!$C:$O,BI$4,FALSE))","v":""},null,{"$f":"IF($N26=\"\",\"\",VLOOKUP($N26,'Reference - Logistics Distance'!$C:$O,BK$4,FALSE))","v":""},null,{"$f":"IF($N26=\"\",\"\",VLOOKUP($N26,'Reference - Logistics Distance'!$C:$O,BM$4,FALSE))","v":""},null,"","","","","","","","",null,"",null,"","",null,""]
[null,null,null,null,null,null,null,null,null,null,null,null,null,null,null,null,null,{"$f":"INDEX('Dropdown menus'!$A$1:$D$6,MATCH($E27,'Dropdown menus'!$A$1:$A$6,0),$R$6)","v":{"$error":"#N/A"}},null,{"$f":"IF($F27=\"\",\"\",VLOOKUP($F27,'Reference Data - Transport fuel'!$C:$O,T$4,FALSE))","v":""},{"$f":"IF($F27=\"\",\"\",VLOOKUP($F27,'Reference Data - Transport fuel'!$C:$O,U$4,FALSE))","v":""},{"$f":"IF($F27=\"\",\"\",VLOOKUP($F27,'Reference Data - Transport fuel'!$C:$O,V$4,FALSE))","v":""},{"$f":"IF($F27=\"\",\"\",VLOOKUP($F27,'Reference Data - Transport fuel'!$C:$O,W$4,FALSE))","v":""},{"$f":"IF($F27=\"\",\"\",VLOOKUP($F27,'Reference Data - Transport fuel'!$C:$O,X$4,FALSE))","v":""},{"$f":"IF($F27=\"\",\"\",VLOOKUP($F27,'Reference Data - Transport fuel'!$C:$O,Y$4,FALSE))","v":""},{"$f":"IF($F27=\"\",\"\",VLOOKUP($F27,'Reference Data - Transport fuel'!$C:$O,Z$4,FALSE))","v":""},{"$f":"IF($F27=\"\",\"\",VLOOKUP($F27,'Reference Data - Transport fuel'!$C:$O,AA$4,FALSE))","v":""},{"$f":"IF($F27=\"\",\"\",VLOOKUP($F27,'Reference Data - Transport fuel'!$C:$O,AB$4,FALSE))","v":""},null,{"$f":"IF($F27=\"\",\"\",VLOOKUP($F27,'Reference Data - Transport fuel'!$C:$O,AD$4,FALSE))","v":""},null,{"$f":"IF($F27=\"\",\"\",VLOOKUP($F27,'Reference Data - Transport fuel'!$C:$O,AF$4,FALSE))","v":""},null,"","","","","","","","",null,"",null,"","",null,"",null,null,{"$f":"INDEX('Dropdown menus'!$A$1:$D$6,MATCH($M27,'Dropdown menus'!$A$1:$A$6,0),$AY$6)","v":{"$error":"#N/A"}},null,{"$f":"IF($N27=\"\",\"\",VLOOKUP($N27,'Reference - Logistics Distance'!$C:$O,BA$4,FALSE))","v":""},{"$f":"IF($N27=\"\",\"\",VLOOKUP($N27,'Reference - Logistics Distance'!$C:$O,BB$4,FALSE))","v":""},{"$f":"IF($N27=\"\",\"\",VLOOKUP($N27,'Reference - Logistics Distance'!$C:$O,BC$4,FALSE))","v":""},{"$f":"IF($N27=\"\",\"\",VLOOKUP($N27,'Reference - Logistics Distance'!$C:$O,BD$4,FALSE))","v":""},{"$f":"IF($N27=\"\",\"\",VLOOKUP($N27,'Reference - Logistics Distance'!$C:$O,BE$4,FALSE))","v":""},{"$f":"IF($N27=\"\",\"\",VLOOKUP($N27,'Reference - Logistics Distance'!$C:$O,BF$4,FALSE))","v":""},{"$f":"IF($N27=\"\",\"\",VLOOKUP($N27,'Reference - Logistics Distance'!$C:$O,BG$4,FALSE))","v":""},{"$f":"IF($N27=\"\",\"\",VLOOKUP($N27,'Reference - Logistics Distance'!$C:$O,BH$4,FALSE))","v":""},{"$f":"IF($N27=\"\",\"\",VLOOKUP($N27,'Reference - Logistics Distance'!$C:$O,BI$4,FALSE))","v":""},null,{"$f":"IF($N27=\"\",\"\",VLOOKUP($N27,'Reference - Logistics Distance'!$C:$O,BK$4,FALSE))","v":""},null,{"$f":"IF($N27=\"\",\"\",VLOOKUP($N27,'Reference - Logistics Distance'!$C:$O,BM$4,FALSE))","v":""},null,"","","","","","","","",null,"",null,"","",null,""]
[null,null,null,null,null,null,null,null,null,null,null,null,null,null,null,null,null,{"$f":"INDEX('Dropdown menus'!$A$1:$D$6,MATCH($E28,'Dropdown menus'!$A$1:$A$6,0),$R$6)","v":{"$error":"#N/A"}},null,{"$f":"IF($F28=\"\",\"\",VLOOKUP($F28,'Reference Data - Transport fuel'!$C:$O,T$4,FALSE))","v":""},{"$f":"IF($F28=\"\",\"\",VLOOKUP($F28,'Reference Data - Transport fuel'!$C:$O,U$4,FALSE))","v":""},{"$f":"IF($F28=\"\",\"\",VLOOKUP($F28,'Reference Data - Transport fuel'!$C:$O,V$4,FALSE))","v":""},{"$f":"IF($F28=\"\",\"\",VLOOKUP($F28,'Reference Data - Transport fuel'!$C:$O,W$4,FALSE))","v":""},{"$f":"IF($F28=\"\",\"\",VLOOKUP($F28,'Reference Data - Transport fuel'!$C:$O,X$4,FALSE))","v":""},{"$f":"IF($F28=\"\",\"\",VLOOKUP($F28,'Reference Data - Transport fuel'!$C:$O,Y$4,FALSE))","v":""},{"$f":"IF($F28=\"\",\"\",VLOOKUP($F28,'Reference Data - Transport fuel'!$C:$O,Z$4,FALSE))","v":""},{"$f":"IF($F28=\"\",\"\",VLOOKUP($F28,'Reference Data - Transport fuel'!$C:$O,AA$4,FALSE))","v":""},{"$f":"IF($F28=\"\",\"\",VLOOKUP($F28,'Reference Data - Transport fuel'!$C:$O,AB$4,FALSE))","v":""},null,{"$f":"IF($F28=\"\",\"\",VLOOKUP($F28,'Reference Data - Transport fuel'!$C:$O,AD$4,FALSE))","v":""},null,{"$f":"IF($F28=\"\",\"\",VLOOKUP($F28,'Reference Data - Transport fuel'!$C:$O,AF$4,FALSE))","v":""},null,"","","","","","","","",null,"",null,"","",null,"",null,null,{"$f":"INDEX('Dropdown menus'!$A$1:$D$6,MATCH($M28,'Dropdown menus'!$A$1:$A$6,0),$AY$6)","v":{"$error":"#N/A"}},null,{"$f":"IF($N28=\"\",\"\",VLOOKUP($N28,'Reference - Logistics Distance'!$C:$O,BA$4,FALSE))","v":""},{"$f":"IF($N28=\"\",\"\",VLOOKUP($N28,'Reference - Logistics Distance'!$C:$O,BB$4,FALSE))","v":""},{"$f":"IF($N28=\"\",\"\",VLOOKUP($N28,'Reference - Logistics Distance'!$C:$O,BC$4,FALSE))","v":""},{"$f":"IF($N28=\"\",\"\",VLOOKUP($N28,'Reference - Logistics Distance'!$C:$O,BD$4,FALSE))","v":""},{"$f":"IF($N28=\"\",\"\",VLOOKUP($N28,'Reference - Logistics Distance'!$C:$O,BE$4,FALSE))","v":""},{"$f":"IF($N28=\"\",\"\",VLOOKUP($N28,'Reference - Logistics Distance'!$C:$O,BF$4,FALSE))","v":""},{"$f":"IF($N28=\"\",\"\",VLOOKUP($N28,'Reference - Logistics Distance'!$C:$O,BG$4,FALSE))","v":""},{"$f":"IF($N28=\"\",\"\",VLOOKUP($N28,'Reference - Logistics Distance'!$C:$O,BH$4,FALSE))","v":""},{"$f":"IF($N28=\"\",\"\",VLOOKUP($N28,'Reference - Logistics Distance'!$C:$O,BI$4,FALSE))","v":""},null,{"$f":"IF($N28=\"\",\"\",VLOOKUP($N28,'Reference - Logistics Distance'!$C:$O,BK$4,FALSE))","v":""},null,{"$f":"IF($N28=\"\",\"\",VLOOKUP($N28,'Reference - Logistics Distance'!$C:$O,BM$4,FALSE))","v":""},null,"","","","","","","","",null,"",null,"","",null,""]
[null,null,null,null,null,null,null,null,null,null,null,null,null,null,null,null,null,{"$f":"INDEX('Dropdown menus'!$A$1:$D$6,MATCH($E29,'Dropdown menus'!$A$1:$A$6,0),$R$6)","v":{"$error":"#N/A"}},null,{"$f":"IF($F29=\"\",\"\",VLOOKUP($F29,'Reference Data - Transport fuel'!$C:$O,T$4,FALSE))","v":""},{"$f":"IF($F29=\"\",\"\",VLOOKUP($F29,'Reference Data - Transport fuel'!$C:$O,U$4,FALSE))","v":""},{"$f":"IF($F29=\"\",\"\",VLOOKUP($F29,'Reference Data - Transport fuel'!$C:$O,V$4,FALSE))","v":""},{"$f":"IF($F29=\"\",\"\",VLOOKUP($F29,'Reference Data - Transport fuel'!$C:$O,W$4,FALSE))","v":""},{"$f":"IF($F29=\"\",\"\",VLOOKUP($F29,'Reference Data - Transport fuel'!$C:$O,X$4,FALSE))","v":""},{"$f":"IF($F29=\"\",\"\",VLOOKUP($F29,'Reference Data - Transport fuel'!$C:$O,Y$4,FALSE))","v":""},{"$f":"IF($F29=\"\",\"\",VLOOKUP($F29,'Reference Data - Transport fuel'!$C:$O,Z$4,FALSE))","v":""},{"$f":"IF($F29=\"\",\"\",VLOOKUP($F29,'Reference Data - Transport fuel'!$C:$O,AA$4,FALSE))","v":""},{"$f":"IF($F29=\"\",\"\",VLOOKUP($F29,'Reference Data - Transport fuel'!$C:$O,AB$4,FALSE))","v":""},null,{"$f":"IF($F29=\"\",\"\",VLOOKUP($F29,'Reference Data - Transport fuel'!$C:$O,AD$4,FALSE))","v":""},null,{"$f":"IF($F29=\"\",\"\",VLOOKUP($F29,'Reference Data - Transport fuel'!$C:$O,AF$4,FALSE))","v":""},null,"","","","","","","","",null,"",null,"","",null,"",null,null,{"$f":"INDEX('Dropdown menus'!$A$1:$D$6,MATCH($M29,'Dropdown menus'!$A$1:$A$6,0),$AY$6)","v":{"$error":"#N/A"}},null,{"$f":"IF($N29=\"\",\"\",VLOOKUP($N29,'Reference - Logistics Distance'!$C:$O,BA$4,FALSE))","v":""},{"$f":"IF($N29=\"\",\"\",VLOOKUP($N29,'Reference - Logistics Distance'!$C:$O,BB$4,FALSE))","v":""},{"$f":"IF($N29=\"\",\"\",VLOOKUP($N29,'Reference - Logistics Distance'!$C:$O,BC$4,FALSE))","v":""},{"$f":"IF($N29=\"\",\"\",VLOOKUP($N29,'Reference - Logistics Distance'!$C:$O,BD$4,FALSE))","v":""},{"$f":"IF($N29=\"\",\"\",VLOOKUP($N29,'Reference - Logistics Distance'!$C:$O,BE$4,FALSE))","v":""},{"$f":"IF($N29=\"\",\"\",VLOOKUP($N29,'Reference - Logistics Distance'!$C:$O,BF$4,FALSE))","v":""},{"$f":"IF($N29=\"\",\"\",VLOOKUP($N29,'Reference - Logistics Distance'!$C:$O,BG$4,FALSE))","v":""},{"$f":"IF($N29=\"\",\"\",VLOOKUP($N29,'Reference - Logistics Distance'!$C:$O,BH$4,FALSE))","v":""},{"$f":"IF($N29=\"\",\"\",VLOOKUP($N29,'Reference - Logistics Distance'!$C:$O,BI$4,FALSE))","v":""},null,{"$f":"IF($N29=\"\",\"\",VLOOKUP($N29,'Reference - Logistics Distance'!$C:$O,BK$4,FALSE))","v":""},null,{"$f":"IF($N29=\"\",\"\",VLOOKUP($N29,'Reference - Logistics Distance'!$C:$O,BM$4,FALSE))","v":""},null,"","","","","","","","",null,"",null,"","",null,""]
[null,null,null,null,null,null,null,null,null,null,null,null,null,null,null,null,null,{"$f":"INDEX('Dropdown menus'!$A$1:$D$6,MATCH($E30,'Dropdown menus'!$A$1:$A$6,0),$R$6)","v":{"$error":"#N/A"}},null,{"$f":"IF($F30=\"\",\"\",VLOOKUP($F30,'Reference Data - Transport fuel'!$C:$O,T$4,FALSE))","v":""},{"$f":"IF($F30=\"\",\"\",VLOOKUP($F30,'Reference Data - Transport fuel'!$C:$O,U$4,FALSE))","v":""},{"$f":"IF($F30=\"\",\"\",VLOOKUP($F30,'Reference Data - Transport fuel'!$C:$O,V$4,FALSE))","v":""},{"$f":"IF($F30=\"\",\"\",VLOOKUP($F30,'Reference Data - Transport fuel'!$C:$O,W$4,FALSE))","v":""},{"$f":"IF($F30=\"\",\"\",VLOOKUP($F30,'Reference Data - Transport fuel'!$C:$O,X$4,FALSE))","v":""},{"$f":"IF($F30=\"\",\"\",VLOOKUP($F30,'Reference Data - Transport fuel'!$C:$O,Y$4,FALSE))","v":""},{"$f":"IF($F30=\"\",\"\",VLOOKUP($F30,'Reference Data - Transport fuel'!$C:$O,Z$4,FALSE))","v":""},{"$f":"IF($F30=\"\",\"\",VLOOKUP($F30,'Reference Data - Transport fuel'!$C:$O,AA$4,FALSE))","v":""},{"$f":"IF($F30=\"\",\"\",VLOOKUP($F30,'Reference Data - Transport fuel'!$C:$O,AB$4,FALSE))","v":""},null,{"$f":"IF($F30=\"\",\"\",VLOOKUP($F30,'Reference Data - Transport fuel'!$C:$O,AD$4,FALSE))","v":""},null,{"$f":"IF($F30=\"\",\"\",VLOOKUP($F30,'Reference Data - Transport fuel'!$C:$O,AF$4,FALSE))","v":""},null,"","","","","","","","",null,"",null,"","",null,"",null,null,{"$f":"INDEX('Dropdown menus'!$A$1:$D$6,MATCH($M30,'Dropdown menus'!$A$1:$A$6,0),$AY$6)","v":{"$error":"#N/A"}},null,{"$f":"IF($N30=\"\",\"\",VLOOKUP($N30,'Reference - Logistics Distance'!$C:$O,BA$4,FALSE))","v":""},{"$f":"IF($N30=\"\",\"\",VLOOKUP($N30,'Reference - Logistics Distance'!$C:$O,BB$4,FALSE))","v":""},{"$f":"IF($N30=\"\",\"\",VLOOKUP($N30,'Reference - Logistics Distance'!$C:$O,BC$4,FALSE))","v":""},{"$f":"IF($N30=\"\",\"\",VLOOKUP($N30,'Reference - Logistics Distance'!$C:$O,BD$4,FALSE))","v":""},{"$f":"IF($N30=\"\",\"\",VLOOKUP($N30,'Reference - Logistics Distance'!$C:$O,BE$4,FALSE))","v":""},{"$f":"IF($N30=\"\",\"\",VLOOKUP($N30,'Reference - Logistics Distance'!$C:$O,BF$4,FALSE))","v":""},{"$f":"IF($N30=\"\",\"\",VLOOKUP($N30,'Reference - Logistics Distance'!$C:$O,BG$4,FALSE))","v":""},{"$f":"IF($N30=\"\",\"\",VLOOKUP($N30,'Reference - Logistics Distance'!$C:$O,BH$4,FALSE))","v":""},{"$f":"IF($N30=\"\",\"\",VLOOKUP($N30,'Reference - Logistics Distance'!$C:$O,BI$4,FALSE))","v":""},null,{"$f":"IF($N30=\"\",\"\",VLOOKUP($N30,'Reference - Logistics Distance'!$C:$O,BK$4,FALSE))","v":""},null,{"$f":"IF($N30=\"\",\"\",VLOOKUP($N30,'Reference - Logistics Distance'!$C:$O,BM$4,FALSE))","v":""},null,"","","","","","","","",null,"",null,"","",null,""]
[null,null,null,null,null,null,null,null,null,null,null,null,null,null,null,null,null,{"$f":"INDEX('Dropdown menus'!$A$1:$D$6,MATCH($E31,'Dropdown menus'!$A$1:$A$6,0),$R$6)","v":{"$error":"#N/A"}},null,{"$f":"IF($F31=\"\",\"\",VLOOKUP($F31,'Reference Data - Transport fuel'!$C:$O,T$4,FALSE))","v":""},{"$f":"IF($F31=\"\",\"\",VLOOKUP($F31,'Reference Data - Transport fuel'!$C:$O,U$4,FALSE))","v":""},{"$f":"IF($F31=\"\",\"\",VLOOKUP($F31,'Reference Data - Transport fuel'!$C:$O,V$4,FALSE))","v":""},{"$f":"IF($F31=\"\",\"\",VLOOKUP($F31,'Reference Data - Transport fuel'!$C:$O,W$4,FALSE))","v":""},{"$f":"IF($F31=\"\",\"\",VLOOKUP($F31,'Reference Data - Transport fuel'!$C:$O,X$4,FALSE))","v":""},{"$f":"IF($F31=\"\",\"\",VLOOKUP($F31,'Reference Data - Transport fuel'!$C:$O,Y$4,FALSE))","v":""},{"$f":"IF($F31=\"\",\"\",VLOOKUP($F31,'Reference Data - Transport fuel'!$C:$O,Z$4,FALSE))","v":""},{"$f":"IF($F31=\"\",\"\",VLOOKUP($F31,'Reference Data - Transport fuel'!$C:$O,AA$4,FALSE))","v":""},{"$f":"IF($F31=\"\",\"\",VLOOKUP($F31,'Reference Data - Transport fuel'!$C:$O,AB$4,FALSE))","v":""},null,{"$f":"IF($F31=\"\",\"\",VLOOKUP($F31,'Reference Data - Transport fuel'!$C:$O,AD$4,FALSE))","v":""},null,{"$f":"IF($F31=\"\",\"\",VLOOKUP($F31,'Reference Data - Transport fuel'!$C:$O,AF$4,FALSE))","v":""},null,"","","","","","","","",null,"",null,"","",null,"",null,null,{"$f":"INDEX('Dropdown menus'!$A$1:$D$6,MATCH($M31,'Dropdown menus'!$A$1:$A$6,0),$AY$6)","v":{"$error":"#N/A"}},null,{"$f":"IF($N31=\"\",\"\",VLOOKUP($N31,'Reference - Logistics Distance'!$C:$O,BA$4,FALSE))","v":""},{"$f":"IF($N31=\"\",\"\",VLOOKUP($N31,'Reference - Logistics Distance'!$C:$O,BB$4,FALSE))","v":""},{"$f":"IF($N31=\"\",\"\",VLOOKUP($N31,'Reference - Logistics Distance'!$C:$O,BC$4,FALSE))","v":""},{"$f":"IF($N31=\"\",\"\",VLOOKUP($N31,'Reference - Logistics Distance'!$C:$O,BD$4,FALSE))","v":""},{"$f":"IF($N31=\"\",\"\",VLOOKUP($N31,'Reference - Logistics Distance'!$C:$O,BE$4,FALSE))","v":""},{"$f":"IF($N31=\"\",\"\",VLOOKUP($N31,'Reference - Logistics Distance'!$C:$O,BF$4,FALSE))","v":""},{"$f":"IF($N31=\"\",\"\",VLOOKUP($N31,'Reference - Logistics Distance'!$C:$O,BG$4,FALSE))","v":""},{"$f":"IF($N31=\"\",\"\",VLOOKUP($N31,'Reference - Logistics Distance'!$C:$O,BH$4,FALSE))","v":""},{"$f":"IF($N31=\"\",\"\",VLOOKUP($N31,'Reference - Logistics Distance'!$C:$O,BI$4,FALSE))","v":""},null,{"$f":"IF($N31=\"\",\"\",VLOOKUP($N31,'Reference - Logistics Distance'!$C:$O,BK$4,FALSE))","v":""},null,{"$f":"IF($N31=\"\",\"\",VLOOKUP($N31,'Reference - Logistics Distance'!$C:$O,BM$4,FALSE))","v":""},null,"","","","","","","","",null,"",null,"","",null,""]
[null,null,null,null,null,null,null,null,null,null,null,null,null,null,null,null,null,{"$f":"INDEX('Dropdown menus'!$A$1:$D$6,MATCH($E32,'Dropdown menus'!$A$1:$A$6,0),$R$6)","v":{"$error":"#N/A"}},null,{"$f":"IF($F32=\"\",\"\",VLOOKUP($F32,'Reference Data - Transport fuel'!$C:$O,T$4,FALSE))","v":""},{"$f":"IF($F32=\"\",\"\",VLOOKUP($F32,'Reference Data - Transport fuel'!$C:$O,U$4,FALSE))","v":""},{"$f":"IF($F32=\"\",\"\",VLOOKUP($F32,'Reference Data - Transport fuel'!$C:$O,V$4,FALSE))","v":""},{"$f":"IF($F32=\"\",\"\",VLOOKUP($F32,'Reference Data - Transport fuel'!$C:$O,W$4,FALSE))","v":""},{"$f":"IF($F32=\"\",\"\",VLOOKUP($F32,'Reference Data - Transport fuel'!$C:$O,X$4,FALSE))","v":""},{"$f":"IF($F32=\"\",\"\",VLOOKUP($F32,'Reference Data - Transport fuel'!$C:$O,Y$4,FALSE))","v":""},{"$f":"IF($F32=\"\",\"\",VLOOKUP($F32,'Reference Data - Transport fuel'!$C:$O,Z$4,FALSE))","v":""},{"$f":"IF($F32=\"\",\"\",VLOOKUP($F32,'Reference Data - Transport fuel'!$C:$O,AA$4,FALSE))","v":""},{"$f":"IF($F32=\"\",\"\",VLOOKUP($F32,'Reference Data - Transport fuel'!$C:$O,AB$4,FALSE))","v":""},null,{"$f":"IF($F32=\"\",\"\",VLOOKUP($F32,'Reference Data - Transport fuel'!$C:$O,AD$4,FALSE))","v":""},null,{"$f":"IF($F32=\"\",\"\",VLOOKUP($F32,'Reference Data - Transport fuel'!$C:$O,AF$4,FALSE))","v":""},null,"","","","","","","","",null,"",null,"","",null,"",null,null,{"$f":"INDEX('Dropdown menus'!$A$1:$D$6,MATCH($M32,'Dropdown menus'!$A$1:$A$6,0),$AY$6)","v":{"$error":"#N/A"}},null,{"$f":"IF($N32=\"\",\"\",VLOOKUP($N32,'Reference - Logistics Distance'!$C:$O,BA$4,FALSE))","v":""},{"$f":"IF($N32=\"\",\"\",VLOOKUP($N32,'Reference - Logistics Distance'!$C:$O,BB$4,FALSE))","v":""},{"$f":"IF($N32=\"\",\"\",VLOOKUP($N32,'Reference - Logistics Distance'!$C:$O,BC$4,FALSE))","v":""},{"$f":"IF($N32=\"\",\"\",VLOOKUP($N32,'Reference - Logistics Distance'!$C:$O,BD$4,FALSE))","v":""},{"$f":"IF($N32=\"\",\"\",VLOOKUP($N32,'Reference - Logistics Distance'!$C:$O,BE$4,FALSE))","v":""},{"$f":"IF($N32=\"\",\"\",VLOOKUP($N32,'Reference - Logistics Distance'!$C:$O,BF$4,FALSE))","v":""},{"$f":"IF($N32=\"\",\"\",VLOOKUP($N32,'Reference - Logistics Distance'!$C:$O,BG$4,FALSE))","v":""},{"$f":"IF($N32=\"\",\"\",VLOOKUP($N32,'Reference - Logistics Distance'!$C:$O,BH$4,FALSE))","v":""},{"$f":"IF($N32=\"\",\"\",VLOOKUP($N32,'Reference - Logistics Distance'!$C:$O,BI$4,FALSE))","v":""},null,{"$f":"IF($N32=\"\",\"\",VLOOKUP($N32,'Reference - Logistics Distance'!$C:$O,BK$4,FALSE))","v":""},null,{"$f":"IF($N32=\"\",\"\",VLOOKUP($N32,'Reference - Logistics Distance'!$C:$O,BM$4,FALSE))","v":""},null,"","","","","","","","",null,"",null,"","",null,""]
[null,null,null,null,null,null,null,null,null,null,null,null,null,null,null,null,null,{"$f":"INDEX('Dropdown menus'!$A$1:$D$6,MATCH($E33,'Dropdown menus'!$A$1:$A$6,0),$R$6)","v":{"$error":"#N/A"}},null,{"$f":"IF($F33=\"\",\"\",VLOOKUP($F33,'Reference Data - Transport fuel'!$C:$O,T$4,FALSE))","v":""},{"$f":"IF($F33=\"\",\"\",VLOOKUP($F33,'Reference Data - Transport fuel'!$C:$O,U$4,FALSE))","v":""},{"$f":"IF($F33=\"\",\"\",VLOOKUP($F33,'Reference Data - Transport fuel'!$C:$O,V$4,FALSE))","v":""},{"$f":"IF($F33=\"\",\"\",VLOOKUP($F33,'Reference Data - Transport fuel'!$C:$O,W$4,FALSE))","v":""},{"$f":"IF($F33=\"\",\"\",VLOOKUP($F33,'Reference Data - Transport fuel'!$C:$O,X$4,FALSE))","v":""},{"$f":"IF($F33=\"\",\"\",VLOOKUP($F33,'Reference Data - Transport fuel'!$C:$O,Y$4,FALSE))","v":""},{"$f":"IF($F33=\"\",\"\",VLOOKUP($F33,'Reference Data - Transport fuel'!$C:$O,Z$4,FALSE))","v":""},{"$f":"IF($F33=\"\",\"\",VLOOKUP($F33,'Reference Data - Transport fuel'!$C:$O,AA$4,FALSE))","v":""},{"$f":"IF($F33=\"\",\"\",VLOOKUP($F33,'Reference Data - Transport fuel'!$C:$O,AB$4,FALSE))","v":""},null,{"$f":"IF($F33=\"\",\"\",VLOOKUP($F33,'Reference Data - Transport fuel'!$C:$O,AD$4,FALSE))","v":""},null,{"$f":"IF($F33=\"\",\"\",VLOOKUP($F33,'Reference Data - Transport fuel'!$C:$O,AF$4,FALSE))","v":""},null,"","","","","","","","",null,"",null,"","",null,"",null,null,{"$f":"INDEX('Dropdown menus'!$A$1:$D$6,MATCH($M33,'Dropdown menus'!$A$1:$A$6,0),$AY$6)","v":{"$error":"#N/A"}},null,{"$f":"IF($N33=\"\",\"\",VLOOKUP($N33,'Reference - Logistics Distance'!$C:$O,BA$4,FALSE))","v":""},{"$f":"IF($N33=\"\",\"\",VLOOKUP($N33,'Reference - Logistics Distance'!$C:$O,BB$4,FALSE))","v":""},{"$f":"IF($N33=\"\",\"\",VLOOKUP($N33,'Reference - Logistics Distance'!$C:$O,BC$4,FALSE))","v":""},{"$f":"IF($N33=\"\",\"\",VLOOKUP($N33,'Reference - Logistics Distance'!$C:$O,BD$4,FALSE))","v":""},{"$f":"IF($N33=\"\",\"\",VLOOKUP($N33,'Reference - Logistics Distance'!$C:$O,BE$4,FALSE))","v":""},{"$f":"IF($N33=\"\",\"\",VLOOKUP($N33,'Reference - Logistics Distance'!$C:$O,BF$4,FALSE))","v":""},{"$f":"IF($N33=\"\",\"\",VLOOKUP($N33,'Reference - Logistics Distance'!$C:$O,BG$4,FALSE))","v":""},{"$f":"IF($N33=\"\",\"\",VLOOKUP($N33,'Reference - Logistics Distance'!$C:$O,BH$4,FALSE))","v":""},{"$f":"IF($N33=\"\",\"\",VLOOKUP($N33,'Reference - Logistics Distance'!$C:$O,BI$4,FALSE))","v":""},null,{"$f":"IF($N33=\"\",\"\",VLOOKUP($N33,'Reference - Logistics Distance'!$C:$O,BK$4,FALSE))","v":""},null,{"$f":"IF($N33=\"\",\"\",VLOOKUP($N33,'Reference - Logistics Distance'!$C:$O,BM$4,FALSE))","v":""},null,"","","","","","","","",null,"",null,"","",null,""]
[null,null,null,null,null,null,null,null,null,null,null,null,null,null,null,null,null,{"$f":"INDEX('Dropdown menus'!$A$1:$D$6,MATCH($E34,'Dropdown menus'!$A$1:$A$6,0),$R$6)","v":{"$error":"#N/A"}},null,{"$f":"IF($F34=\"\",\"\",VLOOKUP($F34,'Reference Data - Transport fuel'!$C:$O,T$4,FALSE))","v":""},{"$f":"IF($F34=\"\",\"\",VLOOKUP($F34,'Reference Data - Transport fuel'!$C:$O,U$4,FALSE))","v":""},{"$f":"IF($F34=\"\",\"\",VLOOKUP($F34,'Reference Data - Transport fuel'!$C:$O,V$4,FALSE))","v":""},{"$f":"IF($F34=\"\",\"\",VLOOKUP($F34,'Reference Data - Transport fuel'!$C:$O,W$4,FALSE))","v":""},{"$f":"IF($F34=\"\",\"\",VLOOKUP($F34,'Reference Data - Transport fuel'!$C:$O,X$4,FALSE))","v":""},{"$f":"IF($F34=\"\",\"\",VLOOKUP($F34,'Reference Data - Transport fuel'!$C:$O,Y$4,FALSE))","v":""},{"$f":"IF($F34=\"\",\"\",VLOOKUP($F34,'Reference Data - Transport fuel'!$C:$O,Z$4,FALSE))","v":""},{"$f":"IF($F34=\"\",\"\",VLOOKUP($F34,'Reference Data - Transport fuel'!$C:$O,AA$4,FALSE))","v":""},{"$f":"IF($F34=\"\",\"\",VLOOKUP($F34,'Reference Data - Transport fuel'!$C:$O,AB$4,FALSE))","v":""},null,{"$f":"IF($F34=\"\",\"\",VLOOKUP($F34,'Reference Data - Transport fuel'!$C:$O,AD$4,FALSE))","v":""},null,{"$f":"IF($F34=\"\",\"\",VLOOKUP($F34,'Reference Data - Transport fuel'!$C:$O,AF$4,FALSE))","v":""},null,"","","","","","","","",null,"",null,"","",null,"",null,null,{"$f":"INDEX('Dropdown menus'!$A$1:$D$6,MATCH($M34,'Dropdown menus'!$A$1:$A$6,0),$AY$6)","v":{"$error":"#N/A"}},null,{"$f":"IF($N34=\"\",\"\",VLOOKUP($N34,'Reference - Logistics Distance'!$C:$O,BA$4,FALSE))","v":""},{"$f":"IF($N34=\"\",\"\",VLOOKUP($N34,'Reference - Logistics Distance'!$C:$O,BB$4,FALSE))","v":""},{"$f":"IF($N34=\"\",\"\",VLOOKUP($N34,'Reference - Logistics Distance'!$C:$O,BC$4,FALSE))","v":""},{"$f":"IF($N34=\"\",\"\",VLOOKUP($N34,'Reference - Logistics Distance'!$C:$O,BD$4,FALSE))","v":""},{"$f":"IF($N34=\"\",\"\",VLOOKUP($N34,'Reference - Logistics Distance'!$C:$O,BE$4,FALSE))","v":""},{"$f":"IF($N34=\"\",\"\",VLOOKUP($N34,'Reference - Logistics Distance'!$C:$O,BF$4,FALSE))","v":""},{"$f":"IF($N34=\"\",\"\",VLOOKUP($N34,'Reference - Logistics Distance'!$C:$O,BG$4,FALSE))","v":""},{"$f":"IF($N34=\"\",\"\",VLOOKUP($N34,'Reference - Logistics Distance'!$C:$O,BH$4,FALSE))","v":""},{"$f":"IF($N34=\"\",\"\",VLOOKUP($N34,'Reference - Logistics Distance'!$C:$O,BI$4,FALSE))","v":""},null,{"$f":"IF($N34=\"\",\"\",VLOOKUP($N34,'Reference - Logistics Distance'!$C:$O,BK$4,FALSE))","v":""},null,{"$f":"IF($N34=\"\",\"\",VLOOKUP($N34,'Reference - Logistics Distance'!$C:$O,BM$4,FALSE))","v":""},null,"","","","","","","","",null,"",null,"","",null,""]
[null,null,null,null,null,null,null,null,null,null,null,null,null,null,null,null,null,{"$f":"INDEX('Dropdown menus'!$A$1:$D$6,MATCH($E35,'Dropdown menus'!$A$1:$A$6,0),$R$6)","v":{"$error":"#N/A"}},null,{"$f":"IF($F35=\"\",\"\",VLOOKUP($F35,'Reference Data - Transport fuel'!$C:$O,T$4,FALSE))","v":""},{"$f":"IF($F35=\"\",\"\",VLOOKUP($F35,'Reference Data - Transport fuel'!$C:$O,U$4,FALSE))","v":""},{"$f":"IF($F35=\"\",\"\",VLOOKUP($F35,'Reference Data - Transport fuel'!$C:$O,V$4,FALSE))","v":""},{"$f":"IF($F35=\"\",\"\",VLOOKUP($F35,'Reference Data - Transport fuel'!$C:$O,W$4,FALSE))","v":""},{"$f":"IF($F35=\"\",\"\",VLOOKUP($F35,'Reference Data - Transport fuel'!$C:$O,X$4,FALSE))","v":""},{"$f":"IF($F35=\"\",\"\",VLOOKUP($F35,'Reference Data - Transport fuel'!$C:$O,Y$4,FALSE))","v":""},{"$f":"IF($F35=\"\",\"\",VLOOKUP($F35,'Reference Data - Transport fuel'!$C:$O,Z$4,FALSE))","v":""},{"$f":"IF($F35=\"\",\"\",VLOOKUP($F35,'Reference Data - Transport fuel'!$C:$O,AA$4,FALSE))","v":""},{"$f":"IF($F35=\"\",\"\",VLOOKUP($F35,'Reference Data - Transport fuel'!$C:$O,AB$4,FALSE))","v":""},null,{"$f":"IF($F35=\"\",\"\",VLOOKUP($F35,'Reference Data - Transport fuel'!$C:$O,AD$4,FALSE))","v":""},null,{"$f":"IF($F35=\"\",\"\",VLOOKUP($F35,'Reference Data - Transport fuel'!$C:$O,AF$4,FALSE))","v":""},null,"","","","","","","","",null,"",null,"","",null,"",null,null,{"$f":"INDEX('Dropdown menus'!$A$1:$D$6,MATCH($M35,'Dropdown menus'!$A$1:$A$6,0),$AY$6)","v":{"$error":"#N/A"}},null,{"$f":"IF($N35=\"\",\"\",VLOOKUP($N35,'Reference - Logistics Distance'!$C:$O,BA$4,FALSE))","v":""},{"$f":"IF($N35=\"\",\"\",VLOOKUP($N35,'Reference - Logistics Distance'!$C:$O,BB$4,FALSE))","v":""},{"$f":"IF($N35=\"\",\"\",VLOOKUP($N35,'Reference - Logistics Distance'!$C:$O,BC$4,FALSE))","v":""},{"$f":"IF($N35=\"\",\"\",VLOOKUP($N35,'Reference - Logistics Distance'!$C:$O,BD$4,FALSE))","v":""},{"$f":"IF($N35=\"\",\"\",VLOOKUP($N35,'Reference - Logistics Distance'!$C:$O,BE$4,FALSE))","v":""},{"$f":"IF($N35=\"\",\"\",VLOOKUP($N35,'Reference - Logistics Distance'!$C:$O,BF$4,FALSE))","v":""},{"$f":"IF($N35=\"\",\"\",VLOOKUP($N35,'Reference - Logistics Distance'!$C:$O,BG$4,FALSE))","v":""},{"$f":"IF($N35=\"\",\"\",VLOOKUP($N35,'Reference - Logistics Distance'!$C:$O,BH$4,FALSE))","v":""},{"$f":"IF($N35=\"\",\"\",VLOOKUP($N35,'Reference - Logistics Distance'!$C:$O,BI$4,FALSE))","v":""},null,{"$f":"IF($N35=\"\",\"\",VLOOKUP($N35,'Reference - Logistics Distance'!$C:$O,BK$4,FALSE))","v":""},null,{"$f":"IF($N35=\"\",\"\",VLOOKUP($N35,'Reference - Logistics Distance'!$C:$O,BM$4,FALSE))","v":""},null,"","","","","","","","",null,"",null,"","",null,""]
[null,null,null,null,null,null,null,null,null,null,null,null,null,null,null,null,null,{"$f":"INDEX('Dropdown menus'!$A$1:$D$6,MATCH($E36,'Dropdown menus'!$A$1:$A$6,0),$R$6)","v":{"$error":"#N/A"}},null,{"$f":"IF($F36=\"\",\"\",VLOOKUP($F36,'Reference Data - Transport fuel'!$C:$O,T$4,FALSE))","v":""},{"$f":"IF($F36=\"\",\"\",VLOOKUP($F36,'Reference Data - Transport fuel'!$C:$O,U$4,FALSE))","v":""},{"$f":"IF($F36=\"\",\"\",VLOOKUP($F36,'Reference Data - Transport fuel'!$C:$O,V$4,FALSE))","v":""},{"$f":"IF($F36=\"\",\"\",VLOOKUP($F36,'Reference Data - Transport fuel'!$C:$O,W$4,FALSE))","v":""},{"$f":"IF($F36=\"\",\"\",VLOOKUP($F36,'Reference Data - Transport fuel'!$C:$O,X$4,FALSE))","v":""},{"$f":"IF($F36=\"\",\"\",VLOOKUP($F36,'Reference Data - Transport fuel'!$C:$O,Y$4,FALSE))","v":""},{"$f":"IF($F36=\"\",\"\",VLOOKUP($F36,'Reference Data - Transport fuel'!$C:$O,Z$4,FALSE))","v":""},{"$f":"IF($F36=\"\",\"\",VLOOKUP($F36,'Reference Data - Transport fuel'!$C:$O,AA$4,FALSE))","v":""},{"$f":"IF($F36=\"\",\"\",VLOOKUP($F36,'Reference Data - Transport fuel'!$C:$O,AB$4,FALSE))","v":""},null,{"$f":"IF($F36=\"\",\"\",VLOOKUP($F36,'Reference Data - Transport fuel'!$C:$O,AD$4,FALSE))","v":""},null,{"$f":"IF($F36=\"\",\"\",VLOOKUP($F36,'Reference Data - Transport fuel'!$C:$O,AF$4,FALSE))","v":""},null,"","","","","","","","",null,"",null,"","",null,"",null,null,{"$f":"INDEX('Dropdown menus'!$A$1:$D$6,MATCH($M36,'Dropdown menus'!$A$1:$A$6,0),$AY$6)","v":{"$error":"#N/A"}},null,{"$f":"IF($N36=\"\",\"\",VLOOKUP($N36,'Reference - Logistics Distance'!$C:$O,BA$4,FALSE))","v":""},{"$f":"IF($N36=\"\",\"\",VLOOKUP($N36,'Reference - Logistics Distance'!$C:$O,BB$4,FALSE))","v":""},{"$f":"IF($N36=\"\",\"\",VLOOKUP($N36,'Reference - Logistics Distance'!$C:$O,BC$4,FALSE))","v":""},{"$f":"IF($N36=\"\",\"\",VLOOKUP($N36,'Reference - Logistics Distance'!$C:$O,BD$4,FALSE))","v":""},{"$f":"IF($N36=\"\",\"\",VLOOKUP($N36,'Reference - Logistics Distance'!$C:$O,BE$4,FALSE))","v":""},{"$f":"IF($N36=\"\",\"\",VLOOKUP($N36,'Reference - Logistics Distance'!$C:$O,BF$4,FALSE))","v":""},{"$f":"IF($N36=\"\",\"\",VLOOKUP($N36,'Reference - Logistics Distance'!$C:$O,BG$4,FALSE))","v":""},{"$f":"IF($N36=\"\",\"\",VLOOKUP($N36,'Reference - Logistics Distance'!$C:$O,BH$4,FALSE))","v":""},{"$f":"IF($N36=\"\",\"\",VLOOKUP($N36,'Reference - Logistics Distance'!$C:$O,BI$4,FALSE))","v":""},null,{"$f":"IF($N36=\"\",\"\",VLOOKUP($N36,'Reference - Logistics Distance'!$C:$O,BK$4,FALSE))","v":""},null,{"$f":"IF($N36=\"\",\"\",VLOOKUP($N36,'Reference - Logistics Distance'!$C:$O,BM$4,FALSE))","v":""},null,"","","","","","","","",null,"",null,"","",null,""]
[null,null,null,null,null,null,null,null,null,null,null,null,null,null,null,null,null,{"$f":"INDEX('Dropdown menus'!$A$1:$D$6,MATCH($E37,'Dropdown menus'!$A$1:$A$6,0),$R$6)","v":{"$error":"#N/A"}},null,{"$f":"IF($F37=\"\",\"\",VLOOKUP($F37,'Reference Data - Transport fuel'!$C:$O,T$4,FALSE))","v":""},{"$f":"IF($F37=\"\",\"\",VLOOKUP($F37,'Reference Data - Transport fuel'!$C:$O,U$4,FALSE))","v":""},{"$f":"IF($F37=\"\",\"\",VLOOKUP($F37,'Reference Data - Transport fuel'!$C:$O,V$4,FALSE))","v":""},{"$f":"IF($F37=\"\",\"\",VLOOKUP($F37,'Reference Data - Transport fuel'!$C:$O,W$4,FALSE))","v":""},{"$f":"IF($F37=\"\",\"\",VLOOKUP($F37,'Reference Data - Transport fuel'!$C:$O,X$4,FALSE))","v":""},{"$f":"IF($F37=\"\",\"\",VLOOKUP($F37,'Reference Data - Transport fuel'!$C:$O,Y$4,FALSE))","v":""},{"$f":"IF($F37=\"\",\"\",VLOOKUP($F37,'Reference Data - Transport fuel'!$C:$O,Z$4,FALSE))","v":""},{"$f":"IF($F37=\"\",\"\",VLOOKUP($F37,'Reference Data - Transport fuel'!$C:$O,AA$4,FALSE))","v":""},{"$f":"IF($F37=\"\",\"\",VLOOKUP($F37,'Reference Data - Transport fuel'!$C:$O,AB$4,FALSE))","v":""},null,{"$f":"IF($F37=\"\",\"\",VLOOKUP($F37,'Reference Data - Transport fuel'!$C:$O,AD$4,FALSE))","v":""},null,{"$f":"IF($F37=\"\",\"\",VLOOKUP($F37,'Reference Data - Transport fuel'!$C:$O,AF$4,FALSE))","v":""},null,"","","","","","","","",null,"",null,"","",null,"",null,null,{"$f":"INDEX('Dropdown menus'!$A$1:$D$6,MATCH($M37,'Dropdown menus'!$A$1:$A$6,0),$AY$6)","v":{"$error":"#N/A"}},null,{"$f":"IF($N37=\"\",\"\",VLOOKUP($N37,'Reference - Logistics Distance'!$C:$O,BA$4,FALSE))","v":""},{"$f":"IF($N37=\"\",\"\",VLOOKUP($N37,'Reference - Logistics Distance'!$C:$O,BB$4,FALSE))","v":""},{"$f":"IF($N37=\"\",\"\",VLOOKUP($N37,'Reference - Logistics Distance'!$C:$O,BC$4,FALSE))","v":""},{"$f":"IF($N37=\"\",\"\",VLOOKUP($N37,'Reference - Logistics Distance'!$C:$O,BD$4,FALSE))","v":""},{"$f":"IF($N37=\"\",\"\",VLOOKUP($N37,'Reference - Logistics Distance'!$C:$O,BE$4,FALSE))","v":""},{"$f":"IF($N37=\"\",\"\",VLOOKUP($N37,'Reference - Logistics Distance'!$C:$O,BF$4,FALSE))","v":""},{"$f":"IF($N37=\"\",\"\",VLOOKUP($N37,'Reference - Logistics Distance'!$C:$O,BG$4,FALSE))","v":""},{"$f":"IF($N37=\"\",\"\",VLOOKUP($N37,'Reference - Logistics Distance'!$C:$O,BH$4,FALSE))","v":""},{"$f":"IF($N37=\"\",\"\",VLOOKUP($N37,'Reference - Logistics Distance'!$C:$O,BI$4,FALSE))","v":""},null,{"$f":"IF($N37=\"\",\"\",VLOOKUP($N37,'Reference - Logistics Distance'!$C:$O,BK$4,FALSE))","v":""},null,{"$f":"IF($N37=\"\",\"\",VLOOKUP($N37,'Reference - Logistics Distance'!$C:$O,BM$4,FALSE))","v":""},null,"","","","","","","","",null,"",null,"","",null,""]
[null,null,null,null,null,null,null,null,null,null,null,null,null,null,null,null,null,{"$f":"INDEX('Dropdown menus'!$A$1:$D$6,MATCH($E38,'Dropdown menus'!$A$1:$A$6,0),$R$6)","v":{"$error":"#N/A"}},null,{"$f":"IF($F38=\"\",\"\",VLOOKUP($F38,'Reference Data - Transport fuel'!$C:$O,T$4,FALSE))","v":""},{"$f":"IF($F38=\"\",\"\",VLOOKUP($F38,'Reference Data - Transport fuel'!$C:$O,U$4,FALSE))","v":""},{"$f":"IF($F38=\"\",\"\",VLOOKUP($F38,'Reference Data - Transport fuel'!$C:$O,V$4,FALSE))","v":""},{"$f":"IF($F38=\"\",\"\",VLOOKUP($F38,'Reference Data - Transport fuel'!$C:$O,W$4,FALSE))","v":""},{"$f":"IF($F38=\"\",\"\",VLOOKUP($F38,'Reference Data - Transport fuel'!$C:$O,X$4,FALSE))","v":""},{"$f":"IF($F38=\"\",\"\",VLOOKUP($F38,'Reference Data - Transport fuel'!$C:$O,Y$4,FALSE))","v":""},{"$f":"IF($F38=\"\",\"\",VLOOKUP($F38,'Reference Data - Transport fuel'!$C:$O,Z$4,FALSE))","v":""},{"$f":"IF($F38=\"\",\"\",VLOOKUP($F38,'Reference Data - Transport fuel'!$C:$O,AA$4,FALSE))","v":""},{"$f":"IF($F38=\"\",\"\",VLOOKUP($F38,'Reference Data - Transport fuel'!$C:$O,AB$4,FALSE))","v":""},null,{"$f":"IF($F38=\"\",\"\",VLOOKUP($F38,'Reference Data - Transport fuel'!$C:$O,AD$4,FALSE))","v":""},null,{"$f":"IF($F38=\"\",\"\",VLOOKUP($F38,'Reference Data - Transport fuel'!$C:$O,AF$4,FALSE))","v":""},null,"","","","","","","","",null,"",null,"","",null,"",null,null,{"$f":"INDEX('Dropdown menus'!$A$1:$D$6,MATCH($M38,'Dropdown menus'!$A$1:$A$6,0),$AY$6)","v":{"$error":"#N/A"}},null,{"$f":"IF($N38=\"\",\"\",VLOOKUP($N38,'Reference - Logistics Distance'!$C:$O,BA$4,FALSE))","v":""},{"$f":"IF($N38=\"\",\"\",VLOOKUP($N38,'Reference - Logistics Distance'!$C:$O,BB$4,FALSE))","v":""},{"$f":"IF($N38=\"\",\"\",VLOOKUP($N38,'Reference - Logistics Distance'!$C:$O,BC$4,FALSE))","v":""},{"$f":"IF($N38=\"\",\"\",VLOOKUP($N38,'Reference - Logistics Distance'!$C:$O,BD$4,FALSE))","v":""},{"$f":"IF($N38=\"\",\"\",VLOOKUP($N38,'Reference - Logistics Distance'!$C:$O,BE$4,FALSE))","v":""},{"$f":"IF($N38=\"\",\"\",VLOOKUP($N38,'Reference - Logistics Distance'!$C:$O,BF$4,FALSE))","v":""},{"$f":"IF($N38=\"\",\"\",VLOOKUP($N38,'Reference - Logistics Distance'!$C:$O,BG$4,FALSE))","v":""},{"$f":"IF($N38=\"\",\"\",VLOOKUP($N38,'Reference - Logistics Distance'!$C:$O,BH$4,FALSE))","v":""},{"$f":"IF($N38=\"\",\"\",VLOOKUP($N38,'Reference - Logistics Distance'!$C:$O,BI$4,FALSE))","v":""},null,{"$f":"IF($N38=\"\",\"\",VLOOKUP($N38,'Reference - Logistics Distance'!$C:$O,BK$4,FALSE))","v":""},null,{"$f":"IF($N38=\"\",\"\",VLOOKUP($N38,'Reference - Logistics Distance'!$C:$O,BM$4,FALSE))","v":""},null,"","","","","","","","",null,"",null,"","",null,""]
[null,null,null,null,null,null,null,null,null,null,null,null,null,null,null,null,null,{"$f":"INDEX('Dropdown menus'!$A$1:$D$6,MATCH($E39,'Dropdown menus'!$A$1:$A$6,0),$R$6)","v":{"$error":"#N/A"}},null,{"$f":"IF($F39=\"\",\"\",VLOOKUP($F39,'Reference Data - Transport fuel'!$C:$O,T$4,FALSE))","v":""},{"$f":"IF($F39=\"\",\"\",VLOOKUP($F39,'Reference Data - Transport fuel'!$C:$O,U$4,FALSE))","v":""},{"$f":"IF($F39=\"\",\"\",VLOOKUP($F39,'Reference Data - Transport fuel'!$C:$O,V$4,FALSE))","v":""},{"$f":"IF($F39=\"\",\"\",VLOOKUP($F39,'Reference Data - Transport fuel'!$C:$O,W$4,FALSE))","v":""},{"$f":"IF($F39=\"\",\"\",VLOOKUP($F39,'Reference Data - Transport fuel'!$C:$O,X$4,FALSE))","v":""},{"$f":"IF($F39=\"\",\"\",VLOOKUP($F39,'Reference Data - Transport fuel'!$C:$O,Y$4,FALSE))","v":""},{"$f":"IF($F39=\"\",\"\",VLOOKUP($F39,'Reference Data - Transport fuel'!$C:$O,Z$4,FALSE))","v":""},{"$f":"IF($F39=\"\",\"\",VLOOKUP($F39,'Reference Data - Transport fuel'!$C:$O,AA$4,FALSE))","v":""},{"$f":"IF($F39=\"\",\"\",VLOOKUP($F39,'Reference Data - Transport fuel'!$C:$O,AB$4,FALSE))","v":""},null,{"$f":"IF($F39=\"\",\"\",VLOOKUP($F39,'Reference Data - Transport fuel'!$C:$O,AD$4,FALSE))","v":""},null,{"$f":"IF($F39=\"\",\"\",VLOOKUP($F39,'Reference Data - Transport fuel'!$C:$O,AF$4,FALSE))","v":""},null,"","","","","","","","",null,"",null,"","",null,"",null,null,{"$f":"INDEX('Dropdown menus'!$A$1:$D$6,MATCH($M39,'Dropdown menus'!$A$1:$A$6,0),$AY$6)","v":{"$error":"#N/A"}},null,{"$f":"IF($N39=\"\",\"\",VLOOKUP($N39,'Reference - Logistics Distance'!$C:$O,BA$4,FALSE))","v":""},{"$f":"IF($N39=\"\",\"\",VLOOKUP($N39,'Reference - Logistics Distance'!$C:$O,BB$4,FALSE))","v":""},{"$f":"IF($N39=\"\",\"\",VLOOKUP($N39,'Reference - Logistics Distance'!$C:$O,BC$4,FALSE))","v":""},{"$f":"IF($N39=\"\",\"\",VLOOKUP($N39,'Reference - Logistics Distance'!$C:$O,BD$4,FALSE))","v":""},{"$f":"IF($N39=\"\",\"\",VLOOKUP($N39,'Reference - Logistics Distance'!$C:$O,BE$4,FALSE))","v":""},{"$f":"IF($N39=\"\",\"\",VLOOKUP($N39,'Reference - Logistics Distance'!$C:$O,BF$4,FALSE))","v":""},{"$f":"IF($N39=\"\",\"\",VLOOKUP($N39,'Reference - Logistics Distance'!$C:$O,BG$4,FALSE))","v":""},{"$f":"IF($N39=\"\",\"\",VLOOKUP($N39,'Reference - Logistics Distance'!$C:$O,BH$4,FALSE))","v":""},{"$f":"IF($N39=\"\",\"\",VLOOKUP($N39,'Reference - Logistics Distance'!$C:$O,BI$4,FALSE))","v":""},null,{"$f":"IF($N39=\"\",\"\",VLOOKUP($N39,'Reference - Logistics Distance'!$C:$O,BK$4,FALSE))","v":""},null,{"$f":"IF($N39=\"\",\"\",VLOOKUP($N39,'Reference - Logistics Distance'!$C:$O,BM$4,FALSE))","v":""},null,"","","","","","","","",null,"",null,"","",null,""]
[null,null,null,null,null,null,null,null,null,null,null,null,null,null,null,null,null,{"$f":"INDEX('Dropdown menus'!$A$1:$D$6,MATCH($E40,'Dropdown menus'!$A$1:$A$6,0),$R$6)","v":{"$error":"#N/A"}},null,{"$f":"IF($F40=\"\",\"\",VLOOKUP($F40,'Reference Data - Transport fuel'!$C:$O,T$4,FALSE))","v":""},{"$f":"IF($F40=\"\",\"\",VLOOKUP($F40,'Reference Data - Transport fuel'!$C:$O,U$4,FALSE))","v":""},{"$f":"IF($F40=\"\",\"\",VLOOKUP($F40,'Reference Data - Transport fuel'!$C:$O,V$4,FALSE))","v":""},{"$f":"IF($F40=\"\",\"\",VLOOKUP($F40,'Reference Data - Transport fuel'!$C:$O,W$4,FALSE))","v":""},{"$f":"IF($F40=\"\",\"\",VLOOKUP($F40,'Reference Data - Transport fuel'!$C:$O,X$4,FALSE))","v":""},{"$f":"IF($F40=\"\",\"\",VLOOKUP($F40,'Reference Data - Transport fuel'!$C:$O,Y$4,FALSE))","v":""},{"$f":"IF($F40=\"\",\"\",VLOOKUP($F40,'Reference Data - Transport fuel'!$C:$O,Z$4,FALSE))","v":""},{"$f":"IF($F40=\"\",\"\",VLOOKUP($F40,'Reference Data - Transport fuel'!$C:$O,AA$4,FALSE))","v":""},{"$f":"IF($F40=\"\",\"\",VLOOKUP($F40,'Reference Data - Transport fuel'!$C:$O,AB$4,FALSE))","v":""},null,{"$f":"IF($F40=\"\",\"\",VLOOKUP($F40,'Reference Data - Transport fuel'!$C:$O,AD$4,FALSE))","v":""},null,{"$f":"IF($F40=\"\",\"\",VLOOKUP($F40,'Reference Data - Transport fuel'!$C:$O,AF$4,FALSE))","v":""},null,"","","","","","","","",null,"",null,"","",null,"",null,null,{"$f":"INDEX('Dropdown menus'!$A$1:$D$6,MATCH($M40,'Dropdown menus'!$A$1:$A$6,0),$AY$6)","v":{"$error":"#N/A"}},null,{"$f":"IF($N40=\"\",\"\",VLOOKUP($N40,'Reference - Logistics Distance'!$C:$O,BA$4,FALSE))","v":""},{"$f":"IF($N40=\"\",\"\",VLOOKUP($N40,'Reference - Logistics Distance'!$C:$O,BB$4,FALSE))","v":""},{"$f":"IF($N40=\"\",\"\",VLOOKUP($N40,'Reference - Logistics Distance'!$C:$O,BC$4,FALSE))","v":""},{"$f":"IF($N40=\"\",\"\",VLOOKUP($N40,'Reference - Logistics Distance'!$C:$O,BD$4,FALSE))","v":""},{"$f":"IF($N40=\"\",\"\",VLOOKUP($N40,'Reference - Logistics Distance'!$C:$O,BE$4,FALSE))","v":""},{"$f":"IF($N40=\"\",\"\",VLOOKUP($N40,'Reference - Logistics Distance'!$C:$O,BF$4,FALSE))","v":""},{"$f":"IF($N40=\"\",\"\",VLOOKUP($N40,'Reference - Logistics Distance'!$C:$O,BG$4,FALSE))","v":""},{"$f":"IF($N40=\"\",\"\",VLOOKUP($N40,'Reference - Logistics Distance'!$C:$O,BH$4,FALSE))","v":""},{"$f":"IF($N40=\"\",\"\",VLOOKUP($N40,'Reference - Logistics Distance'!$C:$O,BI$4,FALSE))","v":""},null,{"$f":"IF($N40=\"\",\"\",VLOOKUP($N40,'Reference - Logistics Distance'!$C:$O,BK$4,FALSE))","v":""},null,{"$f":"IF($N40=\"\",\"\",VLOOKUP($N40,'Reference - Logistics Distance'!$C:$O,BM$4,FALSE))","v":""},null,"","","","","","","","",null,"",null,"","",null,""]
[null,null,null,null,null,null,null,null,null,null,null,null,null,null,null,null,null,{"$f":"INDEX('Dropdown menus'!$A$1:$D$6,MATCH($E41,'Dropdown menus'!$A$1:$A$6,0),$R$6)","v":{"$error":"#N/A"}},null,{"$f":"IF($F41=\"\",\"\",VLOOKUP($F41,'Reference Data - Transport fuel'!$C:$O,T$4,FALSE))","v":""},{"$f":"IF($F41=\"\",\"\",VLOOKUP($F41,'Reference Data - Transport fuel'!$C:$O,U$4,FALSE))","v":""},{"$f":"IF($F41=\"\",\"\",VLOOKUP($F41,'Reference Data - Transport fuel'!$C:$O,V$4,FALSE))","v":""},{"$f":"IF($F41=\"\",\"\",VLOOKUP($F41,'Reference Data - Transport fuel'!$C:$O,W$4,FALSE))","v":""},{"$f":"IF($F41=\"\",\"\",VLOOKUP($F41,'Reference Data - Transport fuel'!$C:$O,X$4,FALSE))","v":""},{"$f":"IF($F41=\"\",\"\",VLOOKUP($F41,'Reference Data - Transport fuel'!$C:$O,Y$4,FALSE))","v":""},{"$f":"IF($F41=\"\",\"\",VLOOKUP($F41,'Reference Data - Transport fuel'!$C:$O,Z$4,FALSE))","v":""},{"$f":"IF($F41=\"\",\"\",VLOOKUP($F41,'Reference Data - Transport fuel'!$C:$O,AA$4,FALSE))","v":""},{"$f":"IF($F41=\"\",\"\",VLOOKUP($F41,'Reference Data - Transport fuel'!$C:$O,AB$4,FALSE))","v":""},null,{"$f":"IF($F41=\"\",\"\",VLOOKUP($F41,'Reference Data - Transport fuel'!$C:$O,AD$4,FALSE))","v":""},null,{"$f":"IF($F41=\"\",\"\",VLOOKUP($F41,'Reference Data - Transport fuel'!$C:$O,AF$4,FALSE))","v":""},null,"","","","","","","","",null,"",null,"","",null,"",null,null,{"$f":"INDEX('Dropdown menus'!$A$1:$D$6,MATCH($M41,'Dropdown menus'!$A$1:$A$6,0),$AY$6)","v":{"$error":"#N/A"}},null,{"$f":"IF($N41=\"\",\"\",VLOOKUP($N41,'Reference - Logistics Distance'!$C:$O,BA$4,FALSE))","v":""},{"$f":"IF($N41=\"\",\"\",VLOOKUP($N41,'Reference - Logistics Distance'!$C:$O,BB$4,FALSE))","v":""},{"$f":"IF($N41=\"\",\"\",VLOOKUP($N41,'Reference - Logistics Distance'!$C:$O,BC$4,FALSE))","v":""},{"$f":"IF($N41=\"\",\"\",VLOOKUP($N41,'Reference - Logistics Distance'!$C:$O,BD$4,FALSE))","v":""},{"$f":"IF($N41=\"\",\"\",VLOOKUP($N41,'Reference - Logistics Distance'!$C:$O,BE$4,FALSE))","v":""},{"$f":"IF($N41=\"\",\"\",VLOOKUP($N41,'Reference - Logistics Distance'!$C:$O,BF$4,FALSE))","v":""},{"$f":"IF($N41=\"\",\"\",VLOOKUP($N41,'Reference - Logistics Distance'!$C:$O,BG$4,FALSE))","v":""},{"$f":"IF($N41=\"\",\"\",VLOOKUP($N41,'Reference - Logistics Distance'!$C:$O,BH$4,FALSE))","v":""},{"$f":"IF($N41=\"\",\"\",VLOOKUP($N41,'Reference - Logistics Distance'!$C:$O,BI$4,FALSE))","v":""},null,{"$f":"IF($N41=\"\",\"\",VLOOKUP($N41,'Reference - Logistics Distance'!$C:$O,BK$4,FALSE))","v":""},null,{"$f":"IF($N41=\"\",\"\",VLOOKUP($N41,'Reference - Logistics Distance'!$C:$O,BM$4,FALSE))","v":""},null,"","","","","","","","",null,"",null,"","",null,""]
[null,null,null,null,null,null,null,null,null,null,null,null,null,null,null,null,null,{"$f":"INDEX('Dropdown menus'!$A$1:$D$6,MATCH($E42,'Dropdown menus'!$A$1:$A$6,0),$R$6)","v":{"$error":"#N/A"}},null,{"$f":"IF($F42=\"\",\"\",VLOOKUP($F42,'Reference Data - Transport fuel'!$C:$O,T$4,FALSE))","v":""},{"$f":"IF($F42=\"\",\"\",VLOOKUP($F42,'Reference Data - Transport fuel'!$C:$O,U$4,FALSE))","v":""},{"$f":"IF($F42=\"\",\"\",VLOOKUP($F42,'Reference Data - Transport fuel'!$C:$O,V$4,FALSE))","v":""},{"$f":"IF($F42=\"\",\"\",VLOOKUP($F42,'Reference Data - Transport fuel'!$C:$O,W$4,FALSE))","v":""},{"$f":"IF($F42=\"\",\"\",VLOOKUP($F42,'Reference Data - Transport fuel'!$C:$O,X$4,FALSE))","v":""},{"$f":"IF($F42=\"\",\"\",VLOOKUP($F42,'Reference Data - Transport fuel'!$C:$O,Y$4,FALSE))","v":""},{"$f":"IF($F42=\"\",\"\",VLOOKUP($F42,'Reference Data - Transport fuel'!$C:$O,Z$4,FALSE))","v":""},{"$f":"IF($F42=\"\",\"\",VLOOKUP($F42,'Reference Data - Transport fuel'!$C:$O,AA$4,FALSE))","v":""},{"$f":"IF($F42=\"\",\"\",VLOOKUP($F42,'Reference Data - Transport fuel'!$C:$O,AB$4,FALSE))","v":""},null,{"$f":"IF($F42=\"\",\"\",VLOOKUP($F42,'Reference Data - Transport fuel'!$C:$O,AD$4,FALSE))","v":""},null,{"$f":"IF($F42=\"\",\"\",VLOOKUP($F42,'Reference Data - Transport fuel'!$C:$O,AF$4,FALSE))","v":""},null,"","","","","","","","",null,"",null,"","",null,"",null,null,{"$f":"INDEX('Dropdown menus'!$A$1:$D$6,MATCH($M42,'Dropdown menus'!$A$1:$A$6,0),$AY$6)","v":{"$error":"#N/A"}},null,{"$f":"IF($N42=\"\",\"\",VLOOKUP($N42,'Reference - Logistics Distance'!$C:$O,BA$4,FALSE))","v":""},{"$f":"IF($N42=\"\",\"\",VLOOKUP($N42,'Reference - Logistics Distance'!$C:$O,BB$4,FALSE))","v":""},{"$f":"IF($N42=\"\",\"\",VLOOKUP($N42,'Reference - Logistics Distance'!$C:$O,BC$4,FALSE))","v":""},{"$f":"IF($N42=\"\",\"\",VLOOKUP($N42,'Reference - Logistics Distance'!$C:$O,BD$4,FALSE))","v":""},{"$f":"IF($N42=\"\",\"\",VLOOKUP($N42,'Reference - Logistics Distance'!$C:$O,BE$4,FALSE))","v":""},{"$f":"IF($N42=\"\",\"\",VLOOKUP($N42,'Reference - Logistics Distance'!$C:$O,BF$4,FALSE))","v":""},{"$f":"IF($N42=\"\",\"\",VLOOKUP($N42,'Reference - Logistics Distance'!$C:$O,BG$4,FALSE))","v":""},{"$f":"IF($N42=\"\",\"\",VLOOKUP($N42,'Reference - Logistics Distance'!$C:$O,BH$4,FALSE))","v":""},{"$f":"IF($N42=\"\",\"\",VLOOKUP($N42,'Reference - Logistics Distance'!$C:$O,BI$4,FALSE))","v":""},null,{"$f":"IF($N42=\"\",\"\",VLOOKUP($N42,'Reference - Logistics Distance'!$C:$O,BK$4,FALSE))","v":""},null,{"$f":"IF($N42=\"\",\"\",VLOOKUP($N42,'Reference - Logistics Distance'!$C:$O,BM$4,FALSE))","v":""},null,"","","","","","","","",null,"",null,"","",null,""]
[null,null,null,null,null,null,null,null,null,null,null,null,null,null,null,null,null,{"$f":"INDEX('Dropdown menus'!$A$1:$D$6,MATCH($E43,'Dropdown menus'!$A$1:$A$6,0),$R$6)","v":{"$error":"#N/A"}},null,{"$f":"IF($F43=\"\",\"\",VLOOKUP($F43,'Reference Data - Transport fuel'!$C:$O,T$4,FALSE))","v":""},{"$f":"IF($F43=\"\",\"\",VLOOKUP($F43,'Reference Data - Transport fuel'!$C:$O,U$4,FALSE))","v":""},{"$f":"IF($F43=\"\",\"\",VLOOKUP($F43,'Reference Data - Transport fuel'!$C:$O,V$4,FALSE))","v":""},{"$f":"IF($F43=\"\",\"\",VLOOKUP($F43,'Reference Data - Transport fuel'!$C:$O,W$4,FALSE))","v":""},{"$f":"IF($F43=\"\",\"\",VLOOKUP($F43,'Reference Data - Transport fuel'!$C:$O,X$4,FALSE))","v":""},{"$f":"IF($F43=\"\",\"\",VLOOKUP($F43,'Reference Data - Transport fuel'!$C:$O,Y$4,FALSE))","v":""},{"$f":"IF($F43=\"\",\"\",VLOOKUP($F43,'Reference Data - Transport fuel'!$C:$O,Z$4,FALSE))","v":""},{"$f":"IF($F43=\"\",\"\",VLOOKUP($F43,'Reference Data - Transport fuel'!$C:$O,AA$4,FALSE))","v":""},{"$f":"IF($F43=\"\",\"\",VLOOKUP($F43,'Reference Data - Transport fuel'!$C:$O,AB$4,FALSE))","v":""},null,{"$f":"IF($F43=\"\",\"\",VLOOKUP($F43,'Reference Data - Transport fuel'!$C:$O,AD$4,FALSE))","v":""},null,{"$f":"IF($F43=\"\",\"\",VLOOKUP($F43,'Reference Data - Transport fuel'!$C:$O,AF$4,FALSE))","v":""},null,"","","","","","","","",null,"",null,"","",null,"",null,null,{"$f":"INDEX('Dropdown menus'!$A$1:$D$6,MATCH($M43,'Dropdown menus'!$A$1:$A$6,0),$AY$6)","v":{"$error":"#N/A"}},null,{"$f":"IF($N43=\"\",\"\",VLOOKUP($N43,'Reference - Logistics Distance'!$C:$O,BA$4,FALSE))","v":""},{"$f":"IF($N43=\"\",\"\",VLOOKUP($N43,'Reference - Logistics Distance'!$C:$O,BB$4,FALSE))","v":""},{"$f":"IF($N43=\"\",\"\",VLOOKUP($N43,'Reference - Logistics Distance'!$C:$O,BC$4,FALSE))","v":""},{"$f":"IF($N43=\"\",\"\",VLOOKUP($N43,'Reference - Logistics Distance'!$C:$O,BD$4,FALSE))","v":""},{"$f":"IF($N43=\"\",\"\",VLOOKUP($N43,'Reference - Logistics Distance'!$C:$O,BE$4,FALSE))","v":""},{"$f":"IF($N43=\"\",\"\",VLOOKUP($N43,'Reference - Logistics Distance'!$C:$O,BF$4,FALSE))","v":""},{"$f":"IF($N43=\"\",\"\",VLOOKUP($N43,'Reference - Logistics Distance'!$C:$O,BG$4,FALSE))","v":""},{"$f":"IF($N43=\"\",\"\",VLOOKUP($N43,'Reference - Logistics Distance'!$C:$O,BH$4,FALSE))","v":""},{"$f":"IF($N43=\"\",\"\",VLOOKUP($N43,'Reference - Logistics Distance'!$C:$O,BI$4,FALSE))","v":""},null,{"$f":"IF($N43=\"\",\"\",VLOOKUP($N43,'Reference - Logistics Distance'!$C:$O,BK$4,FALSE))","v":""},null,{"$f":"IF($N43=\"\",\"\",VLOOKUP($N43,'Reference - Logistics Distance'!$C:$O,BM$4,FALSE))","v":""},null,"","","","","","","","",null,"",null,"","",null,""]
[null,null,null,null,null,null,null,null,null,null,null,null,null,null,null,null,null,{"$f":"INDEX('Dropdown menus'!$A$1:$D$6,MATCH($E44,'Dropdown menus'!$A$1:$A$6,0),$R$6)","v":{"$error":"#N/A"}},null,{"$f":"IF($F44=\"\",\"\",VLOOKUP($F44,'Reference Data - Transport fuel'!$C:$O,T$4,FALSE))","v":""},{"$f":"IF($F44=\"\",\"\",VLOOKUP($F44,'Reference Data - Transport fuel'!$C:$O,U$4,FALSE))","v":""},{"$f":"IF($F44=\"\",\"\",VLOOKUP($F44,'Reference Data - Transport fuel'!$C:$O,V$4,FALSE))","v":""},{"$f":"IF($F44=\"\",\"\",VLOOKUP($F44,'Reference Data - Transport fuel'!$C:$O,W$4,FALSE))","v":""},{"$f":"IF($F44=\"\",\"\",VLOOKUP($F44,'Reference Data - Transport fuel'!$C:$O,X$4,FALSE))","v":""},{"$f":"IF($F44=\"\",\"\",VLOOKUP($F44,'Reference Data - Transport fuel'!$C:$O,Y$4,FALSE))","v":""},{"$f":"IF($F44=\"\",\"\",VLOOKUP($F44,'Reference Data - Transport fuel'!$C:$O,Z$4,FALSE))","v":""},{"$f":"IF($F44=\"\",\"\",VLOOKUP($F44,'Reference Data - Transport fuel'!$C:$O,AA$4,FALSE))","v":""},{"$f":"IF($F44=\"\",\"\",VLOOKUP($F44,'Reference Data - Transport fuel'!$C:$O,AB$4,FALSE))","v":""},null,{"$f":"IF($F44=\"\",\"\",VLOOKUP($F44,'Reference Data - Transport fuel'!$C:$O,AD$4,FALSE))","v":""},null,{"$f":"IF($F44=\"\",\"\",VLOOKUP($F44,'Reference Data - Transport fuel'!$C:$O,AF$4,FALSE))","v":""},null,"","","","","","","","",null,"",null,"","",null,"",null,null,{"$f":"INDEX('Dropdown menus'!$A$1:$D$6,MATCH($M44,'Dropdown menus'!$A$1:$A$6,0),$AY$6)","v":{"$error":"#N/A"}},null,{"$f":"IF($N44=\"\",\"\",VLOOKUP($N44,'Reference - Logistics Distance'!$C:$O,BA$4,FALSE))","v":""},{"$f":"IF($N44=\"\",\"\",VLOOKUP($N44,'Reference - Logistics Distance'!$C:$O,BB$4,FALSE))","v":""},{"$f":"IF($N44=\"\",\"\",VLOOKUP($N44,'Reference - Logistics Distance'!$C:$O,BC$4,FALSE))","v":""},{"$f":"IF($N44=\"\",\"\",VLOOKUP($N44,'Reference - Logistics Distance'!$C:$O,BD$4,FALSE))","v":""},{"$f":"IF($N44=\"\",\"\",VLOOKUP($N44,'Reference - Logistics Distance'!$C:$O,BE$4,FALSE))","v":""},{"$f":"IF($N44=\"\",\"\",VLOOKUP($N44,'Reference - Logistics Distance'!$C:$O,BF$4,FALSE))","v":""},{"$f":"IF($N44=\"\",\"\",VLOOKUP($N44,'Reference - Logistics Distance'!$C:$O,BG$4,FALSE))","v":""},{"$f":"IF($N44=\"\",\"\",VLOOKUP($N44,'Reference - Logistics Distance'!$C:$O,BH$4,FALSE))","v":""},{"$f":"IF($N44=\"\",\"\",VLOOKUP($N44,'Reference - Logistics Distance'!$C:$O,BI$4,FALSE))","v":""},null,{"$f":"IF($N44=\"\",\"\",VLOOKUP($N44,'Reference - Logistics Distance'!$C:$O,BK$4,FALSE))","v":""},null,{"$f":"IF($N44=\"\",\"\",VLOOKUP($N44,'Reference - Logistics Distance'!$C:$O,BM$4,FALSE))","v":""},null,"","","","","","","","",null,"",null,"","",null,""]
[null,null,null,null,null,null,null,null,null,null,null,null,null,null,null,null,null,{"$f":"INDEX('Dropdown menus'!$A$1:$D$6,MATCH($E45,'Dropdown menus'!$A$1:$A$6,0),$R$6)","v":{"$error":"#N/A"}},null,{"$f":"IF($F45=\"\",\"\",VLOOKUP($F45,'Reference Data - Transport fuel'!$C:$O,T$4,FALSE))","v":""},{"$f":"IF($F45=\"\",\"\",VLOOKUP($F45,'Reference Data - Transport fuel'!$C:$O,U$4,FALSE))","v":""},{"$f":"IF($F45=\"\",\"\",VLOOKUP($F45,'Reference Data - Transport fuel'!$C:$O,V$4,FALSE))","v":""},{"$f":"IF($F45=\"\",\"\",VLOOKUP($F45,'Reference Data - Transport fuel'!$C:$O,W$4,FALSE))","v":""},{"$f":"IF($F45=\"\",\"\",VLOOKUP($F45,'Reference Data - Transport fuel'!$C:$O,X$4,FALSE))","v":""},{"$f":"IF($F45=\"\",\"\",VLOOKUP($F45,'Reference Data - Transport fuel'!$C:$O,Y$4,FALSE))","v":""},{"$f":"IF($F45=\"\",\"\",VLOOKUP($F45,'Reference Data - Transport fuel'!$C:$O,Z$4,FALSE))","v":""},{"$f":"IF($F45=\"\",\"\",VLOOKUP($F45,'Reference Data - Transport fuel'!$C:$O,AA$4,FALSE))","v":""},{"$f":"IF($F45=\"\",\"\",VLOOKUP($F45,'Reference Data - Transport fuel'!$C:$O,AB$4,FALSE))","v":""},null,{"$f":"IF($F45=\"\",\"\",VLOOKUP($F45,'Reference Data - Transport fuel'!$C:$O,AD$4,FALSE))","v":""},null,{"$f":"IF($F45=\"\",\"\",VLOOKUP($F45,'Reference Data - Transport fuel'!$C:$O,AF$4,FALSE))","v":""},null,"","","","","","","","",null,"",null,"","",null,"",null,null,{"$f":"INDEX('Dropdown menus'!$A$1:$D$6,MATCH($M45,'Dropdown menus'!$A$1:$A$6,0),$AY$6)","v":{"$error":"#N/A"}},null,{"$f":"IF($N45=\"\",\"\",VLOOKUP($N45,'Reference - Logistics Distance'!$C:$O,BA$4,FALSE))","v":""},{"$f":"IF($N45=\"\",\"\",VLOOKUP($N45,'Reference - Logistics Distance'!$C:$O,BB$4,FALSE))","v":""},{"$f":"IF($N45=\"\",\"\",VLOOKUP($N45,'Reference - Logistics Distance'!$C:$O,BC$4,FALSE))","v":""},{"$f":"IF($N45=\"\",\"\",VLOOKUP($N45,'Reference - Logistics Distance'!$C:$O,BD$4,FALSE))","v":""},{"$f":"IF($N45=\"\",\"\",VLOOKUP($N45,'Reference - Logistics Distance'!$C:$O,BE$4,FALSE))","v":""},{"$f":"IF($N45=\"\",\"\",VLOOKUP($N45,'Reference - Logistics Distance'!$C:$O,BF$4,FALSE))","v":""},{"$f":"IF($N45=\"\",\"\",VLOOKUP($N45,'Reference - Logistics Distance'!$C:$O,BG$4,FALSE))","v":""},{"$f":"IF($N45=\"\",\"\",VLOOKUP($N45,'Reference - Logistics Distance'!$C:$O,BH$4,FALSE))","v":""},{"$f":"IF($N45=\"\",\"\",VLOOKUP($N45,'Reference - Logistics Distance'!$C:$O,BI$4,FALSE))","v":""},null,{"$f":"IF($N45=\"\",\"\",VLOOKUP($N45,'Reference - Logistics Distance'!$C:$O,BK$4,FALSE))","v":""},null,{"$f":"IF($N45=\"\",\"\",VLOOKUP($N45,'Reference - Logistics Distance'!$C:$O,BM$4,FALSE))","v":""},null,"","","","","","","","",null,"",null,"","",null,""]
[null,null,null,null,null,null,null,null,null,null,null,null,null,null,null,null,null,{"$f":"INDEX('Dropdown menus'!$A$1:$D$6,MATCH($E46,'Dropdown menus'!$A$1:$A$6,0),$R$6)","v":{"$error":"#N/A"}},null,{"$f":"IF($F46=\"\",\"\",VLOOKUP($F46,'Reference Data - Transport fuel'!$C:$O,T$4,FALSE))","v":""},{"$f":"IF($F46=\"\",\"\",VLOOKUP($F46,'Reference Data - Transport fuel'!$C:$O,U$4,FALSE))","v":""},{"$f":"IF($F46=\"\",\"\",VLOOKUP($F46,'Reference Data - Transport fuel'!$C:$O,V$4,FALSE))","v":""},{"$f":"IF($F46=\"\",\"\",VLOOKUP($F46,'Reference Data - Transport fuel'!$C:$O,W$4,FALSE))","v":""},{"$f":"IF($F46=\"\",\"\",VLOOKUP($F46,'Reference Data - Transport fuel'!$C:$O,X$4,FALSE))","v":""},{"$f":"IF($F46=\"\",\"\",VLOOKUP($F46,'Reference Data - Transport fuel'!$C:$O,Y$4,FALSE))","v":""},{"$f":"IF($F46=\"\",\"\",VLOOKUP($F46,'Reference Data - Transport fuel'!$C:$O,Z$4,FALSE))","v":""},{"$f":"IF($F46=\"\",\"\",VLOOKUP($F46,'Reference Data - Transport fuel'!$C:$O,AA$4,FALSE))","v":""},{"$f":"IF($F46=\"\",\"\",VLOOKUP($F46,'Reference Data - Transport fuel'!$C:$O,AB$4,FALSE))","v":""},null,{"$f":"IF($F46=\"\",\"\",VLOOKUP($F46,'Reference Data - Transport fuel'!$C:$O,AD$4,FALSE))","v":""},null,{"$f":"IF($F46=\"\",\"\",VLOOKUP($F46,'Reference Data - Transport fuel'!$C:$O,AF$4,FALSE))","v":""},null,"","","","","","","","",null,"",null,"","",null,"",null,null,{"$f":"INDEX('Dropdown menus'!$A$1:$D$6,MATCH($M46,'Dropdown menus'!$A$1:$A$6,0),$AY$6)","v":{"$error":"#N/A"}},null,{"$f":"IF($N46=\"\",\"\",VLOOKUP($N46,'Reference - Logistics Distance'!$C:$O,BA$4,FALSE))","v":""},{"$f":"IF($N46=\"\",\"\",VLOOKUP($N46,'Reference - Logistics Distance'!$C:$O,BB$4,FALSE))","v":""},{"$f":"IF($N46=\"\",\"\",VLOOKUP($N46,'Reference - Logistics Distance'!$C:$O,BC$4,FALSE))","v":""},{"$f":"IF($N46=\"\",\"\",VLOOKUP($N46,'Reference - Logistics Distance'!$C:$O,BD$4,FALSE))","v":""},{"$f":"IF($N46=\"\",\"\",VLOOKUP($N46,'Reference - Logistics Distance'!$C:$O,BE$4,FALSE))","v":""},{"$f":"IF($N46=\"\",\"\",VLOOKUP($N46,'Reference - Logistics Distance'!$C:$O,BF$4,FALSE))","v":""},{"$f":"IF($N46=\"\",\"\",VLOOKUP($N46,'Reference - Logistics Distance'!$C:$O,BG$4,FALSE))","v":""},{"$f":"IF($N46=\"\",\"\",VLOOKUP($N46,'Reference - Logistics Distance'!$C:$O,BH$4,FALSE))","v":""},{"$f":"IF($N46=\"\",\"\",VLOOKUP($N46,'Reference - Logistics Distance'!$C:$O,BI$4,FALSE))","v":""},null,{"$f":"IF($N46=\"\",\"\",VLOOKUP($N46,'Reference - Logistics Distance'!$C:$O,BK$4,FALSE))","v":""},null,{"$f":"IF($N46=\"\",\"\",VLOOKUP($N46,'Reference - Logistics Distance'!$C:$O,BM$4,FALSE))","v":""},null,"","","","","","","","",null,"",null,"","",null,""]
[null,null,null,null,null,null,null,null,null,null,null,null,null,null,null,null,null,{"$f":"INDEX('Dropdown menus'!$A$1:$D$6,MATCH($E47,'Dropdown menus'!$A$1:$A$6,0),$R$6)","v":{"$error":"#N/A"}},null,{"$f":"IF($F47=\"\",\"\",VLOOKUP($F47,'Reference Data - Transport fuel'!$C:$O,T$4,FALSE))","v":""},{"$f":"IF($F47=\"\",\"\",VLOOKUP($F47,'Reference Data - Transport fuel'!$C:$O,U$4,FALSE))","v":""},{"$f":"IF($F47=\"\",\"\",VLOOKUP($F47,'Reference Data - Transport fuel'!$C:$O,V$4,FALSE))","v":""},{"$f":"IF($F47=\"\",\"\",VLOOKUP($F47,'Reference Data - Transport fuel'!$C:$O,W$4,FALSE))","v":""},{"$f":"IF($F47=\"\",\"\",VLOOKUP($F47,'Reference Data - Transport fuel'!$C:$O,X$4,FALSE))","v":""},{"$f":"IF($F47=\"\",\"\",VLOOKUP($F47,'Reference Data - Transport fuel'!$C:$O,Y$4,FALSE))","v":""},{"$f":"IF($F47=\"\",\"\",VLOOKUP($F47,'Reference Data - Transport fuel'!$C:$O,Z$4,FALSE))","v":""},{"$f":"IF($F47=\"\",\"\",VLOOKUP($F47,'Reference Data - Transport fuel'!$C:$O,AA$4,FALSE))","v":""},{"$f":"IF($F47=\"\",\"\",VLOOKUP($F47,'Reference Data - Transport fuel'!$C:$O,AB$4,FALSE))","v":""},null,{"$f":"IF($F47=\"\",\"\",VLOOKUP($F47,'Reference Data - Transport fuel'!$C:$O,AD$4,FALSE))","v":""},null,{"$f":"IF($F47=\"\",\"\",VLOOKUP($F47,'Reference Data - Transport fuel'!$C:$O,AF$4,FALSE))","v":""},null,"","","","","","","","",null,"",null,"","",null,"",null,null,{"$f":"INDEX('Dropdown menus'!$A$1:$D$6,MATCH($M47,'Dropdown menus'!$A$1:$A$6,0),$AY$6)","v":{"$error":"#N/A"}},null,{"$f":"IF($N47=\"\",\"\",VLOOKUP($N47,'Reference - Logistics Distance'!$C:$O,BA$4,FALSE))","v":""},{"$f":"IF($N47=\"\",\"\",VLOOKUP($N47,'Reference - Logistics Distance'!$C:$O,BB$4,FALSE))","v":""},{"$f":"IF($N47=\"\",\"\",VLOOKUP($N47,'Reference - Logistics Distance'!$C:$O,BC$4,FALSE))","v":""},{"$f":"IF($N47=\"\",\"\",VLOOKUP($N47,'Reference - Logistics Distance'!$C:$O,BD$4,FALSE))","v":""},{"$f":"IF($N47=\"\",\"\",VLOOKUP($N47,'Reference - Logistics Distance'!$C:$O,BE$4,FALSE))","v":""},{"$f":"IF($N47=\"\",\"\",VLOOKUP($N47,'Reference - Logistics Distance'!$C:$O,BF$4,FALSE))","v":""},{"$f":"IF($N47=\"\",\"\",VLOOKUP($N47,'Reference - Logistics Distance'!$C:$O,BG$4,FALSE))","v":""},{"$f":"IF($N47=\"\",\"\",VLOOKUP($N47,'Reference - Logistics Distance'!$C:$O,BH$4,FALSE))","v":""},{"$f":"IF($N47=\"\",\"\",VLOOKUP($N47,'Reference - Logistics Distance'!$C:$O,BI$4,FALSE))","v":""},null,{"$f":"IF($N47=\"\",\"\",VLOOKUP($N47,'Reference - Logistics Distance'!$C:$O,BK$4,FALSE))","v":""},null,{"$f":"IF($N47=\"\",\"\",VLOOKUP($N47,'Reference - Logistics Distance'!$C:$O,BM$4,FALSE))","v":""},null,"","","","","","","","",null,"",null,"","",null,""]
[null,null,null,null,null,null,null,null,null,null,null,null,null,null,null,null,null,{"$f":"INDEX('Dropdown menus'!$A$1:$D$6,MATCH($E48,'Dropdown menus'!$A$1:$A$6,0),$R$6)","v":{"$error":"#N/A"}},null,{"$f":"IF($F48=\"\",\"\",VLOOKUP($F48,'Reference Data - Transport fuel'!$C:$O,T$4,FALSE))","v":""},{"$f":"IF($F48=\"\",\"\",VLOOKUP($F48,'Reference Data - Transport fuel'!$C:$O,U$4,FALSE))","v":""},{"$f":"IF($F48=\"\",\"\",VLOOKUP($F48,'Reference Data - Transport fuel'!$C:$O,V$4,FALSE))","v":""},{"$f":"IF($F48=\"\",\"\",VLOOKUP($F48,'Reference Data - Transport fuel'!$C:$O,W$4,FALSE))","v":""},{"$f":"IF($F48=\"\",\"\",VLOOKUP($F48,'Reference Data - Transport fuel'!$C:$O,X$4,FALSE))","v":""},{"$f":"IF($F48=\"\",\"\",VLOOKUP($F48,'Reference Data - Transport fuel'!$C:$O,Y$4,FALSE))","v":""},{"$f":"IF($F48=\"\",\"\",VLOOKUP($F48,'Reference Data - Transport fuel'!$C:$O,Z$4,FALSE))","v":""},{"$f":"IF($F48=\"\",\"\",VLOOKUP($F48,'Reference Data - Transport fuel'!$C:$O,AA$4,FALSE))","v":""},{"$f":"IF($F48=\"\",\"\",VLOOKUP($F48,'Reference Data - Transport fuel'!$C:$O,AB$4,FALSE))","v":""},null,{"$f":"IF($F48=\"\",\"\",VLOOKUP($F48,'Reference Data - Transport fuel'!$C:$O,AD$4,FALSE))","v":""},null,{"$f":"IF($F48=\"\",\"\",VLOOKUP($F48,'Reference Data - Transport fuel'!$C:$O,AF$4,FALSE))","v":""},null,"","","","","","","","",null,"",null,"","",null,"",null,null,{"$f":"INDEX('Dropdown menus'!$A$1:$D$6,MATCH($M48,'Dropdown menus'!$A$1:$A$6,0),$AY$6)","v":{"$error":"#N/A"}},null,{"$f":"IF($N48=\"\",\"\",VLOOKUP($N48,'Reference - Logistics Distance'!$C:$O,BA$4,FALSE))","v":""},{"$f":"IF($N48=\"\",\"\",VLOOKUP($N48,'Reference - Logistics Distance'!$C:$O,BB$4,FALSE))","v":""},{"$f":"IF($N48=\"\",\"\",VLOOKUP($N48,'Reference - Logistics Distance'!$C:$O,BC$4,FALSE))","v":""},{"$f":"IF($N48=\"\",\"\",VLOOKUP($N48,'Reference - Logistics Distance'!$C:$O,BD$4,FALSE))","v":""},{"$f":"IF($N48=\"\",\"\",VLOOKUP($N48,'Reference - Logistics Distance'!$C:$O,BE$4,FALSE))","v":""},{"$f":"IF($N48=\"\",\"\",VLOOKUP($N48,'Reference - Logistics Distance'!$C:$O,BF$4,FALSE))","v":""},{"$f":"IF($N48=\"\",\"\",VLOOKUP($N48,'Reference - Logistics Distance'!$C:$O,BG$4,FALSE))","v":""},{"$f":"IF($N48=\"\",\"\",VLOOKUP($N48,'Reference - Logistics Distance'!$C:$O,BH$4,FALSE))","v":""},{"$f":"IF($N48=\"\",\"\",VLOOKUP($N48,'Reference - Logistics Distance'!$C:$O,BI$4,FALSE))","v":""},null,{"$f":"IF($N48=\"\",\"\",VLOOKUP($N48,'Reference - Logistics Distance'!$C:$O,BK$4,FALSE))","v":""},null,{"$f":"IF($N48=\"\",\"\",VLOOKUP($N48,'Reference - Logistics Distance'!$C:$O,BM$4,FALSE))","v":""},null,"","","","","","","","",null,"",null,"","",null,""]
[null,null,null,null,null,null,null,null,null,null,null,null,null,null,null,null,null,{"$f":"INDEX('Dropdown menus'!$A$1:$D$6,MATCH($E49,'Dropdown menus'!$A$1:$A$6,0),$R$6)","v":{"$error":"#N/A"}},null,{"$f":"IF($F49=\"\",\"\",VLOOKUP($F49,'Reference Data - Transport fuel'!$C:$O,T$4,FALSE))","v":""},{"$f":"IF($F49=\"\",\"\",VLOOKUP($F49,'Reference Data - Transport fuel'!$C:$O,U$4,FALSE))","v":""},{"$f":"IF($F49=\"\",\"\",VLOOKUP($F49,'Reference Data - Transport fuel'!$C:$O,V$4,FALSE))","v":""},{"$f":"IF($F49=\"\",\"\",VLOOKUP($F49,'Reference Data - Transport fuel'!$C:$O,W$4,FALSE))","v":""},{"$f":"IF($F49=\"\",\"\",VLOOKUP($F49,'Reference Data - Transport fuel'!$C:$O,X$4,FALSE))","v":""},{"$f":"IF($F49=\"\",\"\",VLOOKUP($F49,'Reference Data - Transport fuel'!$C:$O,Y$4,FALSE))","v":""},{"$f":"IF($F49=\"\",\"\",VLOOKUP($F49,'Reference Data - Transport fuel'!$C:$O,Z$4,FALSE))","v":""},{"$f":"IF($F49=\"\",\"\",VLOOKUP($F49,'Reference Data - Transport fuel'!$C:$O,AA$4,FALSE))","v":""},{"$f":"IF($F49=\"\",\"\",VLOOKUP($F49,'Reference Data - Transport fuel'!$C:$O,AB$4,FALSE))","v":""},null,{"$f":"IF($F49=\"\",\"\",VLOOKUP($F49,'Reference Data - Transport fuel'!$C:$O,AD$4,FALSE))","v":""},null,{"$f":"IF($F49=\"\",\"\",VLOOKUP($F49,'Reference Data - Transport fuel'!$C:$O,AF$4,FALSE))","v":""},null,"","","","","","","","",null,"",null,"","",null,"",null,null,{"$f":"INDEX('Dropdown menus'!$A$1:$D$6,MATCH($M49,'Dropdown menus'!$A$1:$A$6,0),$AY$6)","v":{"$error":"#N/A"}},null,{"$f":"IF($N49=\"\",\"\",VLOOKUP($N49,'Reference - Logistics Distance'!$C:$O,BA$4,FALSE))","v":""},{"$f":"IF($N49=\"\",\"\",VLOOKUP($N49,'Reference - Logistics Distance'!$C:$O,BB$4,FALSE))","v":""},{"$f":"IF($N49=\"\",\"\",VLOOKUP($N49,'Reference - Logistics Distance'!$C:$O,BC$4,FALSE))","v":""},{"$f":"IF($N49=\"\",\"\",VLOOKUP($N49,'Reference - Logistics Distance'!$C:$O,BD$4,FALSE))","v":""},{"$f":"IF($N49=\"\",\"\",VLOOKUP($N49,'Reference - Logistics Distance'!$C:$O,BE$4,FALSE))","v":""},{"$f":"IF($N49=\"\",\"\",VLOOKUP($N49,'Reference - Logistics Distance'!$C:$O,BF$4,FALSE))","v":""},{"$f":"IF($N49=\"\",\"\",VLOOKUP($N49,'Reference - Logistics Distance'!$C:$O,BG$4,FALSE))","v":""},{"$f":"IF($N49=\"\",\"\",VLOOKUP($N49,'Reference - Logistics Distance'!$C:$O,BH$4,FALSE))","v":""},{"$f":"IF($N49=\"\",\"\",VLOOKUP($N49,'Reference - Logistics Distance'!$C:$O,BI$4,FALSE))","v":""},null,{"$f":"IF($N49=\"\",\"\",VLOOKUP($N49,'Reference - Logistics Distance'!$C:$O,BK$4,FALSE))","v":""},null,{"$f":"IF($N49=\"\",\"\",VLOOKUP($N49,'Reference - Logistics Distance'!$C:$O,BM$4,FALSE))","v":""},null,"","","","","","","","",null,"",null,"","",null,""]
[null,null,null,null,null,null,null,null,null,null,null,null,null,null,null,null,null,{"$f":"INDEX('Dropdown menus'!$A$1:$D$6,MATCH($E50,'Dropdown menus'!$A$1:$A$6,0),$R$6)","v":{"$error":"#N/A"}},null,{"$f":"IF($F50=\"\",\"\",VLOOKUP($F50,'Reference Data - Transport fuel'!$C:$O,T$4,FALSE))","v":""},{"$f":"IF($F50=\"\",\"\",VLOOKUP($F50,'Reference Data - Transport fuel'!$C:$O,U$4,FALSE))","v":""},{"$f":"IF($F50=\"\",\"\",VLOOKUP($F50,'Reference Data - Transport fuel'!$C:$O,V$4,FALSE))","v":""},{"$f":"IF($F50=\"\",\"\",VLOOKUP($F50,'Reference Data - Transport fuel'!$C:$O,W$4,FALSE))","v":""},{"$f":"IF($F50=\"\",\"\",VLOOKUP($F50,'Reference Data - Transport fuel'!$C:$O,X$4,FALSE))","v":""},{"$f":"IF($F50=\"\",\"\",VLOOKUP($F50,'Reference Data - Transport fuel'!$C:$O,Y$4,FALSE))","v":""},{"$f":"IF($F50=\"\",\"\",VLOOKUP($F50,'Reference Data - Transport fuel'!$C:$O,Z$4,FALSE))","v":""},{"$f":"IF($F50=\"\",\"\",VLOOKUP($F50,'Reference Data - Transport fuel'!$C:$O,AA$4,FALSE))","v":""},{"$f":"IF($F50=\"\",\"\",VLOOKUP($F50,'Reference Data - Transport fuel'!$C:$O,AB$4,FALSE))","v":""},null,{"$f":"IF($F50=\"\",\"\",VLOOKUP($F50,'Reference Data - Transport fuel'!$C:$O,AD$4,FALSE))","v":""},null,{"$f":"IF($F50=\"\",\"\",VLOOKUP($F50,'Reference Data - Transport fuel'!$C:$O,AF$4,FALSE))","v":""},null,"","","","","","","","",null,"",null,"","",null,"",null,null,{"$f":"INDEX('Dropdown menus'!$A$1:$D$6,MATCH($M50,'Dropdown menus'!$A$1:$A$6,0),$AY$6)","v":{"$error":"#N/A"}},null,{"$f":"IF($N50=\"\",\"\",VLOOKUP($N50,'Reference - Logistics Distance'!$C:$O,BA$4,FALSE))","v":""},{"$f":"IF($N50=\"\",\"\",VLOOKUP($N50,'Reference - Logistics Distance'!$C:$O,BB$4,FALSE))","v":""},{"$f":"IF($N50=\"\",\"\",VLOOKUP($N50,'Reference - Logistics Distance'!$C:$O,BC$4,FALSE))","v":""},{"$f":"IF($N50=\"\",\"\",VLOOKUP($N50,'Reference - Logistics Distance'!$C:$O,BD$4,FALSE))","v":""},{"$f":"IF($N50=\"\",\"\",VLOOKUP($N50,'Reference - Logistics Distance'!$C:$O,BE$4,FALSE))","v":""},{"$f":"IF($N50=\"\",\"\",VLOOKUP($N50,'Reference - Logistics Distance'!$C:$O,BF$4,FALSE))","v":""},{"$f":"IF($N50=\"\",\"\",VLOOKUP($N50,'Reference - Logistics Distance'!$C:$O,BG$4,FALSE))","v":""},{"$f":"IF($N50=\"\",\"\",VLOOKUP($N50,'Reference - Logistics Distance'!$C:$O,BH$4,FALSE))","v":""},{"$f":"IF($N50=\"\",\"\",VLOOKUP($N50,'Reference - Logistics Distance'!$C:$O,BI$4,FALSE))","v":""},null,{"$f":"IF($N50=\"\",\"\",VLOOKUP($N50,'Reference - Logistics Distance'!$C:$O,BK$4,FALSE))","v":""},null,{"$f":"IF($N50=\"\",\"\",VLOOKUP($N50,'Reference - Logistics Distance'!$C:$O,BM$4,FALSE))","v":""},null,"","","","","","","","",null,"",null,"","",null,""]
[null,null,null,null,null,null,null,null,null,null,null,null,null,null,null,null,null,{"$f":"INDEX('Dropdown menus'!$A$1:$D$6,MATCH($E51,'Dropdown menus'!$A$1:$A$6,0),$R$6)","v":{"$error":"#N/A"}},null,{"$f":"IF($F51=\"\",\"\",VLOOKUP($F51,'Reference Data - Transport fuel'!$C:$O,T$4,FALSE))","v":""},{"$f":"IF($F51=\"\",\"\",VLOOKUP($F51,'Reference Data - Transport fuel'!$C:$O,U$4,FALSE))","v":""},{"$f":"IF($F51=\"\",\"\",VLOOKUP($F51,'Reference Data - Transport fuel'!$C:$O,V$4,FALSE))","v":""},{"$f":"IF($F51=\"\",\"\",VLOOKUP($F51,'Reference Data - Transport fuel'!$C:$O,W$4,FALSE))","v":""},{"$f":"IF($F51=\"\",\"\",VLOOKUP($F51,'Reference Data - Transport fuel'!$C:$O,X$4,FALSE))","v":""},{"$f":"IF($F51=\"\",\"\",VLOOKUP($F51,'Reference Data - Transport fuel'!$C:$O,Y$4,FALSE))","v":""},{"$f":"IF($F51=\"\",\"\",VLOOKUP($F51,'Reference Data - Transport fuel'!$C:$O,Z$4,FALSE))","v":""},{"$f":"IF($F51=\"\",\"\",VLOOKUP($F51,'Reference Data - Transport fuel'!$C:$O,AA$4,FALSE))","v":""},{"$f":"IF($F51=\"\",\"\",VLOOKUP($F51,'Reference Data - Transport fuel'!$C:$O,AB$4,FALSE))","v":""},null,{"$f":"IF($F51=\"\",\"\",VLOOKUP($F51,'Reference Data - Transport fuel'!$C:$O,AD$4,FALSE))","v":""},null,{"$f":"IF($F51=\"\",\"\",VLOOKUP($F51,'Reference Data - Transport fuel'!$C:$O,AF$4,FALSE))","v":""},null,"","","","","","","","",null,"",null,"","",null,"",null,null,{"$f":"INDEX('Dropdown menus'!$A$1:$D$6,MATCH($M51,'Dropdown menus'!$A$1:$A$6,0),$AY$6)","v":{"$error":"#N/A"}},null,{"$f":"IF($N51=\"\",\"\",VLOOKUP($N51,'Reference - Logistics Distance'!$C:$O,BA$4,FALSE))","v":""},{"$f":"IF($N51=\"\",\"\",VLOOKUP($N51,'Reference - Logistics Distance'!$C:$O,BB$4,FALSE))","v":""},{"$f":"IF($N51=\"\",\"\",VLOOKUP($N51,'Reference - Logistics Distance'!$C:$O,BC$4,FALSE))","v":""},{"$f":"IF($N51=\"\",\"\",VLOOKUP($N51,'Reference - Logistics Distance'!$C:$O,BD$4,FALSE))","v":""},{"$f":"IF($N51=\"\",\"\",VLOOKUP($N51,'Reference - Logistics Distance'!$C:$O,BE$4,FALSE))","v":""},{"$f":"IF($N51=\"\",\"\",VLOOKUP($N51,'Reference - Logistics Distance'!$C:$O,BF$4,FALSE))","v":""},{"$f":"IF($N51=\"\",\"\",VLOOKUP($N51,'Reference - Logistics Distance'!$C:$O,BG$4,FALSE))","v":""},{"$f":"IF($N51=\"\",\"\",VLOOKUP($N51,'Reference - Logistics Distance'!$C:$O,BH$4,FALSE))","v":""},{"$f":"IF($N51=\"\",\"\",VLOOKUP($N51,'Reference - Logistics Distance'!$C:$O,BI$4,FALSE))","v":""},null,{"$f":"IF($N51=\"\",\"\",VLOOKUP($N51,'Reference - Logistics Distance'!$C:$O,BK$4,FALSE))","v":""},null,{"$f":"IF($N51=\"\",\"\",VLOOKUP($N51,'Reference - Logistics Distance'!$C:$O,BM$4,FALSE))","v":""},null,"","","","","","","","",null,"",null,"","",null,""]
[null,null,null,null,null,null,null,null,null,null,null,null,null,null,null,null,null,{"$f":"INDEX('Dropdown menus'!$A$1:$D$6,MATCH($E52,'Dropdown menus'!$A$1:$A$6,0),$R$6)","v":{"$error":"#N/A"}},null,{"$f":"IF($F52=\"\",\"\",VLOOKUP($F52,'Reference Data - Transport fuel'!$C:$O,T$4,FALSE))","v":""},{"$f":"IF($F52=\"\",\"\",VLOOKUP($F52,'Reference Data - Transport fuel'!$C:$O,U$4,FALSE))","v":""},{"$f":"IF($F52=\"\",\"\",VLOOKUP($F52,'Reference Data - Transport fuel'!$C:$O,V$4,FALSE))","v":""},{"$f":"IF($F52=\"\",\"\",VLOOKUP($F52,'Reference Data - Transport fuel'!$C:$O,W$4,FALSE))","v":""},{"$f":"IF($F52=\"\",\"\",VLOOKUP($F52,'Reference Data - Transport fuel'!$C:$O,X$4,FALSE))","v":""},{"$f":"IF($F52=\"\",\"\",VLOOKUP($F52,'Reference Data - Transport fuel'!$C:$O,Y$4,FALSE))","v":""},{"$f":"IF($F52=\"\",\"\",VLOOKUP($F52,'Reference Data - Transport fuel'!$C:$O,Z$4,FALSE))","v":""},{"$f":"IF($F52=\"\",\"\",VLOOKUP($F52,'Reference Data - Transport fuel'!$C:$O,AA$4,FALSE))","v":""},{"$f":"IF($F52=\"\",\"\",VLOOKUP($F52,'Reference Data - Transport fuel'!$C:$O,AB$4,FALSE))","v":""},null,{"$f":"IF($F52=\"\",\"\",VLOOKUP($F52,'Reference Data - Transport fuel'!$C:$O,AD$4,FALSE))","v":""},null,{"$f":"IF($F52=\"\",\"\",VLOOKUP($F52,'Reference Data - Transport fuel'!$C:$O,AF$4,FALSE))","v":""},null,"","","","","","","","",null,"",null,"","",null,"",null,null,{"$f":"INDEX('Dropdown menus'!$A$1:$D$6,MATCH($M52,'Dropdown menus'!$A$1:$A$6,0),$AY$6)","v":{"$error":"#N/A"}},null,{"$f":"IF($N52=\"\",\"\",VLOOKUP($N52,'Reference - Logistics Distance'!$C:$O,BA$4,FALSE))","v":""},{"$f":"IF($N52=\"\",\"\",VLOOKUP($N52,'Reference - Logistics Distance'!$C:$O,BB$4,FALSE))","v":""},{"$f":"IF($N52=\"\",\"\",VLOOKUP($N52,'Reference - Logistics Distance'!$C:$O,BC$4,FALSE))","v":""},{"$f":"IF($N52=\"\",\"\",VLOOKUP($N52,'Reference - Logistics Distance'!$C:$O,BD$4,FALSE))","v":""},{"$f":"IF($N52=\"\",\"\",VLOOKUP($N52,'Reference - Logistics Distance'!$C:$O,BE$4,FALSE))","v":""},{"$f":"IF($N52=\"\",\"\",VLOOKUP($N52,'Reference - Logistics Distance'!$C:$O,BF$4,FALSE))","v":""},{"$f":"IF($N52=\"\",\"\",VLOOKUP($N52,'Reference - Logistics Distance'!$C:$O,BG$4,FALSE))","v":""},{"$f":"IF($N52=\"\",\"\",VLOOKUP($N52,'Reference - Logistics Distance'!$C:$O,BH$4,FALSE))","v":""},{"$f":"IF($N52=\"\",\"\",VLOOKUP($N52,'Reference - Logistics Distance'!$C:$O,BI$4,FALSE))","v":""},null,{"$f":"IF($N52=\"\",\"\",VLOOKUP($N52,'Reference - Logistics Distance'!$C:$O,BK$4,FALSE))","v":""},null,{"$f":"IF($N52=\"\",\"\",VLOOKUP($N52,'Reference - Logistics Distance'!$C:$O,BM$4,FALSE))","v":""},null,"","","","","","","","",null,"",null,"","",null,""]
[null,null,null,null,null,null,null,null,null,null,null,null,null,null,null,null,null,{"$f":"INDEX('Dropdown menus'!$A$1:$D$6,MATCH($E53,'Dropdown menus'!$A$1:$A$6,0),$R$6)","v":{"$error":"#N/A"}},null,{"$f":"IF($F53=\"\",\"\",VLOOKUP($F53,'Reference Data - Transport fuel'!$C:$O,T$4,FALSE))","v":""},{"$f":"IF($F53=\"\",\"\",VLOOKUP($F53,'Reference Data - Transport fuel'!$C:$O,U$4,FALSE))","v":""},{"$f":"IF($F53=\"\",\"\",VLOOKUP($F53,'Reference Data - Transport fuel'!$C:$O,V$4,FALSE))","v":""},{"$f":"IF($F53=\"\",\"\",VLOOKUP($F53,'Reference Data - Transport fuel'!$C:$O,W$4,FALSE))","v":""},{"$f":"IF($F53=\"\",\"\",VLOOKUP($F53,'Reference Data - Transport fuel'!$C:$O,X$4,FALSE))","v":""},{"$f":"IF($F53=\"\",\"\",VLOOKUP($F53,'Reference Data - Transport fuel'!$C:$O,Y$4,FALSE))","v":""},{"$f":"IF($F53=\"\",\"\",VLOOKUP($F53,'Reference Data - Transport fuel'!$C:$O,Z$4,FALSE))","v":""},{"$f":"IF($F53=\"\",\"\",VLOOKUP($F53,'Reference Data - Transport fuel'!$C:$O,AA$4,FALSE))","v":""},{"$f":"IF($F53=\"\",\"\",VLOOKUP($F53,'Reference Data - Transport fuel'!$C:$O,AB$4,FALSE))","v":""},null,{"$f":"IF($F53=\"\",\"\",VLOOKUP($F53,'Reference Data - Transport fuel'!$C:$O,AD$4,FALSE))","v":""},null,{"$f":"IF($F53=\"\",\"\",VLOOKUP($F53,'Reference Data - Transport fuel'!$C:$O,AF$4,FALSE))","v":""},null,"","","","","","","","",null,"",null,"","",null,"",null,null,{"$f":"INDEX('Dropdown menus'!$A$1:$D$6,MATCH($M53,'Dropdown menus'!$A$1:$A$6,0),$AY$6)","v":{"$error":"#N/A"}},null,{"$f":"IF($N53=\"\",\"\",VLOOKUP($N53,'Reference - Logistics Distance'!$C:$O,BA$4,FALSE))","v":""},{"$f":"IF($N53=\"\",\"\",VLOOKUP($N53,'Reference - Logistics Distance'!$C:$O,BB$4,FALSE))","v":""},{"$f":"IF($N53=\"\",\"\",VLOOKUP($N53,'Reference - Logistics Distance'!$C:$O,BC$4,FALSE))","v":""},{"$f":"IF($N53=\"\",\"\",VLOOKUP($N53,'Reference - Logistics Distance'!$C:$O,BD$4,FALSE))","v":""},{"$f":"IF($N53=\"\",\"\",VLOOKUP($N53,'Reference - Logistics Distance'!$C:$O,BE$4,FALSE))","v":""},{"$f":"IF($N53=\"\",\"\",VLOOKUP($N53,'Reference - Logistics Distance'!$C:$O,BF$4,FALSE))","v":""},{"$f":"IF($N53=\"\",\"\",VLOOKUP($N53,'Reference - Logistics Distance'!$C:$O,BG$4,FALSE))","v":""},{"$f":"IF($N53=\"\",\"\",VLOOKUP($N53,'Reference - Logistics Distance'!$C:$O,BH$4,FALSE))","v":""},{"$f":"IF($N53=\"\",\"\",VLOOKUP($N53,'Reference - Logistics Distance'!$C:$O,BI$4,FALSE))","v":""},null,{"$f":"IF($N53=\"\",\"\",VLOOKUP($N53,'Reference - Logistics Distance'!$C:$O,BK$4,FALSE))","v":""},null,{"$f":"IF($N53=\"\",\"\",VLOOKUP($N53,'Reference - Logistics Distance'!$C:$O,BM$4,FALSE))","v":""},null,"","","","","","","","",null,"",null,"","",null,""]
[null,null,null,null,null,null,null,null,null,null,null,null,null,null,null,null,null,{"$f":"INDEX('Dropdown menus'!$A$1:$D$6,MATCH($E54,'Dropdown menus'!$A$1:$A$6,0),$R$6)","v":{"$error":"#N/A"}},null,{"$f":"IF($F54=\"\",\"\",VLOOKUP($F54,'Reference Data - Transport fuel'!$C:$O,T$4,FALSE))","v":""},{"$f":"IF($F54=\"\",\"\",VLOOKUP($F54,'Reference Data - Transport fuel'!$C:$O,U$4,FALSE))","v":""},{"$f":"IF($F54=\"\",\"\",VLOOKUP($F54,'Reference Data - Transport fuel'!$C:$O,V$4,FALSE))","v":""},{"$f":"IF($F54=\"\",\"\",VLOOKUP($F54,'Reference Data - Transport fuel'!$C:$O,W$4,FALSE))","v":""},{"$f":"IF($F54=\"\",\"\",VLOOKUP($F54,'Reference Data - Transport fuel'!$C:$O,X$4,FALSE))","v":""},{"$f":"IF($F54=\"\",\"\",VLOOKUP($F54,'Reference Data - Transport fuel'!$C:$O,Y$4,FALSE))","v":""},{"$f":"IF($F54=\"\",\"\",VLOOKUP($F54,'Reference Data - Transport fuel'!$C:$O,Z$4,FALSE))","v":""},{"$f":"IF($F54=\"\",\"\",VLOOKUP($F54,'Reference Data - Transport fuel'!$C:$O,AA$4,FALSE))","v":""},{"$f":"IF($F54=\"\",\"\",VLOOKUP($F54,'Reference Data - Transport fuel'!$C:$O,AB$4,FALSE))","v":""},null,{"$f":"IF($F54=\"\",\"\",VLOOKUP($F54,'Reference Data - Transport fuel'!$C:$O,AD$4,FALSE))","v":""},null,{"$f":"IF($F54=\"\",\"\",VLOOKUP($F54,'Reference Data - Transport fuel'!$C:$O,AF$4,FALSE))","v":""},null,"","","","","","","","",null,"",null,"","",null,"",null,null,{"$f":"INDEX('Dropdown menus'!$A$1:$D$6,MATCH($M54,'Dropdown menus'!$A$1:$A$6,0),$AY$6)","v":{"$error":"#N/A"}},null,{"$f":"IF($N54=\"\",\"\",VLOOKUP($N54,'Reference - Logistics Distance'!$C:$O,BA$4,FALSE))","v":""},{"$f":"IF($N54=\"\",\"\",VLOOKUP($N54,'Reference - Logistics Distance'!$C:$O,BB$4,FALSE))","v":""},{"$f":"IF($N54=\"\",\"\",VLOOKUP($N54,'Reference - Logistics Distance'!$C:$O,BC$4,FALSE))","v":""},{"$f":"IF($N54=\"\",\"\",VLOOKUP($N54,'Reference - Logistics Distance'!$C:$O,BD$4,FALSE))","v":""},{"$f":"IF($N54=\"\",\"\",VLOOKUP($N54,'Reference - Logistics Distance'!$C:$O,BE$4,FALSE))","v":""},{"$f":"IF($N54=\"\",\"\",VLOOKUP($N54,'Reference - Logistics Distance'!$C:$O,BF$4,FALSE))","v":""},{"$f":"IF($N54=\"\",\"\",VLOOKUP($N54,'Reference - Logistics Distance'!$C:$O,BG$4,FALSE))","v":""},{"$f":"IF($N54=\"\",\"\",VLOOKUP($N54,'Reference - Logistics Distance'!$C:$O,BH$4,FALSE))","v":""},{"$f":"IF($N54=\"\",\"\",VLOOKUP($N54,'Reference - Logistics Distance'!$C:$O,BI$4,FALSE))","v":""},null,{"$f":"IF($N54=\"\",\"\",VLOOKUP($N54,'Reference - Logistics Distance'!$C:$O,BK$4,FALSE))","v":""},null,{"$f":"IF($N54=\"\",\"\",VLOOKUP($N54,'Reference - Logistics Distance'!$C:$O,BM$4,FALSE))","v":""},null,"","","","","","","","",null,"",null,"","",null,""]
[null,null,null,null,null,null,null,null,null,null,null,null,null,null,null,null,null,{"$f":"INDEX('Dropdown menus'!$A$1:$D$6,MATCH($E55,'Dropdown menus'!$A$1:$A$6,0),$R$6)","v":{"$error":"#N/A"}},null,{"$f":"IF($F55=\"\",\"\",VLOOKUP($F55,'Reference Data - Transport fuel'!$C:$O,T$4,FALSE))","v":""},{"$f":"IF($F55=\"\",\"\",VLOOKUP($F55,'Reference Data - Transport fuel'!$C:$O,U$4,FALSE))","v":""},{"$f":"IF($F55=\"\",\"\",VLOOKUP($F55,'Reference Data - Transport fuel'!$C:$O,V$4,FALSE))","v":""},{"$f":"IF($F55=\"\",\"\",VLOOKUP($F55,'Reference Data - Transport fuel'!$C:$O,W$4,FALSE))","v":""},{"$f":"IF($F55=\"\",\"\",VLOOKUP($F55,'Reference Data - Transport fuel'!$C:$O,X$4,FALSE))","v":""},{"$f":"IF($F55=\"\",\"\",VLOOKUP($F55,'Reference Data - Transport fuel'!$C:$O,Y$4,FALSE))","v":""},{"$f":"IF($F55=\"\",\"\",VLOOKUP($F55,'Reference Data - Transport fuel'!$C:$O,Z$4,FALSE))","v":""},{"$f":"IF($F55=\"\",\"\",VLOOKUP($F55,'Reference Data - Transport fuel'!$C:$O,AA$4,FALSE))","v":""},{"$f":"IF($F55=\"\",\"\",VLOOKUP($F55,'Reference Data - Transport fuel'!$C:$O,AB$4,FALSE))","v":""},null,{"$f":"IF($F55=\"\",\"\",VLOOKUP($F55,'Reference Data - Transport fuel'!$C:$O,AD$4,FALSE))","v":""},null,{"$f":"IF($F55=\"\",\"\",VLOOKUP($F55,'Reference Data - Transport fuel'!$C:$O,AF$4,FALSE))","v":""},null,"","","","","","","","",null,"",null,"","",null,"",null,null,{"$f":"INDEX('Dropdown menus'!$A$1:$D$6,MATCH($M55,'Dropdown menus'!$A$1:$A$6,0),$AY$6)","v":{"$error":"#N/A"}},null,{"$f":"IF($N55=\"\",\"\",VLOOKUP($N55,'Reference - Logistics Distance'!$C:$O,BA$4,FALSE))","v":""},{"$f":"IF($N55=\"\",\"\",VLOOKUP($N55,'Reference - Logistics Distance'!$C:$O,BB$4,FALSE))","v":""},{"$f":"IF($N55=\"\",\"\",VLOOKUP($N55,'Reference - Logistics Distance'!$C:$O,BC$4,FALSE))","v":""},{"$f":"IF($N55=\"\",\"\",VLOOKUP($N55,'Reference - Logistics Distance'!$C:$O,BD$4,FALSE))","v":""},{"$f":"IF($N55=\"\",\"\",VLOOKUP($N55,'Reference - Logistics Distance'!$C:$O,BE$4,FALSE))","v":""},{"$f":"IF($N55=\"\",\"\",VLOOKUP($N55,'Reference - Logistics Distance'!$C:$O,BF$4,FALSE))","v":""},{"$f":"IF($N55=\"\",\"\",VLOOKUP($N55,'Reference - Logistics Distance'!$C:$O,BG$4,FALSE))","v":""},{"$f":"IF($N55=\"\",\"\",VLOOKUP($N55,'Reference - Logistics Distance'!$C:$O,BH$4,FALSE))","v":""},{"$f":"IF($N55=\"\",\"\",VLOOKUP($N55,'Reference - Logistics Distance'!$C:$O,BI$4,FALSE))","v":""},null,{"$f":"IF($N55=\"\",\"\",VLOOKUP($N55,'Reference - Logistics Distance'!$C:$O,BK$4,FALSE))","v":""},null,{"$f":"IF($N55=\"\",\"\",VLOOKUP($N55,'Reference - Logistics Distance'!$C:$O,BM$4,FALSE))","v":""},null,"","","","","","","","",null,"",null,"","",null,""]
[null,null,null,null,null,null,null,null,null,null,null,null,null,null,null,null,null,{"$f":"INDEX('Dropdown menus'!$A$1:$D$6,MATCH($E56,'Dropdown menus'!$A$1:$A$6,0),$R$6)","v":{"$error":"#N/A"}},null,{"$f":"IF($F56=\"\",\"\",VLOOKUP($F56,'Reference Data - Transport fuel'!$C:$O,T$4,FALSE))","v":""},{"$f":"IF($F56=\"\",\"\",VLOOKUP($F56,'Reference Data - Transport fuel'!$C:$O,U$4,FALSE))","v":""},{"$f":"IF($F56=\"\",\"\",VLOOKUP($F56,'Reference Data - Transport fuel'!$C:$O,V$4,FALSE))","v":""},{"$f":"IF($F56=\"\",\"\",VLOOKUP($F56,'Reference Data - Transport fuel'!$C:$O,W$4,FALSE))","v":""},{"$f":"IF($F56=\"\",\"\",VLOOKUP($F56,'Reference Data - Transport fuel'!$C:$O,X$4,FALSE))","v":""},{"$f":"IF($F56=\"\",\"\",VLOOKUP($F56,'Reference Data - Transport fuel'!$C:$O,Y$4,FALSE))","v":""},{"$f":"IF($F56=\"\",\"\",VLOOKUP($F56,'Reference Data - Transport fuel'!$C:$O,Z$4,FALSE))","v":""},{"$f":"IF($F56=\"\",\"\",VLOOKUP($F56,'Reference Data - Transport fuel'!$C:$O,AA$4,FALSE))","v":""},{"$f":"IF($F56=\"\",\"\",VLOOKUP($F56,'Reference Data - Transport fuel'!$C:$O,AB$4,FALSE))","v":""},null,{"$f":"IF($F56=\"\",\"\",VLOOKUP($F56,'Reference Data - Transport fuel'!$C:$O,AD$4,FALSE))","v":""},null,{"$f":"IF($F56=\"\",\"\",VLOOKUP($F56,'Reference Data - Transport fuel'!$C:$O,AF$4,FALSE))","v":""},null,"","","","","","","","",null,"",null,"","",null,"",null,null,{"$f":"INDEX('Dropdown menus'!$A$1:$D$6,MATCH($M56,'Dropdown menus'!$A$1:$A$6,0),$AY$6)","v":{"$error":"#N/A"}},null,{"$f":"IF($N56=\"\",\"\",VLOOKUP($N56,'Reference - Logistics Distance'!$C:$O,BA$4,FALSE))","v":""},{"$f":"IF($N56=\"\",\"\",VLOOKUP($N56,'Reference - Logistics Distance'!$C:$O,BB$4,FALSE))","v":""},{"$f":"IF($N56=\"\",\"\",VLOOKUP($N56,'Reference - Logistics Distance'!$C:$O,BC$4,FALSE))","v":""},{"$f":"IF($N56=\"\",\"\",VLOOKUP($N56,'Reference - Logistics Distance'!$C:$O,BD$4,FALSE))","v":""},{"$f":"IF($N56=\"\",\"\",VLOOKUP($N56,'Reference - Logistics Distance'!$C:$O,BE$4,FALSE))","v":""},{"$f":"IF($N56=\"\",\"\",VLOOKUP($N56,'Reference - Logistics Distance'!$C:$O,BF$4,FALSE))","v":""},{"$f":"IF($N56=\"\",\"\",VLOOKUP($N56,'Reference - Logistics Distance'!$C:$O,BG$4,FALSE))","v":""},{"$f":"IF($N56=\"\",\"\",VLOOKUP($N56,'Reference - Logistics Distance'!$C:$O,BH$4,FALSE))","v":""},{"$f":"IF($N56=\"\",\"\",VLOOKUP($N56,'Reference - Logistics Distance'!$C:$O,BI$4,FALSE))","v":""},null,{"$f":"IF($N56=\"\",\"\",VLOOKUP($N56,'Reference - Logistics Distance'!$C:$O,BK$4,FALSE))","v":""},null,{"$f":"IF($N56=\"\",\"\",VLOOKUP($N56,'Reference - Logistics Distance'!$C:$O,BM$4,FALSE))","v":""},null,"","","","","","","","",null,"",null,"","",null,""]
[null,null,null,null,null,null,null,null,null,null,null,null,null,null,null,null,null,{"$f":"INDEX('Dropdown menus'!$A$1:$D$6,MATCH($E57,'Dropdown menus'!$A$1:$A$6,0),$R$6)","v":{"$error":"#N/A"}},null,{"$f":"IF($F57=\"\",\"\",VLOOKUP($F57,'Reference Data - Transport fuel'!$C:$O,T$4,FALSE))","v":""},{"$f":"IF($F57=\"\",\"\",VLOOKUP($F57,'Reference Data - Transport fuel'!$C:$O,U$4,FALSE))","v":""},{"$f":"IF($F57=\"\",\"\",VLOOKUP($F57,'Reference Data - Transport fuel'!$C:$O,V$4,FALSE))","v":""},{"$f":"IF($F57=\"\",\"\",VLOOKUP($F57,'Reference Data - Transport fuel'!$C:$O,W$4,FALSE))","v":""},{"$f":"IF($F57=\"\",\"\",VLOOKUP($F57,'Reference Data - Transport fuel'!$C:$O,X$4,FALSE))","v":""},{"$f":"IF($F57=\"\",\"\",VLOOKUP($F57,'Reference Data - Transport fuel'!$C:$O,Y$4,FALSE))","v":""},{"$f":"IF($F57=\"\",\"\",VLOOKUP($F57,'Reference Data - Transport fuel'!$C:$O,Z$4,FALSE))","v":""},{"$f":"IF($F57=\"\",\"\",VLOOKUP($F57,'Reference Data - Transport fuel'!$C:$O,AA$4,FALSE))","v":""},{"$f":"IF($F57=\"\",\"\",VLOOKUP($F57,'Reference Data - Transport fuel'!$C:$O,AB$4,FALSE))","v":""},null,{"$f":"IF($F57=\"\",\"\",VLOOKUP($F57,'Reference Data - Transport fuel'!$C:$O,AD$4,FALSE))","v":""},null,{"$f":"IF($F57=\"\",\"\",VLOOKUP($F57,'Reference Data - Transport fuel'!$C:$O,AF$4,FALSE))","v":""},null,"","","","","","","","",null,"",null,"","",null,"",null,null,{"$f":"INDEX('Dropdown menus'!$A$1:$D$6,MATCH($M57,'Dropdown menus'!$A$1:$A$6,0),$AY$6)","v":{"$error":"#N/A"}},null,{"$f":"IF($N57=\"\",\"\",VLOOKUP($N57,'Reference - Logistics Distance'!$C:$O,BA$4,FALSE))","v":""},{"$f":"IF($N57=\"\",\"\",VLOOKUP($N57,'Reference - Logistics Distance'!$C:$O,BB$4,FALSE))","v":""},{"$f":"IF($N57=\"\",\"\",VLOOKUP($N57,'Reference - Logistics Distance'!$C:$O,BC$4,FALSE))","v":""},{"$f":"IF($N57=\"\",\"\",VLOOKUP($N57,'Reference - Logistics Distance'!$C:$O,BD$4,FALSE))","v":""},{"$f":"IF($N57=\"\",\"\",VLOOKUP($N57,'Reference - Logistics Distance'!$C:$O,BE$4,FALSE))","v":""},{"$f":"IF($N57=\"\",\"\",VLOOKUP($N57,'Reference - Logistics Distance'!$C:$O,BF$4,FALSE))","v":""},{"$f":"IF($N57=\"\",\"\",VLOOKUP($N57,'Reference - Logistics Distance'!$C:$O,BG$4,FALSE))","v":""},{"$f":"IF($N57=\"\",\"\",VLOOKUP($N57,'Reference - Logistics Distance'!$C:$O,BH$4,FALSE))","v":""},{"$f":"IF($N57=\"\",\"\",VLOOKUP($N57,'Reference - Logistics Distance'!$C:$O,BI$4,FALSE))","v":""},null,{"$f":"IF($N57=\"\",\"\",VLOOKUP($N57,'Reference - Logistics Distance'!$C:$O,BK$4,FALSE))","v":""},null,{"$f":"IF($N57=\"\",\"\",VLOOKUP($N57,'Reference - Logistics Distance'!$C:$O,BM$4,FALSE))","v":""},null,"","","","","","","","",null,"",null,"","",null,""]
[null,null,null,null,null,null,null,null,null,null,null,null,null,null,null,null,null,{"$f":"INDEX('Dropdown menus'!$A$1:$D$6,MATCH($E58,'Dropdown menus'!$A$1:$A$6,0),$R$6)","v":{"$error":"#N/A"}},null,{"$f":"IF($F58=\"\",\"\",VLOOKUP($F58,'Reference Data - Transport fuel'!$C:$O,T$4,FALSE))","v":""},{"$f":"IF($F58=\"\",\"\",VLOOKUP($F58,'Reference Data - Transport fuel'!$C:$O,U$4,FALSE))","v":""},{"$f":"IF($F58=\"\",\"\",VLOOKUP($F58,'Reference Data - Transport fuel'!$C:$O,V$4,FALSE))","v":""},{"$f":"IF($F58=\"\",\"\",VLOOKUP($F58,'Reference Data - Transport fuel'!$C:$O,W$4,FALSE))","v":""},{"$f":"IF($F58=\"\",\"\",VLOOKUP($F58,'Reference Data - Transport fuel'!$C:$O,X$4,FALSE))","v":""},{"$f":"IF($F58=\"\",\"\",VLOOKUP($F58,'Reference Data - Transport fuel'!$C:$O,Y$4,FALSE))","v":""},{"$f":"IF($F58=\"\",\"\",VLOOKUP($F58,'Reference Data - Transport fuel'!$C:$O,Z$4,FALSE))","v":""},{"$f":"IF($F58=\"\",\"\",VLOOKUP($F58,'Reference Data - Transport fuel'!$C:$O,AA$4,FALSE))","v":""},{"$f":"IF($F58=\"\",\"\",VLOOKUP($F58,'Reference Data - Transport fuel'!$C:$O,AB$4,FALSE))","v":""},null,{"$f":"IF($F58=\"\",\"\",VLOOKUP($F58,'Reference Data - Transport fuel'!$C:$O,AD$4,FALSE))","v":""},null,{"$f":"IF($F58=\"\",\"\",VLOOKUP($F58,'Reference Data - Transport fuel'!$C:$O,AF$4,FALSE))","v":""},null,"","","","","","","","",null,"",null,"","",null,"",null,null,{"$f":"INDEX('Dropdown menus'!$A$1:$D$6,MATCH($M58,'Dropdown menus'!$A$1:$A$6,0),$AY$6)","v":{"$error":"#N/A"}},null,{"$f":"IF($N58=\"\",\"\",VLOOKUP($N58,'Reference - Logistics Distance'!$C:$O,BA$4,FALSE))","v":""},{"$f":"IF($N58=\"\",\"\",VLOOKUP($N58,'Reference - Logistics Distance'!$C:$O,BB$4,FALSE))","v":""},{"$f":"IF($N58=\"\",\"\",VLOOKUP($N58,'Reference - Logistics Distance'!$C:$O,BC$4,FALSE))","v":""},{"$f":"IF($N58=\"\",\"\",VLOOKUP($N58,'Reference - Logistics Distance'!$C:$O,BD$4,FALSE))","v":""},{"$f":"IF($N58=\"\",\"\",VLOOKUP($N58,'Reference - Logistics Distance'!$C:$O,BE$4,FALSE))","v":""},{"$f":"IF($N58=\"\",\"\",VLOOKUP($N58,'Reference - Logistics Distance'!$C:$O,BF$4,FALSE))","v":""},{"$f":"IF($N58=\"\",\"\",VLOOKUP($N58,'Reference - Logistics Distance'!$C:$O,BG$4,FALSE))","v":""},{"$f":"IF($N58=\"\",\"\",VLOOKUP($N58,'Reference - Logistics Distance'!$C:$O,BH$4,FALSE))","v":""},{"$f":"IF($N58=\"\",\"\",VLOOKUP($N58,'Reference - Logistics Distance'!$C:$O,BI$4,FALSE))","v":""},null,{"$f":"IF($N58=\"\",\"\",VLOOKUP($N58,'Reference - Logistics Distance'!$C:$O,BK$4,FALSE))","v":""},null,{"$f":"IF($N58=\"\",\"\",VLOOKUP($N58,'Reference - Logistics Distance'!$C:$O,BM$4,FALSE))","v":""},null,"","","","","","","","",null,"",null,"","",null,""]
[null,null,null,null,null,null,null,null,null,null,null,null,null,null,null,null,null,{"$f":"INDEX('Dropdown menus'!$A$1:$D$6,MATCH($E59,'Dropdown menus'!$A$1:$A$6,0),$R$6)","v":{"$error":"#N/A"}},null,{"$f":"IF($F59=\"\",\"\",VLOOKUP($F59,'Reference Data - Transport fuel'!$C:$O,T$4,FALSE))","v":""},{"$f":"IF($F59=\"\",\"\",VLOOKUP($F59,'Reference Data - Transport fuel'!$C:$O,U$4,FALSE))","v":""},{"$f":"IF($F59=\"\",\"\",VLOOKUP($F59,'Reference Data - Transport fuel'!$C:$O,V$4,FALSE))","v":""},{"$f":"IF($F59=\"\",\"\",VLOOKUP($F59,'Reference Data - Transport fuel'!$C:$O,W$4,FALSE))","v":""},{"$f":"IF($F59=\"\",\"\",VLOOKUP($F59,'Reference Data - Transport fuel'!$C:$O,X$4,FALSE))","v":""},{"$f":"IF($F59=\"\",\"\",VLOOKUP($F59,'Reference Data - Transport fuel'!$C:$O,Y$4,FALSE))","v":""},{"$f":"IF($F59=\"\",\"\",VLOOKUP($F59,'Reference Data - Transport fuel'!$C:$O,Z$4,FALSE))","v":""},{"$f":"IF($F59=\"\",\"\",VLOOKUP($F59,'Reference Data - Transport fuel'!$C:$O,AA$4,FALSE))","v":""},{"$f":"IF($F59=\"\",\"\",VLOOKUP($F59,'Reference Data - Transport fuel'!$C:$O,AB$4,FALSE))","v":""},null,{"$f":"IF($F59=\"\",\"\",VLOOKUP($F59,'Reference Data - Transport fuel'!$C:$O,AD$4,FALSE))","v":""},null,{"$f":"IF($F59=\"\",\"\",VLOOKUP($F59,'Reference Data - Transport fuel'!$C:$O,AF$4,FALSE))","v":""},null,"","","","","","","","",null,"",null,"","",null,"",null,null,{"$f":"INDEX('Dropdown menus'!$A$1:$D$6,MATCH($M59,'Dropdown menus'!$A$1:$A$6,0),$AY$6)","v":{"$error":"#N/A"}},null,{"$f":"IF($N59=\"\",\"\",VLOOKUP($N59,'Reference - Logistics Distance'!$C:$O,BA$4,FALSE))","v":""},{"$f":"IF($N59=\"\",\"\",VLOOKUP($N59,'Reference - Logistics Distance'!$C:$O,BB$4,FALSE))","v":""},{"$f":"IF($N59=\"\",\"\",VLOOKUP($N59,'Reference - Logistics Distance'!$C:$O,BC$4,FALSE))","v":""},{"$f":"IF($N59=\"\",\"\",VLOOKUP($N59,'Reference - Logistics Distance'!$C:$O,BD$4,FALSE))","v":""},{"$f":"IF($N59=\"\",\"\",VLOOKUP($N59,'Reference - Logistics Distance'!$C:$O,BE$4,FALSE))","v":""},{"$f":"IF($N59=\"\",\"\",VLOOKUP($N59,'Reference - Logistics Distance'!$C:$O,BF$4,FALSE))","v":""},{"$f":"IF($N59=\"\",\"\",VLOOKUP($N59,'Reference - Logistics Distance'!$C:$O,BG$4,FALSE))","v":""},{"$f":"IF($N59=\"\",\"\",VLOOKUP($N59,'Reference - Logistics Distance'!$C:$O,BH$4,FALSE))","v":""},{"$f":"IF($N59=\"\",\"\",VLOOKUP($N59,'Reference - Logistics Distance'!$C:$O,BI$4,FALSE))","v":""},null,{"$f":"IF($N59=\"\",\"\",VLOOKUP($N59,'Reference - Logistics Distance'!$C:$O,BK$4,FALSE))","v":""},null,{"$f":"IF($N59=\"\",\"\",VLOOKUP($N59,'Reference - Logistics Distance'!$C:$O,BM$4,FALSE))","v":""},null,"","","","","","","","",null,"",null,"","",null,""]
[null,null,null,null,null,null,null,null,null,null,null,null,null,null,null,null,null,{"$f":"INDEX('Dropdown menus'!$A$1:$D$6,MATCH($E60,'Dropdown menus'!$A$1:$A$6,0),$R$6)","v":{"$error":"#N/A"}},null,{"$f":"IF($F60=\"\",\"\",VLOOKUP($F60,'Reference Data - Transport fuel'!$C:$O,T$4,FALSE))","v":""},{"$f":"IF($F60=\"\",\"\",VLOOKUP($F60,'Reference Data - Transport fuel'!$C:$O,U$4,FALSE))","v":""},{"$f":"IF($F60=\"\",\"\",VLOOKUP($F60,'Reference Data - Transport fuel'!$C:$O,V$4,FALSE))","v":""},{"$f":"IF($F60=\"\",\"\",VLOOKUP($F60,'Reference Data - Transport fuel'!$C:$O,W$4,FALSE))","v":""},{"$f":"IF($F60=\"\",\"\",VLOOKUP($F60,'Reference Data - Transport fuel'!$C:$O,X$4,FALSE))","v":""},{"$f":"IF($F60=\"\",\"\",VLOOKUP($F60,'Reference Data - Transport fuel'!$C:$O,Y$4,FALSE))","v":""},{"$f":"IF($F60=\"\",\"\",VLOOKUP($F60,'Reference Data - Transport fuel'!$C:$O,Z$4,FALSE))","v":""},{"$f":"IF($F60=\"\",\"\",VLOOKUP($F60,'Reference Data - Transport fuel'!$C:$O,AA$4,FALSE))","v":""},{"$f":"IF($F60=\"\",\"\",VLOOKUP($F60,'Reference Data - Transport fuel'!$C:$O,AB$4,FALSE))","v":""},null,{"$f":"IF($F60=\"\",\"\",VLOOKUP($F60,'Reference Data - Transport fuel'!$C:$O,AD$4,FALSE))","v":""},null,{"$f":"IF($F60=\"\",\"\",VLOOKUP($F60,'Reference Data - Transport fuel'!$C:$O,AF$4,FALSE))","v":""},null,"","","","","","","","",null,"",null,"","",null,"",null,null,{"$f":"INDEX('Dropdown menus'!$A$1:$D$6,MATCH($M60,'Dropdown menus'!$A$1:$A$6,0),$AY$6)","v":{"$error":"#N/A"}},null,{"$f":"IF($N60=\"\",\"\",VLOOKUP($N60,'Reference - Logistics Distance'!$C:$O,BA$4,FALSE))","v":""},{"$f":"IF($N60=\"\",\"\",VLOOKUP($N60,'Reference - Logistics Distance'!$C:$O,BB$4,FALSE))","v":""},{"$f":"IF($N60=\"\",\"\",VLOOKUP($N60,'Reference - Logistics Distance'!$C:$O,BC$4,FALSE))","v":""},{"$f":"IF($N60=\"\",\"\",VLOOKUP($N60,'Reference - Logistics Distance'!$C:$O,BD$4,FALSE))","v":""},{"$f":"IF($N60=\"\",\"\",VLOOKUP($N60,'Reference - Logistics Distance'!$C:$O,BE$4,FALSE))","v":""},{"$f":"IF($N60=\"\",\"\",VLOOKUP($N60,'Reference - Logistics Distance'!$C:$O,BF$4,FALSE))","v":""},{"$f":"IF($N60=\"\",\"\",VLOOKUP($N60,'Reference - Logistics Distance'!$C:$O,BG$4,FALSE))","v":""},{"$f":"IF($N60=\"\",\"\",VLOOKUP($N60,'Reference - Logistics Distance'!$C:$O,BH$4,FALSE))","v":""},{"$f":"IF($N60=\"\",\"\",VLOOKUP($N60,'Reference - Logistics Distance'!$C:$O,BI$4,FALSE))","v":""},null,{"$f":"IF($N60=\"\",\"\",VLOOKUP($N60,'Reference - Logistics Distance'!$C:$O,BK$4,FALSE))","v":""},null,{"$f":"IF($N60=\"\",\"\",VLOOKUP($N60,'Reference - Logistics Distance'!$C:$O,BM$4,FALSE))","v":""},null,"","","","","","","","",null,"",null,"","",null,""]
[null,null,null,null,null,null,null,null,null,null,null,null,null,null,null,null,null,{"$f":"INDEX('Dropdown menus'!$A$1:$D$6,MATCH($E61,'Dropdown menus'!$A$1:$A$6,0),$R$6)","v":{"$error":"#N/A"}},null,{"$f":"IF($F61=\"\",\"\",VLOOKUP($F61,'Reference Data - Transport fuel'!$C:$O,T$4,FALSE))","v":""},{"$f":"IF($F61=\"\",\"\",VLOOKUP($F61,'Reference Data - Transport fuel'!$C:$O,U$4,FALSE))","v":""},{"$f":"IF($F61=\"\",\"\",VLOOKUP($F61,'Reference Data - Transport fuel'!$C:$O,V$4,FALSE))","v":""},{"$f":"IF($F61=\"\",\"\",VLOOKUP($F61,'Reference Data - Transport fuel'!$C:$O,W$4,FALSE))","v":""},{"$f":"IF($F61=\"\",\"\",VLOOKUP($F61,'Reference Data - Transport fuel'!$C:$O,X$4,FALSE))","v":""},{"$f":"IF($F61=\"\",\"\",VLOOKUP($F61,'Reference Data - Transport fuel'!$C:$O,Y$4,FALSE))","v":""},{"$f":"IF($F61=\"\",\"\",VLOOKUP($F61,'Reference Data - Transport fuel'!$C:$O,Z$4,FALSE))","v":""},{"$f":"IF($F61=\"\",\"\",VLOOKUP($F61,'Reference Data - Transport fuel'!$C:$O,AA$4,FALSE))","v":""},{"$f":"IF($F61=\"\",\"\",VLOOKUP($F61,'Reference Data - Transport fuel'!$C:$O,AB$4,FALSE))","v":""},null,{"$f":"IF($F61=\"\",\"\",VLOOKUP($F61,'Reference Data - Transport fuel'!$C:$O,AD$4,FALSE))","v":""},null,{"$f":"IF($F61=\"\",\"\",VLOOKUP($F61,'Reference Data - Transport fuel'!$C:$O,AF$4,FALSE))","v":""},null,"","","","","","","","",null,"",null,"","",null,"",null,null,{"$f":"INDEX('Dropdown menus'!$A$1:$D$6,MATCH($M61,'Dropdown menus'!$A$1:$A$6,0),$AY$6)","v":{"$error":"#N/A"}},null,{"$f":"IF($N61=\"\",\"\",VLOOKUP($N61,'Reference - Logistics Distance'!$C:$O,BA$4,FALSE))","v":""},{"$f":"IF($N61=\"\",\"\",VLOOKUP($N61,'Reference - Logistics Distance'!$C:$O,BB$4,FALSE))","v":""},{"$f":"IF($N61=\"\",\"\",VLOOKUP($N61,'Reference - Logistics Distance'!$C:$O,BC$4,FALSE))","v":""},{"$f":"IF($N61=\"\",\"\",VLOOKUP($N61,'Reference - Logistics Distance'!$C:$O,BD$4,FALSE))","v":""},{"$f":"IF($N61=\"\",\"\",VLOOKUP($N61,'Reference - Logistics Distance'!$C:$O,BE$4,FALSE))","v":""},{"$f":"IF($N61=\"\",\"\",VLOOKUP($N61,'Reference - Logistics Distance'!$C:$O,BF$4,FALSE))","v":""},{"$f":"IF($N61=\"\",\"\",VLOOKUP($N61,'Reference - Logistics Distance'!$C:$O,BG$4,FALSE))","v":""},{"$f":"IF($N61=\"\",\"\",VLOOKUP($N61,'Reference - Logistics Distance'!$C:$O,BH$4,FALSE))","v":""},{"$f":"IF($N61=\"\",\"\",VLOOKUP($N61,'Reference - Logistics Distance'!$C:$O,BI$4,FALSE))","v":""},null,{"$f":"IF($N61=\"\",\"\",VLOOKUP($N61,'Reference - Logistics Distance'!$C:$O,BK$4,FALSE))","v":""},null,{"$f":"IF($N61=\"\",\"\",VLOOKUP($N61,'Reference - Logistics Distance'!$C:$O,BM$4,FALSE))","v":""},null,"","","","","","","","",null,"",null,"","",null,""]
[null,null,null,null,null,null,null,null,null,null,null,null,null,null,null,null,null,{"$f":"INDEX('Dropdown menus'!$A$1:$D$6,MATCH($E62,'Dropdown menus'!$A$1:$A$6,0),$R$6)","v":{"$error":"#N/A"}},null,{"$f":"IF($F62=\"\",\"\",VLOOKUP($F62,'Reference Data - Transport fuel'!$C:$O,T$4,FALSE))","v":""},{"$f":"IF($F62=\"\",\"\",VLOOKUP($F62,'Reference Data - Transport fuel'!$C:$O,U$4,FALSE))","v":""},{"$f":"IF($F62=\"\",\"\",VLOOKUP($F62,'Reference Data - Transport fuel'!$C:$O,V$4,FALSE))","v":""},{"$f":"IF($F62=\"\",\"\",VLOOKUP($F62,'Reference Data - Transport fuel'!$C:$O,W$4,FALSE))","v":""},{"$f":"IF($F62=\"\",\"\",VLOOKUP($F62,'Reference Data - Transport fuel'!$C:$O,X$4,FALSE))","v":""},{"$f":"IF($F62=\"\",\"\",VLOOKUP($F62,'Reference Data - Transport fuel'!$C:$O,Y$4,FALSE))","v":""},{"$f":"IF($F62=\"\",\"\",VLOOKUP($F62,'Reference Data - Transport fuel'!$C:$O,Z$4,FALSE))","v":""},{"$f":"IF($F62=\"\",\"\",VLOOKUP($F62,'Reference Data - Transport fuel'!$C:$O,AA$4,FALSE))","v":""},{"$f":"IF($F62=\"\",\"\",VLOOKUP($F62,'Reference Data - Transport fuel'!$C:$O,AB$4,FALSE))","v":""},null,{"$f":"IF($F62=\"\",\"\",VLOOKUP($F62,'Reference Data - Transport fuel'!$C:$O,AD$4,FALSE))","v":""},null,{"$f":"IF($F62=\"\",\"\",VLOOKUP($F62,'Reference Data - Transport fuel'!$C:$O,AF$4,FALSE))","v":""},null,"","","","","","","","",null,"",null,"","",null,"",null,null,{"$f":"INDEX('Dropdown menus'!$A$1:$D$6,MATCH($M62,'Dropdown menus'!$A$1:$A$6,0),$AY$6)","v":{"$error":"#N/A"}},null,{"$f":"IF($N62=\"\",\"\",VLOOKUP($N62,'Reference - Logistics Distance'!$C:$O,BA$4,FALSE))","v":""},{"$f":"IF($N62=\"\",\"\",VLOOKUP($N62,'Reference - Logistics Distance'!$C:$O,BB$4,FALSE))","v":""},{"$f":"IF($N62=\"\",\"\",VLOOKUP($N62,'Reference - Logistics Distance'!$C:$O,BC$4,FALSE))","v":""},{"$f":"IF($N62=\"\",\"\",VLOOKUP($N62,'Reference - Logistics Distance'!$C:$O,BD$4,FALSE))","v":""},{"$f":"IF($N62=\"\",\"\",VLOOKUP($N62,'Reference - Logistics Distance'!$C:$O,BE$4,FALSE))","v":""},{"$f":"IF($N62=\"\",\"\",VLOOKUP($N62,'Reference - Logistics Distance'!$C:$O,BF$4,FALSE))","v":""},{"$f":"IF($N62=\"\",\"\",VLOOKUP($N62,'Reference - Logistics Distance'!$C:$O,BG$4,FALSE))","v":""},{"$f":"IF($N62=\"\",\"\",VLOOKUP($N62,'Reference - Logistics Distance'!$C:$O,BH$4,FALSE))","v":""},{"$f":"IF($N62=\"\",\"\",VLOOKUP($N62,'Reference - Logistics Distance'!$C:$O,BI$4,FALSE))","v":""},null,{"$f":"IF($N62=\"\",\"\",VLOOKUP($N62,'Reference - Logistics Distance'!$C:$O,BK$4,FALSE))","v":""},null,{"$f":"IF($N62=\"\",\"\",VLOOKUP($N62,'Reference - Logistics Distance'!$C:$O,BM$4,FALSE))","v":""},null,"","","","","","","","",null,"",null,"","",null,""]
[null,null,null,null,null,null,null,null,null,null,null,null,null,null,null,null,null,{"$f":"INDEX('Dropdown menus'!$A$1:$D$6,MATCH($E63,'Dropdown menus'!$A$1:$A$6,0),$R$6)","v":{"$error":"#N/A"}},null,{"$f":"IF($F63=\"\",\"\",VLOOKUP($F63,'Reference Data - Transport fuel'!$C:$O,T$4,FALSE))","v":""},{"$f":"IF($F63=\"\",\"\",VLOOKUP($F63,'Reference Data - Transport fuel'!$C:$O,U$4,FALSE))","v":""},{"$f":"IF($F63=\"\",\"\",VLOOKUP($F63,'Reference Data - Transport fuel'!$C:$O,V$4,FALSE))","v":""},{"$f":"IF($F63=\"\",\"\",VLOOKUP($F63,'Reference Data - Transport fuel'!$C:$O,W$4,FALSE))","v":""},{"$f":"IF($F63=\"\",\"\",VLOOKUP($F63,'Reference Data - Transport fuel'!$C:$O,X$4,FALSE))","v":""},{"$f":"IF($F63=\"\",\"\",VLOOKUP($F63,'Reference Data - Transport fuel'!$C:$O,Y$4,FALSE))","v":""},{"$f":"IF($F63=\"\",\"\",VLOOKUP($F63,'Reference Data - Transport fuel'!$C:$O,Z$4,FALSE))","v":""},{"$f":"IF($F63=\"\",\"\",VLOOKUP($F63,'Reference Data - Transport fuel'!$C:$O,AA$4,FALSE))","v":""},{"$f":"IF($F63=\"\",\"\",VLOOKUP($F63,'Reference Data - Transport fuel'!$C:$O,AB$4,FALSE))","v":""},null,{"$f":"IF($F63=\"\",\"\",VLOOKUP($F63,'Reference Data - Transport fuel'!$C:$O,AD$4,FALSE))","v":""},null,{"$f":"IF($F63=\"\",\"\",VLOOKUP($F63,'Reference Data - Transport fuel'!$C:$O,AF$4,FALSE))","v":""},null,"","","","","","","","",null,"",null,"","",null,"",null,null,{"$f":"INDEX('Dropdown menus'!$A$1:$D$6,MATCH($M63,'Dropdown menus'!$A$1:$A$6,0),$AY$6)","v":{"$error":"#N/A"}},null,{"$f":"IF($N63=\"\",\"\",VLOOKUP($N63,'Reference - Logistics Distance'!$C:$O,BA$4,FALSE))","v":""},{"$f":"IF($N63=\"\",\"\",VLOOKUP($N63,'Reference - Logistics Distance'!$C:$O,BB$4,FALSE))","v":""},{"$f":"IF($N63=\"\",\"\",VLOOKUP($N63,'Reference - Logistics Distance'!$C:$O,BC$4,FALSE))","v":""},{"$f":"IF($N63=\"\",\"\",VLOOKUP($N63,'Reference - Logistics Distance'!$C:$O,BD$4,FALSE))","v":""},{"$f":"IF($N63=\"\",\"\",VLOOKUP($N63,'Reference - Logistics Distance'!$C:$O,BE$4,FALSE))","v":""},{"$f":"IF($N63=\"\",\"\",VLOOKUP($N63,'Reference - Logistics Distance'!$C:$O,BF$4,FALSE))","v":""},{"$f":"IF($N63=\"\",\"\",VLOOKUP($N63,'Reference - Logistics Distance'!$C:$O,BG$4,FALSE))","v":""},{"$f":"IF($N63=\"\",\"\",VLOOKUP($N63,'Reference - Logistics Distance'!$C:$O,BH$4,FALSE))","v":""},{"$f":"IF($N63=\"\",\"\",VLOOKUP($N63,'Reference - Logistics Distance'!$C:$O,BI$4,FALSE))","v":""},null,{"$f":"IF($N63=\"\",\"\",VLOOKUP($N63,'Reference - Logistics Distance'!$C:$O,BK$4,FALSE))","v":""},null,{"$f":"IF($N63=\"\",\"\",VLOOKUP($N63,'Reference - Logistics Distance'!$C:$O,BM$4,FALSE))","v":""},null,"","","","","","","","",null,"",null,"","",null,""]
[null,null,null,null,null,null,null,null,null,null,null,null,null,null,null,null,null,{"$f":"INDEX('Dropdown menus'!$A$1:$D$6,MATCH($E64,'Dropdown menus'!$A$1:$A$6,0),$R$6)","v":{"$error":"#N/A"}},null,{"$f":"IF($F64=\"\",\"\",VLOOKUP($F64,'Reference Data - Transport fuel'!$C:$O,T$4,FALSE))","v":""},{"$f":"IF($F64=\"\",\"\",VLOOKUP($F64,'Reference Data - Transport fuel'!$C:$O,U$4,FALSE))","v":""},{"$f":"IF($F64=\"\",\"\",VLOOKUP($F64,'Reference Data - Transport fuel'!$C:$O,V$4,FALSE))","v":""},{"$f":"IF($F64=\"\",\"\",VLOOKUP($F64,'Reference Data - Transport fuel'!$C:$O,W$4,FALSE))","v":""},{"$f":"IF($F64=\"\",\"\",VLOOKUP($F64,'Reference Data - Transport fuel'!$C:$O,X$4,FALSE))","v":""},{"$f":"IF($F64=\"\",\"\",VLOOKUP($F64,'Reference Data - Transport fuel'!$C:$O,Y$4,FALSE))","v":""},{"$f":"IF($F64=\"\",\"\",VLOOKUP($F64,'Reference Data - Transport fuel'!$C:$O,Z$4,FALSE))","v":""},{"$f":"IF($F64=\"\",\"\",VLOOKUP($F64,'Reference Data - Transport fuel'!$C:$O,AA$4,FALSE))","v":""},{"$f":"IF($F64=\"\",\"\",VLOOKUP($F64,'Reference Data - Transport fuel'!$C:$O,AB$4,FALSE))","v":""},null,{"$f":"IF($F64=\"\",\"\",VLOOKUP($F64,'Reference Data - Transport fuel'!$C:$O,AD$4,FALSE))","v":""},null,{"$f":"IF($F64=\"\",\"\",VLOOKUP($F64,'Reference Data - Transport fuel'!$C:$O,AF$4,FALSE))","v":""},null,"","","","","","","","",null,"",null,"","",null,"",null,null,{"$f":"INDEX('Dropdown menus'!$A$1:$D$6,MATCH($M64,'Dropdown menus'!$A$1:$A$6,0),$AY$6)","v":{"$error":"#N/A"}},null,{"$f":"IF($N64=\"\",\"\",VLOOKUP($N64,'Reference - Logistics Distance'!$C:$O,BA$4,FALSE))","v":""},{"$f":"IF($N64=\"\",\"\",VLOOKUP($N64,'Reference - Logistics Distance'!$C:$O,BB$4,FALSE))","v":""},{"$f":"IF($N64=\"\",\"\",VLOOKUP($N64,'Reference - Logistics Distance'!$C:$O,BC$4,FALSE))","v":""},{"$f":"IF($N64=\"\",\"\",VLOOKUP($N64,'Reference - Logistics Distance'!$C:$O,BD$4,FALSE))","v":""},{"$f":"IF($N64=\"\",\"\",VLOOKUP($N64,'Reference - Logistics Distance'!$C:$O,BE$4,FALSE))","v":""},{"$f":"IF($N64=\"\",\"\",VLOOKUP($N64,'Reference - Logistics Distance'!$C:$O,BF$4,FALSE))","v":""},{"$f":"IF($N64=\"\",\"\",VLOOKUP($N64,'Reference - Logistics Distance'!$C:$O,BG$4,FALSE))","v":""},{"$f":"IF($N64=\"\",\"\",VLOOKUP($N64,'Reference - Logistics Distance'!$C:$O,BH$4,FALSE))","v":""},{"$f":"IF($N64=\"\",\"\",VLOOKUP($N64,'Reference - Logistics Distance'!$C:$O,BI$4,FALSE))","v":""},null,{"$f":"IF($N64=\"\",\"\",VLOOKUP($N64,'Reference - Logistics Distance'!$C:$O,BK$4,FALSE))","v":""},null,{"$f":"IF($N64=\"\",\"\",VLOOKUP($N64,'Reference - Logistics Distance'!$C:$O,BM$4,FALSE))","v":""},null,"","","","","","","","",null,"",null,"","",null,""]
[null,null,null,null,null,null,null,null,null,null,null,null,null,null,null,null,null,{"$f":"INDEX('Dropdown menus'!$A$1:$D$6,MATCH($E65,'Dropdown menus'!$A$1:$A$6,0),$R$6)","v":{"$error":"#N/A"}},null,{"$f":"IF($F65=\"\",\"\",VLOOKUP($F65,'Reference Data - Transport fuel'!$C:$O,T$4,FALSE))","v":""},{"$f":"IF($F65=\"\",\"\",VLOOKUP($F65,'Reference Data - Transport fuel'!$C:$O,U$4,FALSE))","v":""},{"$f":"IF($F65=\"\",\"\",VLOOKUP($F65,'Reference Data - Transport fuel'!$C:$O,V$4,FALSE))","v":""},{"$f":"IF($F65=\"\",\"\",VLOOKUP($F65,'Reference Data - Transport fuel'!$C:$O,W$4,FALSE))","v":""},{"$f":"IF($F65=\"\",\"\",VLOOKUP($F65,'Reference Data - Transport fuel'!$C:$O,X$4,FALSE))","v":""},{"$f":"IF($F65=\"\",\"\",VLOOKUP($F65,'Reference Data - Transport fuel'!$C:$O,Y$4,FALSE))","v":""},{"$f":"IF($F65=\"\",\"\",VLOOKUP($F65,'Reference Data - Transport fuel'!$C:$O,Z$4,FALSE))","v":""},{"$f":"IF($F65=\"\",\"\",VLOOKUP($F65,'Reference Data - Transport fuel'!$C:$O,AA$4,FALSE))","v":""},{"$f":"IF($F65=\"\",\"\",VLOOKUP($F65,'Reference Data - Transport fuel'!$C:$O,AB$4,FALSE))","v":""},null,{"$f":"IF($F65=\"\",\"\",VLOOKUP($F65,'Reference Data - Transport fuel'!$C:$O,AD$4,FALSE))","v":""},null,{"$f":"IF($F65=\"\",\"\",VLOOKUP($F65,'Reference Data - Transport fuel'!$C:$O,AF$4,FALSE))","v":""},null,"","","","","","","","",null,"",null,"","",null,"",null,null,{"$f":"INDEX('Dropdown menus'!$A$1:$D$6,MATCH($M65,'Dropdown menus'!$A$1:$A$6,0),$AY$6)","v":{"$error":"#N/A"}},null,{"$f":"IF($N65=\"\",\"\",VLOOKUP($N65,'Reference - Logistics Distance'!$C:$O,BA$4,FALSE))","v":""},{"$f":"IF($N65=\"\",\"\",VLOOKUP($N65,'Reference - Logistics Distance'!$C:$O,BB$4,FALSE))","v":""},{"$f":"IF($N65=\"\",\"\",VLOOKUP($N65,'Reference - Logistics Distance'!$C:$O,BC$4,FALSE))","v":""},{"$f":"IF($N65=\"\",\"\",VLOOKUP($N65,'Reference - Logistics Distance'!$C:$O,BD$4,FALSE))","v":""},{"$f":"IF($N65=\"\",\"\",VLOOKUP($N65,'Reference - Logistics Distance'!$C:$O,BE$4,FALSE))","v":""},{"$f":"IF($N65=\"\",\"\",VLOOKUP($N65,'Reference - Logistics Distance'!$C:$O,BF$4,FALSE))","v":""},{"$f":"IF($N65=\"\",\"\",VLOOKUP($N65,'Reference - Logistics Distance'!$C:$O,BG$4,FALSE))","v":""},{"$f":"IF($N65=\"\",\"\",VLOOKUP($N65,'Reference - Logistics Distance'!$C:$O,BH$4,FALSE))","v":""},{"$f":"IF($N65=\"\",\"\",VLOOKUP($N65,'Reference - Logistics Distance'!$C:$O,BI$4,FALSE))","v":""},null,{"$f":"IF($N65=\"\",\"\",VLOOKUP($N65,'Reference - Logistics Distance'!$C:$O,BK$4,FALSE))","v":""},null,{"$f":"IF($N65=\"\",\"\",VLOOKUP($N65,'Reference - Logistics Distance'!$C:$O,BM$4,FALSE))","v":""},null,"","","","","","","","",null,"",null,"","",null,""]
[null,null,null,null,null,null,null,null,null,null,null,null,null,null,null,null,null,{"$f":"INDEX('Dropdown menus'!$A$1:$D$6,MATCH($E66,'Dropdown menus'!$A$1:$A$6,0),$R$6)","v":{"$error":"#N/A"}},null,{"$f":"IF($F66=\"\",\"\",VLOOKUP($F66,'Reference Data - Transport fuel'!$C:$O,T$4,FALSE))","v":""},{"$f":"IF($F66=\"\",\"\",VLOOKUP($F66,'Reference Data - Transport fuel'!$C:$O,U$4,FALSE))","v":""},{"$f":"IF($F66=\"\",\"\",VLOOKUP($F66,'Reference Data - Transport fuel'!$C:$O,V$4,FALSE))","v":""},{"$f":"IF($F66=\"\",\"\",VLOOKUP($F66,'Reference Data - Transport fuel'!$C:$O,W$4,FALSE))","v":""},{"$f":"IF($F66=\"\",\"\",VLOOKUP($F66,'Reference Data - Transport fuel'!$C:$O,X$4,FALSE))","v":""},{"$f":"IF($F66=\"\",\"\",VLOOKUP($F66,'Reference Data - Transport fuel'!$C:$O,Y$4,FALSE))","v":""},{"$f":"IF($F66=\"\",\"\",VLOOKUP($F66,'Reference Data - Transport fuel'!$C:$O,Z$4,FALSE))","v":""},{"$f":"IF($F66=\"\",\"\",VLOOKUP($F66,'Reference Data - Transport fuel'!$C:$O,AA$4,FALSE))","v":""},{"$f":"IF($F66=\"\",\"\",VLOOKUP($F66,'Reference Data - Transport fuel'!$C:$O,AB$4,FALSE))","v":""},null,{"$f":"IF($F66=\"\",\"\",VLOOKUP($F66,'Reference Data - Transport fuel'!$C:$O,AD$4,FALSE))","v":""},null,{"$f":"IF($F66=\"\",\"\",VLOOKUP($F66,'Reference Data - Transport fuel'!$C:$O,AF$4,FALSE))","v":""},null,"","","","","","","","",null,"",null,"","",null,"",null,null,{"$f":"INDEX('Dropdown menus'!$A$1:$D$6,MATCH($M66,'Dropdown menus'!$A$1:$A$6,0),$AY$6)","v":{"$error":"#N/A"}},null,{"$f":"IF($N66=\"\",\"\",VLOOKUP($N66,'Reference - Logistics Distance'!$C:$O,BA$4,FALSE))","v":""},{"$f":"IF($N66=\"\",\"\",VLOOKUP($N66,'Reference - Logistics Distance'!$C:$O,BB$4,FALSE))","v":""},{"$f":"IF($N66=\"\",\"\",VLOOKUP($N66,'Reference - Logistics Distance'!$C:$O,BC$4,FALSE))","v":""},{"$f":"IF($N66=\"\",\"\",VLOOKUP($N66,'Reference - Logistics Distance'!$C:$O,BD$4,FALSE))","v":""},{"$f":"IF($N66=\"\",\"\",VLOOKUP($N66,'Reference - Logistics Distance'!$C:$O,BE$4,FALSE))","v":""},{"$f":"IF($N66=\"\",\"\",VLOOKUP($N66,'Reference - Logistics Distance'!$C:$O,BF$4,FALSE))","v":""},{"$f":"IF($N66=\"\",\"\",VLOOKUP($N66,'Reference - Logistics Distance'!$C:$O,BG$4,FALSE))","v":""},{"$f":"IF($N66=\"\",\"\",VLOOKUP($N66,'Reference - Logistics Distance'!$C:$O,BH$4,FALSE))","v":""},{"$f":"IF($N66=\"\",\"\",VLOOKUP($N66,'Reference - Logistics Distance'!$C:$O,BI$4,FALSE))","v":""},null,{"$f":"IF($N66=\"\",\"\",VLOOKUP($N66,'Reference - Logistics Distance'!$C:$O,BK$4,FALSE))","v":""},null,{"$f":"IF($N66=\"\",\"\",VLOOKUP($N66,'Reference - Logistics Distance'!$C:$O,BM$4,FALSE))","v":""},null,"","","","","","","","",null,"",null,"","",null,""]
[null,null,null,null,null,null,null,null,null,null,null,null,null,null,null,null,null,{"$f":"INDEX('Dropdown menus'!$A$1:$D$6,MATCH($E67,'Dropdown menus'!$A$1:$A$6,0),$R$6)","v":{"$error":"#N/A"}},null,{"$f":"IF($F67=\"\",\"\",VLOOKUP($F67,'Reference Data - Transport fuel'!$C:$O,T$4,FALSE))","v":""},{"$f":"IF($F67=\"\",\"\",VLOOKUP($F67,'Reference Data - Transport fuel'!$C:$O,U$4,FALSE))","v":""},{"$f":"IF($F67=\"\",\"\",VLOOKUP($F67,'Reference Data - Transport fuel'!$C:$O,V$4,FALSE))","v":""},{"$f":"IF($F67=\"\",\"\",VLOOKUP($F67,'Reference Data - Transport fuel'!$C:$O,W$4,FALSE))","v":""},{"$f":"IF($F67=\"\",\"\",VLOOKUP($F67,'Reference Data - Transport fuel'!$C:$O,X$4,FALSE))","v":""},{"$f":"IF($F67=\"\",\"\",VLOOKUP($F67,'Reference Data - Transport fuel'!$C:$O,Y$4,FALSE))","v":""},{"$f":"IF($F67=\"\",\"\",VLOOKUP($F67,'Reference Data - Transport fuel'!$C:$O,Z$4,FALSE))","v":""},{"$f":"IF($F67=\"\",\"\",VLOOKUP($F67,'Reference Data - Transport fuel'!$C:$O,AA$4,FALSE))","v":""},{"$f":"IF($F67=\"\",\"\",VLOOKUP($F67,'Reference Data - Transport fuel'!$C:$O,AB$4,FALSE))","v":""},null,{"$f":"IF($F67=\"\",\"\",VLOOKUP($F67,'Reference Data - Transport fuel'!$C:$O,AD$4,FALSE))","v":""},null,{"$f":"IF($F67=\"\",\"\",VLOOKUP($F67,'Reference Data - Transport fuel'!$C:$O,AF$4,FALSE))","v":""},null,"","","","","","","","",null,"",null,"","",null,"",null,null,{"$f":"INDEX('Dropdown menus'!$A$1:$D$6,MATCH($M67,'Dropdown menus'!$A$1:$A$6,0),$AY$6)","v":{"$error":"#N/A"}},null,{"$f":"IF($N67=\"\",\"\",VLOOKUP($N67,'Reference - Logistics Distance'!$C:$O,BA$4,FALSE))","v":""},{"$f":"IF($N67=\"\",\"\",VLOOKUP($N67,'Reference - Logistics Distance'!$C:$O,BB$4,FALSE))","v":""},{"$f":"IF($N67=\"\",\"\",VLOOKUP($N67,'Reference - Logistics Distance'!$C:$O,BC$4,FALSE))","v":""},{"$f":"IF($N67=\"\",\"\",VLOOKUP($N67,'Reference - Logistics Distance'!$C:$O,BD$4,FALSE))","v":""},{"$f":"IF($N67=\"\",\"\",VLOOKUP($N67,'Reference - Logistics Distance'!$C:$O,BE$4,FALSE))","v":""},{"$f":"IF($N67=\"\",\"\",VLOOKUP($N67,'Reference - Logistics Distance'!$C:$O,BF$4,FALSE))","v":""},{"$f":"IF($N67=\"\",\"\",VLOOKUP($N67,'Reference - Logistics Distance'!$C:$O,BG$4,FALSE))","v":""},{"$f":"IF($N67=\"\",\"\",VLOOKUP($N67,'Reference - Logistics Distance'!$C:$O,BH$4,FALSE))","v":""},{"$f":"IF($N67=\"\",\"\",VLOOKUP($N67,'Reference - Logistics Distance'!$C:$O,BI$4,FALSE))","v":""},null,{"$f":"IF($N67=\"\",\"\",VLOOKUP($N67,'Reference - Logistics Distance'!$C:$O,BK$4,FALSE))","v":""},null,{"$f":"IF($N67=\"\",\"\",VLOOKUP($N67,'Reference - Logistics Distance'!$C:$O,BM$4,FALSE))","v":""},null,"","","","","","","","",null,"",null,"","",null,""]
[null,null,null,null,null,null,null,null,null,null,null,null,null,null,null,null,null,{"$f":"INDEX('Dropdown menus'!$A$1:$D$6,MATCH($E68,'Dropdown menus'!$A$1:$A$6,0),$R$6)","v":{"$error":"#N/A"}},null,{"$f":"IF($F68=\"\",\"\",VLOOKUP($F68,'Reference Data - Transport fuel'!$C:$O,T$4,FALSE))","v":""},{"$f":"IF($F68=\"\",\"\",VLOOKUP($F68,'Reference Data - Transport fuel'!$C:$O,U$4,FALSE))","v":""},{"$f":"IF($F68=\"\",\"\",VLOOKUP($F68,'Reference Data - Transport fuel'!$C:$O,V$4,FALSE))","v":""},{"$f":"IF($F68=\"\",\"\",VLOOKUP($F68,'Reference Data - Transport fuel'!$C:$O,W$4,FALSE))","v":""},{"$f":"IF($F68=\"\",\"\",VLOOKUP($F68,'Reference Data - Transport fuel'!$C:$O,X$4,FALSE))","v":""},{"$f":"IF($F68=\"\",\"\",VLOOKUP($F68,'Reference Data - Transport fuel'!$C:$O,Y$4,FALSE))","v":""},{"$f":"IF($F68=\"\",\"\",VLOOKUP($F68,'Reference Data - Transport fuel'!$C:$O,Z$4,FALSE))","v":""},{"$f":"IF($F68=\"\",\"\",VLOOKUP($F68,'Reference Data - Transport fuel'!$C:$O,AA$4,FALSE))","v":""},{"$f":"IF($F68=\"\",\"\",VLOOKUP($F68,'Reference Data - Transport fuel'!$C:$O,AB$4,FALSE))","v":""},null,{"$f":"IF($F68=\"\",\"\",VLOOKUP($F68,'Reference Data - Transport fuel'!$C:$O,AD$4,FALSE))","v":""},null,{"$f":"IF($F68=\"\",\"\",VLOOKUP($F68,'Reference Data - Transport fuel'!$C:$O,AF$4,FALSE))","v":""},null,"","","","","","","","",null,"",null,"","",null,"",null,null,{"$f":"INDEX('Dropdown menus'!$A$1:$D$6,MATCH($M68,'Dropdown menus'!$A$1:$A$6,0),$AY$6)","v":{"$error":"#N/A"}},null,{"$f":"IF($N68=\"\",\"\",VLOOKUP($N68,'Reference - Logistics Distance'!$C:$O,BA$4,FALSE))","v":""},{"$f":"IF($N68=\"\",\"\",VLOOKUP($N68,'Reference - Logistics Distance'!$C:$O,BB$4,FALSE))","v":""},{"$f":"IF($N68=\"\",\"\",VLOOKUP($N68,'Reference - Logistics Distance'!$C:$O,BC$4,FALSE))","v":""},{"$f":"IF($N68=\"\",\"\",VLOOKUP($N68,'Reference - Logistics Distance'!$C:$O,BD$4,FALSE))","v":""},{"$f":"IF($N68=\"\",\"\",VLOOKUP($N68,'Reference - Logistics Distance'!$C:$O,BE$4,FALSE))","v":""},{"$f":"IF($N68=\"\",\"\",VLOOKUP($N68,'Reference - Logistics Distance'!$C:$O,BF$4,FALSE))","v":""},{"$f":"IF($N68=\"\",\"\",VLOOKUP($N68,'Reference - Logistics Distance'!$C:$O,BG$4,FALSE))","v":""},{"$f":"IF($N68=\"\",\"\",VLOOKUP($N68,'Reference - Logistics Distance'!$C:$O,BH$4,FALSE))","v":""},{"$f":"IF($N68=\"\",\"\",VLOOKUP($N68,'Reference - Logistics Distance'!$C:$O,BI$4,FALSE))","v":""},null,{"$f":"IF($N68=\"\",\"\",VLOOKUP($N68,'Reference - Logistics Distance'!$C:$O,BK$4,FALSE))","v":""},null,{"$f":"IF($N68=\"\",\"\",VLOOKUP($N68,'Reference - Logistics Distance'!$C:$O,BM$4,FALSE))","v":""},null,"","","","","","","","",null,"",null,"","",null,""]
[null,null,null,null,null,null,null,null,null,null,null,null,null,null,null,null,null,{"$f":"INDEX('Dropdown menus'!$A$1:$D$6,MATCH($E69,'Dropdown menus'!$A$1:$A$6,0),$R$6)","v":{"$error":"#N/A"}},null,{"$f":"IF($F69=\"\",\"\",VLOOKUP($F69,'Reference Data - Transport fuel'!$C:$O,T$4,FALSE))","v":""},{"$f":"IF($F69=\"\",\"\",VLOOKUP($F69,'Reference Data - Transport fuel'!$C:$O,U$4,FALSE))","v":""},{"$f":"IF($F69=\"\",\"\",VLOOKUP($F69,'Reference Data - Transport fuel'!$C:$O,V$4,FALSE))","v":""},{"$f":"IF($F69=\"\",\"\",VLOOKUP($F69,'Reference Data - Transport fuel'!$C:$O,W$4,FALSE))","v":""},{"$f":"IF($F69=\"\",\"\",VLOOKUP($F69,'Reference Data - Transport fuel'!$C:$O,X$4,FALSE))","v":""},{"$f":"IF($F69=\"\",\"\",VLOOKUP($F69,'Reference Data - Transport fuel'!$C:$O,Y$4,FALSE))","v":""},{"$f":"IF($F69=\"\",\"\",VLOOKUP($F69,'Reference Data - Transport fuel'!$C:$O,Z$4,FALSE))","v":""},{"$f":"IF($F69=\"\",\"\",VLOOKUP($F69,'Reference Data - Transport fuel'!$C:$O,AA$4,FALSE))","v":""},{"$f":"IF($F69=\"\",\"\",VLOOKUP($F69,'Reference Data - Transport fuel'!$C:$O,AB$4,FALSE))","v":""},null,{"$f":"IF($F69=\"\",\"\",VLOOKUP($F69,'Reference Data - Transport fuel'!$C:$O,AD$4,FALSE))","v":""},null,{"$f":"IF($F69=\"\",\"\",VLOOKUP($F69,'Reference Data - Transport fuel'!$C:$O,AF$4,FALSE))","v":""},null,"","","","","","","","",null,"",null,"","",null,"",null,null,{"$f":"INDEX('Dropdown menus'!$A$1:$D$6,MATCH($M69,'Dropdown menus'!$A$1:$A$6,0),$AY$6)","v":{"$error":"#N/A"}},null,{"$f":"IF($N69=\"\",\"\",VLOOKUP($N69,'Reference - Logistics Distance'!$C:$O,BA$4,FALSE))","v":""},{"$f":"IF($N69=\"\",\"\",VLOOKUP($N69,'Reference - Logistics Distance'!$C:$O,BB$4,FALSE))","v":""},{"$f":"IF($N69=\"\",\"\",VLOOKUP($N69,'Reference - Logistics Distance'!$C:$O,BC$4,FALSE))","v":""},{"$f":"IF($N69=\"\",\"\",VLOOKUP($N69,'Reference - Logistics Distance'!$C:$O,BD$4,FALSE))","v":""},{"$f":"IF($N69=\"\",\"\",VLOOKUP($N69,'Reference - Logistics Distance'!$C:$O,BE$4,FALSE))","v":""},{"$f":"IF($N69=\"\",\"\",VLOOKUP($N69,'Reference - Logistics Distance'!$C:$O,BF$4,FALSE))","v":""},{"$f":"IF($N69=\"\",\"\",VLOOKUP($N69,'Reference - Logistics Distance'!$C:$O,BG$4,FALSE))","v":""},{"$f":"IF($N69=\"\",\"\",VLOOKUP($N69,'Reference - Logistics Distance'!$C:$O,BH$4,FALSE))","v":""},{"$f":"IF($N69=\"\",\"\",VLOOKUP($N69,'Reference - Logistics Distance'!$C:$O,BI$4,FALSE))","v":""},null,{"$f":"IF($N69=\"\",\"\",VLOOKUP($N69,'Reference - Logistics Distance'!$C:$O,BK$4,FALSE))","v":""},null,{"$f":"IF($N69=\"\",\"\",VLOOKUP($N69,'Reference - Logistics Distance'!$C:$O,BM$4,FALSE))","v":""},null,"","","","","","","","",null,"",null,"","",null,""]
[null,null,null,null,null,null,null,null,null,null,null,null,null,null,null,null,null,{"$f":"INDEX('Dropdown menus'!$A$1:$D$6,MATCH($E70,'Dropdown menus'!$A$1:$A$6,0),$R$6)","v":{"$error":"#N/A"}},null,{"$f":"IF($F70=\"\",\"\",VLOOKUP($F70,'Reference Data - Transport fuel'!$C:$O,T$4,FALSE))","v":""},{"$f":"IF($F70=\"\",\"\",VLOOKUP($F70,'Reference Data - Transport fuel'!$C:$O,U$4,FALSE))","v":""},{"$f":"IF($F70=\"\",\"\",VLOOKUP($F70,'Reference Data - Transport fuel'!$C:$O,V$4,FALSE))","v":""},{"$f":"IF($F70=\"\",\"\",VLOOKUP($F70,'Reference Data - Transport fuel'!$C:$O,W$4,FALSE))","v":""},{"$f":"IF($F70=\"\",\"\",VLOOKUP($F70,'Reference Data - Transport fuel'!$C:$O,X$4,FALSE))","v":""},{"$f":"IF($F70=\"\",\"\",VLOOKUP($F70,'Reference Data - Transport fuel'!$C:$O,Y$4,FALSE))","v":""},{"$f":"IF($F70=\"\",\"\",VLOOKUP($F70,'Reference Data - Transport fuel'!$C:$O,Z$4,FALSE))","v":""},{"$f":"IF($F70=\"\",\"\",VLOOKUP($F70,'Reference Data - Transport fuel'!$C:$O,AA$4,FALSE))","v":""},{"$f":"IF($F70=\"\",\"\",VLOOKUP($F70,'Reference Data - Transport fuel'!$C:$O,AB$4,FALSE))","v":""},null,{"$f":"IF($F70=\"\",\"\",VLOOKUP($F70,'Reference Data - Transport fuel'!$C:$O,AD$4,FALSE))","v":""},null,{"$f":"IF($F70=\"\",\"\",VLOOKUP($F70,'Reference Data - Transport fuel'!$C:$O,AF$4,FALSE))","v":""},null,"","","","","","","","",null,"",null,"","",null,"",null,null,{"$f":"INDEX('Dropdown menus'!$A$1:$D$6,MATCH($M70,'Dropdown menus'!$A$1:$A$6,0),$AY$6)","v":{"$error":"#N/A"}},null,{"$f":"IF($N70=\"\",\"\",VLOOKUP($N70,'Reference - Logistics Distance'!$C:$O,BA$4,FALSE))","v":""},{"$f":"IF($N70=\"\",\"\",VLOOKUP($N70,'Reference - Logistics Distance'!$C:$O,BB$4,FALSE))","v":""},{"$f":"IF($N70=\"\",\"\",VLOOKUP($N70,'Reference - Logistics Distance'!$C:$O,BC$4,FALSE))","v":""},{"$f":"IF($N70=\"\",\"\",VLOOKUP($N70,'Reference - Logistics Distance'!$C:$O,BD$4,FALSE))","v":""},{"$f":"IF($N70=\"\",\"\",VLOOKUP($N70,'Reference - Logistics Distance'!$C:$O,BE$4,FALSE))","v":""},{"$f":"IF($N70=\"\",\"\",VLOOKUP($N70,'Reference - Logistics Distance'!$C:$O,BF$4,FALSE))","v":""},{"$f":"IF($N70=\"\",\"\",VLOOKUP($N70,'Reference - Logistics Distance'!$C:$O,BG$4,FALSE))","v":""},{"$f":"IF($N70=\"\",\"\",VLOOKUP($N70,'Reference - Logistics Distance'!$C:$O,BH$4,FALSE))","v":""},{"$f":"IF($N70=\"\",\"\",VLOOKUP($N70,'Reference - Logistics Distance'!$C:$O,BI$4,FALSE))","v":""},null,{"$f":"IF($N70=\"\",\"\",VLOOKUP($N70,'Reference - Logistics Distance'!$C:$O,BK$4,FALSE))","v":""},null,{"$f":"IF($N70=\"\",\"\",VLOOKUP($N70,'Reference - Logistics Distance'!$C:$O,BM$4,FALSE))","v":""},null,"","","","","","","","",null,"",null,"","",null,""]
[null,null,null,null,null,null,null,null,null,null,null,null,null,null,null,null,null,{"$f":"INDEX('Dropdown menus'!$A$1:$D$6,MATCH($E71,'Dropdown menus'!$A$1:$A$6,0),$R$6)","v":{"$error":"#N/A"}},null,{"$f":"IF($F71=\"\",\"\",VLOOKUP($F71,'Reference Data - Transport fuel'!$C:$O,T$4,FALSE))","v":""},{"$f":"IF($F71=\"\",\"\",VLOOKUP($F71,'Reference Data - Transport fuel'!$C:$O,U$4,FALSE))","v":""},{"$f":"IF($F71=\"\",\"\",VLOOKUP($F71,'Reference Data - Transport fuel'!$C:$O,V$4,FALSE))","v":""},{"$f":"IF($F71=\"\",\"\",VLOOKUP($F71,'Reference Data - Transport fuel'!$C:$O,W$4,FALSE))","v":""},{"$f":"IF($F71=\"\",\"\",VLOOKUP($F71,'Reference Data - Transport fuel'!$C:$O,X$4,FALSE))","v":""},{"$f":"IF($F71=\"\",\"\",VLOOKUP($F71,'Reference Data - Transport fuel'!$C:$O,Y$4,FALSE))","v":""},{"$f":"IF($F71=\"\",\"\",VLOOKUP($F71,'Reference Data - Transport fuel'!$C:$O,Z$4,FALSE))","v":""},{"$f":"IF($F71=\"\",\"\",VLOOKUP($F71,'Reference Data - Transport fuel'!$C:$O,AA$4,FALSE))","v":""},{"$f":"IF($F71=\"\",\"\",VLOOKUP($F71,'Reference Data - Transport fuel'!$C:$O,AB$4,FALSE))","v":""},null,{"$f":"IF($F71=\"\",\"\",VLOOKUP($F71,'Reference Data - Transport fuel'!$C:$O,AD$4,FALSE))","v":""},null,{"$f":"IF($F71=\"\",\"\",VLOOKUP($F71,'Reference Data - Transport fuel'!$C:$O,AF$4,FALSE))","v":""},null,"","","","","","","","",null,"",null,"","",null,"",null,null,{"$f":"INDEX('Dropdown menus'!$A$1:$D$6,MATCH($M71,'Dropdown menus'!$A$1:$A$6,0),$AY$6)","v":{"$error":"#N/A"}},null,{"$f":"IF($N71=\"\",\"\",VLOOKUP($N71,'Reference - Logistics Distance'!$C:$O,BA$4,FALSE))","v":""},{"$f":"IF($N71=\"\",\"\",VLOOKUP($N71,'Reference - Logistics Distance'!$C:$O,BB$4,FALSE))","v":""},{"$f":"IF($N71=\"\",\"\",VLOOKUP($N71,'Reference - Logistics Distance'!$C:$O,BC$4,FALSE))","v":""},{"$f":"IF($N71=\"\",\"\",VLOOKUP($N71,'Reference - Logistics Distance'!$C:$O,BD$4,FALSE))","v":""},{"$f":"IF($N71=\"\",\"\",VLOOKUP($N71,'Reference - Logistics Distance'!$C:$O,BE$4,FALSE))","v":""},{"$f":"IF($N71=\"\",\"\",VLOOKUP($N71,'Reference - Logistics Distance'!$C:$O,BF$4,FALSE))","v":""},{"$f":"IF($N71=\"\",\"\",VLOOKUP($N71,'Reference - Logistics Distance'!$C:$O,BG$4,FALSE))","v":""},{"$f":"IF($N71=\"\",\"\",VLOOKUP($N71,'Reference - Logistics Distance'!$C:$O,BH$4,FALSE))","v":""},{"$f":"IF($N71=\"\",\"\",VLOOKUP($N71,'Reference - Logistics Distance'!$C:$O,BI$4,FALSE))","v":""},null,{"$f":"IF($N71=\"\",\"\",VLOOKUP($N71,'Reference - Logistics Distance'!$C:$O,BK$4,FALSE))","v":""},null,{"$f":"IF($N71=\"\",\"\",VLOOKUP($N71,'Reference - Logistics Distance'!$C:$O,BM$4,FALSE))","v":""},null,"","","","","","","","",null,"",null,"","",null,""]
[null,null,null,null,null,null,null,null,null,null,null,null,null,null,null,null,null,{"$f":"INDEX('Dropdown menus'!$A$1:$D$6,MATCH($E72,'Dropdown menus'!$A$1:$A$6,0),$R$6)","v":{"$error":"#N/A"}},null,{"$f":"IF($F72=\"\",\"\",VLOOKUP($F72,'Reference Data - Transport fuel'!$C:$O,T$4,FALSE))","v":""},{"$f":"IF($F72=\"\",\"\",VLOOKUP($F72,'Reference Data - Transport fuel'!$C:$O,U$4,FALSE))","v":""},{"$f":"IF($F72=\"\",\"\",VLOOKUP($F72,'Reference Data - Transport fuel'!$C:$O,V$4,FALSE))","v":""},{"$f":"IF($F72=\"\",\"\",VLOOKUP($F72,'Reference Data - Transport fuel'!$C:$O,W$4,FALSE))","v":""},{"$f":"IF($F72=\"\",\"\",VLOOKUP($F72,'Reference Data - Transport fuel'!$C:$O,X$4,FALSE))","v":""},{"$f":"IF($F72=\"\",\"\",VLOOKUP($F72,'Reference Data - Transport fuel'!$C:$O,Y$4,FALSE))","v":""},{"$f":"IF($F72=\"\",\"\",VLOOKUP($F72,'Reference Data - Transport fuel'!$C:$O,Z$4,FALSE))","v":""},{"$f":"IF($F72=\"\",\"\",VLOOKUP($F72,'Reference Data - Transport fuel'!$C:$O,AA$4,FALSE))","v":""},{"$f":"IF($F72=\"\",\"\",VLOOKUP($F72,'Reference Data - Transport fuel'!$C:$O,AB$4,FALSE))","v":""},null,{"$f":"IF($F72=\"\",\"\",VLOOKUP($F72,'Reference Data - Transport fuel'!$C:$O,AD$4,FALSE))","v":""},null,{"$f":"IF($F72=\"\",\"\",VLOOKUP($F72,'Reference Data - Transport fuel'!$C:$O,AF$4,FALSE))","v":""},null,{"$f":"IF($F72=\"\",\"\",IF($R72=1,(T72*$G72)-AQ72,\"\"))","v":""},{"$f":"IF($F72=\"\",\"\",IF($R72=1,IF(AD72=\"Yes\",0,U72*$G72),\"\"))","v":""},{"$f":"IF($F72=\"\",\"\",IF($R72=1,V72*$G72,\"\"))","v":""},{"$f":"IF($F72=\"\",\"\",IF($R72=1,W72*$G72,\"\"))","v":""},{"$f":"IF($F72=\"\",\"\",IF($R72=1,X72*$G72,\"\"))","v":""},{"$f":"IF($F72=\"\",\"\",IF($R72=1,Y72*$G72,\"\"))","v":""},{"$f":"IF($F72=\"\",\"\",IF($R72=1,Z72*$G72,\"\"))","v":""},{"$f":"IF($F72=\"\",\"\",IF($R72=1,AA72*$G72,\"\"))","v":""},null,{"$f":"IF($F72=\"\",\"\",IF($R72=1,IF(AD72=\"Yes\",G72*U72,0),\"\"))","v":""},null,{"$f":"IF($F72=\"\",\"\",$G72*AB72)","v":""},{"$f":"IF($F72=\"\",\"\",IF($R72=3,$G72*T72,\"\"))","v":""},null,{"$f":"IF($F72=\"\",\"\",IF($R72=1,G72*AF72,\"\"))","v":""},null,null,{"$f":"INDEX('Dropdown menus'!$A$1:$D$6,MATCH($M72,'Dropdown menus'!$A$1:$A$6,0),$AY$6)","v":{"$error":"#N/A"}},null,{"$f":"IF($N72=\"\",\"\",VLOOKUP($N72,'Reference - Logistics Distance'!$C:$O,BA$4,FALSE))","v":""},{"$f":"IF($N72=\"\",\"\",VLOOKUP($N72,'Reference - Logistics Distance'!$C:$O,BB$4,FALSE))","v":""},{"$f":"IF($N72=\"\",\"\",VLOOKUP($N72,'Reference - Logistics Distance'!$C:$O,BC$4,FALSE))","v":""},{"$f":"IF($N72=\"\",\"\",VLOOKUP($N72,'Reference - Logistics Distance'!$C:$O,BD$4,FALSE))","v":""},{"$f":"IF($N72=\"\",\"\",VLOOKUP($N72,'Reference - Logistics Distance'!$C:$O,BE$4,FALSE))","v":""},{"$f":"IF($N72=\"\",\"\",VLOOKUP($N72,'Reference - Logistics Distance'!$C:$O,BF$4,FALSE))","v":""},{"$f":"IF($N72=\"\",\"\",VLOOKUP($N72,'Reference - Logistics Distance'!$C:$O,BG$4,FALSE))","v":""},{"$f":"IF($N72=\"\",\"\",VLOOKUP($N72,'Reference - Logistics Distance'!$C:$O,BH$4,FALSE))","v":""},{"$f":"IF($N72=\"\",\"\",VLOOKUP($N72,'Reference - Logistics Distance'!$C:$O,BI$4,FALSE))","v":""},null,{"$f":"IF($N72=\"\",\"\",VLOOKUP($N72,'Reference - Logistics Distance'!$C:$O,BK$4,FALSE))","v":""},null,{"$f":"IF($N72=\"\",\"\",VLOOKUP($N72,'Reference - Logistics Distance'!$C:$O,BM$4,FALSE))","v":""},null,{"$f":"IF($N72=\"\",\"\",IF($AY72=1,(BA72*$O72)-BX72,\"\"))","v":""},{"$f":"IF($N72=\"\",\"\",IF($AY72=1,IF(BK72=\"Yes\",0,BB72*$O72),\"\"))","v":""},{"$f":"IF($N72=\"\",\"\",IF($AY72=1,BC72*$O72,\"\"))","v":""},{"$f":"IF($N72=\"\",\"\",IF($AY72=1,BD72*$O72,\"\"))","v":""},{"$f":"IF($N72=\"\",\"\",IF($AY72=1,BE72*$O72,\"\"))","v":""},{"$f":"IF($N72=\"\",\"\",IF($AY72=1,BF72*$O72,\"\"))","v":""},{"$f":"IF($N72=\"\",\"\",IF($AY72=1,BG72*$O72,\"\"))","v":""},{"$f":"IF($N72=\"\",\"\",IF($AY72=1,BH72*$O72,\"\"))","v":""},null,{"$f":"IF($N72=\"\",\"\",IF($AY72=1,IF(BK72=\"Yes\",O72*BB72,0),\"\"))","v":""},null,{"$f":"IF($N72=\"\",\"\",$O72*BI72)","v":""},{"$f":"IF($N72=\"\",\"\",IF($AY72=3,BA72*$O72,\"\"))","v":""},null,{"$f":"IF($N72=\"\",\"\",IF($AY72=1,$O72*BM72,\"\"))","v":""}]
[null,null,null,null,null,null,null,null,null,null,null,null,null,null,null,null,null,{"$f":"INDEX('Dropdown menus'!$A$1:$D$6,MATCH($E73,'Dropdown menus'!$A$1:$A$6,0),$R$6)","v":{"$error":"#N/A"}},null,{"$f":"IF($F73=\"\",\"\",VLOOKUP($F73,'Reference Data - Transport fuel'!$C:$O,T$4,FALSE))","v":""},{"$f":"IF($F73=\"\",\"\",VLOOKUP($F73,'Reference Data - Transport fuel'!$C:$O,U$4,FALSE))","v":""},{"$f":"IF($F73=\"\",\"\",VLOOKUP($F73,'Reference Data - Transport fuel'!$C:$O,V$4,FALSE))","v":""},{"$f":"IF($F73=\"\",\"\",VLOOKUP($F73,'Reference Data - Transport fuel'!$C:$O,W$4,FALSE))","v":""},{"$f":"IF($F73=\"\",\"\",VLOOKUP($F73,'Reference Data - Transport fuel'!$C:$O,X$4,FALSE))","v":""},{"$f":"IF($F73=\"\",\"\",VLOOKUP($F73,'Reference Data - Transport fuel'!$C:$O,Y$4,FALSE))","v":""},{"$f":"IF($F73=\"\",\"\",VLOOKUP($F73,'Reference Data - Transport fuel'!$C:$O,Z$4,FALSE))","v":""},{"$f":"IF($F73=\"\",\"\",VLOOKUP($F73,'Reference Data - Transport fuel'!$C:$O,AA$4,FALSE))","v":""},{"$f":"IF($F73=\"\",\"\",VLOOKUP($F73,'Reference Data - Transport fuel'!$C:$O,AB$4,FALSE))","v":""},null,{"$f":"IF($F73=\"\",\"\",VLOOKUP($F73,'Reference Data - Transport fuel'!$C:$O,AD$4,FALSE))","v":""},null,{"$f":"IF($F73=\"\",\"\",VLOOKUP($F73,'Reference Data - Transport fuel'!$C:$O,AF$4,FALSE))","v":""},null,"","","","","","","","",null,"",null,"","",null,"",null,null,{"$f":"INDEX('Dropdown menus'!$A$1:$D$6,MATCH($M73,'Dropdown menus'!$A$1:$A$6,0),$AY$6)","v":{"$error":"#N/A"}},null,{"$f":"IF($N73=\"\",\"\",VLOOKUP($N73,'Reference - Logistics Distance'!$C:$O,BA$4,FALSE))","v":""},{"$f":"IF($N73=\"\",\"\",VLOOKUP($N73,'Reference - Logistics Distance'!$C:$O,BB$4,FALSE))","v":""},{"$f":"IF($N73=\"\",\"\",VLOOKUP($N73,'Reference - Logistics Distance'!$C:$O,BC$4,FALSE))","v":""},{"$f":"IF($N73=\"\",\"\",VLOOKUP($N73,'Reference - Logistics Distance'!$C:$O,BD$4,FALSE))","v":""},{"$f":"IF($N73=\"\",\"\",VLOOKUP($N73,'Reference - Logistics Distance'!$C:$O,BE$4,FALSE))","v":""},{"$f":"IF($N73=\"\",\"\",VLOOKUP($N73,'Reference - Logistics Distance'!$C:$O,BF$4,FALSE))","v":""},{"$f":"IF($N73=\"\",\"\",VLOOKUP($N73,'Reference - Logistics Distance'!$C:$O,BG$4,FALSE))","v":""},{"$f":"IF($N73=\"\",\"\",VLOOKUP($N73,'Reference - Logistics Distance'!$C:$O,BH$4,FALSE))","v":""},{"$f":"IF($N73=\"\",\"\",VLOOKUP($N73,'Reference - Logistics Distance'!$C:$O,BI$4,FALSE))","v":""},null,{"$f":"IF($N73=\"\",\"\",VLOOKUP($N73,'Reference - Logistics Distance'!$C:$O,BK$4,FALSE))","v":""},null,{"$f":"IF($N73=\"\",\"\",VLOOKUP($N73,'Reference - Logistics Distance'!$C:$O,BM$4,FALSE))","v":""},null,"","","","","","","","",null,"",null,"","",null,""]
[null,null,null,null,null,null,null,null,null,null,null,null,null,null,null,null,null,{"$f":"INDEX('Dropdown menus'!$A$1:$D$6,MATCH($E74,'Dropdown menus'!$A$1:$A$6,0),$R$6)","v":{"$error":"#N/A"}},null,{"$f":"IF($F74=\"\",\"\",VLOOKUP($F74,'Reference Data - Transport fuel'!$C:$O,T$4,FALSE))","v":""},{"$f":"IF($F74=\"\",\"\",VLOOKUP($F74,'Reference Data - Transport fuel'!$C:$O,U$4,FALSE))","v":""},{"$f":"IF($F74=\"\",\"\",VLOOKUP($F74,'Reference Data - Transport fuel'!$C:$O,V$4,FALSE))","v":""},{"$f":"IF($F74=\"\",\"\",VLOOKUP($F74,'Reference Data - Transport fuel'!$C:$O,W$4,FALSE))","v":""},{"$f":"IF($F74=\"\",\"\",VLOOKUP($F74,'Reference Data - Transport fuel'!$C:$O,X$4,FALSE))","v":""},{"$f":"IF($F74=\"\",\"\",VLOOKUP($F74,'Reference Data - Transport fuel'!$C:$O,Y$4,FALSE))","v":""},{"$f":"IF($F74=\"\",\"\",VLOOKUP($F74,'Reference Data - Transport fuel'!$C:$O,Z$4,FALSE))","v":""},{"$f":"IF($F74=\"\",\"\",VLOOKUP($F74,'Reference Data - Transport fuel'!$C:$O,AA$4,FALSE))","v":""},{"$f":"IF($F74=\"\",\"\",VLOOKUP($F74,'Reference Data - Transport fuel'!$C:$O,AB$4,FALSE))","v":""},null,{"$f":"IF($F74=\"\",\"\",VLOOKUP($F74,'Reference Data - Transport fuel'!$C:$O,AD$4,FALSE))","v":""},null,{"$f":"IF($F74=\"\",\"\",VLOOKUP($F74,'Reference Data - Transport fuel'!$C:$O,AF$4,FALSE))","v":""},null,"","","","","","","","",null,"",null,"","",null,"",null,null,{"$f":"INDEX('Dropdown menus'!$A$1:$D$6,MATCH($M74,'Dropdown menus'!$A$1:$A$6,0),$AY$6)","v":{"$error":"#N/A"}},null,{"$f":"IF($N74=\"\",\"\",VLOOKUP($N74,'Reference - Logistics Distance'!$C:$O,BA$4,FALSE))","v":""},{"$f":"IF($N74=\"\",\"\",VLOOKUP($N74,'Reference - Logistics Distance'!$C:$O,BB$4,FALSE))","v":""},{"$f":"IF($N74=\"\",\"\",VLOOKUP($N74,'Reference - Logistics Distance'!$C:$O,BC$4,FALSE))","v":""},{"$f":"IF($N74=\"\",\"\",VLOOKUP($N74,'Reference - Logistics Distance'!$C:$O,BD$4,FALSE))","v":""},{"$f":"IF($N74=\"\",\"\",VLOOKUP($N74,'Reference - Logistics Distance'!$C:$O,BE$4,FALSE))","v":""},{"$f":"IF($N74=\"\",\"\",VLOOKUP($N74,'Reference - Logistics Distance'!$C:$O,BF$4,FALSE))","v":""},{"$f":"IF($N74=\"\",\"\",VLOOKUP($N74,'Reference - Logistics Distance'!$C:$O,BG$4,FALSE))","v":""},{"$f":"IF($N74=\"\",\"\",VLOOKUP($N74,'Reference - Logistics Distance'!$C:$O,BH$4,FALSE))","v":""},{"$f":"IF($N74=\"\",\"\",VLOOKUP($N74,'Reference - Logistics Distance'!$C:$O,BI$4,FALSE))","v":""},null,{"$f":"IF($N74=\"\",\"\",VLOOKUP($N74,'Reference - Logistics Distance'!$C:$O,BK$4,FALSE))","v":""},null,{"$f":"IF($N74=\"\",\"\",VLOOKUP($N74,'Reference - Logistics Distance'!$C:$O,BM$4,FALSE))","v":""},null,"","","","","","","","",null,"",null,"","",null,""]
[null,null,null,null,null,null,null,null,null,null,null,null,null,null,null,null,null,{"$f":"INDEX('Dropdown menus'!$A$1:$D$6,MATCH($E75,'Dropdown menus'!$A$1:$A$6,0),$R$6)","v":{"$error":"#N/A"}},null,{"$f":"IF($F75=\"\",\"\",VLOOKUP($F75,'Reference Data - Transport fuel'!$C:$O,T$4,FALSE))","v":""},{"$f":"IF($F75=\"\",\"\",VLOOKUP($F75,'Reference Data - Transport fuel'!$C:$O,U$4,FALSE))","v":""},{"$f":"IF($F75=\"\",\"\",VLOOKUP($F75,'Reference Data - Transport fuel'!$C:$O,V$4,FALSE))","v":""},{"$f":"IF($F75=\"\",\"\",VLOOKUP($F75,'Reference Data - Transport fuel'!$C:$O,W$4,FALSE))","v":""},{"$f":"IF($F75=\"\",\"\",VLOOKUP($F75,'Reference Data - Transport fuel'!$C:$O,X$4,FALSE))","v":""},{"$f":"IF($F75=\"\",\"\",VLOOKUP($F75,'Reference Data - Transport fuel'!$C:$O,Y$4,FALSE))","v":""},{"$f":"IF($F75=\"\",\"\",VLOOKUP($F75,'Reference Data - Transport fuel'!$C:$O,Z$4,FALSE))","v":""},{"$f":"IF($F75=\"\",\"\",VLOOKUP($F75,'Reference Data - Transport fuel'!$C:$O,AA$4,FALSE))","v":""},{"$f":"IF($F75=\"\",\"\",VLOOKUP($F75,'Reference Data - Transport fuel'!$C:$O,AB$4,FALSE))","v":""},null,{"$f":"IF($F75=\"\",\"\",VLOOKUP($F75,'Reference Data - Transport fuel'!$C:$O,AD$4,FALSE))","v":""},null,{"$f":"IF($F75=\"\",\"\",VLOOKUP($F75,'Reference Data - Transport fuel'!$C:$O,AF$4,FALSE))","v":""},null,"","","","","","","","",null,"",null,"","",null,"",null,null,{"$f":"INDEX('Dropdown menus'!$A$1:$D$6,MATCH($M75,'Dropdown menus'!$A$1:$A$6,0),$AY$6)","v":{"$error":"#N/A"}},null,{"$f":"IF($N75=\"\",\"\",VLOOKUP($N75,'Reference - Logistics Distance'!$C:$O,BA$4,FALSE))","v":""},{"$f":"IF($N75=\"\",\"\",VLOOKUP($N75,'Reference - Logistics Distance'!$C:$O,BB$4,FALSE))","v":""},{"$f":"IF($N75=\"\",\"\",VLOOKUP($N75,'Reference - Logistics Distance'!$C:$O,BC$4,FALSE))","v":""},{"$f":"IF($N75=\"\",\"\",VLOOKUP($N75,'Reference - Logistics Distance'!$C:$O,BD$4,FALSE))","v":""},{"$f":"IF($N75=\"\",\"\",VLOOKUP($N75,'Reference - Logistics Distance'!$C:$O,BE$4,FALSE))","v":""},{"$f":"IF($N75=\"\",\"\",VLOOKUP($N75,'Reference - Logistics Distance'!$C:$O,BF$4,FALSE))","v":""},{"$f":"IF($N75=\"\",\"\",VLOOKUP($N75,'Reference - Logistics Distance'!$C:$O,BG$4,FALSE))","v":""},{"$f":"IF($N75=\"\",\"\",VLOOKUP($N75,'Reference - Logistics Distance'!$C:$O,BH$4,FALSE))","v":""},{"$f":"IF($N75=\"\",\"\",VLOOKUP($N75,'Reference - Logistics Distance'!$C:$O,BI$4,FALSE))","v":""},null,{"$f":"IF($N75=\"\",\"\",VLOOKUP($N75,'Reference - Logistics Distance'!$C:$O,BK$4,FALSE))","v":""},null,{"$f":"IF($N75=\"\",\"\",VLOOKUP($N75,'Reference - Logistics Distance'!$C:$O,BM$4,FALSE))","v":""},null,"","","","","","","","",null,"",null,"","",null,""]
[null,null,null,null,null,null,null,null,null,null,null,null,null,null,null,null,null,{"$f":"INDEX('Dropdown menus'!$A$1:$D$6,MATCH($E76,'Dropdown menus'!$A$1:$A$6,0),$R$6)","v":{"$error":"#N/A"}},null,{"$f":"IF($F76=\"\",\"\",VLOOKUP($F76,'Reference Data - Transport fuel'!$C:$O,T$4,FALSE))","v":""},{"$f":"IF($F76=\"\",\"\",VLOOKUP($F76,'Reference Data - Transport fuel'!$C:$O,U$4,FALSE))","v":""},{"$f":"IF($F76=\"\",\"\",VLOOKUP($F76,'Reference Data - Transport fuel'!$C:$O,V$4,FALSE))","v":""},{"$f":"IF($F76=\"\",\"\",VLOOKUP($F76,'Reference Data - Transport fuel'!$C:$O,W$4,FALSE))","v":""},{"$f":"IF($F76=\"\",\"\",VLOOKUP($F76,'Reference Data - Transport fuel'!$C:$O,X$4,FALSE))","v":""},{"$f":"IF($F76=\"\",\"\",VLOOKUP($F76,'Reference Data - Transport fuel'!$C:$O,Y$4,FALSE))","v":""},{"$f":"IF($F76=\"\",\"\",VLOOKUP($F76,'Reference Data - Transport fuel'!$C:$O,Z$4,FALSE))","v":""},{"$f":"IF($F76=\"\",\"\",VLOOKUP($F76,'Reference Data - Transport fuel'!$C:$O,AA$4,FALSE))","v":""},{"$f":"IF($F76=\"\",\"\",VLOOKUP($F76,'Reference Data - Transport fuel'!$C:$O,AB$4,FALSE))","v":""},null,{"$f":"IF($F76=\"\",\"\",VLOOKUP($F76,'Reference Data - Transport fuel'!$C:$O,AD$4,FALSE))","v":""},null,{"$f":"IF($F76=\"\",\"\",VLOOKUP($F76,'Reference Data - Transport fuel'!$C:$O,AF$4,FALSE))","v":""},null,"","","","","","","","",null,"",null,"","",null,"",null,null,{"$f":"INDEX('Dropdown menus'!$A$1:$D$6,MATCH($M76,'Dropdown menus'!$A$1:$A$6,0),$AY$6)","v":{"$error":"#N/A"}},null,{"$f":"IF($N76=\"\",\"\",VLOOKUP($N76,'Reference - Logistics Distance'!$C:$O,BA$4,FALSE))","v":""},{"$f":"IF($N76=\"\",\"\",VLOOKUP($N76,'Reference - Logistics Distance'!$C:$O,BB$4,FALSE))","v":""},{"$f":"IF($N76=\"\",\"\",VLOOKUP($N76,'Reference - Logistics Distance'!$C:$O,BC$4,FALSE))","v":""},{"$f":"IF($N76=\"\",\"\",VLOOKUP($N76,'Reference - Logistics Distance'!$C:$O,BD$4,FALSE))","v":""},{"$f":"IF($N76=\"\",\"\",VLOOKUP($N76,'Reference - Logistics Distance'!$C:$O,BE$4,FALSE))","v":""},{"$f":"IF($N76=\"\",\"\",VLOOKUP($N76,'Reference - Logistics Distance'!$C:$O,BF$4,FALSE))","v":""},{"$f":"IF($N76=\"\",\"\",VLOOKUP($N76,'Reference - Logistics Distance'!$C:$O,BG$4,FALSE))","v":""},{"$f":"IF($N76=\"\",\"\",VLOOKUP($N76,'Reference - Logistics Distance'!$C:$O,BH$4,FALSE))","v":""},{"$f":"IF($N76=\"\",\"\",VLOOKUP($N76,'Reference - Logistics Distance'!$C:$O,BI$4,FALSE))","v":""},null,{"$f":"IF($N76=\"\",\"\",VLOOKUP($N76,'Reference - Logistics Distance'!$C:$O,BK$4,FALSE))","v":""},null,{"$f":"IF($N76=\"\",\"\",VLOOKUP($N76,'Reference - Logistics Distance'!$C:$O,BM$4,FALSE))","v":""},null,"","","","","","","","",null,"",null,"","",null,""]
[null,null,null,null,null,null,null,null,null,null,null,null,null,null,null,null,null,{"$f":"INDEX('Dropdown menus'!$A$1:$D$6,MATCH($E77,'Dropdown menus'!$A$1:$A$6,0),$R$6)","v":{"$error":"#N/A"}},null,{"$f":"IF($F77=\"\",\"\",VLOOKUP($F77,'Reference Data - Transport fuel'!$C:$O,T$4,FALSE))","v":""},{"$f":"IF($F77=\"\",\"\",VLOOKUP($F77,'Reference Data - Transport fuel'!$C:$O,U$4,FALSE))","v":""},{"$f":"IF($F77=\"\",\"\",VLOOKUP($F77,'Reference Data - Transport fuel'!$C:$O,V$4,FALSE))","v":""},{"$f":"IF($F77=\"\",\"\",VLOOKUP($F77,'Reference Data - Transport fuel'!$C:$O,W$4,FALSE))","v":""},{"$f":"IF($F77=\"\",\"\",VLOOKUP($F77,'Reference Data - Transport fuel'!$C:$O,X$4,FALSE))","v":""},{"$f":"IF($F77=\"\",\"\",VLOOKUP($F77,'Reference Data - Transport fuel'!$C:$O,Y$4,FALSE))","v":""},{"$f":"IF($F77=\"\",\"\",VLOOKUP($F77,'Reference Data - Transport fuel'!$C:$O,Z$4,FALSE))","v":""},{"$f":"IF($F77=\"\",\"\",VLOOKUP($F77,'Reference Data - Transport fuel'!$C:$O,AA$4,FALSE))","v":""},{"$f":"IF($F77=\"\",\"\",VLOOKUP($F77,'Reference Data - Transport fuel'!$C:$O,AB$4,FALSE))","v":""},null,{"$f":"IF($F77=\"\",\"\",VLOOKUP($F77,'Reference Data - Transport fuel'!$C:$O,AD$4,FALSE))","v":""},null,{"$f":"IF($F77=\"\",\"\",VLOOKUP($F77,'Reference Data - Transport fuel'!$C:$O,AF$4,FALSE))","v":""},null,"","","","","","","","",null,"",null,"","",null,"",null,null,{"$f":"INDEX('Dropdown menus'!$A$1:$D$6,MATCH($M77,'Dropdown menus'!$A$1:$A$6,0),$AY$6)","v":{"$error":"#N/A"}},null,{"$f":"IF($N77=\"\",\"\",VLOOKUP($N77,'Reference - Logistics Distance'!$C:$O,BA$4,FALSE))","v":""},{"$f":"IF($N77=\"\",\"\",VLOOKUP($N77,'Reference - Logistics Distance'!$C:$O,BB$4,FALSE))","v":""},{"$f":"IF($N77=\"\",\"\",VLOOKUP($N77,'Reference - Logistics Distance'!$C:$O,BC$4,FALSE))","v":""},{"$f":"IF($N77=\"\",\"\",VLOOKUP($N77,'Reference - Logistics Distance'!$C:$O,BD$4,FALSE))","v":""},{"$f":"IF($N77=\"\",\"\",VLOOKUP($N77,'Reference - Logistics Distance'!$C:$O,BE$4,FALSE))","v":""},{"$f":"IF($N77=\"\",\"\",VLOOKUP($N77,'Reference - Logistics Distance'!$C:$O,BF$4,FALSE))","v":""},{"$f":"IF($N77=\"\",\"\",VLOOKUP($N77,'Reference - Logistics Distance'!$C:$O,BG$4,FALSE))","v":""},{"$f":"IF($N77=\"\",\"\",VLOOKUP($N77,'Reference - Logistics Distance'!$C:$O,BH$4,FALSE))","v":""},{"$f":"IF($N77=\"\",\"\",VLOOKUP($N77,'Reference - Logistics Distance'!$C:$O,BI$4,FALSE))","v":""},null,{"$f":"IF($N77=\"\",\"\",VLOOKUP($N77,'Reference - Logistics Distance'!$C:$O,BK$4,FALSE))","v":""},null,{"$f":"IF($N77=\"\",\"\",VLOOKUP($N77,'Reference - Logistics Distance'!$C:$O,BM$4,FALSE))","v":""},null,"","","","","","","","",null,"",null,"","",null,""]
[null,null,null,null,null,null,null,null,null,null,null,null,null,null,null,null,null,{"$f":"INDEX('Dropdown menus'!$A$1:$D$6,MATCH($E78,'Dropdown menus'!$A$1:$A$6,0),$R$6)","v":{"$error":"#N/A"}},null,{"$f":"IF($F78=\"\",\"\",VLOOKUP($F78,'Reference Data - Transport fuel'!$C:$O,T$4,FALSE))","v":""},{"$f":"IF($F78=\"\",\"\",VLOOKUP($F78,'Reference Data - Transport fuel'!$C:$O,U$4,FALSE))","v":""},{"$f":"IF($F78=\"\",\"\",VLOOKUP($F78,'Reference Data - Transport fuel'!$C:$O,V$4,FALSE))","v":""},{"$f":"IF($F78=\"\",\"\",VLOOKUP($F78,'Reference Data - Transport fuel'!$C:$O,W$4,FALSE))","v":""},{"$f":"IF($F78=\"\",\"\",VLOOKUP($F78,'Reference Data - Transport fuel'!$C:$O,X$4,FALSE))","v":""},{"$f":"IF($F78=\"\",\"\",VLOOKUP($F78,'Reference Data - Transport fuel'!$C:$O,Y$4,FALSE))","v":""},{"$f":"IF($F78=\"\",\"\",VLOOKUP($F78,'Reference Data - Transport fuel'!$C:$O,Z$4,FALSE))","v":""},{"$f":"IF($F78=\"\",\"\",VLOOKUP($F78,'Reference Data - Transport fuel'!$C:$O,AA$4,FALSE))","v":""},{"$f":"IF($F78=\"\",\"\",VLOOKUP($F78,'Reference Data - Transport fuel'!$C:$O,AB$4,FALSE))","v":""},null,{"$f":"IF($F78=\"\",\"\",VLOOKUP($F78,'Reference Data - Transport fuel'!$C:$O,AD$4,FALSE))","v":""},null,{"$f":"IF($F78=\"\",\"\",VLOOKUP($F78,'Reference Data - Transport fuel'!$C:$O,AF$4,FALSE))","v":""},null,"","","","","","","","",null,"",null,"","",null,"",null,null,{"$f":"INDEX('Dropdown menus'!$A$1:$D$6,MATCH($M78,'Dropdown menus'!$A$1:$A$6,0),$AY$6)","v":{"$error":"#N/A"}},null,{"$f":"IF($N78=\"\",\"\",VLOOKUP($N78,'Reference - Logistics Distance'!$C:$O,BA$4,FALSE))","v":""},{"$f":"IF($N78=\"\",\"\",VLOOKUP($N78,'Reference - Logistics Distance'!$C:$O,BB$4,FALSE))","v":""},{"$f":"IF($N78=\"\",\"\",VLOOKUP($N78,'Reference - Logistics Distance'!$C:$O,BC$4,FALSE))","v":""},{"$f":"IF($N78=\"\",\"\",VLOOKUP($N78,'Reference - Logistics Distance'!$C:$O,BD$4,FALSE))","v":""},{"$f":"IF($N78=\"\",\"\",VLOOKUP($N78,'Reference - Logistics Distance'!$C:$O,BE$4,FALSE))","v":""},{"$f":"IF($N78=\"\",\"\",VLOOKUP($N78,'Reference - Logistics Distance'!$C:$O,BF$4,FALSE))","v":""},{"$f":"IF($N78=\"\",\"\",VLOOKUP($N78,'Reference - Logistics Distance'!$C:$O,BG$4,FALSE))","v":""},{"$f":"IF($N78=\"\",\"\",VLOOKUP($N78,'Reference - Logistics Distance'!$C:$O,BH$4,FALSE))","v":""},{"$f":"IF($N78=\"\",\"\",VLOOKUP($N78,'Reference - Logistics Distance'!$C:$O,BI$4,FALSE))","v":""},null,{"$f":"IF($N78=\"\",\"\",VLOOKUP($N78,'Reference - Logistics Distance'!$C:$O,BK$4,FALSE))","v":""},null,{"$f":"IF($N78=\"\",\"\",VLOOKUP($N78,'Reference - Logistics Distance'!$C:$O,BM$4,FALSE))","v":""},null,"","","","","","","","",null,"",null,"","",null,""]
[null,null,null,null,null,null,null,null,null,null,null,null,null,null,null,null,null,{"$f":"INDEX('Dropdown menus'!$A$1:$D$6,MATCH($E79,'Dropdown menus'!$A$1:$A$6,0),$R$6)","v":{"$error":"#N/A"}},null,{"$f":"IF($F79=\"\",\"\",VLOOKUP($F79,'Reference Data - Transport fuel'!$C:$O,T$4,FALSE))","v":""},{"$f":"IF($F79=\"\",\"\",VLOOKUP($F79,'Reference Data - Transport fuel'!$C:$O,U$4,FALSE))","v":""},{"$f":"IF($F79=\"\",\"\",VLOOKUP($F79,'Reference Data - Transport fuel'!$C:$O,V$4,FALSE))","v":""},{"$f":"IF($F79=\"\",\"\",VLOOKUP($F79,'Reference Data - Transport fuel'!$C:$O,W$4,FALSE))","v":""},{"$f":"IF($F79=\"\",\"\",VLOOKUP($F79,'Reference Data - Transport fuel'!$C:$O,X$4,FALSE))","v":""},{"$f":"IF($F79=\"\",\"\",VLOOKUP($F79,'Reference Data - Transport fuel'!$C:$O,Y$4,FALSE))","v":""},{"$f":"IF($F79=\"\",\"\",VLOOKUP($F79,'Reference Data - Transport fuel'!$C:$O,Z$4,FALSE))","v":""},{"$f":"IF($F79=\"\",\"\",VLOOKUP($F79,'Reference Data - Transport fuel'!$C:$O,AA$4,FALSE))","v":""},{"$f":"IF($F79=\"\",\"\",VLOOKUP($F79,'Reference Data - Transport fuel'!$C:$O,AB$4,FALSE))","v":""},null,{"$f":"IF($F79=\"\",\"\",VLOOKUP($F79,'Reference Data - Transport fuel'!$C:$O,AD$4,FALSE))","v":""},null,{"$f":"IF($F79=\"\",\"\",VLOOKUP($F79,'Reference Data - Transport fuel'!$C:$O,AF$4,FALSE))","v":""},null,"","","","","","","","",null,"",null,"","",null,"",null,null,{"$f":"INDEX('Dropdown menus'!$A$1:$D$6,MATCH($M79,'Dropdown menus'!$A$1:$A$6,0),$AY$6)","v":{"$error":"#N/A"}},null,{"$f":"IF($N79=\"\",\"\",VLOOKUP($N79,'Reference - Logistics Distance'!$C:$O,BA$4,FALSE))","v":""},{"$f":"IF($N79=\"\",\"\",VLOOKUP($N79,'Reference - Logistics Distance'!$C:$O,BB$4,FALSE))","v":""},{"$f":"IF($N79=\"\",\"\",VLOOKUP($N79,'Reference - Logistics Distance'!$C:$O,BC$4,FALSE))","v":""},{"$f":"IF($N79=\"\",\"\",VLOOKUP($N79,'Reference - Logistics Distance'!$C:$O,BD$4,FALSE))","v":""},{"$f":"IF($N79=\"\",\"\",VLOOKUP($N79,'Reference - Logistics Distance'!$C:$O,BE$4,FALSE))","v":""},{"$f":"IF($N79=\"\",\"\",VLOOKUP($N79,'Reference - Logistics Distance'!$C:$O,BF$4,FALSE))","v":""},{"$f":"IF($N79=\"\",\"\",VLOOKUP($N79,'Reference - Logistics Distance'!$C:$O,BG$4,FALSE))","v":""},{"$f":"IF($N79=\"\",\"\",VLOOKUP($N79,'Reference - Logistics Distance'!$C:$O,BH$4,FALSE))","v":""},{"$f":"IF($N79=\"\",\"\",VLOOKUP($N79,'Reference - Logistics Distance'!$C:$O,BI$4,FALSE))","v":""},null,{"$f":"IF($N79=\"\",\"\",VLOOKUP($N79,'Reference - Logistics Distance'!$C:$O,BK$4,FALSE))","v":""},null,{"$f":"IF($N79=\"\",\"\",VLOOKUP($N79,'Reference - Logistics Distance'!$C:$O,BM$4,FALSE))","v":""},null,"","","","","","","","",null,"",null,"","",null,""]
[null,null,null,null,null,null,null,null,null,null,null,null,null,null,null,null,null,{"$f":"INDEX('Dropdown menus'!$A$1:$D$6,MATCH($E80,'Dropdown menus'!$A$1:$A$6,0),$R$6)","v":{"$error":"#N/A"}},null,{"$f":"IF($F80=\"\",\"\",VLOOKUP($F80,'Reference Data - Transport fuel'!$C:$O,T$4,FALSE))","v":""},{"$f":"IF($F80=\"\",\"\",VLOOKUP($F80,'Reference Data - Transport fuel'!$C:$O,U$4,FALSE))","v":""},{"$f":"IF($F80=\"\",\"\",VLOOKUP($F80,'Reference Data - Transport fuel'!$C:$O,V$4,FALSE))","v":""},{"$f":"IF($F80=\"\",\"\",VLOOKUP($F80,'Reference Data - Transport fuel'!$C:$O,W$4,FALSE))","v":""},{"$f":"IF($F80=\"\",\"\",VLOOKUP($F80,'Reference Data - Transport fuel'!$C:$O,X$4,FALSE))","v":""},{"$f":"IF($F80=\"\",\"\",VLOOKUP($F80,'Reference Data - Transport fuel'!$C:$O,Y$4,FALSE))","v":""},{"$f":"IF($F80=\"\",\"\",VLOOKUP($F80,'Reference Data - Transport fuel'!$C:$O,Z$4,FALSE))","v":""},{"$f":"IF($F80=\"\",\"\",VLOOKUP($F80,'Reference Data - Transport fuel'!$C:$O,AA$4,FALSE))","v":""},{"$f":"IF($F80=\"\",\"\",VLOOKUP($F80,'Reference Data - Transport fuel'!$C:$O,AB$4,FALSE))","v":""},null,{"$f":"IF($F80=\"\",\"\",VLOOKUP($F80,'Reference Data - Transport fuel'!$C:$O,AD$4,FALSE))","v":""},null,{"$f":"IF($F80=\"\",\"\",VLOOKUP($F80,'Reference Data - Transport fuel'!$C:$O,AF$4,FALSE))","v":""},null,"","","","","","","","",null,"",null,"","",null,"",null,null,{"$f":"INDEX('Dropdown menus'!$A$1:$D$6,MATCH($M80,'Dropdown menus'!$A$1:$A$6,0),$AY$6)","v":{"$error":"#N/A"}},null,{"$f":"IF($N80=\"\",\"\",VLOOKUP($N80,'Reference - Logistics Distance'!$C:$O,BA$4,FALSE))","v":""},{"$f":"IF($N80=\"\",\"\",VLOOKUP($N80,'Reference - Logistics Distance'!$C:$O,BB$4,FALSE))","v":""},{"$f":"IF($N80=\"\",\"\",VLOOKUP($N80,'Reference - Logistics Distance'!$C:$O,BC$4,FALSE))","v":""},{"$f":"IF($N80=\"\",\"\",VLOOKUP($N80,'Reference - Logistics Distance'!$C:$O,BD$4,FALSE))","v":""},{"$f":"IF($N80=\"\",\"\",VLOOKUP($N80,'Reference - Logistics Distance'!$C:$O,BE$4,FALSE))","v":""},{"$f":"IF($N80=\"\",\"\",VLOOKUP($N80,'Reference - Logistics Distance'!$C:$O,BF$4,FALSE))","v":""},{"$f":"IF($N80=\"\",\"\",VLOOKUP($N80,'Reference - Logistics Distance'!$C:$O,BG$4,FALSE))","v":""},{"$f":"IF($N80=\"\",\"\",VLOOKUP($N80,'Reference - Logistics Distance'!$C:$O,BH$4,FALSE))","v":""},{"$f":"IF($N80=\"\",\"\",VLOOKUP($N80,'Reference - Logistics Distance'!$C:$O,BI$4,FALSE))","v":""},null,{"$f":"IF($N80=\"\",\"\",VLOOKUP($N80,'Reference - Logistics Distance'!$C:$O,BK$4,FALSE))","v":""},null,{"$f":"IF($N80=\"\",\"\",VLOOKUP($N80,'Reference - Logistics Distance'!$C:$O,BM$4,FALSE))","v":""},null,"","","","","","","","",null,"",null,"","",null,""]
[null,null,null,null,null,null,null,null,null,null,null,null,null,null,null,null,null,{"$f":"INDEX('Dropdown menus'!$A$1:$D$6,MATCH($E81,'Dropdown menus'!$A$1:$A$6,0),$R$6)","v":{"$error":"#N/A"}},null,{"$f":"IF($F81=\"\",\"\",VLOOKUP($F81,'Reference Data - Transport fuel'!$C:$O,T$4,FALSE))","v":""},{"$f":"IF($F81=\"\",\"\",VLOOKUP($F81,'Reference Data - Transport fuel'!$C:$O,U$4,FALSE))","v":""},{"$f":"IF($F81=\"\",\"\",VLOOKUP($F81,'Reference Data - Transport fuel'!$C:$O,V$4,FALSE))","v":""},{"$f":"IF($F81=\"\",\"\",VLOOKUP($F81,'Reference Data - Transport fuel'!$C:$O,W$4,FALSE))","v":""},{"$f":"IF($F81=\"\",\"\",VLOOKUP($F81,'Reference Data - Transport fuel'!$C:$O,X$4,FALSE))","v":""},{"$f":"IF($F81=\"\",\"\",VLOOKUP($F81,'Reference Data - Transport fuel'!$C:$O,Y$4,FALSE))","v":""},{"$f":"IF($F81=\"\",\"\",VLOOKUP($F81,'Reference Data - Transport fuel'!$C:$O,Z$4,FALSE))","v":""},{"$f":"IF($F81=\"\",\"\",VLOOKUP($F81,'Reference Data - Transport fuel'!$C:$O,AA$4,FALSE))","v":""},{"$f":"IF($F81=\"\",\"\",VLOOKUP($F81,'Reference Data - Transport fuel'!$C:$O,AB$4,FALSE))","v":""},null,{"$f":"IF($F81=\"\",\"\",VLOOKUP($F81,'Reference Data - Transport fuel'!$C:$O,AD$4,FALSE))","v":""},null,{"$f":"IF($F81=\"\",\"\",VLOOKUP($F81,'Reference Data - Transport fuel'!$C:$O,AF$4,FALSE))","v":""},null,"","","","","","","","",null,"",null,"","",null,"",null,null,{"$f":"INDEX('Dropdown menus'!$A$1:$D$6,MATCH($M81,'Dropdown menus'!$A$1:$A$6,0),$AY$6)","v":{"$error":"#N/A"}},null,{"$f":"IF($N81=\"\",\"\",VLOOKUP($N81,'Reference - Logistics Distance'!$C:$O,BA$4,FALSE))","v":""},{"$f":"IF($N81=\"\",\"\",VLOOKUP($N81,'Reference - Logistics Distance'!$C:$O,BB$4,FALSE))","v":""},{"$f":"IF($N81=\"\",\"\",VLOOKUP($N81,'Reference - Logistics Distance'!$C:$O,BC$4,FALSE))","v":""},{"$f":"IF($N81=\"\",\"\",VLOOKUP($N81,'Reference - Logistics Distance'!$C:$O,BD$4,FALSE))","v":""},{"$f":"IF($N81=\"\",\"\",VLOOKUP($N81,'Reference - Logistics Distance'!$C:$O,BE$4,FALSE))","v":""},{"$f":"IF($N81=\"\",\"\",VLOOKUP($N81,'Reference - Logistics Distance'!$C:$O,BF$4,FALSE))","v":""},{"$f":"IF($N81=\"\",\"\",VLOOKUP($N81,'Reference - Logistics Distance'!$C:$O,BG$4,FALSE))","v":""},{"$f":"IF($N81=\"\",\"\",VLOOKUP($N81,'Reference - Logistics Distance'!$C:$O,BH$4,FALSE))","v":""},{"$f":"IF($N81=\"\",\"\",VLOOKUP($N81,'Reference - Logistics Distance'!$C:$O,BI$4,FALSE))","v":""},null,{"$f":"IF($N81=\"\",\"\",VLOOKUP($N81,'Reference - Logistics Distance'!$C:$O,BK$4,FALSE))","v":""},null,{"$f":"IF($N81=\"\",\"\",VLOOKUP($N81,'Reference - Logistics Distance'!$C:$O,BM$4,FALSE))","v":""},null,"","","","","","","","",null,"",null,"","",null,""]
[null,null,null,null,null,null,null,null,null,null,null,null,null,null,null,null,null,{"$f":"INDEX('Dropdown menus'!$A$1:$D$6,MATCH($E82,'Dropdown menus'!$A$1:$A$6,0),$R$6)","v":{"$error":"#N/A"}},null,{"$f":"IF($F82=\"\",\"\",VLOOKUP($F82,'Reference Data - Transport fuel'!$C:$O,T$4,FALSE))","v":""},{"$f":"IF($F82=\"\",\"\",VLOOKUP($F82,'Reference Data - Transport fuel'!$C:$O,U$4,FALSE))","v":""},{"$f":"IF($F82=\"\",\"\",VLOOKUP($F82,'Reference Data - Transport fuel'!$C:$O,V$4,FALSE))","v":""},{"$f":"IF($F82=\"\",\"\",VLOOKUP($F82,'Reference Data - Transport fuel'!$C:$O,W$4,FALSE))","v":""},{"$f":"IF($F82=\"\",\"\",VLOOKUP($F82,'Reference Data - Transport fuel'!$C:$O,X$4,FALSE))","v":""},{"$f":"IF($F82=\"\",\"\",VLOOKUP($F82,'Reference Data - Transport fuel'!$C:$O,Y$4,FALSE))","v":""},{"$f":"IF($F82=\"\",\"\",VLOOKUP($F82,'Reference Data - Transport fuel'!$C:$O,Z$4,FALSE))","v":""},{"$f":"IF($F82=\"\",\"\",VLOOKUP($F82,'Reference Data - Transport fuel'!$C:$O,AA$4,FALSE))","v":""},{"$f":"IF($F82=\"\",\"\",VLOOKUP($F82,'Reference Data - Transport fuel'!$C:$O,AB$4,FALSE))","v":""},null,{"$f":"IF($F82=\"\",\"\",VLOOKUP($F82,'Reference Data - Transport fuel'!$C:$O,AD$4,FALSE))","v":""},null,{"$f":"IF($F82=\"\",\"\",VLOOKUP($F82,'Reference Data - Transport fuel'!$C:$O,AF$4,FALSE))","v":""},null,"","","","","","","","",null,"",null,"","",null,"",null,null,{"$f":"INDEX('Dropdown menus'!$A$1:$D$6,MATCH($M82,'Dropdown menus'!$A$1:$A$6,0),$AY$6)","v":{"$error":"#N/A"}},null,{"$f":"IF($N82=\"\",\"\",VLOOKUP($N82,'Reference - Logistics Distance'!$C:$O,BA$4,FALSE))","v":""},{"$f":"IF($N82=\"\",\"\",VLOOKUP($N82,'Reference - Logistics Distance'!$C:$O,BB$4,FALSE))","v":""},{"$f":"IF($N82=\"\",\"\",VLOOKUP($N82,'Reference - Logistics Distance'!$C:$O,BC$4,FALSE))","v":""},{"$f":"IF($N82=\"\",\"\",VLOOKUP($N82,'Reference - Logistics Distance'!$C:$O,BD$4,FALSE))","v":""},{"$f":"IF($N82=\"\",\"\",VLOOKUP($N82,'Reference - Logistics Distance'!$C:$O,BE$4,FALSE))","v":""},{"$f":"IF($N82=\"\",\"\",VLOOKUP($N82,'Reference - Logistics Distance'!$C:$O,BF$4,FALSE))","v":""},{"$f":"IF($N82=\"\",\"\",VLOOKUP($N82,'Reference - Logistics Distance'!$C:$O,BG$4,FALSE))","v":""},{"$f":"IF($N82=\"\",\"\",VLOOKUP($N82,'Reference - Logistics Distance'!$C:$O,BH$4,FALSE))","v":""},{"$f":"IF($N82=\"\",\"\",VLOOKUP($N82,'Reference - Logistics Distance'!$C:$O,BI$4,FALSE))","v":""},null,{"$f":"IF($N82=\"\",\"\",VLOOKUP($N82,'Reference - Logistics Distance'!$C:$O,BK$4,FALSE))","v":""},null,{"$f":"IF($N82=\"\",\"\",VLOOKUP($N82,'Reference - Logistics Distance'!$C:$O,BM$4,FALSE))","v":""},null,"","","","","","","","",null,"",null,"","",null,""]
[null,null,null,null,null,null,null,null,null,null,null,null,null,null,null,null,null,{"$f":"INDEX('Dropdown menus'!$A$1:$D$6,MATCH($E83,'Dropdown menus'!$A$1:$A$6,0),$R$6)","v":{"$error":"#N/A"}},null,{"$f":"IF($F83=\"\",\"\",VLOOKUP($F83,'Reference Data - Transport fuel'!$C:$O,T$4,FALSE))","v":""},{"$f":"IF($F83=\"\",\"\",VLOOKUP($F83,'Reference Data - Transport fuel'!$C:$O,U$4,FALSE))","v":""},{"$f":"IF($F83=\"\",\"\",VLOOKUP($F83,'Reference Data - Transport fuel'!$C:$O,V$4,FALSE))","v":""},{"$f":"IF($F83=\"\",\"\",VLOOKUP($F83,'Reference Data - Transport fuel'!$C:$O,W$4,FALSE))","v":""},{"$f":"IF($F83=\"\",\"\",VLOOKUP($F83,'Reference Data - Transport fuel'!$C:$O,X$4,FALSE))","v":""},{"$f":"IF($F83=\"\",\"\",VLOOKUP($F83,'Reference Data - Transport fuel'!$C:$O,Y$4,FALSE))","v":""},{"$f":"IF($F83=\"\",\"\",VLOOKUP($F83,'Reference Data - Transport fuel'!$C:$O,Z$4,FALSE))","v":""},{"$f":"IF($F83=\"\",\"\",VLOOKUP($F83,'Reference Data - Transport fuel'!$C:$O,AA$4,FALSE))","v":""},{"$f":"IF($F83=\"\",\"\",VLOOKUP($F83,'Reference Data - Transport fuel'!$C:$O,AB$4,FALSE))","v":""},null,{"$f":"IF($F83=\"\",\"\",VLOOKUP($F83,'Reference Data - Transport fuel'!$C:$O,AD$4,FALSE))","v":""},null,{"$f":"IF($F83=\"\",\"\",VLOOKUP($F83,'Reference Data - Transport fuel'!$C:$O,AF$4,FALSE))","v":""},null,"","","","","","","","",null,"",null,"","",null,"",null,null,{"$f":"INDEX('Dropdown menus'!$A$1:$D$6,MATCH($M83,'Dropdown menus'!$A$1:$A$6,0),$AY$6)","v":{"$error":"#N/A"}},null,{"$f":"IF($N83=\"\",\"\",VLOOKUP($N83,'Reference - Logistics Distance'!$C:$O,BA$4,FALSE))","v":""},{"$f":"IF($N83=\"\",\"\",VLOOKUP($N83,'Reference - Logistics Distance'!$C:$O,BB$4,FALSE))","v":""},{"$f":"IF($N83=\"\",\"\",VLOOKUP($N83,'Reference - Logistics Distance'!$C:$O,BC$4,FALSE))","v":""},{"$f":"IF($N83=\"\",\"\",VLOOKUP($N83,'Reference - Logistics Distance'!$C:$O,BD$4,FALSE))","v":""},{"$f":"IF($N83=\"\",\"\",VLOOKUP($N83,'Reference - Logistics Distance'!$C:$O,BE$4,FALSE))","v":""},{"$f":"IF($N83=\"\",\"\",VLOOKUP($N83,'Reference - Logistics Distance'!$C:$O,BF$4,FALSE))","v":""},{"$f":"IF($N83=\"\",\"\",VLOOKUP($N83,'Reference - Logistics Distance'!$C:$O,BG$4,FALSE))","v":""},{"$f":"IF($N83=\"\",\"\",VLOOKUP($N83,'Reference - Logistics Distance'!$C:$O,BH$4,FALSE))","v":""},{"$f":"IF($N83=\"\",\"\",VLOOKUP($N83,'Reference - Logistics Distance'!$C:$O,BI$4,FALSE))","v":""},null,{"$f":"IF($N83=\"\",\"\",VLOOKUP($N83,'Reference - Logistics Distance'!$C:$O,BK$4,FALSE))","v":""},null,{"$f":"IF($N83=\"\",\"\",VLOOKUP($N83,'Reference - Logistics Distance'!$C:$O,BM$4,FALSE))","v":""},null,"","","","","","","","",null,"",null,"","",null,""]
[null,null,null,null,null,null,null,null,null,null,null,null,null,null,null,null,null,{"$f":"INDEX('Dropdown menus'!$A$1:$D$6,MATCH($E84,'Dropdown menus'!$A$1:$A$6,0),$R$6)","v":{"$error":"#N/A"}},null,{"$f":"IF($F84=\"\",\"\",VLOOKUP($F84,'Reference Data - Transport fuel'!$C:$O,T$4,FALSE))","v":""},{"$f":"IF($F84=\"\",\"\",VLOOKUP($F84,'Reference Data - Transport fuel'!$C:$O,U$4,FALSE))","v":""},{"$f":"IF($F84=\"\",\"\",VLOOKUP($F84,'Reference Data - Transport fuel'!$C:$O,V$4,FALSE))","v":""},{"$f":"IF($F84=\"\",\"\",VLOOKUP($F84,'Reference Data - Transport fuel'!$C:$O,W$4,FALSE))","v":""},{"$f":"IF($F84=\"\",\"\",VLOOKUP($F84,'Reference Data - Transport fuel'!$C:$O,X$4,FALSE))","v":""},{"$f":"IF($F84=\"\",\"\",VLOOKUP($F84,'Reference Data - Transport fuel'!$C:$O,Y$4,FALSE))","v":""},{"$f":"IF($F84=\"\",\"\",VLOOKUP($F84,'Reference Data - Transport fuel'!$C:$O,Z$4,FALSE))","v":""},{"$f":"IF($F84=\"\",\"\",VLOOKUP($F84,'Reference Data - Transport fuel'!$C:$O,AA$4,FALSE))","v":""},{"$f":"IF($F84=\"\",\"\",VLOOKUP($F84,'Reference Data - Transport fuel'!$C:$O,AB$4,FALSE))","v":""},null,{"$f":"IF($F84=\"\",\"\",VLOOKUP($F84,'Reference Data - Transport fuel'!$C:$O,AD$4,FALSE))","v":""},null,{"$f":"IF($F84=\"\",\"\",VLOOKUP($F84,'Reference Data - Transport fuel'!$C:$O,AF$4,FALSE))","v":""},null,"","","","","","","","",null,"",null,"","",null,"",null,null,{"$f":"INDEX('Dropdown menus'!$A$1:$D$6,MATCH($M84,'Dropdown menus'!$A$1:$A$6,0),$AY$6)","v":{"$error":"#N/A"}},null,{"$f":"IF($N84=\"\",\"\",VLOOKUP($N84,'Reference - Logistics Distance'!$C:$O,BA$4,FALSE))","v":""},{"$f":"IF($N84=\"\",\"\",VLOOKUP($N84,'Reference - Logistics Distance'!$C:$O,BB$4,FALSE))","v":""},{"$f":"IF($N84=\"\",\"\",VLOOKUP($N84,'Reference - Logistics Distance'!$C:$O,BC$4,FALSE))","v":""},{"$f":"IF($N84=\"\",\"\",VLOOKUP($N84,'Reference - Logistics Distance'!$C:$O,BD$4,FALSE))","v":""},{"$f":"IF($N84=\"\",\"\",VLOOKUP($N84,'Reference - Logistics Distance'!$C:$O,BE$4,FALSE))","v":""},{"$f":"IF($N84=\"\",\"\",VLOOKUP($N84,'Reference - Logistics Distance'!$C:$O,BF$4,FALSE))","v":""},{"$f":"IF($N84=\"\",\"\",VLOOKUP($N84,'Reference - Logistics Distance'!$C:$O,BG$4,FALSE))","v":""},{"$f":"IF($N84=\"\",\"\",VLOOKUP($N84,'Reference - Logistics Distance'!$C:$O,BH$4,FALSE))","v":""},{"$f":"IF($N84=\"\",\"\",VLOOKUP($N84,'Reference - Logistics Distance'!$C:$O,BI$4,FALSE))","v":""},null,{"$f":"IF($N84=\"\",\"\",VLOOKUP($N84,'Reference - Logistics Distance'!$C:$O,BK$4,FALSE))","v":""},null,{"$f":"IF($N84=\"\",\"\",VLOOKUP($N84,'Reference - Logistics Distance'!$C:$O,BM$4,FALSE))","v":""},null,"","","","","","","","",null,"",null,"","",null,""]
[null,null,null,null,null,null,null,null,null,null,null,null,null,null,null,null,null,{"$f":"INDEX('Dropdown menus'!$A$1:$D$6,MATCH($E85,'Dropdown menus'!$A$1:$A$6,0),$R$6)","v":{"$error":"#N/A"}},null,{"$f":"IF($F85=\"\",\"\",VLOOKUP($F85,'Reference Data - Transport fuel'!$C:$O,T$4,FALSE))","v":""},{"$f":"IF($F85=\"\",\"\",VLOOKUP($F85,'Reference Data - Transport fuel'!$C:$O,U$4,FALSE))","v":""},{"$f":"IF($F85=\"\",\"\",VLOOKUP($F85,'Reference Data - Transport fuel'!$C:$O,V$4,FALSE))","v":""},{"$f":"IF($F85=\"\",\"\",VLOOKUP($F85,'Reference Data - Transport fuel'!$C:$O,W$4,FALSE))","v":""},{"$f":"IF($F85=\"\",\"\",VLOOKUP($F85,'Reference Data - Transport fuel'!$C:$O,X$4,FALSE))","v":""},{"$f":"IF($F85=\"\",\"\",VLOOKUP($F85,'Reference Data - Transport fuel'!$C:$O,Y$4,FALSE))","v":""},{"$f":"IF($F85=\"\",\"\",VLOOKUP($F85,'Reference Data - Transport fuel'!$C:$O,Z$4,FALSE))","v":""},{"$f":"IF($F85=\"\",\"\",VLOOKUP($F85,'Reference Data - Transport fuel'!$C:$O,AA$4,FALSE))","v":""},{"$f":"IF($F85=\"\",\"\",VLOOKUP($F85,'Reference Data - Transport fuel'!$C:$O,AB$4,FALSE))","v":""},null,{"$f":"IF($F85=\"\",\"\",VLOOKUP($F85,'Reference Data - Transport fuel'!$C:$O,AD$4,FALSE))","v":""},null,{"$f":"IF($F85=\"\",\"\",VLOOKUP($F85,'Reference Data - Transport fuel'!$C:$O,AF$4,FALSE))","v":""},null,"","","","","","","","",null,"",null,"","",null,"",null,null,{"$f":"INDEX('Dropdown menus'!$A$1:$D$6,MATCH($M85,'Dropdown menus'!$A$1:$A$6,0),$AY$6)","v":{"$error":"#N/A"}},null,{"$f":"IF($N85=\"\",\"\",VLOOKUP($N85,'Reference - Logistics Distance'!$C:$O,BA$4,FALSE))","v":""},{"$f":"IF($N85=\"\",\"\",VLOOKUP($N85,'Reference - Logistics Distance'!$C:$O,BB$4,FALSE))","v":""},{"$f":"IF($N85=\"\",\"\",VLOOKUP($N85,'Reference - Logistics Distance'!$C:$O,BC$4,FALSE))","v":""},{"$f":"IF($N85=\"\",\"\",VLOOKUP($N85,'Reference - Logistics Distance'!$C:$O,BD$4,FALSE))","v":""},{"$f":"IF($N85=\"\",\"\",VLOOKUP($N85,'Reference - Logistics Distance'!$C:$O,BE$4,FALSE))","v":""},{"$f":"IF($N85=\"\",\"\",VLOOKUP($N85,'Reference - Logistics Distance'!$C:$O,BF$4,FALSE))","v":""},{"$f":"IF($N85=\"\",\"\",VLOOKUP($N85,'Reference - Logistics Distance'!$C:$O,BG$4,FALSE))","v":""},{"$f":"IF($N85=\"\",\"\",VLOOKUP($N85,'Reference - Logistics Distance'!$C:$O,BH$4,FALSE))","v":""},{"$f":"IF($N85=\"\",\"\",VLOOKUP($N85,'Reference - Logistics Distance'!$C:$O,BI$4,FALSE))","v":""},null,{"$f":"IF($N85=\"\",\"\",VLOOKUP($N85,'Reference - Logistics Distance'!$C:$O,BK$4,FALSE))","v":""},null,{"$f":"IF($N85=\"\",\"\",VLOOKUP($N85,'Reference - Logistics Distance'!$C:$O,BM$4,FALSE))","v":""},null,"","","","","","","","",null,"",null,"","",null,""]
[null,null,null,null,null,null,null,null,null,null,null,null,null,null,null,null,null,{"$f":"INDEX('Dropdown menus'!$A$1:$D$6,MATCH($E86,'Dropdown menus'!$A$1:$A$6,0),$R$6)","v":{"$error":"#N/A"}},null,{"$f":"IF($F86=\"\",\"\",VLOOKUP($F86,'Reference Data - Transport fuel'!$C:$O,T$4,FALSE))","v":""},{"$f":"IF($F86=\"\",\"\",VLOOKUP($F86,'Reference Data - Transport fuel'!$C:$O,U$4,FALSE))","v":""},{"$f":"IF($F86=\"\",\"\",VLOOKUP($F86,'Reference Data - Transport fuel'!$C:$O,V$4,FALSE))","v":""},{"$f":"IF($F86=\"\",\"\",VLOOKUP($F86,'Reference Data - Transport fuel'!$C:$O,W$4,FALSE))","v":""},{"$f":"IF($F86=\"\",\"\",VLOOKUP($F86,'Reference Data - Transport fuel'!$C:$O,X$4,FALSE))","v":""},{"$f":"IF($F86=\"\",\"\",VLOOKUP($F86,'Reference Data - Transport fuel'!$C:$O,Y$4,FALSE))","v":""},{"$f":"IF($F86=\"\",\"\",VLOOKUP($F86,'Reference Data - Transport fuel'!$C:$O,Z$4,FALSE))","v":""},{"$f":"IF($F86=\"\",\"\",VLOOKUP($F86,'Reference Data - Transport fuel'!$C:$O,AA$4,FALSE))","v":""},{"$f":"IF($F86=\"\",\"\",VLOOKUP($F86,'Reference Data - Transport fuel'!$C:$O,AB$4,FALSE))","v":""},null,{"$f":"IF($F86=\"\",\"\",VLOOKUP($F86,'Reference Data - Transport fuel'!$C:$O,AD$4,FALSE))","v":""},null,{"$f":"IF($F86=\"\",\"\",VLOOKUP($F86,'Reference Data - Transport fuel'!$C:$O,AF$4,FALSE))","v":""},null,"","","","","","","","",null,"",null,"","",null,"",null,null,{"$f":"INDEX('Dropdown menus'!$A$1:$D$6,MATCH($M86,'Dropdown menus'!$A$1:$A$6,0),$AY$6)","v":{"$error":"#N/A"}},null,{"$f":"IF($N86=\"\",\"\",VLOOKUP($N86,'Reference - Logistics Distance'!$C:$O,BA$4,FALSE))","v":""},{"$f":"IF($N86=\"\",\"\",VLOOKUP($N86,'Reference - Logistics Distance'!$C:$O,BB$4,FALSE))","v":""},{"$f":"IF($N86=\"\",\"\",VLOOKUP($N86,'Reference - Logistics Distance'!$C:$O,BC$4,FALSE))","v":""},{"$f":"IF($N86=\"\",\"\",VLOOKUP($N86,'Reference - Logistics Distance'!$C:$O,BD$4,FALSE))","v":""},{"$f":"IF($N86=\"\",\"\",VLOOKUP($N86,'Reference - Logistics Distance'!$C:$O,BE$4,FALSE))","v":""},{"$f":"IF($N86=\"\",\"\",VLOOKUP($N86,'Reference - Logistics Distance'!$C:$O,BF$4,FALSE))","v":""},{"$f":"IF($N86=\"\",\"\",VLOOKUP($N86,'Reference - Logistics Distance'!$C:$O,BG$4,FALSE))","v":""},{"$f":"IF($N86=\"\",\"\",VLOOKUP($N86,'Reference - Logistics Distance'!$C:$O,BH$4,FALSE))","v":""},{"$f":"IF($N86=\"\",\"\",VLOOKUP($N86,'Reference - Logistics Distance'!$C:$O,BI$4,FALSE))","v":""},null,{"$f":"IF($N86=\"\",\"\",VLOOKUP($N86,'Reference - Logistics Distance'!$C:$O,BK$4,FALSE))","v":""},null,{"$f":"IF($N86=\"\",\"\",VLOOKUP($N86,'Reference - Logistics Distance'!$C:$O,BM$4,FALSE))","v":""},null,"","","","","","","","",null,"",null,"","",null,""]
[null,null,null,null,null,null,null,null,null,null,null,null,null,null,null,null,null,{"$f":"INDEX('Dropdown menus'!$A$1:$D$6,MATCH($E87,'Dropdown menus'!$A$1:$A$6,0),$R$6)","v":{"$error":"#N/A"}},null,{"$f":"IF($F87=\"\",\"\",VLOOKUP($F87,'Reference Data - Transport fuel'!$C:$O,T$4,FALSE))","v":""},{"$f":"IF($F87=\"\",\"\",VLOOKUP($F87,'Reference Data - Transport fuel'!$C:$O,U$4,FALSE))","v":""},{"$f":"IF($F87=\"\",\"\",VLOOKUP($F87,'Reference Data - Transport fuel'!$C:$O,V$4,FALSE))","v":""},{"$f":"IF($F87=\"\",\"\",VLOOKUP($F87,'Reference Data - Transport fuel'!$C:$O,W$4,FALSE))","v":""},{"$f":"IF($F87=\"\",\"\",VLOOKUP($F87,'Reference Data - Transport fuel'!$C:$O,X$4,FALSE))","v":""},{"$f":"IF($F87=\"\",\"\",VLOOKUP($F87,'Reference Data - Transport fuel'!$C:$O,Y$4,FALSE))","v":""},{"$f":"IF($F87=\"\",\"\",VLOOKUP($F87,'Reference Data - Transport fuel'!$C:$O,Z$4,FALSE))","v":""},{"$f":"IF($F87=\"\",\"\",VLOOKUP($F87,'Reference Data - Transport fuel'!$C:$O,AA$4,FALSE))","v":""},{"$f":"IF($F87=\"\",\"\",VLOOKUP($F87,'Reference Data - Transport fuel'!$C:$O,AB$4,FALSE))","v":""},null,{"$f":"IF($F87=\"\",\"\",VLOOKUP($F87,'Reference Data - Transport fuel'!$C:$O,AD$4,FALSE))","v":""},null,{"$f":"IF($F87=\"\",\"\",VLOOKUP($F87,'Reference Data - Transport fuel'!$C:$O,AF$4,FALSE))","v":""},null,"","","","","","","","",null,"",null,"","",null,"",null,null,{"$f":"INDEX('Dropdown menus'!$A$1:$D$6,MATCH($M87,'Dropdown menus'!$A$1:$A$6,0),$AY$6)","v":{"$error":"#N/A"}},null,{"$f":"IF($N87=\"\",\"\",VLOOKUP($N87,'Reference - Logistics Distance'!$C:$O,BA$4,FALSE))","v":""},{"$f":"IF($N87=\"\",\"\",VLOOKUP($N87,'Reference - Logistics Distance'!$C:$O,BB$4,FALSE))","v":""},{"$f":"IF($N87=\"\",\"\",VLOOKUP($N87,'Reference - Logistics Distance'!$C:$O,BC$4,FALSE))","v":""},{"$f":"IF($N87=\"\",\"\",VLOOKUP($N87,'Reference - Logistics Distance'!$C:$O,BD$4,FALSE))","v":""},{"$f":"IF($N87=\"\",\"\",VLOOKUP($N87,'Reference - Logistics Distance'!$C:$O,BE$4,FALSE))","v":""},{"$f":"IF($N87=\"\",\"\",VLOOKUP($N87,'Reference - Logistics Distance'!$C:$O,BF$4,FALSE))","v":""},{"$f":"IF($N87=\"\",\"\",VLOOKUP($N87,'Reference - Logistics Distance'!$C:$O,BG$4,FALSE))","v":""},{"$f":"IF($N87=\"\",\"\",VLOOKUP($N87,'Reference - Logistics Distance'!$C:$O,BH$4,FALSE))","v":""},{"$f":"IF($N87=\"\",\"\",VLOOKUP($N87,'Reference - Logistics Distance'!$C:$O,BI$4,FALSE))","v":""},null,{"$f":"IF($N87=\"\",\"\",VLOOKUP($N87,'Reference - Logistics Distance'!$C:$O,BK$4,FALSE))","v":""},null,{"$f":"IF($N87=\"\",\"\",VLOOKUP($N87,'Reference - Logistics Distance'!$C:$O,BM$4,FALSE))","v":""},null,"","","","","","","","",null,"",null,"","",null,""]
[null,null,null,null,null,null,null,null,null,null,null,null,null,null,null,null,null,{"$f":"INDEX('Dropdown menus'!$A$1:$D$6,MATCH($E88,'Dropdown menus'!$A$1:$A$6,0),$R$6)","v":{"$error":"#N/A"}},null,{"$f":"IF($F88=\"\",\"\",VLOOKUP($F88,'Reference Data - Transport fuel'!$C:$O,T$4,FALSE))","v":""},{"$f":"IF($F88=\"\",\"\",VLOOKUP($F88,'Reference Data - Transport fuel'!$C:$O,U$4,FALSE))","v":""},{"$f":"IF($F88=\"\",\"\",VLOOKUP($F88,'Reference Data - Transport fuel'!$C:$O,V$4,FALSE))","v":""},{"$f":"IF($F88=\"\",\"\",VLOOKUP($F88,'Reference Data - Transport fuel'!$C:$O,W$4,FALSE))","v":""},{"$f":"IF($F88=\"\",\"\",VLOOKUP($F88,'Reference Data - Transport fuel'!$C:$O,X$4,FALSE))","v":""},{"$f":"IF($F88=\"\",\"\",VLOOKUP($F88,'Reference Data - Transport fuel'!$C:$O,Y$4,FALSE))","v":""},{"$f":"IF($F88=\"\",\"\",VLOOKUP($F88,'Reference Data - Transport fuel'!$C:$O,Z$4,FALSE))","v":""},{"$f":"IF($F88=\"\",\"\",VLOOKUP($F88,'Reference Data - Transport fuel'!$C:$O,AA$4,FALSE))","v":""},{"$f":"IF($F88=\"\",\"\",VLOOKUP($F88,'Reference Data - Transport fuel'!$C:$O,AB$4,FALSE))","v":""},null,{"$f":"IF($F88=\"\",\"\",VLOOKUP($F88,'Reference Data - Transport fuel'!$C:$O,AD$4,FALSE))","v":""},null,{"$f":"IF($F88=\"\",\"\",VLOOKUP($F88,'Reference Data - Transport fuel'!$C:$O,AF$4,FALSE))","v":""},null,"","","","","","","","",null,"",null,"","",null,"",null,null,{"$f":"INDEX('Dropdown menus'!$A$1:$D$6,MATCH($M88,'Dropdown menus'!$A$1:$A$6,0),$AY$6)","v":{"$error":"#N/A"}},null,{"$f":"IF($N88=\"\",\"\",VLOOKUP($N88,'Reference - Logistics Distance'!$C:$O,BA$4,FALSE))","v":""},{"$f":"IF($N88=\"\",\"\",VLOOKUP($N88,'Reference - Logistics Distance'!$C:$O,BB$4,FALSE))","v":""},{"$f":"IF($N88=\"\",\"\",VLOOKUP($N88,'Reference - Logistics Distance'!$C:$O,BC$4,FALSE))","v":""},{"$f":"IF($N88=\"\",\"\",VLOOKUP($N88,'Reference - Logistics Distance'!$C:$O,BD$4,FALSE))","v":""},{"$f":"IF($N88=\"\",\"\",VLOOKUP($N88,'Reference - Logistics Distance'!$C:$O,BE$4,FALSE))","v":""},{"$f":"IF($N88=\"\",\"\",VLOOKUP($N88,'Reference - Logistics Distance'!$C:$O,BF$4,FALSE))","v":""},{"$f":"IF($N88=\"\",\"\",VLOOKUP($N88,'Reference - Logistics Distance'!$C:$O,BG$4,FALSE))","v":""},{"$f":"IF($N88=\"\",\"\",VLOOKUP($N88,'Reference - Logistics Distance'!$C:$O,BH$4,FALSE))","v":""},{"$f":"IF($N88=\"\",\"\",VLOOKUP($N88,'Reference - Logistics Distance'!$C:$O,BI$4,FALSE))","v":""},null,{"$f":"IF($N88=\"\",\"\",VLOOKUP($N88,'Reference - Logistics Distance'!$C:$O,BK$4,FALSE))","v":""},null,{"$f":"IF($N88=\"\",\"\",VLOOKUP($N88,'Reference - Logistics Distance'!$C:$O,BM$4,FALSE))","v":""},null,"","","","","","","","",null,"",null,"","",null,""]
[null,null,null,null,null,null,null,null,null,null,null,null,null,null,null,null,null,{"$f":"INDEX('Dropdown menus'!$A$1:$D$6,MATCH($E89,'Dropdown menus'!$A$1:$A$6,0),$R$6)","v":{"$error":"#N/A"}},null,{"$f":"IF($F89=\"\",\"\",VLOOKUP($F89,'Reference Data - Transport fuel'!$C:$O,T$4,FALSE))","v":""},{"$f":"IF($F89=\"\",\"\",VLOOKUP($F89,'Reference Data - Transport fuel'!$C:$O,U$4,FALSE))","v":""},{"$f":"IF($F89=\"\",\"\",VLOOKUP($F89,'Reference Data - Transport fuel'!$C:$O,V$4,FALSE))","v":""},{"$f":"IF($F89=\"\",\"\",VLOOKUP($F89,'Reference Data - Transport fuel'!$C:$O,W$4,FALSE))","v":""},{"$f":"IF($F89=\"\",\"\",VLOOKUP($F89,'Reference Data - Transport fuel'!$C:$O,X$4,FALSE))","v":""},{"$f":"IF($F89=\"\",\"\",VLOOKUP($F89,'Reference Data - Transport fuel'!$C:$O,Y$4,FALSE))","v":""},{"$f":"IF($F89=\"\",\"\",VLOOKUP($F89,'Reference Data - Transport fuel'!$C:$O,Z$4,FALSE))","v":""},{"$f":"IF($F89=\"\",\"\",VLOOKUP($F89,'Reference Data - Transport fuel'!$C:$O,AA$4,FALSE))","v":""},{"$f":"IF($F89=\"\",\"\",VLOOKUP($F89,'Reference Data - Transport fuel'!$C:$O,AB$4,FALSE))","v":""},null,{"$f":"IF($F89=\"\",\"\",VLOOKUP($F89,'Reference Data - Transport fuel'!$C:$O,AD$4,FALSE))","v":""},null,{"$f":"IF($F89=\"\",\"\",VLOOKUP($F89,'Reference Data - Transport fuel'!$C:$O,AF$4,FALSE))","v":""},null,"","","","","","","","",null,"",null,"","",null,"",null,null,{"$f":"INDEX('Dropdown menus'!$A$1:$D$6,MATCH($M89,'Dropdown menus'!$A$1:$A$6,0),$AY$6)","v":{"$error":"#N/A"}},null,{"$f":"IF($N89=\"\",\"\",VLOOKUP($N89,'Reference - Logistics Distance'!$C:$O,BA$4,FALSE))","v":""},{"$f":"IF($N89=\"\",\"\",VLOOKUP($N89,'Reference - Logistics Distance'!$C:$O,BB$4,FALSE))","v":""},{"$f":"IF($N89=\"\",\"\",VLOOKUP($N89,'Reference - Logistics Distance'!$C:$O,BC$4,FALSE))","v":""},{"$f":"IF($N89=\"\",\"\",VLOOKUP($N89,'Reference - Logistics Distance'!$C:$O,BD$4,FALSE))","v":""},{"$f":"IF($N89=\"\",\"\",VLOOKUP($N89,'Reference - Logistics Distance'!$C:$O,BE$4,FALSE))","v":""},{"$f":"IF($N89=\"\",\"\",VLOOKUP($N89,'Reference - Logistics Distance'!$C:$O,BF$4,FALSE))","v":""},{"$f":"IF($N89=\"\",\"\",VLOOKUP($N89,'Reference - Logistics Distance'!$C:$O,BG$4,FALSE))","v":""},{"$f":"IF($N89=\"\",\"\",VLOOKUP($N89,'Reference - Logistics Distance'!$C:$O,BH$4,FALSE))","v":""},{"$f":"IF($N89=\"\",\"\",VLOOKUP($N89,'Reference - Logistics Distance'!$C:$O,BI$4,FALSE))","v":""},null,{"$f":"IF($N89=\"\",\"\",VLOOKUP($N89,'Reference - Logistics Distance'!$C:$O,BK$4,FALSE))","v":""},null,{"$f":"IF($N89=\"\",\"\",VLOOKUP($N89,'Reference - Logistics Distance'!$C:$O,BM$4,FALSE))","v":""},null,"","","","","","","","",null,"",null,"","",null,""]
[null,null,null,null,null,null,null,null,null,null,null,null,null,null,null,null,null,{"$f":"INDEX('Dropdown menus'!$A$1:$D$6,MATCH($E90,'Dropdown menus'!$A$1:$A$6,0),$R$6)","v":{"$error":"#N/A"}},null,{"$f":"IF($F90=\"\",\"\",VLOOKUP($F90,'Reference Data - Transport fuel'!$C:$O,T$4,FALSE))","v":""},{"$f":"IF($F90=\"\",\"\",VLOOKUP($F90,'Reference Data - Transport fuel'!$C:$O,U$4,FALSE))","v":""},{"$f":"IF($F90=\"\",\"\",VLOOKUP($F90,'Reference Data - Transport fuel'!$C:$O,V$4,FALSE))","v":""},{"$f":"IF($F90=\"\",\"\",VLOOKUP($F90,'Reference Data - Transport fuel'!$C:$O,W$4,FALSE))","v":""},{"$f":"IF($F90=\"\",\"\",VLOOKUP($F90,'Reference Data - Transport fuel'!$C:$O,X$4,FALSE))","v":""},{"$f":"IF($F90=\"\",\"\",VLOOKUP($F90,'Reference Data - Transport fuel'!$C:$O,Y$4,FALSE))","v":""},{"$f":"IF($F90=\"\",\"\",VLOOKUP($F90,'Reference Data - Transport fuel'!$C:$O,Z$4,FALSE))","v":""},{"$f":"IF($F90=\"\",\"\",VLOOKUP($F90,'Reference Data - Transport fuel'!$C:$O,AA$4,FALSE))","v":""},{"$f":"IF($F90=\"\",\"\",VLOOKUP($F90,'Reference Data - Transport fuel'!$C:$O,AB$4,FALSE))","v":""},null,{"$f":"IF($F90=\"\",\"\",VLOOKUP($F90,'Reference Data - Transport fuel'!$C:$O,AD$4,FALSE))","v":""},null,{"$f":"IF($F90=\"\",\"\",VLOOKUP($F90,'Reference Data - Transport fuel'!$C:$O,AF$4,FALSE))","v":""},null,"","","","","","","","",null,"",null,"","",null,"",null,null,{"$f":"INDEX('Dropdown menus'!$A$1:$D$6,MATCH($M90,'Dropdown menus'!$A$1:$A$6,0),$AY$6)","v":{"$error":"#N/A"}},null,{"$f":"IF($N90=\"\",\"\",VLOOKUP($N90,'Reference - Logistics Distance'!$C:$O,BA$4,FALSE))","v":""},{"$f":"IF($N90=\"\",\"\",VLOOKUP($N90,'Reference - Logistics Distance'!$C:$O,BB$4,FALSE))","v":""},{"$f":"IF($N90=\"\",\"\",VLOOKUP($N90,'Reference - Logistics Distance'!$C:$O,BC$4,FALSE))","v":""},{"$f":"IF($N90=\"\",\"\",VLOOKUP($N90,'Reference - Logistics Distance'!$C:$O,BD$4,FALSE))","v":""},{"$f":"IF($N90=\"\",\"\",VLOOKUP($N90,'Reference - Logistics Distance'!$C:$O,BE$4,FALSE))","v":""},{"$f":"IF($N90=\"\",\"\",VLOOKUP($N90,'Reference - Logistics Distance'!$C:$O,BF$4,FALSE))","v":""},{"$f":"IF($N90=\"\",\"\",VLOOKUP($N90,'Reference - Logistics Distance'!$C:$O,BG$4,FALSE))","v":""},{"$f":"IF($N90=\"\",\"\",VLOOKUP($N90,'Reference - Logistics Distance'!$C:$O,BH$4,FALSE))","v":""},{"$f":"IF($N90=\"\",\"\",VLOOKUP($N90,'Reference - Logistics Distance'!$C:$O,BI$4,FALSE))","v":""},null,{"$f":"IF($N90=\"\",\"\",VLOOKUP($N90,'Reference - Logistics Distance'!$C:$O,BK$4,FALSE))","v":""},null,{"$f":"IF($N90=\"\",\"\",VLOOKUP($N90,'Reference - Logistics Distance'!$C:$O,BM$4,FALSE))","v":""},null,"","","","","","","","",null,"",null,"","",null,""]
[null,null,null,null,null,null,null,null,null,null,null,null,null,null,null,null,null,{"$f":"INDEX('Dropdown menus'!$A$1:$D$6,MATCH($E91,'Dropdown menus'!$A$1:$A$6,0),$R$6)","v":{"$error":"#N/A"}},null,{"$f":"IF($F91=\"\",\"\",VLOOKUP($F91,'Reference Data - Transport fuel'!$C:$O,T$4,FALSE))","v":""},{"$f":"IF($F91=\"\",\"\",VLOOKUP($F91,'Reference Data - Transport fuel'!$C:$O,U$4,FALSE))","v":""},{"$f":"IF($F91=\"\",\"\",VLOOKUP($F91,'Reference Data - Transport fuel'!$C:$O,V$4,FALSE))","v":""},{"$f":"IF($F91=\"\",\"\",VLOOKUP($F91,'Reference Data - Transport fuel'!$C:$O,W$4,FALSE))","v":""},{"$f":"IF($F91=\"\",\"\",VLOOKUP($F91,'Reference Data - Transport fuel'!$C:$O,X$4,FALSE))","v":""},{"$f":"IF($F91=\"\",\"\",VLOOKUP($F91,'Reference Data - Transport fuel'!$C:$O,Y$4,FALSE))","v":""},{"$f":"IF($F91=\"\",\"\",VLOOKUP($F91,'Reference Data - Transport fuel'!$C:$O,Z$4,FALSE))","v":""},{"$f":"IF($F91=\"\",\"\",VLOOKUP($F91,'Reference Data - Transport fuel'!$C:$O,AA$4,FALSE))","v":""},{"$f":"IF($F91=\"\",\"\",VLOOKUP($F91,'Reference Data - Transport fuel'!$C:$O,AB$4,FALSE))","v":""},null,{"$f":"IF($F91=\"\",\"\",VLOOKUP($F91,'Reference Data - Transport fuel'!$C:$O,AD$4,FALSE))","v":""},null,{"$f":"IF($F91=\"\",\"\",VLOOKUP($F91,'Reference Data - Transport fuel'!$C:$O,AF$4,FALSE))","v":""},null,"","","","","","","","",null,"",null,"","",null,"",null,null,{"$f":"INDEX('Dropdown menus'!$A$1:$D$6,MATCH($M91,'Dropdown menus'!$A$1:$A$6,0),$AY$6)","v":{"$error":"#N/A"}},null,{"$f":"IF($N91=\"\",\"\",VLOOKUP($N91,'Reference - Logistics Distance'!$C:$O,BA$4,FALSE))","v":""},{"$f":"IF($N91=\"\",\"\",VLOOKUP($N91,'Reference - Logistics Distance'!$C:$O,BB$4,FALSE))","v":""},{"$f":"IF($N91=\"\",\"\",VLOOKUP($N91,'Reference - Logistics Distance'!$C:$O,BC$4,FALSE))","v":""},{"$f":"IF($N91=\"\",\"\",VLOOKUP($N91,'Reference - Logistics Distance'!$C:$O,BD$4,FALSE))","v":""},{"$f":"IF($N91=\"\",\"\",VLOOKUP($N91,'Reference - Logistics Distance'!$C:$O,BE$4,FALSE))","v":""},{"$f":"IF($N91=\"\",\"\",VLOOKUP($N91,'Reference - Logistics Distance'!$C:$O,BF$4,FALSE))","v":""},{"$f":"IF($N91=\"\",\"\",VLOOKUP($N91,'Reference - Logistics Distance'!$C:$O,BG$4,FALSE))","v":""},{"$f":"IF($N91=\"\",\"\",VLOOKUP($N91,'Reference - Logistics Distance'!$C:$O,BH$4,FALSE))","v":""},{"$f":"IF($N91=\"\",\"\",VLOOKUP($N91,'Reference - Logistics Distance'!$C:$O,BI$4,FALSE))","v":""},null,{"$f":"IF($N91=\"\",\"\",VLOOKUP($N91,'Reference - Logistics Distance'!$C:$O,BK$4,FALSE))","v":""},null,{"$f":"IF($N91=\"\",\"\",VLOOKUP($N91,'Reference - Logistics Distance'!$C:$O,BM$4,FALSE))","v":""},null,"","","","","","","","",null,"",null,"","",null,""]
[null,null,null,null,null,null,null,null,null,null,null,null,null,null,null,null,null,{"$f":"INDEX('Dropdown menus'!$A$1:$D$6,MATCH($E92,'Dropdown menus'!$A$1:$A$6,0),$R$6)","v":{"$error":"#N/A"}},null,{"$f":"IF($F92=\"\",\"\",VLOOKUP($F92,'Reference Data - Transport fuel'!$C:$O,T$4,FALSE))","v":""},{"$f":"IF($F92=\"\",\"\",VLOOKUP($F92,'Reference Data - Transport fuel'!$C:$O,U$4,FALSE))","v":""},{"$f":"IF($F92=\"\",\"\",VLOOKUP($F92,'Reference Data - Transport fuel'!$C:$O,V$4,FALSE))","v":""},{"$f":"IF($F92=\"\",\"\",VLOOKUP($F92,'Reference Data - Transport fuel'!$C:$O,W$4,FALSE))","v":""},{"$f":"IF($F92=\"\",\"\",VLOOKUP($F92,'Reference Data - Transport fuel'!$C:$O,X$4,FALSE))","v":""},{"$f":"IF($F92=\"\",\"\",VLOOKUP($F92,'Reference Data - Transport fuel'!$C:$O,Y$4,FALSE))","v":""},{"$f":"IF($F92=\"\",\"\",VLOOKUP($F92,'Reference Data - Transport fuel'!$C:$O,Z$4,FALSE))","v":""},{"$f":"IF($F92=\"\",\"\",VLOOKUP($F92,'Reference Data - Transport fuel'!$C:$O,AA$4,FALSE))","v":""},{"$f":"IF($F92=\"\",\"\",VLOOKUP($F92,'Reference Data - Transport fuel'!$C:$O,AB$4,FALSE))","v":""},null,{"$f":"IF($F92=\"\",\"\",VLOOKUP($F92,'Reference Data - Transport fuel'!$C:$O,AD$4,FALSE))","v":""},null,{"$f":"IF($F92=\"\",\"\",VLOOKUP($F92,'Reference Data - Transport fuel'!$C:$O,AF$4,FALSE))","v":""},null,"","","","","","","","",null,"",null,"","",null,"",null,null,{"$f":"INDEX('Dropdown menus'!$A$1:$D$6,MATCH($M92,'Dropdown menus'!$A$1:$A$6,0),$AY$6)","v":{"$error":"#N/A"}},null,{"$f":"IF($N92=\"\",\"\",VLOOKUP($N92,'Reference - Logistics Distance'!$C:$O,BA$4,FALSE))","v":""},{"$f":"IF($N92=\"\",\"\",VLOOKUP($N92,'Reference - Logistics Distance'!$C:$O,BB$4,FALSE))","v":""},{"$f":"IF($N92=\"\",\"\",VLOOKUP($N92,'Reference - Logistics Distance'!$C:$O,BC$4,FALSE))","v":""},{"$f":"IF($N92=\"\",\"\",VLOOKUP($N92,'Reference - Logistics Distance'!$C:$O,BD$4,FALSE))","v":""},{"$f":"IF($N92=\"\",\"\",VLOOKUP($N92,'Reference - Logistics Distance'!$C:$O,BE$4,FALSE))","v":""},{"$f":"IF($N92=\"\",\"\",VLOOKUP($N92,'Reference - Logistics Distance'!$C:$O,BF$4,FALSE))","v":""},{"$f":"IF($N92=\"\",\"\",VLOOKUP($N92,'Reference - Logistics Distance'!$C:$O,BG$4,FALSE))","v":""},{"$f":"IF($N92=\"\",\"\",VLOOKUP($N92,'Reference - Logistics Distance'!$C:$O,BH$4,FALSE))","v":""},{"$f":"IF($N92=\"\",\"\",VLOOKUP($N92,'Reference - Logistics Distance'!$C:$O,BI$4,FALSE))","v":""},null,{"$f":"IF($N92=\"\",\"\",VLOOKUP($N92,'Reference - Logistics Distance'!$C:$O,BK$4,FALSE))","v":""},null,{"$f":"IF($N92=\"\",\"\",VLOOKUP($N92,'Reference - Logistics Distance'!$C:$O,BM$4,FALSE))","v":""},null,"","","","","","","","",null,"",null,"","",null,""]
[null,null,null,null,null,null,null,null,null,null,null,null,null,null,null,null,null,{"$f":"INDEX('Dropdown menus'!$A$1:$D$6,MATCH($E93,'Dropdown menus'!$A$1:$A$6,0),$R$6)","v":{"$error":"#N/A"}},null,{"$f":"IF($F93=\"\",\"\",VLOOKUP($F93,'Reference Data - Transport fuel'!$C:$O,T$4,FALSE))","v":""},{"$f":"IF($F93=\"\",\"\",VLOOKUP($F93,'Reference Data - Transport fuel'!$C:$O,U$4,FALSE))","v":""},{"$f":"IF($F93=\"\",\"\",VLOOKUP($F93,'Reference Data - Transport fuel'!$C:$O,V$4,FALSE))","v":""},{"$f":"IF($F93=\"\",\"\",VLOOKUP($F93,'Reference Data - Transport fuel'!$C:$O,W$4,FALSE))","v":""},{"$f":"IF($F93=\"\",\"\",VLOOKUP($F93,'Reference Data - Transport fuel'!$C:$O,X$4,FALSE))","v":""},{"$f":"IF($F93=\"\",\"\",VLOOKUP($F93,'Reference Data - Transport fuel'!$C:$O,Y$4,FALSE))","v":""},{"$f":"IF($F93=\"\",\"\",VLOOKUP($F93,'Reference Data - Transport fuel'!$C:$O,Z$4,FALSE))","v":""},{"$f":"IF($F93=\"\",\"\",VLOOKUP($F93,'Reference Data - Transport fuel'!$C:$O,AA$4,FALSE))","v":""},{"$f":"IF($F93=\"\",\"\",VLOOKUP($F93,'Reference Data - Transport fuel'!$C:$O,AB$4,FALSE))","v":""},null,{"$f":"IF($F93=\"\",\"\",VLOOKUP($F93,'Reference Data - Transport fuel'!$C:$O,AD$4,FALSE))","v":""},null,{"$f":"IF($F93=\"\",\"\",VLOOKUP($F93,'Reference Data - Transport fuel'!$C:$O,AF$4,FALSE))","v":""},null,"","","","","","","","",null,"",null,"","",null,"",null,null,{"$f":"INDEX('Dropdown menus'!$A$1:$D$6,MATCH($M93,'Dropdown menus'!$A$1:$A$6,0),$AY$6)","v":{"$error":"#N/A"}},null,{"$f":"IF($N93=\"\",\"\",VLOOKUP($N93,'Reference - Logistics Distance'!$C:$O,BA$4,FALSE))","v":""},{"$f":"IF($N93=\"\",\"\",VLOOKUP($N93,'Reference - Logistics Distance'!$C:$O,BB$4,FALSE))","v":""},{"$f":"IF($N93=\"\",\"\",VLOOKUP($N93,'Reference - Logistics Distance'!$C:$O,BC$4,FALSE))","v":""},{"$f":"IF($N93=\"\",\"\",VLOOKUP($N93,'Reference - Logistics Distance'!$C:$O,BD$4,FALSE))","v":""},{"$f":"IF($N93=\"\",\"\",VLOOKUP($N93,'Reference - Logistics Distance'!$C:$O,BE$4,FALSE))","v":""},{"$f":"IF($N93=\"\",\"\",VLOOKUP($N93,'Reference - Logistics Distance'!$C:$O,BF$4,FALSE))","v":""},{"$f":"IF($N93=\"\",\"\",VLOOKUP($N93,'Reference - Logistics Distance'!$C:$O,BG$4,FALSE))","v":""},{"$f":"IF($N93=\"\",\"\",VLOOKUP($N93,'Reference - Logistics Distance'!$C:$O,BH$4,FALSE))","v":""},{"$f":"IF($N93=\"\",\"\",VLOOKUP($N93,'Reference - Logistics Distance'!$C:$O,BI$4,FALSE))","v":""},null,{"$f":"IF($N93=\"\",\"\",VLOOKUP($N93,'Reference - Logistics Distance'!$C:$O,BK$4,FALSE))","v":""},null,{"$f":"IF($N93=\"\",\"\",VLOOKUP($N93,'Reference - Logistics Distance'!$C:$O,BM$4,FALSE))","v":""},null,"","","","","","","","",null,"",null,"","",null,""]
[null,null,null,null,null,null,null,null,null,null,null,null,null,null,null,null,null,{"$f":"INDEX('Dropdown menus'!$A$1:$D$6,MATCH($E94,'Dropdown menus'!$A$1:$A$6,0),$R$6)","v":{"$error":"#N/A"}},null,{"$f":"IF($F94=\"\",\"\",VLOOKUP($F94,'Reference Data - Transport fuel'!$C:$O,T$4,FALSE))","v":""},{"$f":"IF($F94=\"\",\"\",VLOOKUP($F94,'Reference Data - Transport fuel'!$C:$O,U$4,FALSE))","v":""},{"$f":"IF($F94=\"\",\"\",VLOOKUP($F94,'Reference Data - Transport fuel'!$C:$O,V$4,FALSE))","v":""},{"$f":"IF($F94=\"\",\"\",VLOOKUP($F94,'Reference Data - Transport fuel'!$C:$O,W$4,FALSE))","v":""},{"$f":"IF($F94=\"\",\"\",VLOOKUP($F94,'Reference Data - Transport fuel'!$C:$O,X$4,FALSE))","v":""},{"$f":"IF($F94=\"\",\"\",VLOOKUP($F94,'Reference Data - Transport fuel'!$C:$O,Y$4,FALSE))","v":""},{"$f":"IF($F94=\"\",\"\",VLOOKUP($F94,'Reference Data - Transport fuel'!$C:$O,Z$4,FALSE))","v":""},{"$f":"IF($F94=\"\",\"\",VLOOKUP($F94,'Reference Data - Transport fuel'!$C:$O,AA$4,FALSE))","v":""},{"$f":"IF($F94=\"\",\"\",VLOOKUP($F94,'Reference Data - Transport fuel'!$C:$O,AB$4,FALSE))","v":""},null,{"$f":"IF($F94=\"\",\"\",VLOOKUP($F94,'Reference Data - Transport fuel'!$C:$O,AD$4,FALSE))","v":""},null,{"$f":"IF($F94=\"\",\"\",VLOOKUP($F94,'Reference Data - Transport fuel'!$C:$O,AF$4,FALSE))","v":""},null,"","","","","","","","",null,"",null,"","",null,"",null,null,{"$f":"INDEX('Dropdown menus'!$A$1:$D$6,MATCH($M94,'Dropdown menus'!$A$1:$A$6,0),$AY$6)","v":{"$error":"#N/A"}},null,{"$f":"IF($N94=\"\",\"\",VLOOKUP($N94,'Reference - Logistics Distance'!$C:$O,BA$4,FALSE))","v":""},{"$f":"IF($N94=\"\",\"\",VLOOKUP($N94,'Reference - Logistics Distance'!$C:$O,BB$4,FALSE))","v":""},{"$f":"IF($N94=\"\",\"\",VLOOKUP($N94,'Reference - Logistics Distance'!$C:$O,BC$4,FALSE))","v":""},{"$f":"IF($N94=\"\",\"\",VLOOKUP($N94,'Reference - Logistics Distance'!$C:$O,BD$4,FALSE))","v":""},{"$f":"IF($N94=\"\",\"\",VLOOKUP($N94,'Reference - Logistics Distance'!$C:$O,BE$4,FALSE))","v":""},{"$f":"IF($N94=\"\",\"\",VLOOKUP($N94,'Reference - Logistics Distance'!$C:$O,BF$4,FALSE))","v":""},{"$f":"IF($N94=\"\",\"\",VLOOKUP($N94,'Reference - Logistics Distance'!$C:$O,BG$4,FALSE))","v":""},{"$f":"IF($N94=\"\",\"\",VLOOKUP($N94,'Reference - Logistics Distance'!$C:$O,BH$4,FALSE))","v":""},{"$f":"IF($N94=\"\",\"\",VLOOKUP($N94,'Reference - Logistics Distance'!$C:$O,BI$4,FALSE))","v":""},null,{"$f":"IF($N94=\"\",\"\",VLOOKUP($N94,'Reference - Logistics Distance'!$C:$O,BK$4,FALSE))","v":""},null,{"$f":"IF($N94=\"\",\"\",VLOOKUP($N94,'Reference - Logistics Distance'!$C:$O,BM$4,FALSE))","v":""},null,"","","","","","","","",null,"",null,"","",null,""]
[null,null,null,null,null,null,null,null,null,null,null,null,null,null,null,null,null,{"$f":"INDEX('Dropdown menus'!$A$1:$D$6,MATCH($E95,'Dropdown menus'!$A$1:$A$6,0),$R$6)","v":{"$error":"#N/A"}},null,{"$f":"IF($F95=\"\",\"\",VLOOKUP($F95,'Reference Data - Transport fuel'!$C:$O,T$4,FALSE))","v":""},{"$f":"IF($F95=\"\",\"\",VLOOKUP($F95,'Reference Data - Transport fuel'!$C:$O,U$4,FALSE))","v":""},{"$f":"IF($F95=\"\",\"\",VLOOKUP($F95,'Reference Data - Transport fuel'!$C:$O,V$4,FALSE))","v":""},{"$f":"IF($F95=\"\",\"\",VLOOKUP($F95,'Reference Data - Transport fuel'!$C:$O,W$4,FALSE))","v":""},{"$f":"IF($F95=\"\",\"\",VLOOKUP($F95,'Reference Data - Transport fuel'!$C:$O,X$4,FALSE))","v":""},{"$f":"IF($F95=\"\",\"\",VLOOKUP($F95,'Reference Data - Transport fuel'!$C:$O,Y$4,FALSE))","v":""},{"$f":"IF($F95=\"\",\"\",VLOOKUP($F95,'Reference Data - Transport fuel'!$C:$O,Z$4,FALSE))","v":""},{"$f":"IF($F95=\"\",\"\",VLOOKUP($F95,'Reference Data - Transport fuel'!$C:$O,AA$4,FALSE))","v":""},{"$f":"IF($F95=\"\",\"\",VLOOKUP($F95,'Reference Data - Transport fuel'!$C:$O,AB$4,FALSE))","v":""},null,{"$f":"IF($F95=\"\",\"\",VLOOKUP($F95,'Reference Data - Transport fuel'!$C:$O,AD$4,FALSE))","v":""},null,{"$f":"IF($F95=\"\",\"\",VLOOKUP($F95,'Reference Data - Transport fuel'!$C:$O,AF$4,FALSE))","v":""},null,"","","","","","","","",null,"",null,"","",null,"",null,null,{"$f":"INDEX('Dropdown menus'!$A$1:$D$6,MATCH($M95,'Dropdown menus'!$A$1:$A$6,0),$AY$6)","v":{"$error":"#N/A"}},null,{"$f":"IF($N95=\"\",\"\",VLOOKUP($N95,'Reference - Logistics Distance'!$C:$O,BA$4,FALSE))","v":""},{"$f":"IF($N95=\"\",\"\",VLOOKUP($N95,'Reference - Logistics Distance'!$C:$O,BB$4,FALSE))","v":""},{"$f":"IF($N95=\"\",\"\",VLOOKUP($N95,'Reference - Logistics Distance'!$C:$O,BC$4,FALSE))","v":""},{"$f":"IF($N95=\"\",\"\",VLOOKUP($N95,'Reference - Logistics Distance'!$C:$O,BD$4,FALSE))","v":""},{"$f":"IF($N95=\"\",\"\",VLOOKUP($N95,'Reference - Logistics Distance'!$C:$O,BE$4,FALSE))","v":""},{"$f":"IF($N95=\"\",\"\",VLOOKUP($N95,'Reference - Logistics Distance'!$C:$O,BF$4,FALSE))","v":""},{"$f":"IF($N95=\"\",\"\",VLOOKUP($N95,'Reference - Logistics Distance'!$C:$O,BG$4,FALSE))","v":""},{"$f":"IF($N95=\"\",\"\",VLOOKUP($N95,'Reference - Logistics Distance'!$C:$O,BH$4,FALSE))","v":""},{"$f":"IF($N95=\"\",\"\",VLOOKUP($N95,'Reference - Logistics Distance'!$C:$O,BI$4,FALSE))","v":""},null,{"$f":"IF($N95=\"\",\"\",VLOOKUP($N95,'Reference - Logistics Distance'!$C:$O,BK$4,FALSE))","v":""},null,{"$f":"IF($N95=\"\",\"\",VLOOKUP($N95,'Reference - Logistics Distance'!$C:$O,BM$4,FALSE))","v":""},null,"","","","","","","","",null,"",null,"","",null,""]
[null,null,null,null,null,null,null,null,null,null,null,null,null,null,null,null,null,{"$f":"INDEX('Dropdown menus'!$A$1:$D$6,MATCH($E96,'Dropdown menus'!$A$1:$A$6,0),$R$6)","v":{"$error":"#N/A"}},null,{"$f":"IF($F96=\"\",\"\",VLOOKUP($F96,'Reference Data - Transport fuel'!$C:$O,T$4,FALSE))","v":""},{"$f":"IF($F96=\"\",\"\",VLOOKUP($F96,'Reference Data - Transport fuel'!$C:$O,U$4,FALSE))","v":""},{"$f":"IF($F96=\"\",\"\",VLOOKUP($F96,'Reference Data - Transport fuel'!$C:$O,V$4,FALSE))","v":""},{"$f":"IF($F96=\"\",\"\",VLOOKUP($F96,'Reference Data - Transport fuel'!$C:$O,W$4,FALSE))","v":""},{"$f":"IF($F96=\"\",\"\",VLOOKUP($F96,'Reference Data - Transport fuel'!$C:$O,X$4,FALSE))","v":""},{"$f":"IF($F96=\"\",\"\",VLOOKUP($F96,'Reference Data - Transport fuel'!$C:$O,Y$4,FALSE))","v":""},{"$f":"IF($F96=\"\",\"\",VLOOKUP($F96,'Reference Data - Transport fuel'!$C:$O,Z$4,FALSE))","v":""},{"$f":"IF($F96=\"\",\"\",VLOOKUP($F96,'Reference Data - Transport fuel'!$C:$O,AA$4,FALSE))","v":""},{"$f":"IF($F96=\"\",\"\",VLOOKUP($F96,'Reference Data - Transport fuel'!$C:$O,AB$4,FALSE))","v":""},null,{"$f":"IF($F96=\"\",\"\",VLOOKUP($F96,'Reference Data - Transport fuel'!$C:$O,AD$4,FALSE))","v":""},null,{"$f":"IF($F96=\"\",\"\",VLOOKUP($F96,'Reference Data - Transport fuel'!$C:$O,AF$4,FALSE))","v":""},null,"","","","","","","","",null,"",null,"","",null,"",null,null,{"$f":"INDEX('Dropdown menus'!$A$1:$D$6,MATCH($M96,'Dropdown menus'!$A$1:$A$6,0),$AY$6)","v":{"$error":"#N/A"}},null,{"$f":"IF($N96=\"\",\"\",VLOOKUP($N96,'Reference - Logistics Distance'!$C:$O,BA$4,FALSE))","v":""},{"$f":"IF($N96=\"\",\"\",VLOOKUP($N96,'Reference - Logistics Distance'!$C:$O,BB$4,FALSE))","v":""},{"$f":"IF($N96=\"\",\"\",VLOOKUP($N96,'Reference - Logistics Distance'!$C:$O,BC$4,FALSE))","v":""},{"$f":"IF($N96=\"\",\"\",VLOOKUP($N96,'Reference - Logistics Distance'!$C:$O,BD$4,FALSE))","v":""},{"$f":"IF($N96=\"\",\"\",VLOOKUP($N96,'Reference - Logistics Distance'!$C:$O,BE$4,FALSE))","v":""},{"$f":"IF($N96=\"\",\"\",VLOOKUP($N96,'Reference - Logistics Distance'!$C:$O,BF$4,FALSE))","v":""},{"$f":"IF($N96=\"\",\"\",VLOOKUP($N96,'Reference - Logistics Distance'!$C:$O,BG$4,FALSE))","v":""},{"$f":"IF($N96=\"\",\"\",VLOOKUP($N96,'Reference - Logistics Distance'!$C:$O,BH$4,FALSE))","v":""},{"$f":"IF($N96=\"\",\"\",VLOOKUP($N96,'Reference - Logistics Distance'!$C:$O,BI$4,FALSE))","v":""},null,{"$f":"IF($N96=\"\",\"\",VLOOKUP($N96,'Reference - Logistics Distance'!$C:$O,BK$4,FALSE))","v":""},null,{"$f":"IF($N96=\"\",\"\",VLOOKUP($N96,'Reference - Logistics Distance'!$C:$O,BM$4,FALSE))","v":""},null,"","","","","","","","",null,"",null,"","",null,""]
[null,null,null,null,null,null,null,null,null,null,null,null,null,null,null,null,null,{"$f":"INDEX('Dropdown menus'!$A$1:$D$6,MATCH($E97,'Dropdown menus'!$A$1:$A$6,0),$R$6)","v":{"$error":"#N/A"}},null,{"$f":"IF($F97=\"\",\"\",VLOOKUP($F97,'Reference Data - Transport fuel'!$C:$O,T$4,FALSE))","v":""},{"$f":"IF($F97=\"\",\"\",VLOOKUP($F97,'Reference Data - Transport fuel'!$C:$O,U$4,FALSE))","v":""},{"$f":"IF($F97=\"\",\"\",VLOOKUP($F97,'Reference Data - Transport fuel'!$C:$O,V$4,FALSE))","v":""},{"$f":"IF($F97=\"\",\"\",VLOOKUP($F97,'Reference Data - Transport fuel'!$C:$O,W$4,FALSE))","v":""},{"$f":"IF($F97=\"\",\"\",VLOOKUP($F97,'Reference Data - Transport fuel'!$C:$O,X$4,FALSE))","v":""},{"$f":"IF($F97=\"\",\"\",VLOOKUP($F97,'Reference Data - Transport fuel'!$C:$O,Y$4,FALSE))","v":""},{"$f":"IF($F97=\"\",\"\",VLOOKUP($F97,'Reference Data - Transport fuel'!$C:$O,Z$4,FALSE))","v":""},{"$f":"IF($F97=\"\",\"\",VLOOKUP($F97,'Reference Data - Transport fuel'!$C:$O,AA$4,FALSE))","v":""},{"$f":"IF($F97=\"\",\"\",VLOOKUP($F97,'Reference Data - Transport fuel'!$C:$O,AB$4,FALSE))","v":""},null,{"$f":"IF($F97=\"\",\"\",VLOOKUP($F97,'Reference Data - Transport fuel'!$C:$O,AD$4,FALSE))","v":""},null,{"$f":"IF($F97=\"\",\"\",VLOOKUP($F97,'Reference Data - Transport fuel'!$C:$O,AF$4,FALSE))","v":""},null,"","","","","","","","",null,"",null,"","",null,"",null,null,{"$f":"INDEX('Dropdown menus'!$A$1:$D$6,MATCH($M97,'Dropdown menus'!$A$1:$A$6,0),$AY$6)","v":{"$error":"#N/A"}},null,{"$f":"IF($N97=\"\",\"\",VLOOKUP($N97,'Reference - Logistics Distance'!$C:$O,BA$4,FALSE))","v":""},{"$f":"IF($N97=\"\",\"\",VLOOKUP($N97,'Reference - Logistics Distance'!$C:$O,BB$4,FALSE))","v":""},{"$f":"IF($N97=\"\",\"\",VLOOKUP($N97,'Reference - Logistics Distance'!$C:$O,BC$4,FALSE))","v":""},{"$f":"IF($N97=\"\",\"\",VLOOKUP($N97,'Reference - Logistics Distance'!$C:$O,BD$4,FALSE))","v":""},{"$f":"IF($N97=\"\",\"\",VLOOKUP($N97,'Reference - Logistics Distance'!$C:$O,BE$4,FALSE))","v":""},{"$f":"IF($N97=\"\",\"\",VLOOKUP($N97,'Reference - Logistics Distance'!$C:$O,BF$4,FALSE))","v":""},{"$f":"IF($N97=\"\",\"\",VLOOKUP($N97,'Reference - Logistics Distance'!$C:$O,BG$4,FALSE))","v":""},{"$f":"IF($N97=\"\",\"\",VLOOKUP($N97,'Reference - Logistics Distance'!$C:$O,BH$4,FALSE))","v":""},{"$f":"IF($N97=\"\",\"\",VLOOKUP($N97,'Reference - Logistics Distance'!$C:$O,BI$4,FALSE))","v":""},null,{"$f":"IF($N97=\"\",\"\",VLOOKUP($N97,'Reference - Logistics Distance'!$C:$O,BK$4,FALSE))","v":""},null,{"$f":"IF($N97=\"\",\"\",VLOOKUP($N97,'Reference - Logistics Distance'!$C:$O,BM$4,FALSE))","v":""},null,"","","","","","","","",null,"",null,"","",null,""]
[null,null,null,null,null,null,null,null,null,null,null,null,null,null,null,null,null,{"$f":"INDEX('Dropdown menus'!$A$1:$D$6,MATCH($E98,'Dropdown menus'!$A$1:$A$6,0),$R$6)","v":{"$error":"#N/A"}},null,{"$f":"IF($F98=\"\",\"\",VLOOKUP($F98,'Reference Data - Transport fuel'!$C:$O,T$4,FALSE))","v":""},{"$f":"IF($F98=\"\",\"\",VLOOKUP($F98,'Reference Data - Transport fuel'!$C:$O,U$4,FALSE))","v":""},{"$f":"IF($F98=\"\",\"\",VLOOKUP($F98,'Reference Data - Transport fuel'!$C:$O,V$4,FALSE))","v":""},{"$f":"IF($F98=\"\",\"\",VLOOKUP($F98,'Reference Data - Transport fuel'!$C:$O,W$4,FALSE))","v":""},{"$f":"IF($F98=\"\",\"\",VLOOKUP($F98,'Reference Data - Transport fuel'!$C:$O,X$4,FALSE))","v":""},{"$f":"IF($F98=\"\",\"\",VLOOKUP($F98,'Reference Data - Transport fuel'!$C:$O,Y$4,FALSE))","v":""},{"$f":"IF($F98=\"\",\"\",VLOOKUP($F98,'Reference Data - Transport fuel'!$C:$O,Z$4,FALSE))","v":""},{"$f":"IF($F98=\"\",\"\",VLOOKUP($F98,'Reference Data - Transport fuel'!$C:$O,AA$4,FALSE))","v":""},{"$f":"IF($F98=\"\",\"\",VLOOKUP($F98,'Reference Data - Transport fuel'!$C:$O,AB$4,FALSE))","v":""},null,{"$f":"IF($F98=\"\",\"\",VLOOKUP($F98,'Reference Data - Transport fuel'!$C:$O,AD$4,FALSE))","v":""},null,{"$f":"IF($F98=\"\",\"\",VLOOKUP($F98,'Reference Data - Transport fuel'!$C:$O,AF$4,FALSE))","v":""},null,"","","","","","","","",null,"",null,"","",null,"",null,null,{"$f":"INDEX('Dropdown menus'!$A$1:$D$6,MATCH($M98,'Dropdown menus'!$A$1:$A$6,0),$AY$6)","v":{"$error":"#N/A"}},null,{"$f":"IF($N98=\"\",\"\",VLOOKUP($N98,'Reference - Logistics Distance'!$C:$O,BA$4,FALSE))","v":""},{"$f":"IF($N98=\"\",\"\",VLOOKUP($N98,'Reference - Logistics Distance'!$C:$O,BB$4,FALSE))","v":""},{"$f":"IF($N98=\"\",\"\",VLOOKUP($N98,'Reference - Logistics Distance'!$C:$O,BC$4,FALSE))","v":""},{"$f":"IF($N98=\"\",\"\",VLOOKUP($N98,'Reference - Logistics Distance'!$C:$O,BD$4,FALSE))","v":""},{"$f":"IF($N98=\"\",\"\",VLOOKUP($N98,'Reference - Logistics Distance'!$C:$O,BE$4,FALSE))","v":""},{"$f":"IF($N98=\"\",\"\",VLOOKUP($N98,'Reference - Logistics Distance'!$C:$O,BF$4,FALSE))","v":""},{"$f":"IF($N98=\"\",\"\",VLOOKUP($N98,'Reference - Logistics Distance'!$C:$O,BG$4,FALSE))","v":""},{"$f":"IF($N98=\"\",\"\",VLOOKUP($N98,'Reference - Logistics Distance'!$C:$O,BH$4,FALSE))","v":""},{"$f":"IF($N98=\"\",\"\",VLOOKUP($N98,'Reference - Logistics Distance'!$C:$O,BI$4,FALSE))","v":""},null,{"$f":"IF($N98=\"\",\"\",VLOOKUP($N98,'Reference - Logistics Distance'!$C:$O,BK$4,FALSE))","v":""},null,{"$f":"IF($N98=\"\",\"\",VLOOKUP($N98,'Reference - Logistics Distance'!$C:$O,BM$4,FALSE))","v":""},null,"","","","","","","","",null,"",null,"","",null,""]
[null,null,null,null,null,null,null,null,null,null,null,null,null,null,null,null,null,{"$f":"INDEX('Dropdown menus'!$A$1:$D$6,MATCH($E99,'Dropdown menus'!$A$1:$A$6,0),$R$6)","v":{"$error":"#N/A"}},null,{"$f":"IF($F99=\"\",\"\",VLOOKUP($F99,'Reference Data - Transport fuel'!$C:$O,T$4,FALSE))","v":""},{"$f":"IF($F99=\"\",\"\",VLOOKUP($F99,'Reference Data - Transport fuel'!$C:$O,U$4,FALSE))","v":""},{"$f":"IF($F99=\"\",\"\",VLOOKUP($F99,'Reference Data - Transport fuel'!$C:$O,V$4,FALSE))","v":""},{"$f":"IF($F99=\"\",\"\",VLOOKUP($F99,'Reference Data - Transport fuel'!$C:$O,W$4,FALSE))","v":""},{"$f":"IF($F99=\"\",\"\",VLOOKUP($F99,'Reference Data - Transport fuel'!$C:$O,X$4,FALSE))","v":""},{"$f":"IF($F99=\"\",\"\",VLOOKUP($F99,'Reference Data - Transport fuel'!$C:$O,Y$4,FALSE))","v":""},{"$f":"IF($F99=\"\",\"\",VLOOKUP($F99,'Reference Data - Transport fuel'!$C:$O,Z$4,FALSE))","v":""},{"$f":"IF($F99=\"\",\"\",VLOOKUP($F99,'Reference Data - Transport fuel'!$C:$O,AA$4,FALSE))","v":""},{"$f":"IF($F99=\"\",\"\",VLOOKUP($F99,'Reference Data - Transport fuel'!$C:$O,AB$4,FALSE))","v":""},null,{"$f":"IF($F99=\"\",\"\",VLOOKUP($F99,'Reference Data - Transport fuel'!$C:$O,AD$4,FALSE))","v":""},null,{"$f":"IF($F99=\"\",\"\",VLOOKUP($F99,'Reference Data - Transport fuel'!$C:$O,AF$4,FALSE))","v":""},null,"","","","","","","","",null,"",null,"","",null,"",null,null,{"$f":"INDEX('Dropdown menus'!$A$1:$D$6,MATCH($M99,'Dropdown menus'!$A$1:$A$6,0),$AY$6)","v":{"$error":"#N/A"}},null,{"$f":"IF($N99=\"\",\"\",VLOOKUP($N99,'Reference - Logistics Distance'!$C:$O,BA$4,FALSE))","v":""},{"$f":"IF($N99=\"\",\"\",VLOOKUP($N99,'Reference - Logistics Distance'!$C:$O,BB$4,FALSE))","v":""},{"$f":"IF($N99=\"\",\"\",VLOOKUP($N99,'Reference - Logistics Distance'!$C:$O,BC$4,FALSE))","v":""},{"$f":"IF($N99=\"\",\"\",VLOOKUP($N99,'Reference - Logistics Distance'!$C:$O,BD$4,FALSE))","v":""},{"$f":"IF($N99=\"\",\"\",VLOOKUP($N99,'Reference - Logistics Distance'!$C:$O,BE$4,FALSE))","v":""},{"$f":"IF($N99=\"\",\"\",VLOOKUP($N99,'Reference - Logistics Distance'!$C:$O,BF$4,FALSE))","v":""},{"$f":"IF($N99=\"\",\"\",VLOOKUP($N99,'Reference - Logistics Distance'!$C:$O,BG$4,FALSE))","v":""},{"$f":"IF($N99=\"\",\"\",VLOOKUP($N99,'Reference - Logistics Distance'!$C:$O,BH$4,FALSE))","v":""},{"$f":"IF($N99=\"\",\"\",VLOOKUP($N99,'Reference - Logistics Distance'!$C:$O,BI$4,FALSE))","v":""},null,{"$f":"IF($N99=\"\",\"\",VLOOKUP($N99,'Reference - Logistics Distance'!$C:$O,BK$4,FALSE))","v":""},null,{"$f":"IF($N99=\"\",\"\",VLOOKUP($N99,'Reference - Logistics Distance'!$C:$O,BM$4,FALSE))","v":""},null,"","","","","","","","",null,"",null,"","",null,""]
[null,null,null,null,null,null,null,null,null,null,null,null,null,null,null,null,null,{"$f":"INDEX('Dropdown menus'!$A$1:$D$6,MATCH($E100,'Dropdown menus'!$A$1:$A$6,0),$R$6)","v":{"$error":"#N/A"}},null,{"$f":"IF($F100=\"\",\"\",VLOOKUP($F100,'Reference Data - Transport fuel'!$C:$O,T$4,FALSE))","v":""},{"$f":"IF($F100=\"\",\"\",VLOOKUP($F100,'Reference Data - Transport fuel'!$C:$O,U$4,FALSE))","v":""},{"$f":"IF($F100=\"\",\"\",VLOOKUP($F100,'Reference Data - Transport fuel'!$C:$O,V$4,FALSE))","v":""},{"$f":"IF($F100=\"\",\"\",VLOOKUP($F100,'Reference Data - Transport fuel'!$C:$O,W$4,FALSE))","v":""},{"$f":"IF($F100=\"\",\"\",VLOOKUP($F100,'Reference Data - Transport fuel'!$C:$O,X$4,FALSE))","v":""},{"$f":"IF($F100=\"\",\"\",VLOOKUP($F100,'Reference Data - Transport fuel'!$C:$O,Y$4,FALSE))","v":""},{"$f":"IF($F100=\"\",\"\",VLOOKUP($F100,'Reference Data - Transport fuel'!$C:$O,Z$4,FALSE))","v":""},{"$f":"IF($F100=\"\",\"\",VLOOKUP($F100,'Reference Data - Transport fuel'!$C:$O,AA$4,FALSE))","v":""},{"$f":"IF($F100=\"\",\"\",VLOOKUP($F100,'Reference Data - Transport fuel'!$C:$O,AB$4,FALSE))","v":""},null,{"$f":"IF($F100=\"\",\"\",VLOOKUP($F100,'Reference Data - Transport fuel'!$C:$O,AD$4,FALSE))","v":""},null,{"$f":"IF($F100=\"\",\"\",VLOOKUP($F100,'Reference Data - Transport fuel'!$C:$O,AF$4,FALSE))","v":""},null,"","","","","","","","",null,"",null,"","",null,"",null,null,{"$f":"INDEX('Dropdown menus'!$A$1:$D$6,MATCH($M100,'Dropdown menus'!$A$1:$A$6,0),$AY$6)","v":{"$error":"#N/A"}},null,{"$f":"IF($N100=\"\",\"\",VLOOKUP($N100,'Reference - Logistics Distance'!$C:$O,BA$4,FALSE))","v":""},{"$f":"IF($N100=\"\",\"\",VLOOKUP($N100,'Reference - Logistics Distance'!$C:$O,BB$4,FALSE))","v":""},{"$f":"IF($N100=\"\",\"\",VLOOKUP($N100,'Reference - Logistics Distance'!$C:$O,BC$4,FALSE))","v":""},{"$f":"IF($N100=\"\",\"\",VLOOKUP($N100,'Reference - Logistics Distance'!$C:$O,BD$4,FALSE))","v":""},{"$f":"IF($N100=\"\",\"\",VLOOKUP($N100,'Reference - Logistics Distance'!$C:$O,BE$4,FALSE))","v":""},{"$f":"IF($N100=\"\",\"\",VLOOKUP($N100,'Reference - Logistics Distance'!$C:$O,BF$4,FALSE))","v":""},{"$f":"IF($N100=\"\",\"\",VLOOKUP($N100,'Reference - Logistics Distance'!$C:$O,BG$4,FALSE))","v":""},{"$f":"IF($N100=\"\",\"\",VLOOKUP($N100,'Reference - Logistics Distance'!$C:$O,BH$4,FALSE))","v":""},{"$f":"IF($N100=\"\",\"\",VLOOKUP($N100,'Reference - Logistics Distance'!$C:$O,BI$4,FALSE))","v":""},null,{"$f":"IF($N100=\"\",\"\",VLOOKUP($N100,'Reference - Logistics Distance'!$C:$O,BK$4,FALSE))","v":""},null,{"$f":"IF($N100=\"\",\"\",VLOOKUP($N100,'Reference - Logistics Distance'!$C:$O,BM$4,FALSE))","v":""},null,"","","","","","","","",null,"",null,"","",null,""]
[null,null,null,null,null,null,null,null,null,null,null,null,null,null,null,null,null,{"$f":"INDEX('Dropdown menus'!$A$1:$D$6,MATCH($E101,'Dropdown menus'!$A$1:$A$6,0),$R$6)","v":{"$error":"#N/A"}},null,{"$f":"IF($F101=\"\",\"\",VLOOKUP($F101,'Reference Data - Transport fuel'!$C:$O,T$4,FALSE))","v":""},{"$f":"IF($F101=\"\",\"\",VLOOKUP($F101,'Reference Data - Transport fuel'!$C:$O,U$4,FALSE))","v":""},{"$f":"IF($F101=\"\",\"\",VLOOKUP($F101,'Reference Data - Transport fuel'!$C:$O,V$4,FALSE))","v":""},{"$f":"IF($F101=\"\",\"\",VLOOKUP($F101,'Reference Data - Transport fuel'!$C:$O,W$4,FALSE))","v":""},{"$f":"IF($F101=\"\",\"\",VLOOKUP($F101,'Reference Data - Transport fuel'!$C:$O,X$4,FALSE))","v":""},{"$f":"IF($F101=\"\",\"\",VLOOKUP($F101,'Reference Data - Transport fuel'!$C:$O,Y$4,FALSE))","v":""},{"$f":"IF($F101=\"\",\"\",VLOOKUP($F101,'Reference Data - Transport fuel'!$C:$O,Z$4,FALSE))","v":""},{"$f":"IF($F101=\"\",\"\",VLOOKUP($F101,'Reference Data - Transport fuel'!$C:$O,AA$4,FALSE))","v":""},{"$f":"IF($F101=\"\",\"\",VLOOKUP($F101,'Reference Data - Transport fuel'!$C:$O,AB$4,FALSE))","v":""},null,{"$f":"IF($F101=\"\",\"\",VLOOKUP($F101,'Reference Data - Transport fuel'!$C:$O,AD$4,FALSE))","v":""},null,{"$f":"IF($F101=\"\",\"\",VLOOKUP($F101,'Reference Data - Transport fuel'!$C:$O,AF$4,FALSE))","v":""},null,"","","","","","","","",null,"",null,"","",null,"",null,null,{"$f":"INDEX('Dropdown menus'!$A$1:$D$6,MATCH($M101,'Dropdown menus'!$A$1:$A$6,0),$AY$6)","v":{"$error":"#N/A"}},null,{"$f":"IF($N101=\"\",\"\",VLOOKUP($N101,'Reference - Logistics Distance'!$C:$O,BA$4,FALSE))","v":""},{"$f":"IF($N101=\"\",\"\",VLOOKUP($N101,'Reference - Logistics Distance'!$C:$O,BB$4,FALSE))","v":""},{"$f":"IF($N101=\"\",\"\",VLOOKUP($N101,'Reference - Logistics Distance'!$C:$O,BC$4,FALSE))","v":""},{"$f":"IF($N101=\"\",\"\",VLOOKUP($N101,'Reference - Logistics Distance'!$C:$O,BD$4,FALSE))","v":""},{"$f":"IF($N101=\"\",\"\",VLOOKUP($N101,'Reference - Logistics Distance'!$C:$O,BE$4,FALSE))","v":""},{"$f":"IF($N101=\"\",\"\",VLOOKUP($N101,'Reference - Logistics Distance'!$C:$O,BF$4,FALSE))","v":""},{"$f":"IF($N101=\"\",\"\",VLOOKUP($N101,'Reference - Logistics Distance'!$C:$O,BG$4,FALSE))","v":""},{"$f":"IF($N101=\"\",\"\",VLOOKUP($N101,'Reference - Logistics Distance'!$C:$O,BH$4,FALSE))","v":""},{"$f":"IF($N101=\"\",\"\",VLOOKUP($N101,'Reference - Logistics Distance'!$C:$O,BI$4,FALSE))","v":""},null,{"$f":"IF($N101=\"\",\"\",VLOOKUP($N101,'Reference - Logistics Distance'!$C:$O,BK$4,FALSE))","v":""},null,{"$f":"IF($N101=\"\",\"\",VLOOKUP($N101,'Reference - Logistics Distance'!$C:$O,BM$4,FALSE))","v":""},null,"","","","","","","","",null,"",null,"","",null,""]
[null,null,null,null,null,null,null,null,null,null,null,null,null,null,null,null,null,{"$f":"INDEX('Dropdown menus'!$A$1:$D$6,MATCH($E102,'Dropdown menus'!$A$1:$A$6,0),$R$6)","v":{"$error":"#N/A"}},null,{"$f":"IF($F102=\"\",\"\",VLOOKUP($F102,'Reference Data - Transport fuel'!$C:$O,T$4,FALSE))","v":""},{"$f":"IF($F102=\"\",\"\",VLOOKUP($F102,'Reference Data - Transport fuel'!$C:$O,U$4,FALSE))","v":""},{"$f":"IF($F102=\"\",\"\",VLOOKUP($F102,'Reference Data - Transport fuel'!$C:$O,V$4,FALSE))","v":""},{"$f":"IF($F102=\"\",\"\",VLOOKUP($F102,'Reference Data - Transport fuel'!$C:$O,W$4,FALSE))","v":""},{"$f":"IF($F102=\"\",\"\",VLOOKUP($F102,'Reference Data - Transport fuel'!$C:$O,X$4,FALSE))","v":""},{"$f":"IF($F102=\"\",\"\",VLOOKUP($F102,'Reference Data - Transport fuel'!$C:$O,Y$4,FALSE))","v":""},{"$f":"IF($F102=\"\",\"\",VLOOKUP($F102,'Reference Data - Transport fuel'!$C:$O,Z$4,FALSE))","v":""},{"$f":"IF($F102=\"\",\"\",VLOOKUP($F102,'Reference Data - Transport fuel'!$C:$O,AA$4,FALSE))","v":""},{"$f":"IF($F102=\"\",\"\",VLOOKUP($F102,'Reference Data - Transport fuel'!$C:$O,AB$4,FALSE))","v":""},null,{"$f":"IF($F102=\"\",\"\",VLOOKUP($F102,'Reference Data - Transport fuel'!$C:$O,AD$4,FALSE))","v":""},null,{"$f":"IF($F102=\"\",\"\",VLOOKUP($F102,'Reference Data - Transport fuel'!$C:$O,AF$4,FALSE))","v":""},null,"","","","","","","","",null,"",null,"","",null,"",null,null,{"$f":"INDEX('Dropdown menus'!$A$1:$D$6,MATCH($M102,'Dropdown menus'!$A$1:$A$6,0),$AY$6)","v":{"$error":"#N/A"}},null,{"$f":"IF($N102=\"\",\"\",VLOOKUP($N102,'Reference - Logistics Distance'!$C:$O,BA$4,FALSE))","v":""},{"$f":"IF($N102=\"\",\"\",VLOOKUP($N102,'Reference - Logistics Distance'!$C:$O,BB$4,FALSE))","v":""},{"$f":"IF($N102=\"\",\"\",VLOOKUP($N102,'Reference - Logistics Distance'!$C:$O,BC$4,FALSE))","v":""},{"$f":"IF($N102=\"\",\"\",VLOOKUP($N102,'Reference - Logistics Distance'!$C:$O,BD$4,FALSE))","v":""},{"$f":"IF($N102=\"\",\"\",VLOOKUP($N102,'Reference - Logistics Distance'!$C:$O,BE$4,FALSE))","v":""},{"$f":"IF($N102=\"\",\"\",VLOOKUP($N102,'Reference - Logistics Distance'!$C:$O,BF$4,FALSE))","v":""},{"$f":"IF($N102=\"\",\"\",VLOOKUP($N102,'Reference - Logistics Distance'!$C:$O,BG$4,FALSE))","v":""},{"$f":"IF($N102=\"\",\"\",VLOOKUP($N102,'Reference - Logistics Distance'!$C:$O,BH$4,FALSE))","v":""},{"$f":"IF($N102=\"\",\"\",VLOOKUP($N102,'Reference - Logistics Distance'!$C:$O,BI$4,FALSE))","v":""},null,{"$f":"IF($N102=\"\",\"\",VLOOKUP($N102,'Reference - Logistics Distance'!$C:$O,BK$4,FALSE))","v":""},null,{"$f":"IF($N102=\"\",\"\",VLOOKUP($N102,'Reference - Logistics Distance'!$C:$O,BM$4,FALSE))","v":""},null,"","","","","","","","",null,"",null,"","",null,""]
[null,null,null,null,null,null,null,null,null,null,null,null,null,null,null,null,null,{"$f":"INDEX('Dropdown menus'!$A$1:$D$6,MATCH($E103,'Dropdown menus'!$A$1:$A$6,0),$R$6)","v":{"$error":"#N/A"}},null,{"$f":"IF($F103=\"\",\"\",VLOOKUP($F103,'Reference Data - Transport fuel'!$C:$O,T$4,FALSE))","v":""},{"$f":"IF($F103=\"\",\"\",VLOOKUP($F103,'Reference Data - Transport fuel'!$C:$O,U$4,FALSE))","v":""},{"$f":"IF($F103=\"\",\"\",VLOOKUP($F103,'Reference Data - Transport fuel'!$C:$O,V$4,FALSE))","v":""},{"$f":"IF($F103=\"\",\"\",VLOOKUP($F103,'Reference Data - Transport fuel'!$C:$O,W$4,FALSE))","v":""},{"$f":"IF($F103=\"\",\"\",VLOOKUP($F103,'Reference Data - Transport fuel'!$C:$O,X$4,FALSE))","v":""},{"$f":"IF($F103=\"\",\"\",VLOOKUP($F103,'Reference Data - Transport fuel'!$C:$O,Y$4,FALSE))","v":""},{"$f":"IF($F103=\"\",\"\",VLOOKUP($F103,'Reference Data - Transport fuel'!$C:$O,Z$4,FALSE))","v":""},{"$f":"IF($F103=\"\",\"\",VLOOKUP($F103,'Reference Data - Transport fuel'!$C:$O,AA$4,FALSE))","v":""},{"$f":"IF($F103=\"\",\"\",VLOOKUP($F103,'Reference Data - Transport fuel'!$C:$O,AB$4,FALSE))","v":""},null,{"$f":"IF($F103=\"\",\"\",VLOOKUP($F103,'Reference Data - Transport fuel'!$C:$O,AD$4,FALSE))","v":""},null,{"$f":"IF($F103=\"\",\"\",VLOOKUP($F103,'Reference Data - Transport fuel'!$C:$O,AF$4,FALSE))","v":""},null,"","","","","","","","",null,"",null,"","",null,"",null,null,{"$f":"INDEX('Dropdown menus'!$A$1:$D$6,MATCH($M103,'Dropdown menus'!$A$1:$A$6,0),$AY$6)","v":{"$error":"#N/A"}},null,{"$f":"IF($N103=\"\",\"\",VLOOKUP($N103,'Reference - Logistics Distance'!$C:$O,BA$4,FALSE))","v":""},{"$f":"IF($N103=\"\",\"\",VLOOKUP($N103,'Reference - Logistics Distance'!$C:$O,BB$4,FALSE))","v":""},{"$f":"IF($N103=\"\",\"\",VLOOKUP($N103,'Reference - Logistics Distance'!$C:$O,BC$4,FALSE))","v":""},{"$f":"IF($N103=\"\",\"\",VLOOKUP($N103,'Reference - Logistics Distance'!$C:$O,BD$4,FALSE))","v":""},{"$f":"IF($N103=\"\",\"\",VLOOKUP($N103,'Reference - Logistics Distance'!$C:$O,BE$4,FALSE))","v":""},{"$f":"IF($N103=\"\",\"\",VLOOKUP($N103,'Reference - Logistics Distance'!$C:$O,BF$4,FALSE))","v":""},{"$f":"IF($N103=\"\",\"\",VLOOKUP($N103,'Reference - Logistics Distance'!$C:$O,BG$4,FALSE))","v":""},{"$f":"IF($N103=\"\",\"\",VLOOKUP($N103,'Reference - Logistics Distance'!$C:$O,BH$4,FALSE))","v":""},{"$f":"IF($N103=\"\",\"\",VLOOKUP($N103,'Reference - Logistics Distance'!$C:$O,BI$4,FALSE))","v":""},null,{"$f":"IF($N103=\"\",\"\",VLOOKUP($N103,'Reference - Logistics Distance'!$C:$O,BK$4,FALSE))","v":""},null,{"$f":"IF($N103=\"\",\"\",VLOOKUP($N103,'Reference - Logistics Distance'!$C:$O,BM$4,FALSE))","v":""},null,"","","","","","","","",null,"",null,"","",null,""]
[null,null,null,null,null,null,null,null,null,null,null,null,null,null,null,null,null,{"$f":"INDEX('Dropdown menus'!$A$1:$D$6,MATCH($E104,'Dropdown menus'!$A$1:$A$6,0),$R$6)","v":{"$error":"#N/A"}},null,{"$f":"IF($F104=\"\",\"\",VLOOKUP($F104,'Reference Data - Transport fuel'!$C:$O,T$4,FALSE))","v":""},{"$f":"IF($F104=\"\",\"\",VLOOKUP($F104,'Reference Data - Transport fuel'!$C:$O,U$4,FALSE))","v":""},{"$f":"IF($F104=\"\",\"\",VLOOKUP($F104,'Reference Data - Transport fuel'!$C:$O,V$4,FALSE))","v":""},{"$f":"IF($F104=\"\",\"\",VLOOKUP($F104,'Reference Data - Transport fuel'!$C:$O,W$4,FALSE))","v":""},{"$f":"IF($F104=\"\",\"\",VLOOKUP($F104,'Reference Data - Transport fuel'!$C:$O,X$4,FALSE))","v":""},{"$f":"IF($F104=\"\",\"\",VLOOKUP($F104,'Reference Data - Transport fuel'!$C:$O,Y$4,FALSE))","v":""},{"$f":"IF($F104=\"\",\"\",VLOOKUP($F104,'Reference Data - Transport fuel'!$C:$O,Z$4,FALSE))","v":""},{"$f":"IF($F104=\"\",\"\",VLOOKUP($F104,'Reference Data - Transport fuel'!$C:$O,AA$4,FALSE))","v":""},{"$f":"IF($F104=\"\",\"\",VLOOKUP($F104,'Reference Data - Transport fuel'!$C:$O,AB$4,FALSE))","v":""},null,{"$f":"IF($F104=\"\",\"\",VLOOKUP($F104,'Reference Data - Transport fuel'!$C:$O,AD$4,FALSE))","v":""},null,{"$f":"IF($F104=\"\",\"\",VLOOKUP($F104,'Reference Data - Transport fuel'!$C:$O,AF$4,FALSE))","v":""},null,"","","","","","","","",null,"",null,"","",null,"",null,null,{"$f":"INDEX('Dropdown menus'!$A$1:$D$6,MATCH($M104,'Dropdown menus'!$A$1:$A$6,0),$AY$6)","v":{"$error":"#N/A"}},null,{"$f":"IF($N104=\"\",\"\",VLOOKUP($N104,'Reference - Logistics Distance'!$C:$O,BA$4,FALSE))","v":""},{"$f":"IF($N104=\"\",\"\",VLOOKUP($N104,'Reference - Logistics Distance'!$C:$O,BB$4,FALSE))","v":""},{"$f":"IF($N104=\"\",\"\",VLOOKUP($N104,'Reference - Logistics Distance'!$C:$O,BC$4,FALSE))","v":""},{"$f":"IF($N104=\"\",\"\",VLOOKUP($N104,'Reference - Logistics Distance'!$C:$O,BD$4,FALSE))","v":""},{"$f":"IF($N104=\"\",\"\",VLOOKUP($N104,'Reference - Logistics Distance'!$C:$O,BE$4,FALSE))","v":""},{"$f":"IF($N104=\"\",\"\",VLOOKUP($N104,'Reference - Logistics Distance'!$C:$O,BF$4,FALSE))","v":""},{"$f":"IF($N104=\"\",\"\",VLOOKUP($N104,'Reference - Logistics Distance'!$C:$O,BG$4,FALSE))","v":""},{"$f":"IF($N104=\"\",\"\",VLOOKUP($N104,'Reference - Logistics Distance'!$C:$O,BH$4,FALSE))","v":""},{"$f":"IF($N104=\"\",\"\",VLOOKUP($N104,'Reference - Logistics Distance'!$C:$O,BI$4,FALSE))","v":""},null,{"$f":"IF($N104=\"\",\"\",VLOOKUP($N104,'Reference - Logistics Distance'!$C:$O,BK$4,FALSE))","v":""},null,{"$f":"IF($N104=\"\",\"\",VLOOKUP($N104,'Reference - Logistics Distance'!$C:$O,BM$4,FALSE))","v":""},null,"","","","","","","","",null,"",null,"","",null,""]
[null,null,null,null,null,null,null,null,null,null,null,null,null,null,null,null,null,{"$f":"INDEX('Dropdown menus'!$A$1:$D$6,MATCH($E105,'Dropdown menus'!$A$1:$A$6,0),$R$6)","v":{"$error":"#N/A"}},null,{"$f":"IF($F105=\"\",\"\",VLOOKUP($F105,'Reference Data - Transport fuel'!$C:$O,T$4,FALSE))","v":""},{"$f":"IF($F105=\"\",\"\",VLOOKUP($F105,'Reference Data - Transport fuel'!$C:$O,U$4,FALSE))","v":""},{"$f":"IF($F105=\"\",\"\",VLOOKUP($F105,'Reference Data - Transport fuel'!$C:$O,V$4,FALSE))","v":""},{"$f":"IF($F105=\"\",\"\",VLOOKUP($F105,'Reference Data - Transport fuel'!$C:$O,W$4,FALSE))","v":""},{"$f":"IF($F105=\"\",\"\",VLOOKUP($F105,'Reference Data - Transport fuel'!$C:$O,X$4,FALSE))","v":""},{"$f":"IF($F105=\"\",\"\",VLOOKUP($F105,'Reference Data - Transport fuel'!$C:$O,Y$4,FALSE))","v":""},{"$f":"IF($F105=\"\",\"\",VLOOKUP($F105,'Reference Data - Transport fuel'!$C:$O,Z$4,FALSE))","v":""},{"$f":"IF($F105=\"\",\"\",VLOOKUP($F105,'Reference Data - Transport fuel'!$C:$O,AA$4,FALSE))","v":""},{"$f":"IF($F105=\"\",\"\",VLOOKUP($F105,'Reference Data - Transport fuel'!$C:$O,AB$4,FALSE))","v":""},null,{"$f":"IF($F105=\"\",\"\",VLOOKUP($F105,'Reference Data - Transport fuel'!$C:$O,AD$4,FALSE))","v":""},null,{"$f":"IF($F105=\"\",\"\",VLOOKUP($F105,'Reference Data - Transport fuel'!$C:$O,AF$4,FALSE))","v":""},null,"","","","","","","","",null,"",null,"","",null,"",null,null,{"$f":"INDEX('Dropdown menus'!$A$1:$D$6,MATCH($M105,'Dropdown menus'!$A$1:$A$6,0),$AY$6)","v":{"$error":"#N/A"}},null,{"$f":"IF($N105=\"\",\"\",VLOOKUP($N105,'Reference - Logistics Distance'!$C:$O,BA$4,FALSE))","v":""},{"$f":"IF($N105=\"\",\"\",VLOOKUP($N105,'Reference - Logistics Distance'!$C:$O,BB$4,FALSE))","v":""},{"$f":"IF($N105=\"\",\"\",VLOOKUP($N105,'Reference - Logistics Distance'!$C:$O,BC$4,FALSE))","v":""},{"$f":"IF($N105=\"\",\"\",VLOOKUP($N105,'Reference - Logistics Distance'!$C:$O,BD$4,FALSE))","v":""},{"$f":"IF($N105=\"\",\"\",VLOOKUP($N105,'Reference - Logistics Distance'!$C:$O,BE$4,FALSE))","v":""},{"$f":"IF($N105=\"\",\"\",VLOOKUP($N105,'Reference - Logistics Distance'!$C:$O,BF$4,FALSE))","v":""},{"$f":"IF($N105=\"\",\"\",VLOOKUP($N105,'Reference - Logistics Distance'!$C:$O,BG$4,FALSE))","v":""},{"$f":"IF($N105=\"\",\"\",VLOOKUP($N105,'Reference - Logistics Distance'!$C:$O,BH$4,FALSE))","v":""},{"$f":"IF($N105=\"\",\"\",VLOOKUP($N105,'Reference - Logistics Distance'!$C:$O,BI$4,FALSE))","v":""},null,{"$f":"IF($N105=\"\",\"\",VLOOKUP($N105,'Reference - Logistics Distance'!$C:$O,BK$4,FALSE))","v":""},null,{"$f":"IF($N105=\"\",\"\",VLOOKUP($N105,'Reference - Logistics Distance'!$C:$O,BM$4,FALSE))","v":""},null,"","","","","","","","",null,"",null,"","",null,""]
[null,null,null,null,null,null,null,null,null,null,null,null,null,null,null,null,null,{"$f":"INDEX('Dropdown menus'!$A$1:$D$6,MATCH($E106,'Dropdown menus'!$A$1:$A$6,0),$R$6)","v":{"$error":"#N/A"}},null,{"$f":"IF($F106=\"\",\"\",VLOOKUP($F106,'Reference Data - Transport fuel'!$C:$O,T$4,FALSE))","v":""},{"$f":"IF($F106=\"\",\"\",VLOOKUP($F106,'Reference Data - Transport fuel'!$C:$O,U$4,FALSE))","v":""},{"$f":"IF($F106=\"\",\"\",VLOOKUP($F106,'Reference Data - Transport fuel'!$C:$O,V$4,FALSE))","v":""},{"$f":"IF($F106=\"\",\"\",VLOOKUP($F106,'Reference Data - Transport fuel'!$C:$O,W$4,FALSE))","v":""},{"$f":"IF($F106=\"\",\"\",VLOOKUP($F106,'Reference Data - Transport fuel'!$C:$O,X$4,FALSE))","v":""},{"$f":"IF($F106=\"\",\"\",VLOOKUP($F106,'Reference Data - Transport fuel'!$C:$O,Y$4,FALSE))","v":""},{"$f":"IF($F106=\"\",\"\",VLOOKUP($F106,'Reference Data - Transport fuel'!$C:$O,Z$4,FALSE))","v":""},{"$f":"IF($F106=\"\",\"\",VLOOKUP($F106,'Reference Data - Transport fuel'!$C:$O,AA$4,FALSE))","v":""},{"$f":"IF($F106=\"\",\"\",VLOOKUP($F106,'Reference Data - Transport fuel'!$C:$O,AB$4,FALSE))","v":""},null,{"$f":"IF($F106=\"\",\"\",VLOOKUP($F106,'Reference Data - Transport fuel'!$C:$O,AD$4,FALSE))","v":""},null,{"$f":"IF($F106=\"\",\"\",VLOOKUP($F106,'Reference Data - Transport fuel'!$C:$O,AF$4,FALSE))","v":""},null,"","","","","","","","",null,"",null,"","",null,"",null,null,{"$f":"INDEX('Dropdown menus'!$A$1:$D$6,MATCH($M106,'Dropdown menus'!$A$1:$A$6,0),$AY$6)","v":{"$error":"#N/A"}},null,{"$f":"IF($N106=\"\",\"\",VLOOKUP($N106,'Reference - Logistics Distance'!$C:$O,BA$4,FALSE))","v":""},{"$f":"IF($N106=\"\",\"\",VLOOKUP($N106,'Reference - Logistics Distance'!$C:$O,BB$4,FALSE))","v":""},{"$f":"IF($N106=\"\",\"\",VLOOKUP($N106,'Reference - Logistics Distance'!$C:$O,BC$4,FALSE))","v":""},{"$f":"IF($N106=\"\",\"\",VLOOKUP($N106,'Reference - Logistics Distance'!$C:$O,BD$4,FALSE))","v":""},{"$f":"IF($N106=\"\",\"\",VLOOKUP($N106,'Reference - Logistics Distance'!$C:$O,BE$4,FALSE))","v":""},{"$f":"IF($N106=\"\",\"\",VLOOKUP($N106,'Reference - Logistics Distance'!$C:$O,BF$4,FALSE))","v":""},{"$f":"IF($N106=\"\",\"\",VLOOKUP($N106,'Reference - Logistics Distance'!$C:$O,BG$4,FALSE))","v":""},{"$f":"IF($N106=\"\",\"\",VLOOKUP($N106,'Reference - Logistics Distance'!$C:$O,BH$4,FALSE))","v":""},{"$f":"IF($N106=\"\",\"\",VLOOKUP($N106,'Reference - Logistics Distance'!$C:$O,BI$4,FALSE))","v":""},null,{"$f":"IF($N106=\"\",\"\",VLOOKUP($N106,'Reference - Logistics Distance'!$C:$O,BK$4,FALSE))","v":""},null,{"$f":"IF($N106=\"\",\"\",VLOOKUP($N106,'Reference - Logistics Distance'!$C:$O,BM$4,FALSE))","v":""},null,"","","","","","","","",null,"",null,"","",null,""]

{"sheet":"7. Outbound Logistics（出场物流）","index":6,"n_rows":106,"n_cols":81,"rows_kept":106,"cut":false,"hidden":false,"merged":[]}
[]
[null,null,null,"出场物流--基于燃料数量",null,null,null,null,null,null,null,"出场物流--基于运输距离"]
[null,null,null,"Outbound Logistics - by quantity of fuel",null,null,null,null,null,null,null,"Outbound Logistics - by distance transported",null,null,null,null,null,"By Fuel",null,null,null,null,null,null,null,null,null,null,null,null,null,null,null,null,null,null,null,null,null,null,null,null,null,null,null,null,null,null,null,null,"By Distance"]
[null,null,null,null,null,null,null,null,null,null,null,null,null,null,null,null,null,null,null,2,6,7,8,9,10,11,12,13,null,3,null,5,null,null,null,null,null,null,null,null,null,null,null,null,null,null,null,null,null,null,null,null,2,6,7,8,9,10,11,12,13,null,4,null,5]
[null,"C",null,"物流承担方","运输工具所有权和控制权","燃料类型和单位","年消耗量",null,null,"C",null,"物流承担方","运输工具所有权和控制权","方式和描述","每年吨千米",null,null,"Scope",null,"Factors",null,null,null,null,null,null,null,null,null,null,null,null,null,"Scope 1 Emissions (kg)",null,null,null,null,null,null,null,null,null,null,"Scope 3 emissions (kg CO2e)",null,null,"Energy Use (MWh)",null,null,"Scope",null,"Factors",null,null,null,null,null,null,null,null,null,null,null,null,null,"Scope 1 Emissions (kg)",null,null,null,null,null,null,null,null,null,null,"Scope 3 emissions (kg CO2e)",null,null,"Energy Use (MWh)"]
[null,"E",null,"Logistics Provider","Vehicle Ownership and Control","Fuel & Units","Quantity per year",null,null,"E",null,"Logistics Provider","Vehicle Ownership and Control","Mode & Description","Tonne-km per year",null,null,{"$f":"VLOOKUP('1. Title Sheet(标题页）'!$E$16,ConsolidationApproachLookupTable,2,FALSE)","v":2},null,"Combustion Emission Factor (kg CO2e/unit)","CO2 Emission Factor (kg CO2/unit)","CH4 Emission Factor (kg CH4/unit)","N2O  Emission Factor (kg N2O/unit)","HFC  Emission Factor (kg HFC/unit)","PFC  Emission Factor (kg PFC/unit)","SF6  Emission Factor (kg SF6/unit)","NF3  Emission Factor (kg SF6/unit)","Upstream emissions (kg CO2e/unit)",null,"Biogenic - Yes/No",null,"Energy Use Conversion factor (MWh per unit)",null,"CO2e","CO2","CH4","N2O","HFC","PFC","SF6","NF3",null,"Biogenic CO2e",null,"Upstream (fuel + energy related)","Direct combustion emissions",null,null,null,null,{"$f":"VLOOKUP('1. Title Sheet(标题页）'!$E$16,ConsolidationApproachLookupTable,2,FALSE)","v":2},null,"Combustion Emission Factor (kg CO2e/unit)","CO2 Emission Factor (kg CO2/unit)","CH4 Emission Factor (kg CH4/unit)","N2O  Emission Factor (kg N2O/unit)","HFC  Emission Factor (kg HFC/unit)","PFC  Emission Factor (kg PFC/unit)","SF6  Emission Factor (kg SF6/unit)","NF3  Emission Factor (kg SF6/unit)","Upstream emissions (kg CO2e/unit)",null,"Biogenic - Yes/No",null,"Energy Use Conversion factor (MWh per unit)",null,"CO2e","CO2","CH4","N2O","HFC","PFC","SF6","NF3",null,"Biogenic CO2e",null,"Upstream (fuel + energy related)","Direct combustion emissions"]
[null,null,null,null,null,null,null,null,null,null,null,null,null,null,null,null,null,{"$f":"INDEX('Dropdown menus'!$A$1:$D$6,MATCH($E7,'Dropdown menus'!$A$1:$A$6,0),$R$6)","v":{"$error":"#N/A"}},null,{"$f":"IF($F7=\"\",\"\",VLOOKUP($F7,'Reference Data - Transport fuel'!$C:$O,T$4,FALSE))","v":""},{"$f":"IF($F7=\"\",\"\",VLOOKUP($F7,'Reference Data - Transport fuel'!$C:$O,U$4,FALSE))","v":""},{"$f":"IF($F7=\"\",\"\",VLOOKUP($F7,'Reference Data - Transport fuel'!$C:$O,V$4,FALSE))","v":""},{"$f":"IF($F7=\"\",\"\",VLOOKUP($F7,'Reference Data - Transport fuel'!$C:$O,W$4,FALSE))","v":""},{"$f":"IF($F7=\"\",\"\",VLOOKUP($F7,'Reference Data - Transport fuel'!$C:$O,X$4,FALSE))","v":""},{"$f":"IF($F7=\"\",\"\",VLOOKUP($F7,'Reference Data - Transport fuel'!$C:$O,Y$4,FALSE))","v":""},{"$f":"IF($F7=\"\",\"\",VLOOKUP($F7,'Reference Data - Transport fuel'!$C:$O,Z$4,FALSE))","v":""},{"$f":"IF($F7=\"\",\"\",VLOOKUP($F7,'Reference Data - Transport fuel'!$C:$O,AA$4,FALSE))","v":""},{"$f":"IF($F7=\"\",\"\",VLOOKUP($F7,'Reference Data - Transport fuel'!$C:$O,AB$4,FALSE))","v":""},null,{"$f":"IF($F7=\"\",\"\",VLOOKUP($F7,'Reference Data - Transport fuel'!$C:$O,AD$4,FALSE))","v":""},null,{"$f":"IF($F7=\"\",\"\",VLOOKUP($F7,'Reference Data - Transport fuel'!$C:$O,AF$4,FALSE))","v":""},null,{"$f":"IF($F7=\"\",\"\",IF($R7=1,(T7*$G7)-AQ7,\"\"))","v":""},{"$f":"IF($F7=\"\",\"\",IF($R7=1,IF(AD7=\"Yes\",0,U7*$G7),\"\"))","v":""},{"$f":"IF($F7=\"\",\"\",IF($R7=1,V7*$G7,\"\"))","v":""},"","","","","",null,{"$f":"IF($F7=\"\",\"\",IF($R7=1,IF(AD7=\"Yes\",G7*U7,0),\"\"))","v":""},null,{"$f":"IF($F7=\"\",\"\",$G7*AB7)","v":""},{"$f":"IF($F7=\"\",\"\",IF($R7=3,T7*$G7,\"\"))","v":""},null,{"$f":"IF($F7=\"\",\"\",IF($R7=1,G7*AF7,\"\"))","v":""},null,null,{"$f":"INDEX('Dropdown menus'!$A$1:$D$6,MATCH($M7,'Dropdown menus'!$A$1:$A$6,0),$AY$6)","v":{"$error":"#N/A"}},null,{"$f":"IF($N7=\"\",\"\",VLOOKUP($N7,'Reference - Logistics Distance'!$C:$O,BA$4,FALSE))","v":""},{"$f":"IF($N7=\"\",\"\",VLOOKUP($N7,'Reference - Logistics Distance'!$C:$O,BB$4,FALSE))","v":""},{"$f":"IF($N7=\"\",\"\",VLOOKUP($N7,'Reference - Logistics Distance'!$C:$O,BC$4,FALSE))","v":""},{"$f":"IF($N7=\"\",\"\",VLOOKUP($N7,'Reference - Logistics Distance'!$C:$O,BD$4,FALSE))","v":""},{"$f":"IF($N7=\"\",\"\",VLOOKUP($N7,'Reference - Logistics Distance'!$C:$O,BE$4,FALSE))","v":""},{"$f":"IF($N7=\"\",\"\",VLOOKUP($N7,'Reference - Logistics Distance'!$C:$O,BF$4,FALSE))","v":""},{"$f":"IF($N7=\"\",\"\",VLOOKUP($N7,'Reference - Logistics Distance'!$C:$O,BG$4,FALSE))","v":""},{"$f":"IF($N7=\"\",\"\",VLOOKUP($N7,'Reference - Logistics Distance'!$C:$O,BH$4,FALSE))","v":""},{"$f":"IF($N7=\"\",\"\",VLOOKUP($N7,'Reference - Logistics Distance'!$C:$O,BI$4,FALSE))","v":""},null,{"$f":"IF($N7=\"\",\"\",VLOOKUP($N7,'Reference - Logistics Distance'!$C:$O,BK$4,FALSE))","v":""},null,{"$f":"IF($N7=\"\",\"\",VLOOKUP($N7,'Reference - Logistics Distance'!$C:$O,BM$4,FALSE))","v":""},null,{"$f":"IF($N7=\"\",\"\",IF($AY7=1,(BA7*$O7)-BX7,\"\"))","v":""},{"$f":"IF($N7=\"\",\"\",IF($AY7=1,IF(BK7=\"Yes\",0,BB7*$O7),\"\"))","v":""},{"$f":"IF($N7=\"\",\"\",IF($AY7=1,BC7*$O7,\"\"))","v":""},"","","","","",null,{"$f":"IF($N7=\"\",\"\",IF($AY7=1,IF(BK7=\"Yes\",BB7*O7,0),\"\"))","v":""},null,{"$f":"IF($N7=\"\",\"\",$O7*BI7)","v":""},{"$f":"IF($N7=\"\",\"\",IF($AY7=3,BA7*$O7,\"\"))","v":""},null,{"$f":"IF($N7=\"\",\"\",IF($AY7=1,$O7*BM7,\"\"))","v":""}]
[null,null,null,null,null,null,null,null,null,null,null,null,null,null,null,null,null,{"$f":"INDEX('Dropdown menus'!$A$1:$D$6,MATCH($E8,'Dropdown menus'!$A$1:$A$6,0),$R$6)","v":{"$error":"#N/A"}},null,{"$f":"IF($F8=\"\",\"\",VLOOKUP($F8,'Reference Data - Transport fuel'!$C:$O,T$4,FALSE))","v":""},{"$f":"IF($F8=\"\",\"\",VLOOKUP($F8,'Reference Data - Transport fuel'!$C:$O,U$4,FALSE))","v":""},{"$f":"IF($F8=\"\",\"\",VLOOKUP($F8,'Reference Data - Transport fuel'!$C:$O,V$4,FALSE))","v":""},{"$f":"IF($F8=\"\",\"\",VLOOKUP($F8,'Reference Data - Transport fuel'!$C:$O,W$4,FALSE))","v":""},{"$f":"IF($F8=\"\",\"\",VLOOKUP($F8,'Reference Data - Transport fuel'!$C:$O,X$4,FALSE))","v":""},{"$f":"IF($F8=\"\",\"\",VLOOKUP($F8,'Reference Data - Transport fuel'!$C:$O,Y$4,FALSE))","v":""},{"$f":"IF($F8=\"\",\"\",VLOOKUP($F8,'Reference Data - Transport fuel'!$C:$O,Z$4,FALSE))","v":""},{"$f":"IF($F8=\"\",\"\",VLOOKUP($F8,'Reference Data - Transport fuel'!$C:$O,AA$4,FALSE))","v":""},{"$f":"IF($F8=\"\",\"\",VLOOKUP($F8,'Reference Data - Transport fuel'!$C:$O,AB$4,FALSE))","v":""},null,{"$f":"IF($F8=\"\",\"\",VLOOKUP($F8,'Reference Data - Transport fuel'!$C:$O,AD$4,FALSE))","v":""},null,{"$f":"IF($F8=\"\",\"\",VLOOKUP($F8,'Reference Data - Transport fuel'!$C:$O,AF$4,FALSE))","v":""},null,{"$f":"IF($F8=\"\",\"\",IF($R8=1,(T8*$G8)-AQ8,\"\"))","v":""},{"$f":"IF($F8=\"\",\"\",IF($R8=1,IF(AD8=\"Yes\",0,U8*$G8),\"\"))","v":""},{"$f":"IF($F8=\"\",\"\",IF($R8=1,V8*$G8,\"\"))","v":""},{"$f":"IF($F8=\"\",\"\",IF($R8=1,W8*$G8,\"\"))","v":""},{"$f":"IF($F8=\"\",\"\",IF($R8=1,X8*$G8,\"\"))","v":""},{"$f":"IF($F8=\"\",\"\",IF($R8=1,Y8*$G8,\"\"))","v":""},{"$f":"IF($F8=\"\",\"\",IF($R8=1,Z8*$G8,\"\"))","v":""},{"$f":"IF($F8=\"\",\"\",IF($R8=1,AA8*$G8,\"\"))","v":""},null,{"$f":"IF($F8=\"\",\"\",IF($R8=1,IF(AD8=\"Yes\",G8*U8,0),\"\"))","v":""},null,{"$f":"IF($F8=\"\",\"\",$G8*AB8)","v":""},{"$f":"IF($F8=\"\",\"\",IF($R8=3,T8*$G8,\"\"))","v":""},null,{"$f":"IF($F8=\"\",\"\",IF($R8=1,G8*AF8,\"\"))","v":""},null,null,{"$f":"INDEX('Dropdown menus'!$A$1:$D$6,MATCH($M8,'Dropdown menus'!$A$1:$A$6,0),$AY$6)","v":{"$error":"#N/A"}},null,{"$f":"IF($N8=\"\",\"\",VLOOKUP($N8,'Reference - Logistics Distance'!$C:$O,BA$4,FALSE))","v":""},{"$f":"IF($N8=\"\",\"\",VLOOKUP($N8,'Reference - Logistics Distance'!$C:$O,BB$4,FALSE))","v":""},{"$f":"IF($N8=\"\",\"\",VLOOKUP($N8,'Reference - Logistics Distance'!$C:$O,BC$4,FALSE))","v":""},{"$f":"IF($N8=\"\",\"\",VLOOKUP($N8,'Reference - Logistics Distance'!$C:$O,BD$4,FALSE))","v":""},{"$f":"IF($N8=\"\",\"\",VLOOKUP($N8,'Reference - Logistics Distance'!$C:$O,BE$4,FALSE))","v":""},{"$f":"IF($N8=\"\",\"\",VLOOKUP($N8,'Reference - Logistics Distance'!$C:$O,BF$4,FALSE))","v":""},{"$f":"IF($N8=\"\",\"\",VLOOKUP($N8,'Reference - Logistics Distance'!$C:$O,BG$4,FALSE))","v":""},{"$f":"IF($N8=\"\",\"\",VLOOKUP($N8,'Reference - Logistics Distance'!$C:$O,BH$4,FALSE))","v":""},{"$f":"IF($N8=\"\",\"\",VLOOKUP($N8,'Reference - Logistics Distance'!$C:$O,BI$4,FALSE))","v":""},null,{"$f":"IF($N8=\"\",\"\",VLOOKUP($N8,'Reference - Logistics Distance'!$C:$O,BK$4,FALSE))","v":""},null,{"$f":"IF($N8=\"\",\"\",VLOOKUP($N8,'Reference - Logistics Distance'!$C:$O,BM$4,FALSE))","v":""},null,{"$f":"IF($N8=\"\",\"\",IF($AY8=1,(BA8*$O8)-BX8,\"\"))","v":""},{"$f":"IF($N8=\"\",\"\",IF($AY8=1,IF(BK8=\"Yes\",0,BB8*$O8),\"\"))","v":""},{"$f":"IF($N8=\"\",\"\",IF($AY8=1,BC8*$O8,\"\"))","v":""},{"$f":"IF($N8=\"\",\"\",IF($AY8=1,BD8*$O8,\"\"))","v":""},{"$f":"IF($N8=\"\",\"\",IF($AY8=1,BE8*$O8,\"\"))","v":""},{"$f":"IF($N8=\"\",\"\",IF($AY8=1,BF8*$O8,\"\"))","v":""},{"$f":"IF($N8=\"\",\"\",IF($AY8=1,BG8*$O8,\"\"))","v":""},{"$f":"IF($N8=\"\",\"\",IF($AY8=1,BH8*$O8,\"\"))","v":""},null,{"$f":"IF($N8=\"\",\"\",IF($AY8=1,IF(BK8=\"Yes\",BB8*O8,0),\"\"))","v":""},null,{"$f":"IF($N8=\"\",\"\",$O8*BI8)","v":""},{"$f":"IF($N8=\"\",\"\",IF($AY8=3,BA8*$O8,\"\"))","v":""},null,{"$f":"IF($N8=\"\",\"\",IF($AY8=1,$O8*BM8,\"\"))","v":""}]
[null,null,null,null,null,null,null,null,null,null,null,null,null,null,null,null,null,{"$f":"INDEX('Dropdown menus'!$A$1:$D$6,MATCH($E9,'Dropdown menus'!$A$1:$A$6,0),$R$6)","v":{"$error":"#N/A"}},null,{"$f":"IF($F9=\"\",\"\",VLOOKUP($F9,'Reference Data - Transport fuel'!$C:$O,T$4,FALSE))","v":""},{"$f":"IF($F9=\"\",\"\",VLOOKUP($F9,'Reference Data - Transport fuel'!$C:$O,U$4,FALSE))","v":""},{"$f":"IF($F9=\"\",\"\",VLOOKUP($F9,'Reference Data - Transport fuel'!$C:$O,V$4,FALSE))","v":""},{"$f":"IF($F9=\"\",\"\",VLOOKUP($F9,'Reference Data - Transport fuel'!$C:$O,W$4,FALSE))","v":""},{"$f":"IF($F9=\"\",\"\",VLOOKUP($F9,'Reference Data - Transport fuel'!$C:$O,X$4,FALSE))","v":""},{"$f":"IF($F9=\"\",\"\",VLOOKUP($F9,'Reference Data - Transport fuel'!$C:$O,Y$4,FALSE))","v":""},{"$f":"IF($F9=\"\",\"\",VLOOKUP($F9,'Reference Data - Transport fuel'!$C:$O,Z$4,FALSE))","v":""},{"$f":"IF($F9=\"\",\"\",VLOOKUP($F9,'Reference Data - Transport fuel'!$C:$O,AA$4,FALSE))","v":""},{"$f":"IF($F9=\"\",\"\",VLOOKUP($F9,'Reference Data - Transport fuel'!$C:$O,AB$4,FALSE))","v":""},null,{"$f":"IF($F9=\"\",\"\",VLOOKUP($F9,'Reference Data - Transport fuel'!$C:$O,AD$4,FALSE))","v":""},null,{"$f":"IF($F9=\"\",\"\",VLOOKUP($F9,'Reference Data - Transport fuel'!$C:$O,AF$4,FALSE))","v":""},null,"","","","","","","","",null,"",null,"","",null,"",null,null,{"$f":"INDEX('Dropdown menus'!$A$1:$D$6,MATCH($M9,'Dropdown menus'!$A$1:$A$6,0),$AY$6)","v":{"$error":"#N/A"}},null,{"$f":"IF($N9=\"\",\"\",VLOOKUP($N9,'Reference - Logistics Distance'!$C:$O,BA$4,FALSE))","v":""},{"$f":"IF($N9=\"\",\"\",VLOOKUP($N9,'Reference - Logistics Distance'!$C:$O,BB$4,FALSE))","v":""},{"$f":"IF($N9=\"\",\"\",VLOOKUP($N9,'Reference - Logistics Distance'!$C:$O,BC$4,FALSE))","v":""},{"$f":"IF($N9=\"\",\"\",VLOOKUP($N9,'Reference - Logistics Distance'!$C:$O,BD$4,FALSE))","v":""},{"$f":"IF($N9=\"\",\"\",VLOOKUP($N9,'Reference - Logistics Distance'!$C:$O,BE$4,FALSE))","v":""},{"$f":"IF($N9=\"\",\"\",VLOOKUP($N9,'Reference - Logistics Distance'!$C:$O,BF$4,FALSE))","v":""},{"$f":"IF($N9=\"\",\"\",VLOOKUP($N9,'Reference - Logistics Distance'!$C:$O,BG$4,FALSE))","v":""},{"$f":"IF($N9=\"\",\"\",VLOOKUP($N9,'Reference - Logistics Distance'!$C:$O,BH$4,FALSE))","v":""},{"$f":"IF($N9=\"\",\"\",VLOOKUP($N9,'Reference - Logistics Distance'!$C:$O,BI$4,FALSE))","v":""},null,{"$f":"IF($N9=\"\",\"\",VLOOKUP($N9,'Reference - Logistics Distance'!$C:$O,BK$4,FALSE))","v":""},null,{"$f":"IF($N9=\"\",\"\",VLOOKUP($N9,'Reference - Logistics Distance'!$C:$O,BM$4,FALSE))","v":""},null,"","","","","","","","",null,"",null,"","",null,""]
[null,null,null,null,null,null,null,null,null,null,null,null,null,null,null,null,null,{"$f":"INDEX('Dropdown menus'!$A$1:$D$6,MATCH($E10,'Dropdown menus'!$A$1:$A$6,0),$R$6)","v":{"$error":"#N/A"}},null,{"$f":"IF($F10=\"\",\"\",VLOOKUP($F10,'Reference Data - Transport fuel'!$C:$O,T$4,FALSE))","v":""},{"$f":"IF($F10=\"\",\"\",VLOOKUP($F10,'Reference Data - Transport fuel'!$C:$O,U$4,FALSE))","v":""},{"$f":"IF($F10=\"\",\"\",VLOOKUP($F10,'Reference Data - Transport fuel'!$C:$O,V$4,FALSE))","v":""},{"$f":"IF($F10=\"\",\"\",VLOOKUP($F10,'Reference Data - Transport fuel'!$C:$O,W$4,FALSE))","v":""},{"$f":"IF($F10=\"\",\"\",VLOOKUP($F10,'Reference Data - Transport fuel'!$C:$O,X$4,FALSE))","v":""},{"$f":"IF($F10=\"\",\"\",VLOOKUP($F10,'Reference Data - Transport fuel'!$C:$O,Y$4,FALSE))","v":""},{"$f":"IF($F10=\"\",\"\",VLOOKUP($F10,'Reference Data - Transport fuel'!$C:$O,Z$4,FALSE))","v":""},{"$f":"IF($F10=\"\",\"\",VLOOKUP($F10,'Reference Data - Transport fuel'!$C:$O,AA$4,FALSE))","v":""},{"$f":"IF($F10=\"\",\"\",VLOOKUP($F10,'Reference Data - Transport fuel'!$C:$O,AB$4,FALSE))","v":""},null,{"$f":"IF($F10=\"\",\"\",VLOOKUP($F10,'Reference Data - Transport fuel'!$C:$O,AD$4,FALSE))","v":""},null,{"$f":"IF($F10=\"\",\"\",VLOOKUP($F10,'Reference Data - Transport fuel'!$C:$O,AF$4,FALSE))","v":""},null,"","","","","","","","",null,"",null,"","",null,"",null,null,{"$f":"INDEX('Dropdown menus'!$A$1:$D$6,MATCH($M10,'Dropdown menus'!$A$1:$A$6,0),$AY$6)","v":{"$error":"#N/A"}},null,{"$f":"IF($N10=\"\",\"\",VLOOKUP($N10,'Reference - Logistics Distance'!$C:$O,BA$4,FALSE))","v":""},{"$f":"IF($N10=\"\",\"\",VLOOKUP($N10,'Reference - Logistics Distance'!$C:$O,BB$4,FALSE))","v":""},{"$f":"IF($N10=\"\",\"\",VLOOKUP($N10,'Reference - Logistics Distance'!$C:$O,BC$4,FALSE))","v":""},{"$f":"IF($N10=\"\",\"\",VLOOKUP($N10,'Reference - Logistics Distance'!$C:$O,BD$4,FALSE))","v":""},{"$f":"IF($N10=\"\",\"\",VLOOKUP($N10,'Reference - Logistics Distance'!$C:$O,BE$4,FALSE))","v":""},{"$f":"IF($N10=\"\",\"\",VLOOKUP($N10,'Reference - Logistics Distance'!$C:$O,BF$4,FALSE))","v":""},{"$f":"IF($N10=\"\",\"\",VLOOKUP($N10,'Reference - Logistics Distance'!$C:$O,BG$4,FALSE))","v":""},{"$f":"IF($N10=\"\",\"\",VLOOKUP($N10,'Reference - Logistics Distance'!$C:$O,BH$4,FALSE))","v":""},{"$f":"IF($N10=\"\",\"\",VLOOKUP($N10,'Reference - Logistics Distance'!$C:$O,BI$4,FALSE))","v":""},null,{"$f":"IF($N10=\"\",\"\",VLOOKUP($N10,'Reference - Logistics Distance'!$C:$O,BK$4,FALSE))","v":""},null,{"$f":"IF($N10=\"\",\"\",VLOOKUP($N10,'Reference - Logistics Distance'!$C:$O,BM$4,FALSE))","v":""},null,"","","","","","","","",null,"",null,"","",null,""]
[null,null,null,null,null,null,null,null,null,null,null,null,null,null,null,null,null,{"$f":"INDEX('Dropdown menus'!$A$1:$D$6,MATCH($E11,'Dropdown menus'!$A$1:$A$6,0),$R$6)","v":{"$error":"#N/A"}},null,{"$f":"IF($F11=\"\",\"\",VLOOKUP($F11,'Reference Data - Transport fuel'!$C:$O,T$4,FALSE))","v":""},{"$f":"IF($F11=\"\",\"\",VLOOKUP($F11,'Reference Data - Transport fuel'!$C:$O,U$4,FALSE))","v":""},{"$f":"IF($F11=\"\",\"\",VLOOKUP($F11,'Reference Data - Transport fuel'!$C:$O,V$4,FALSE))","v":""},{"$f":"IF($F11=\"\",\"\",VLOOKUP($F11,'Reference Data - Transport fuel'!$C:$O,W$4,FALSE))","v":""},{"$f":"IF($F11=\"\",\"\",VLOOKUP($F11,'Reference Data - Transport fuel'!$C:$O,X$4,FALSE))","v":""},{"$f":"IF($F11=\"\",\"\",VLOOKUP($F11,'Reference Data - Transport fuel'!$C:$O,Y$4,FALSE))","v":""},{"$f":"IF($F11=\"\",\"\",VLOOKUP($F11,'Reference Data - Transport fuel'!$C:$O,Z$4,FALSE))","v":""},{"$f":"IF($F11=\"\",\"\",VLOOKUP($F11,'Reference Data - Transport fuel'!$C:$O,AA$4,FALSE))","v":""},{"$f":"IF($F11=\"\",\"\",VLOOKUP($F11,'Reference Data - Transport fuel'!$C:$O,AB$4,FALSE))","v":""},null,{"$f":"IF($F11=\"\",\"\",VLOOKUP($F11,'Reference Data - Transport fuel'!$C:$O,AD$4,FALSE))","v":""},null,{"$f":"IF($F11=\"\",\"\",VLOOKUP($F11,'Reference Data - Transport fuel'!$C:$O,AF$4,FALSE))","v":""},null,"","","","","","","","",null,"",null,"","",null,"",null,null,{"$f":"INDEX('Dropdown menus'!$A$1:$D$6,MATCH($M11,'Dropdown menus'!$A$1:$A$6,0),$AY$6)","v":{"$error":"#N/A"}},null,{"$f":"IF($N11=\"\",\"\",VLOOKUP($N11,'Reference - Logistics Distance'!$C:$O,BA$4,FALSE))","v":""},{"$f":"IF($N11=\"\",\"\",VLOOKUP($N11,'Reference - Logistics Distance'!$C:$O,BB$4,FALSE))","v":""},{"$f":"IF($N11=\"\",\"\",VLOOKUP($N11,'Reference - Logistics Distance'!$C:$O,BC$4,FALSE))","v":""},{"$f":"IF($N11=\"\",\"\",VLOOKUP($N11,'Reference - Logistics Distance'!$C:$O,BD$4,FALSE))","v":""},{"$f":"IF($N11=\"\",\"\",VLOOKUP($N11,'Reference - Logistics Distance'!$C:$O,BE$4,FALSE))","v":""},{"$f":"IF($N11=\"\",\"\",VLOOKUP($N11,'Reference - Logistics Distance'!$C:$O,BF$4,FALSE))","v":""},{"$f":"IF($N11=\"\",\"\",VLOOKUP($N11,'Reference - Logistics Distance'!$C:$O,BG$4,FALSE))","v":""},{"$f":"IF($N11=\"\",\"\",VLOOKUP($N11,'Reference - Logistics Distance'!$C:$O,BH$4,FALSE))","v":""},{"$f":"IF($N11=\"\",\"\",VLOOKUP($N11,'Reference - Logistics Distance'!$C:$O,BI$4,FALSE))","v":""},null,{"$f":"IF($N11=\"\",\"\",VLOOKUP($N11,'Reference - Logistics Distance'!$C:$O,BK$4,FALSE))","v":""},null,{"$f":"IF($N11=\"\",\"\",VLOOKUP($N11,'Reference - Logistics Distance'!$C:$O,BM$4,FALSE))","v":""},null,"","","","","","","","",null,"",null,"","",null,""]
[null,null,null,null,null,null,null,null,null,null,null,null,null,null,null,null,null,{"$f":"INDEX('Dropdown menus'!$A$1:$D$6,MATCH($E12,'Dropdown menus'!$A$1:$A$6,0),$R$6)","v":{"$error":"#N/A"}},null,{"$f":"IF($F12=\"\",\"\",VLOOKUP($F12,'Reference Data - Transport fuel'!$C:$O,T$4,FALSE))","v":""},{"$f":"IF($F12=\"\",\"\",VLOOKUP($F12,'Reference Data - Transport fuel'!$C:$O,U$4,FALSE))","v":""},{"$f":"IF($F12=\"\",\"\",VLOOKUP($F12,'Reference Data - Transport fuel'!$C:$O,V$4,FALSE))","v":""},{"$f":"IF($F12=\"\",\"\",VLOOKUP($F12,'Reference Data - Transport fuel'!$C:$O,W$4,FALSE))","v":""},{"$f":"IF($F12=\"\",\"\",VLOOKUP($F12,'Reference Data - Transport fuel'!$C:$O,X$4,FALSE))","v":""},{"$f":"IF($F12=\"\",\"\",VLOOKUP($F12,'Reference Data - Transport fuel'!$C:$O,Y$4,FALSE))","v":""},{"$f":"IF($F12=\"\",\"\",VLOOKUP($F12,'Reference Data - Transport fuel'!$C:$O,Z$4,FALSE))","v":""},{"$f":"IF($F12=\"\",\"\",VLOOKUP($F12,'Reference Data - Transport fuel'!$C:$O,AA$4,FALSE))","v":""},{"$f":"IF($F12=\"\",\"\",VLOOKUP($F12,'Reference Data - Transport fuel'!$C:$O,AB$4,FALSE))","v":""},null,{"$f":"IF($F12=\"\",\"\",VLOOKUP($F12,'Reference Data - Transport fuel'!$C:$O,AD$4,FALSE))","v":""},null,{"$f":"IF($F12=\"\",\"\",VLOOKUP($F12,'Reference Data - Transport fuel'!$C:$O,AF$4,FALSE))","v":""},null,"","","","","","","","",null,"",null,"","",null,"",null,null,{"$f":"INDEX('Dropdown menus'!$A$1:$D$6,MATCH($M12,'Dropdown menus'!$A$1:$A$6,0),$AY$6)","v":{"$error":"#N/A"}},null,{"$f":"IF($N12=\"\",\"\",VLOOKUP($N12,'Reference - Logistics Distance'!$C:$O,BA$4,FALSE))","v":""},{"$f":"IF($N12=\"\",\"\",VLOOKUP($N12,'Reference - Logistics Distance'!$C:$O,BB$4,FALSE))","v":""},{"$f":"IF($N12=\"\",\"\",VLOOKUP($N12,'Reference - Logistics Distance'!$C:$O,BC$4,FALSE))","v":""},{"$f":"IF($N12=\"\",\"\",VLOOKUP($N12,'Reference - Logistics Distance'!$C:$O,BD$4,FALSE))","v":""},{"$f":"IF($N12=\"\",\"\",VLOOKUP($N12,'Reference - Logistics Distance'!$C:$O,BE$4,FALSE))","v":""},{"$f":"IF($N12=\"\",\"\",VLOOKUP($N12,'Reference - Logistics Distance'!$C:$O,BF$4,FALSE))","v":""},{"$f":"IF($N12=\"\",\"\",VLOOKUP($N12,'Reference - Logistics Distance'!$C:$O,BG$4,FALSE))","v":""},{"$f":"IF($N12=\"\",\"\",VLOOKUP($N12,'Reference - Logistics Distance'!$C:$O,BH$4,FALSE))","v":""},{"$f":"IF($N12=\"\",\"\",VLOOKUP($N12,'Reference - Logistics Distance'!$C:$O,BI$4,FALSE))","v":""},null,{"$f":"IF($N12=\"\",\"\",VLOOKUP($N12,'Reference - Logistics Distance'!$C:$O,BK$4,FALSE))","v":""},null,{"$f":"IF($N12=\"\",\"\",VLOOKUP($N12,'Reference - Logistics Distance'!$C:$O,BM$4,FALSE))","v":""},null,"","","","","","","","",null,"",null,"","",null,""]
[null,null,null,null,null,null,null,null,null,null,null,null,null,null,null,null,null,{"$f":"INDEX('Dropdown menus'!$A$1:$D$6,MATCH($E13,'Dropdown menus'!$A$1:$A$6,0),$R$6)","v":{"$error":"#N/A"}},null,{"$f":"IF($F13=\"\",\"\",VLOOKUP($F13,'Reference Data - Transport fuel'!$C:$O,T$4,FALSE))","v":""},{"$f":"IF($F13=\"\",\"\",VLOOKUP($F13,'Reference Data - Transport fuel'!$C:$O,U$4,FALSE))","v":""},{"$f":"IF($F13=\"\",\"\",VLOOKUP($F13,'Reference Data - Transport fuel'!$C:$O,V$4,FALSE))","v":""},{"$f":"IF($F13=\"\",\"\",VLOOKUP($F13,'Reference Data - Transport fuel'!$C:$O,W$4,FALSE))","v":""},{"$f":"IF($F13=\"\",\"\",VLOOKUP($F13,'Reference Data - Transport fuel'!$C:$O,X$4,FALSE))","v":""},{"$f":"IF($F13=\"\",\"\",VLOOKUP($F13,'Reference Data - Transport fuel'!$C:$O,Y$4,FALSE))","v":""},{"$f":"IF($F13=\"\",\"\",VLOOKUP($F13,'Reference Data - Transport fuel'!$C:$O,Z$4,FALSE))","v":""},{"$f":"IF($F13=\"\",\"\",VLOOKUP($F13,'Reference Data - Transport fuel'!$C:$O,AA$4,FALSE))","v":""},{"$f":"IF($F13=\"\",\"\",VLOOKUP($F13,'Reference Data - Transport fuel'!$C:$O,AB$4,FALSE))","v":""},null,{"$f":"IF($F13=\"\",\"\",VLOOKUP($F13,'Reference Data - Transport fuel'!$C:$O,AD$4,FALSE))","v":""},null,{"$f":"IF($F13=\"\",\"\",VLOOKUP($F13,'Reference Data - Transport fuel'!$C:$O,AF$4,FALSE))","v":""},null,"","","","","","","","",null,"",null,"","",null,"",null,null,{"$f":"INDEX('Dropdown menus'!$A$1:$D$6,MATCH($M13,'Dropdown menus'!$A$1:$A$6,0),$AY$6)","v":{"$error":"#N/A"}},null,{"$f":"IF($N13=\"\",\"\",VLOOKUP($N13,'Reference - Logistics Distance'!$C:$O,BA$4,FALSE))","v":""},{"$f":"IF($N13=\"\",\"\",VLOOKUP($N13,'Reference - Logistics Distance'!$C:$O,BB$4,FALSE))","v":""},{"$f":"IF($N13=\"\",\"\",VLOOKUP($N13,'Reference - Logistics Distance'!$C:$O,BC$4,FALSE))","v":""},{"$f":"IF($N13=\"\",\"\",VLOOKUP($N13,'Reference - Logistics Distance'!$C:$O,BD$4,FALSE))","v":""},{"$f":"IF($N13=\"\",\"\",VLOOKUP($N13,'Reference - Logistics Distance'!$C:$O,BE$4,FALSE))","v":""},{"$f":"IF($N13=\"\",\"\",VLOOKUP($N13,'Reference - Logistics Distance'!$C:$O,BF$4,FALSE))","v":""},{"$f":"IF($N13=\"\",\"\",VLOOKUP($N13,'Reference - Logistics Distance'!$C:$O,BG$4,FALSE))","v":""},{"$f":"IF($N13=\"\",\"\",VLOOKUP($N13,'Reference - Logistics Distance'!$C:$O,BH$4,FALSE))","v":""},{"$f":"IF($N13=\"\",\"\",VLOOKUP($N13,'Reference - Logistics Distance'!$C:$O,BI$4,FALSE))","v":""},null,{"$f":"IF($N13=\"\",\"\",VLOOKUP($N13,'Reference - Logistics Distance'!$C:$O,BK$4,FALSE))","v":""},null,{"$f":"IF($N13=\"\",\"\",VLOOKUP($N13,'Reference - Logistics Distance'!$C:$O,BM$4,FALSE))","v":""},null,"","","","","","","","",null,"",null,"","",null,""]
[null,null,null,null,null,null,null,null,null,null,null,null,null,null,null,null,null,{"$f":"INDEX('Dropdown menus'!$A$1:$D$6,MATCH($E14,'Dropdown menus'!$A$1:$A$6,0),$R$6)","v":{"$error":"#N/A"}},null,{"$f":"IF($F14=\"\",\"\",VLOOKUP($F14,'Reference Data - Transport fuel'!$C:$O,T$4,FALSE))","v":""},{"$f":"IF($F14=\"\",\"\",VLOOKUP($F14,'Reference Data - Transport fuel'!$C:$O,U$4,FALSE))","v":""},{"$f":"IF($F14=\"\",\"\",VLOOKUP($F14,'Reference Data - Transport fuel'!$C:$O,V$4,FALSE))","v":""},{"$f":"IF($F14=\"\",\"\",VLOOKUP($F14,'Reference Data - Transport fuel'!$C:$O,W$4,FALSE))","v":""},{"$f":"IF($F14=\"\",\"\",VLOOKUP($F14,'Reference Data - Transport fuel'!$C:$O,X$4,FALSE))","v":""},{"$f":"IF($F14=\"\",\"\",VLOOKUP($F14,'Reference Data - Transport fuel'!$C:$O,Y$4,FALSE))","v":""},{"$f":"IF($F14=\"\",\"\",VLOOKUP($F14,'Reference Data - Transport fuel'!$C:$O,Z$4,FALSE))","v":""},{"$f":"IF($F14=\"\",\"\",VLOOKUP($F14,'Reference Data - Transport fuel'!$C:$O,AA$4,FALSE))","v":""},{"$f":"IF($F14=\"\",\"\",VLOOKUP($F14,'Reference Data - Transport fuel'!$C:$O,AB$4,FALSE))","v":""},null,{"$f":"IF($F14=\"\",\"\",VLOOKUP($F14,'Reference Data - Transport fuel'!$C:$O,AD$4,FALSE))","v":""},null,{"$f":"IF($F14=\"\",\"\",VLOOKUP($F14,'Reference Data - Transport fuel'!$C:$O,AF$4,FALSE))","v":""},null,"","","","","","","","",null,"",null,"","",null,"",null,null,{"$f":"INDEX('Dropdown menus'!$A$1:$D$6,MATCH($M14,'Dropdown menus'!$A$1:$A$6,0),$AY$6)","v":{"$error":"#N/A"}},null,{"$f":"IF($N14=\"\",\"\",VLOOKUP($N14,'Reference - Logistics Distance'!$C:$O,BA$4,FALSE))","v":""},{"$f":"IF($N14=\"\",\"\",VLOOKUP($N14,'Reference - Logistics Distance'!$C:$O,BB$4,FALSE))","v":""},{"$f":"IF($N14=\"\",\"\",VLOOKUP($N14,'Reference - Logistics Distance'!$C:$O,BC$4,FALSE))","v":""},{"$f":"IF($N14=\"\",\"\",VLOOKUP($N14,'Reference - Logistics Distance'!$C:$O,BD$4,FALSE))","v":""},{"$f":"IF($N14=\"\",\"\",VLOOKUP($N14,'Reference - Logistics Distance'!$C:$O,BE$4,FALSE))","v":""},{"$f":"IF($N14=\"\",\"\",VLOOKUP($N14,'Reference - Logistics Distance'!$C:$O,BF$4,FALSE))","v":""},{"$f":"IF($N14=\"\",\"\",VLOOKUP($N14,'Reference - Logistics Distance'!$C:$O,BG$4,FALSE))","v":""},{"$f":"IF($N14=\"\",\"\",VLOOKUP($N14,'Reference - Logistics Distance'!$C:$O,BH$4,FALSE))","v":""},{"$f":"IF($N14=\"\",\"\",VLOOKUP($N14,'Reference - Logistics Distance'!$C:$O,BI$4,FALSE))","v":""},null,{"$f":"IF($N14=\"\",\"\",VLOOKUP($N14,'Reference - Logistics Distance'!$C:$O,BK$4,FALSE))","v":""},null,{"$f":"IF($N14=\"\",\"\",VLOOKUP($N14,'Reference - Logistics Distance'!$C:$O,BM$4,FALSE))","v":""},null,"","","","","","","","",null,"",null,"","",null,""]
[null,null,null,null,null,null,null,null,null,null,null,null,null,null,null,null,null,{"$f":"INDEX('Dropdown menus'!$A$1:$D$6,MATCH($E15,'Dropdown menus'!$A$1:$A$6,0),$R$6)","v":{"$error":"#N/A"}},null,{"$f":"IF($F15=\"\",\"\",VLOOKUP($F15,'Reference Data - Transport fuel'!$C:$O,T$4,FALSE))","v":""},{"$f":"IF($F15=\"\",\"\",VLOOKUP($F15,'Reference Data - Transport fuel'!$C:$O,U$4,FALSE))","v":""},{"$f":"IF($F15=\"\",\"\",VLOOKUP($F15,'Reference Data - Transport fuel'!$C:$O,V$4,FALSE))","v":""},{"$f":"IF($F15=\"\",\"\",VLOOKUP($F15,'Reference Data - Transport fuel'!$C:$O,W$4,FALSE))","v":""},{"$f":"IF($F15=\"\",\"\",VLOOKUP($F15,'Reference Data - Transport fuel'!$C:$O,X$4,FALSE))","v":""},{"$f":"IF($F15=\"\",\"\",VLOOKUP($F15,'Reference Data - Transport fuel'!$C:$O,Y$4,FALSE))","v":""},{"$f":"IF($F15=\"\",\"\",VLOOKUP($F15,'Reference Data - Transport fuel'!$C:$O,Z$4,FALSE))","v":""},{"$f":"IF($F15=\"\",\"\",VLOOKUP($F15,'Reference Data - Transport fuel'!$C:$O,AA$4,FALSE))","v":""},{"$f":"IF($F15=\"\",\"\",VLOOKUP($F15,'Reference Data - Transport fuel'!$C:$O,AB$4,FALSE))","v":""},null,{"$f":"IF($F15=\"\",\"\",VLOOKUP($F15,'Reference Data - Transport fuel'!$C:$O,AD$4,FALSE))","v":""},null,{"$f":"IF($F15=\"\",\"\",VLOOKUP($F15,'Reference Data - Transport fuel'!$C:$O,AF$4,FALSE))","v":""},null,"","","","","","","","",null,"",null,"","",null,"",null,null,{"$f":"INDEX('Dropdown menus'!$A$1:$D$6,MATCH($M15,'Dropdown menus'!$A$1:$A$6,0),$AY$6)","v":{"$error":"#N/A"}},null,{"$f":"IF($N15=\"\",\"\",VLOOKUP($N15,'Reference - Logistics Distance'!$C:$O,BA$4,FALSE))","v":""},{"$f":"IF($N15=\"\",\"\",VLOOKUP($N15,'Reference - Logistics Distance'!$C:$O,BB$4,FALSE))","v":""},{"$f":"IF($N15=\"\",\"\",VLOOKUP($N15,'Reference - Logistics Distance'!$C:$O,BC$4,FALSE))","v":""},{"$f":"IF($N15=\"\",\"\",VLOOKUP($N15,'Reference - Logistics Distance'!$C:$O,BD$4,FALSE))","v":""},{"$f":"IF($N15=\"\",\"\",VLOOKUP($N15,'Reference - Logistics Distance'!$C:$O,BE$4,FALSE))","v":""},{"$f":"IF($N15=\"\",\"\",VLOOKUP($N15,'Reference - Logistics Distance'!$C:$O,BF$4,FALSE))","v":""},{"$f":"IF($N15=\"\",\"\",VLOOKUP($N15,'Reference - Logistics Distance'!$C:$O,BG$4,FALSE))","v":""},{"$f":"IF($N15=\"\",\"\",VLOOKUP($N15,'Reference - Logistics Distance'!$C:$O,BH$4,FALSE))","v":""},{"$f":"IF($N15=\"\",\"\",VLOOKUP($N15,'Reference - Logistics Distance'!$C:$O,BI$4,FALSE))","v":""},null,{"$f":"IF($N15=\"\",\"\",VLOOKUP($N15,'Reference - Logistics Distance'!$C:$O,BK$4,FALSE))","v":""},null,{"$f":"IF($N15=\"\",\"\",VLOOKUP($N15,'Reference - Logistics Distance'!$C:$O,BM$4,FALSE))","v":""},null,"","","","","","","","",null,"",null,"","",null,""]
[null,null,null,null,null,null,null,null,null,null,null,null,null,null,null,null,null,{"$f":"INDEX('Dropdown menus'!$A$1:$D$6,MATCH($E16,'Dropdown menus'!$A$1:$A$6,0),$R$6)","v":{"$error":"#N/A"}},null,{"$f":"IF($F16=\"\",\"\",VLOOKUP($F16,'Reference Data - Transport fuel'!$C:$O,T$4,FALSE))","v":""},{"$f":"IF($F16=\"\",\"\",VLOOKUP($F16,'Reference Data - Transport fuel'!$C:$O,U$4,FALSE))","v":""},{"$f":"IF($F16=\"\",\"\",VLOOKUP($F16,'Reference Data - Transport fuel'!$C:$O,V$4,FALSE))","v":""},{"$f":"IF($F16=\"\",\"\",VLOOKUP($F16,'Reference Data - Transport fuel'!$C:$O,W$4,FALSE))","v":""},{"$f":"IF($F16=\"\",\"\",VLOOKUP($F16,'Reference Data - Transport fuel'!$C:$O,X$4,FALSE))","v":""},{"$f":"IF($F16=\"\",\"\",VLOOKUP($F16,'Reference Data - Transport fuel'!$C:$O,Y$4,FALSE))","v":""},{"$f":"IF($F16=\"\",\"\",VLOOKUP($F16,'Reference Data - Transport fuel'!$C:$O,Z$4,FALSE))","v":""},{"$f":"IF($F16=\"\",\"\",VLOOKUP($F16,'Reference Data - Transport fuel'!$C:$O,AA$4,FALSE))","v":""},{"$f":"IF($F16=\"\",\"\",VLOOKUP($F16,'Reference Data - Transport fuel'!$C:$O,AB$4,FALSE))","v":""},null,{"$f":"IF($F16=\"\",\"\",VLOOKUP($F16,'Reference Data - Transport fuel'!$C:$O,AD$4,FALSE))","v":""},null,{"$f":"IF($F16=\"\",\"\",VLOOKUP($F16,'Reference Data - Transport fuel'!$C:$O,AF$4,FALSE))","v":""},null,"","","","","","","","",null,"",null,"","",null,"",null,null,{"$f":"INDEX('Dropdown menus'!$A$1:$D$6,MATCH($M16,'Dropdown menus'!$A$1:$A$6,0),$AY$6)","v":{"$error":"#N/A"}},null,{"$f":"IF($N16=\"\",\"\",VLOOKUP($N16,'Reference - Logistics Distance'!$C:$O,BA$4,FALSE))","v":""},{"$f":"IF($N16=\"\",\"\",VLOOKUP($N16,'Reference - Logistics Distance'!$C:$O,BB$4,FALSE))","v":""},{"$f":"IF($N16=\"\",\"\",VLOOKUP($N16,'Reference - Logistics Distance'!$C:$O,BC$4,FALSE))","v":""},{"$f":"IF($N16=\"\",\"\",VLOOKUP($N16,'Reference - Logistics Distance'!$C:$O,BD$4,FALSE))","v":""},{"$f":"IF($N16=\"\",\"\",VLOOKUP($N16,'Reference - Logistics Distance'!$C:$O,BE$4,FALSE))","v":""},{"$f":"IF($N16=\"\",\"\",VLOOKUP($N16,'Reference - Logistics Distance'!$C:$O,BF$4,FALSE))","v":""},{"$f":"IF($N16=\"\",\"\",VLOOKUP($N16,'Reference - Logistics Distance'!$C:$O,BG$4,FALSE))","v":""},{"$f":"IF($N16=\"\",\"\",VLOOKUP($N16,'Reference - Logistics Distance'!$C:$O,BH$4,FALSE))","v":""},{"$f":"IF($N16=\"\",\"\",VLOOKUP($N16,'Reference - Logistics Distance'!$C:$O,BI$4,FALSE))","v":""},null,{"$f":"IF($N16=\"\",\"\",VLOOKUP($N16,'Reference - Logistics Distance'!$C:$O,BK$4,FALSE))","v":""},null,{"$f":"IF($N16=\"\",\"\",VLOOKUP($N16,'Reference - Logistics Distance'!$C:$O,BM$4,FALSE))","v":""},null,"","","","","","","","",null,"",null,"","",null,""]
[null,null,null,null,null,null,null,null,null,null,null,null,null,null,null,null,null,{"$f":"INDEX('Dropdown menus'!$A$1:$D$6,MATCH($E17,'Dropdown menus'!$A$1:$A$6,0),$R$6)","v":{"$error":"#N/A"}},null,{"$f":"IF($F17=\"\",\"\",VLOOKUP($F17,'Reference Data - Transport fuel'!$C:$O,T$4,FALSE))","v":""},{"$f":"IF($F17=\"\",\"\",VLOOKUP($F17,'Reference Data - Transport fuel'!$C:$O,U$4,FALSE))","v":""},{"$f":"IF($F17=\"\",\"\",VLOOKUP($F17,'Reference Data - Transport fuel'!$C:$O,V$4,FALSE))","v":""},{"$f":"IF($F17=\"\",\"\",VLOOKUP($F17,'Reference Data - Transport fuel'!$C:$O,W$4,FALSE))","v":""},{"$f":"IF($F17=\"\",\"\",VLOOKUP($F17,'Reference Data - Transport fuel'!$C:$O,X$4,FALSE))","v":""},{"$f":"IF($F17=\"\",\"\",VLOOKUP($F17,'Reference Data - Transport fuel'!$C:$O,Y$4,FALSE))","v":""},{"$f":"IF($F17=\"\",\"\",VLOOKUP($F17,'Reference Data - Transport fuel'!$C:$O,Z$4,FALSE))","v":""},{"$f":"IF($F17=\"\",\"\",VLOOKUP($F17,'Reference Data - Transport fuel'!$C:$O,AA$4,FALSE))","v":""},{"$f":"IF($F17=\"\",\"\",VLOOKUP($F17,'Reference Data - Transport fuel'!$C:$O,AB$4,FALSE))","v":""},null,{"$f":"IF($F17=\"\",\"\",VLOOKUP($F17,'Reference Data - Transport fuel'!$C:$O,AD$4,FALSE))","v":""},null,{"$f":"IF($F17=\"\",\"\",VLOOKUP($F17,'Reference Data - Transport fuel'!$C:$O,AF$4,FALSE))","v":""},null,"","","","","","","","",null,"",null,"","",null,"",null,null,{"$f":"INDEX('Dropdown menus'!$A$1:$D$6,MATCH($M17,'Dropdown menus'!$A$1:$A$6,0),$AY$6)","v":{"$error":"#N/A"}},null,{"$f":"IF($N17=\"\",\"\",VLOOKUP($N17,'Reference - Logistics Distance'!$C:$O,BA$4,FALSE))","v":""},{"$f":"IF($N17=\"\",\"\",VLOOKUP($N17,'Reference - Logistics Distance'!$C:$O,BB$4,FALSE))","v":""},{"$f":"IF($N17=\"\",\"\",VLOOKUP($N17,'Reference - Logistics Distance'!$C:$O,BC$4,FALSE))","v":""},{"$f":"IF($N17=\"\",\"\",VLOOKUP($N17,'Reference - Logistics Distance'!$C:$O,BD$4,FALSE))","v":""},{"$f":"IF($N17=\"\",\"\",VLOOKUP($N17,'Reference - Logistics Distance'!$C:$O,BE$4,FALSE))","v":""},{"$f":"IF($N17=\"\",\"\",VLOOKUP($N17,'Reference - Logistics Distance'!$C:$O,BF$4,FALSE))","v":""},{"$f":"IF($N17=\"\",\"\",VLOOKUP($N17,'Reference - Logistics Distance'!$C:$O,BG$4,FALSE))","v":""},{"$f":"IF($N17=\"\",\"\",VLOOKUP($N17,'Reference - Logistics Distance'!$C:$O,BH$4,FALSE))","v":""},{"$f":"IF($N17=\"\",\"\",VLOOKUP($N17,'Reference - Logistics Distance'!$C:$O,BI$4,FALSE))","v":""},null,{"$f":"IF($N17=\"\",\"\",VLOOKUP($N17,'Reference - Logistics Distance'!$C:$O,BK$4,FALSE))","v":""},null,{"$f":"IF($N17=\"\",\"\",VLOOKUP($N17,'Reference - Logistics Distance'!$C:$O,BM$4,FALSE))","v":""},null,"","","","","","","","",null,"",null,"","",null,""]
[null,null,null,null,null,null,null,null,null,null,null,null,null,null,null,null,null,{"$f":"INDEX('Dropdown menus'!$A$1:$D$6,MATCH($E18,'Dropdown menus'!$A$1:$A$6,0),$R$6)","v":{"$error":"#N/A"}},null,{"$f":"IF($F18=\"\",\"\",VLOOKUP($F18,'Reference Data - Transport fuel'!$C:$O,T$4,FALSE))","v":""},{"$f":"IF($F18=\"\",\"\",VLOOKUP($F18,'Reference Data - Transport fuel'!$C:$O,U$4,FALSE))","v":""},{"$f":"IF($F18=\"\",\"\",VLOOKUP($F18,'Reference Data - Transport fuel'!$C:$O,V$4,FALSE))","v":""},{"$f":"IF($F18=\"\",\"\",VLOOKUP($F18,'Reference Data - Transport fuel'!$C:$O,W$4,FALSE))","v":""},{"$f":"IF($F18=\"\",\"\",VLOOKUP($F18,'Reference Data - Transport fuel'!$C:$O,X$4,FALSE))","v":""},{"$f":"IF($F18=\"\",\"\",VLOOKUP($F18,'Reference Data - Transport fuel'!$C:$O,Y$4,FALSE))","v":""},{"$f":"IF($F18=\"\",\"\",VLOOKUP($F18,'Reference Data - Transport fuel'!$C:$O,Z$4,FALSE))","v":""},{"$f":"IF($F18=\"\",\"\",VLOOKUP($F18,'Reference Data - Transport fuel'!$C:$O,AA$4,FALSE))","v":""},{"$f":"IF($F18=\"\",\"\",VLOOKUP($F18,'Reference Data - Transport fuel'!$C:$O,AB$4,FALSE))","v":""},null,{"$f":"IF($F18=\"\",\"\",VLOOKUP($F18,'Reference Data - Transport fuel'!$C:$O,AD$4,FALSE))","v":""},null,{"$f":"IF($F18=\"\",\"\",VLOOKUP($F18,'Reference Data - Transport fuel'!$C:$O,AF$4,FALSE))","v":""},null,"","","","","","","","",null,"",null,"","",null,"",null,null,{"$f":"INDEX('Dropdown menus'!$A$1:$D$6,MATCH($M18,'Dropdown menus'!$A$1:$A$6,0),$AY$6)","v":{"$error":"#N/A"}},null,{"$f":"IF($N18=\"\",\"\",VLOOKUP($N18,'Reference - Logistics Distance'!$C:$O,BA$4,FALSE))","v":""},{"$f":"IF($N18=\"\",\"\",VLOOKUP($N18,'Reference - Logistics Distance'!$C:$O,BB$4,FALSE))","v":""},{"$f":"IF($N18=\"\",\"\",VLOOKUP($N18,'Reference - Logistics Distance'!$C:$O,BC$4,FALSE))","v":""},{"$f":"IF($N18=\"\",\"\",VLOOKUP($N18,'Reference - Logistics Distance'!$C:$O,BD$4,FALSE))","v":""},{"$f":"IF($N18=\"\",\"\",VLOOKUP($N18,'Reference - Logistics Distance'!$C:$O,BE$4,FALSE))","v":""},{"$f":"IF($N18=\"\",\"\",VLOOKUP($N18,'Reference - Logistics Distance'!$C:$O,BF$4,FALSE))","v":""},{"$f":"IF($N18=\"\",\"\",VLOOKUP($N18,'Reference - Logistics Distance'!$C:$O,BG$4,FALSE))","v":""},{"$f":"IF($N18=\"\",\"\",VLOOKUP($N18,'Reference - Logistics Distance'!$C:$O,BH$4,FALSE))","v":""},{"$f":"IF($N18=\"\",\"\",VLOOKUP($N18,'Reference - Logistics Distance'!$C:$O,BI$4,FALSE))","v":""},null,{"$f":"IF($N18=\"\",\"\",VLOOKUP($N18,'Reference - Logistics Distance'!$C:$O,BK$4,FALSE))","v":""},null,{"$f":"IF($N18=\"\",\"\",VLOOKUP($N18,'Reference - Logistics Distance'!$C:$O,BM$4,FALSE))","v":""},null,"","","","","","","","",null,"",null,"","",null,""]
[null,null,null,null,null,null,null,null,null,null,null,null,null,null,null,null,null,{"$f":"INDEX('Dropdown menus'!$A$1:$D$6,MATCH($E19,'Dropdown menus'!$A$1:$A$6,0),$R$6)","v":{"$error":"#N/A"}},null,{"$f":"IF($F19=\"\",\"\",VLOOKUP($F19,'Reference Data - Transport fuel'!$C:$O,T$4,FALSE))","v":""},{"$f":"IF($F19=\"\",\"\",VLOOKUP($F19,'Reference Data - Transport fuel'!$C:$O,U$4,FALSE))","v":""},{"$f":"IF($F19=\"\",\"\",VLOOKUP($F19,'Reference Data - Transport fuel'!$C:$O,V$4,FALSE))","v":""},{"$f":"IF($F19=\"\",\"\",VLOOKUP($F19,'Reference Data - Transport fuel'!$C:$O,W$4,FALSE))","v":""},{"$f":"IF($F19=\"\",\"\",VLOOKUP($F19,'Reference Data - Transport fuel'!$C:$O,X$4,FALSE))","v":""},{"$f":"IF($F19=\"\",\"\",VLOOKUP($F19,'Reference Data - Transport fuel'!$C:$O,Y$4,FALSE))","v":""},{"$f":"IF($F19=\"\",\"\",VLOOKUP($F19,'Reference Data - Transport fuel'!$C:$O,Z$4,FALSE))","v":""},{"$f":"IF($F19=\"\",\"\",VLOOKUP($F19,'Reference Data - Transport fuel'!$C:$O,AA$4,FALSE))","v":""},{"$f":"IF($F19=\"\",\"\",VLOOKUP($F19,'Reference Data - Transport fuel'!$C:$O,AB$4,FALSE))","v":""},null,{"$f":"IF($F19=\"\",\"\",VLOOKUP($F19,'Reference Data - Transport fuel'!$C:$O,AD$4,FALSE))","v":""},null,{"$f":"IF($F19=\"\",\"\",VLOOKUP($F19,'Reference Data - Transport fuel'!$C:$O,AF$4,FALSE))","v":""},null,"","","","","","","","",null,"",null,"","",null,"",null,null,{"$f":"INDEX('Dropdown menus'!$A$1:$D$6,MATCH($M19,'Dropdown menus'!$A$1:$A$6,0),$AY$6)","v":{"$error":"#N/A"}},null,{"$f":"IF($N19=\"\",\"\",VLOOKUP($N19,'Reference - Logistics Distance'!$C:$O,BA$4,FALSE))","v":""},{"$f":"IF($N19=\"\",\"\",VLOOKUP($N19,'Reference - Logistics Distance'!$C:$O,BB$4,FALSE))","v":""},{"$f":"IF($N19=\"\",\"\",VLOOKUP($N19,'Reference - Logistics Distance'!$C:$O,BC$4,FALSE))","v":""},{"$f":"IF($N19=\"\",\"\",VLOOKUP($N19,'Reference - Logistics Distance'!$C:$O,BD$4,FALSE))","v":""},{"$f":"IF($N19=\"\",\"\",VLOOKUP($N19,'Reference - Logistics Distance'!$C:$O,BE$4,FALSE))","v":""},{"$f":"IF($N19=\"\",\"\",VLOOKUP($N19,'Reference - Logistics Distance'!$C:$O,BF$4,FALSE))","v":""},{"$f":"IF($N19=\"\",\"\",VLOOKUP($N19,'Reference - Logistics Distance'!$C:$O,BG$4,FALSE))","v":""},{"$f":"IF($N19=\"\",\"\",VLOOKUP($N19,'Reference - Logistics Distance'!$C:$O,BH$4,FALSE))","v":""},{"$f":"IF($N19=\"\",\"\",VLOOKUP($N19,'Reference - Logistics Distance'!$C:$O,BI$4,FALSE))","v":""},null,{"$f":"IF($N19=\"\",\"\",VLOOKUP($N19,'Reference - Logistics Distance'!$C:$O,BK$4,FALSE))","v":""},null,{"$f":"IF($N19=\"\",\"\",VLOOKUP($N19,'Reference - Logistics Distance'!$C:$O,BM$4,FALSE))","v":""},null,"","","","","","","","",null,"",null,"","",null,""]
[null,null,null,null,null,null,null,null,null,null,null,null,null,null,null,null,null,{"$f":"INDEX('Dropdown menus'!$A$1:$D$6,MATCH($E20,'Dropdown menus'!$A$1:$A$6,0),$R$6)","v":{"$error":"#N/A"}},null,{"$f":"IF($F20=\"\",\"\",VLOOKUP($F20,'Reference Data - Transport fuel'!$C:$O,T$4,FALSE))","v":""},{"$f":"IF($F20=\"\",\"\",VLOOKUP($F20,'Reference Data - Transport fuel'!$C:$O,U$4,FALSE))","v":""},{"$f":"IF($F20=\"\",\"\",VLOOKUP($F20,'Reference Data - Transport fuel'!$C:$O,V$4,FALSE))","v":""},{"$f":"IF($F20=\"\",\"\",VLOOKUP($F20,'Reference Data - Transport fuel'!$C:$O,W$4,FALSE))","v":""},{"$f":"IF($F20=\"\",\"\",VLOOKUP($F20,'Reference Data - Transport fuel'!$C:$O,X$4,FALSE))","v":""},{"$f":"IF($F20=\"\",\"\",VLOOKUP($F20,'Reference Data - Transport fuel'!$C:$O,Y$4,FALSE))","v":""},{"$f":"IF($F20=\"\",\"\",VLOOKUP($F20,'Reference Data - Transport fuel'!$C:$O,Z$4,FALSE))","v":""},{"$f":"IF($F20=\"\",\"\",VLOOKUP($F20,'Reference Data - Transport fuel'!$C:$O,AA$4,FALSE))","v":""},{"$f":"IF($F20=\"\",\"\",VLOOKUP($F20,'Reference Data - Transport fuel'!$C:$O,AB$4,FALSE))","v":""},null,{"$f":"IF($F20=\"\",\"\",VLOOKUP($F20,'Reference Data - Transport fuel'!$C:$O,AD$4,FALSE))","v":""},null,{"$f":"IF($F20=\"\",\"\",VLOOKUP($F20,'Reference Data - Transport fuel'!$C:$O,AF$4,FALSE))","v":""},null,"","","","","","","","",null,"",null,"","",null,"",null,null,{"$f":"INDEX('Dropdown menus'!$A$1:$D$6,MATCH($M20,'Dropdown menus'!$A$1:$A$6,0),$AY$6)","v":{"$error":"#N/A"}},null,{"$f":"IF($N20=\"\",\"\",VLOOKUP($N20,'Reference - Logistics Distance'!$C:$O,BA$4,FALSE))","v":""},{"$f":"IF($N20=\"\",\"\",VLOOKUP($N20,'Reference - Logistics Distance'!$C:$O,BB$4,FALSE))","v":""},{"$f":"IF($N20=\"\",\"\",VLOOKUP($N20,'Reference - Logistics Distance'!$C:$O,BC$4,FALSE))","v":""},{"$f":"IF($N20=\"\",\"\",VLOOKUP($N20,'Reference - Logistics Distance'!$C:$O,BD$4,FALSE))","v":""},{"$f":"IF($N20=\"\",\"\",VLOOKUP($N20,'Reference - Logistics Distance'!$C:$O,BE$4,FALSE))","v":""},{"$f":"IF($N20=\"\",\"\",VLOOKUP($N20,'Reference - Logistics Distance'!$C:$O,BF$4,FALSE))","v":""},{"$f":"IF($N20=\"\",\"\",VLOOKUP($N20,'Reference - Logistics Distance'!$C:$O,BG$4,FALSE))","v":""},{"$f":"IF($N20=\"\",\"\",VLOOKUP($N20,'Reference - Logistics Distance'!$C:$O,BH$4,FALSE))","v":""},{"$f":"IF($N20=\"\",\"\",VLOOKUP($N20,'Reference - Logistics Distance'!$C:$O,BI$4,FALSE))","v":""},null,{"$f":"IF($N20=\"\",\"\",VLOOKUP($N20,'Reference - Logistics Distance'!$C:$O,BK$4,FALSE))","v":""},null,{"$f":"IF($N20=\"\",\"\",VLOOKUP($N20,'Reference - Logistics Distance'!$C:$O,BM$4,FALSE))","v":""},null,"","","","","","","","",null,"",null,"","",null,""]
[null,null,null,null,null,null,null,null,null,null,null,null,null,null,null,null,null,{"$f":"INDEX('Dropdown menus'!$A$1:$D$6,MATCH($E21,'Dropdown menus'!$A$1:$A$6,0),$R$6)","v":{"$error":"#N/A"}},null,{"$f":"IF($F21=\"\",\"\",VLOOKUP($F21,'Reference Data - Transport fuel'!$C:$O,T$4,FALSE))","v":""},{"$f":"IF($F21=\"\",\"\",VLOOKUP($F21,'Reference Data - Transport fuel'!$C:$O,U$4,FALSE))","v":""},{"$f":"IF($F21=\"\",\"\",VLOOKUP($F21,'Reference Data - Transport fuel'!$C:$O,V$4,FALSE))","v":""},{"$f":"IF($F21=\"\",\"\",VLOOKUP($F21,'Reference Data - Transport fuel'!$C:$O,W$4,FALSE))","v":""},{"$f":"IF($F21=\"\",\"\",VLOOKUP($F21,'Reference Data - Transport fuel'!$C:$O,X$4,FALSE))","v":""},{"$f":"IF($F21=\"\",\"\",VLOOKUP($F21,'Reference Data - Transport fuel'!$C:$O,Y$4,FALSE))","v":""},{"$f":"IF($F21=\"\",\"\",VLOOKUP($F21,'Reference Data - Transport fuel'!$C:$O,Z$4,FALSE))","v":""},{"$f":"IF($F21=\"\",\"\",VLOOKUP($F21,'Reference Data - Transport fuel'!$C:$O,AA$4,FALSE))","v":""},{"$f":"IF($F21=\"\",\"\",VLOOKUP($F21,'Reference Data - Transport fuel'!$C:$O,AB$4,FALSE))","v":""},null,{"$f":"IF($F21=\"\",\"\",VLOOKUP($F21,'Reference Data - Transport fuel'!$C:$O,AD$4,FALSE))","v":""},null,{"$f":"IF($F21=\"\",\"\",VLOOKUP($F21,'Reference Data - Transport fuel'!$C:$O,AF$4,FALSE))","v":""},null,"","","","","","","","",null,"",null,"","",null,"",null,null,{"$f":"INDEX('Dropdown menus'!$A$1:$D$6,MATCH($M21,'Dropdown menus'!$A$1:$A$6,0),$AY$6)","v":{"$error":"#N/A"}},null,{"$f":"IF($N21=\"\",\"\",VLOOKUP($N21,'Reference - Logistics Distance'!$C:$O,BA$4,FALSE))","v":""},{"$f":"IF($N21=\"\",\"\",VLOOKUP($N21,'Reference - Logistics Distance'!$C:$O,BB$4,FALSE))","v":""},{"$f":"IF($N21=\"\",\"\",VLOOKUP($N21,'Reference - Logistics Distance'!$C:$O,BC$4,FALSE))","v":""},{"$f":"IF($N21=\"\",\"\",VLOOKUP($N21,'Reference - Logistics Distance'!$C:$O,BD$4,FALSE))","v":""},{"$f":"IF($N21=\"\",\"\",VLOOKUP($N21,'Reference - Logistics Distance'!$C:$O,BE$4,FALSE))","v":""},{"$f":"IF($N21=\"\",\"\",VLOOKUP($N21,'Reference - Logistics Distance'!$C:$O,BF$4,FALSE))","v":""},{"$f":"IF($N21=\"\",\"\",VLOOKUP($N21,'Reference - Logistics Distance'!$C:$O,BG$4,FALSE))","v":""},{"$f":"IF($N21=\"\",\"\",VLOOKUP($N21,'Reference - Logistics Distance'!$C:$O,BH$4,FALSE))","v":""},{"$f":"IF($N21=\"\",\"\",VLOOKUP($N21,'Reference - Logistics Distance'!$C:$O,BI$4,FALSE))","v":""},null,{"$f":"IF($N21=\"\",\"\",VLOOKUP($N21,'Reference - Logistics Distance'!$C:$O,BK$4,FALSE))","v":""},null,{"$f":"IF($N21=\"\",\"\",VLOOKUP($N21,'Reference - Logistics Distance'!$C:$O,BM$4,FALSE))","v":""},null,"","","","","","","","",null,"",null,"","",null,""]
[null,null,null,null,null,null,null,null,null,null,null,null,null,null,null,null,null,{"$f":"INDEX('Dropdown menus'!$A$1:$D$6,MATCH($E22,'Dropdown menus'!$A$1:$A$6,0),$R$6)","v":{"$error":"#N/A"}},null,{"$f":"IF($F22=\"\",\"\",VLOOKUP($F22,'Reference Data - Transport fuel'!$C:$O,T$4,FALSE))","v":""},{"$f":"IF($F22=\"\",\"\",VLOOKUP($F22,'Reference Data - Transport fuel'!$C:$O,U$4,FALSE))","v":""},{"$f":"IF($F22=\"\",\"\",VLOOKUP($F22,'Reference Data - Transport fuel'!$C:$O,V$4,FALSE))","v":""},{"$f":"IF($F22=\"\",\"\",VLOOKUP($F22,'Reference Data - Transport fuel'!$C:$O,W$4,FALSE))","v":""},{"$f":"IF($F22=\"\",\"\",VLOOKUP($F22,'Reference Data - Transport fuel'!$C:$O,X$4,FALSE))","v":""},{"$f":"IF($F22=\"\",\"\",VLOOKUP($F22,'Reference Data - Transport fuel'!$C:$O,Y$4,FALSE))","v":""},{"$f":"IF($F22=\"\",\"\",VLOOKUP($F22,'Reference Data - Transport fuel'!$C:$O,Z$4,FALSE))","v":""},{"$f":"IF($F22=\"\",\"\",VLOOKUP($F22,'Reference Data - Transport fuel'!$C:$O,AA$4,FALSE))","v":""},{"$f":"IF($F22=\"\",\"\",VLOOKUP($F22,'Reference Data - Transport fuel'!$C:$O,AB$4,FALSE))","v":""},null,{"$f":"IF($F22=\"\",\"\",VLOOKUP($F22,'Reference Data - Transport fuel'!$C:$O,AD$4,FALSE))","v":""},null,{"$f":"IF($F22=\"\",\"\",VLOOKUP($F22,'Reference Data - Transport fuel'!$C:$O,AF$4,FALSE))","v":""},null,"","","","","","","","",null,"",null,"","",null,"",null,null,{"$f":"INDEX('Dropdown menus'!$A$1:$D$6,MATCH($M22,'Dropdown menus'!$A$1:$A$6,0),$AY$6)","v":{"$error":"#N/A"}},null,{"$f":"IF($N22=\"\",\"\",VLOOKUP($N22,'Reference - Logistics Distance'!$C:$O,BA$4,FALSE))","v":""},{"$f":"IF($N22=\"\",\"\",VLOOKUP($N22,'Reference - Logistics Distance'!$C:$O,BB$4,FALSE))","v":""},{"$f":"IF($N22=\"\",\"\",VLOOKUP($N22,'Reference - Logistics Distance'!$C:$O,BC$4,FALSE))","v":""},{"$f":"IF($N22=\"\",\"\",VLOOKUP($N22,'Reference - Logistics Distance'!$C:$O,BD$4,FALSE))","v":""},{"$f":"IF($N22=\"\",\"\",VLOOKUP($N22,'Reference - Logistics Distance'!$C:$O,BE$4,FALSE))","v":""},{"$f":"IF($N22=\"\",\"\",VLOOKUP($N22,'Reference - Logistics Distance'!$C:$O,BF$4,FALSE))","v":""},{"$f":"IF($N22=\"\",\"\",VLOOKUP($N22,'Reference - Logistics Distance'!$C:$O,BG$4,FALSE))","v":""},{"$f":"IF($N22=\"\",\"\",VLOOKUP($N22,'Reference - Logistics Distance'!$C:$O,BH$4,FALSE))","v":""},{"$f":"IF($N22=\"\",\"\",VLOOKUP($N22,'Reference - Logistics Distance'!$C:$O,BI$4,FALSE))","v":""},null,{"$f":"IF($N22=\"\",\"\",VLOOKUP($N22,'Reference - Logistics Distance'!$C:$O,BK$4,FALSE))","v":""},null,{"$f":"IF($N22=\"\",\"\",VLOOKUP($N22,'Reference - Logistics Distance'!$C:$O,BM$4,FALSE))","v":""},null,"","","","","","","","",null,"",null,"","",null,""]
[null,null,null,null,null,null,null,null,null,null,null,null,null,null,null,null,null,{"$f":"INDEX('Dropdown menus'!$A$1:$D$6,MATCH($E23,'Dropdown menus'!$A$1:$A$6,0),$R$6)","v":{"$error":"#N/A"}},null,{"$f":"IF($F23=\"\",\"\",VLOOKUP($F23,'Reference Data - Transport fuel'!$C:$O,T$4,FALSE))","v":""},{"$f":"IF($F23=\"\",\"\",VLOOKUP($F23,'Reference Data - Transport fuel'!$C:$O,U$4,FALSE))","v":""},{"$f":"IF($F23=\"\",\"\",VLOOKUP($F23,'Reference Data - Transport fuel'!$C:$O,V$4,FALSE))","v":""},{"$f":"IF($F23=\"\",\"\",VLOOKUP($F23,'Reference Data - Transport fuel'!$C:$O,W$4,FALSE))","v":""},{"$f":"IF($F23=\"\",\"\",VLOOKUP($F23,'Reference Data - Transport fuel'!$C:$O,X$4,FALSE))","v":""},{"$f":"IF($F23=\"\",\"\",VLOOKUP($F23,'Reference Data - Transport fuel'!$C:$O,Y$4,FALSE))","v":""},{"$f":"IF($F23=\"\",\"\",VLOOKUP($F23,'Reference Data - Transport fuel'!$C:$O,Z$4,FALSE))","v":""},{"$f":"IF($F23=\"\",\"\",VLOOKUP($F23,'Reference Data - Transport fuel'!$C:$O,AA$4,FALSE))","v":""},{"$f":"IF($F23=\"\",\"\",VLOOKUP($F23,'Reference Data - Transport fuel'!$C:$O,AB$4,FALSE))","v":""},null,{"$f":"IF($F23=\"\",\"\",VLOOKUP($F23,'Reference Data - Transport fuel'!$C:$O,AD$4,FALSE))","v":""},null,{"$f":"IF($F23=\"\",\"\",VLOOKUP($F23,'Reference Data - Transport fuel'!$C:$O,AF$4,FALSE))","v":""},null,"","","","","","","","",null,"",null,"","",null,"",null,null,{"$f":"INDEX('Dropdown menus'!$A$1:$D$6,MATCH($M23,'Dropdown menus'!$A$1:$A$6,0),$AY$6)","v":{"$error":"#N/A"}},null,{"$f":"IF($N23=\"\",\"\",VLOOKUP($N23,'Reference - Logistics Distance'!$C:$O,BA$4,FALSE))","v":""},{"$f":"IF($N23=\"\",\"\",VLOOKUP($N23,'Reference - Logistics Distance'!$C:$O,BB$4,FALSE))","v":""},{"$f":"IF($N23=\"\",\"\",VLOOKUP($N23,'Reference - Logistics Distance'!$C:$O,BC$4,FALSE))","v":""},{"$f":"IF($N23=\"\",\"\",VLOOKUP($N23,'Reference - Logistics Distance'!$C:$O,BD$4,FALSE))","v":""},{"$f":"IF($N23=\"\",\"\",VLOOKUP($N23,'Reference - Logistics Distance'!$C:$O,BE$4,FALSE))","v":""},{"$f":"IF($N23=\"\",\"\",VLOOKUP($N23,'Reference - Logistics Distance'!$C:$O,BF$4,FALSE))","v":""},{"$f":"IF($N23=\"\",\"\",VLOOKUP($N23,'Reference - Logistics Distance'!$C:$O,BG$4,FALSE))","v":""},{"$f":"IF($N23=\"\",\"\",VLOOKUP($N23,'Reference - Logistics Distance'!$C:$O,BH$4,FALSE))","v":""},{"$f":"IF($N23=\"\",\"\",VLOOKUP($N23,'Reference - Logistics Distance'!$C:$O,BI$4,FALSE))","v":""},null,{"$f":"IF($N23=\"\",\"\",VLOOKUP($N23,'Reference - Logistics Distance'!$C:$O,BK$4,FALSE))","v":""},null,{"$f":"IF($N23=\"\",\"\",VLOOKUP($N23,'Reference - Logistics Distance'!$C:$O,BM$4,FALSE))","v":""},null,"","","","","","","","",null,"",null,"","",null,""]
[null,null,null,null,null,null,null,null,null,null,null,null,null,null,null,null,null,{"$f":"INDEX('Dropdown menus'!$A$1:$D$6,MATCH($E24,'Dropdown menus'!$A$1:$A$6,0),$R$6)","v":{"$error":"#N/A"}},null,{"$f":"IF($F24=\"\",\"\",VLOOKUP($F24,'Reference Data - Transport fuel'!$C:$O,T$4,FALSE))","v":""},{"$f":"IF($F24=\"\",\"\",VLOOKUP($F24,'Reference Data - Transport fuel'!$C:$O,U$4,FALSE))","v":""},{"$f":"IF($F24=\"\",\"\",VLOOKUP($F24,'Reference Data - Transport fuel'!$C:$O,V$4,FALSE))","v":""},{"$f":"IF($F24=\"\",\"\",VLOOKUP($F24,'Reference Data - Transport fuel'!$C:$O,W$4,FALSE))","v":""},{"$f":"IF($F24=\"\",\"\",VLOOKUP($F24,'Reference Data - Transport fuel'!$C:$O,X$4,FALSE))","v":""},{"$f":"IF($F24=\"\",\"\",VLOOKUP($F24,'Reference Data - Transport fuel'!$C:$O,Y$4,FALSE))","v":""},{"$f":"IF($F24=\"\",\"\",VLOOKUP($F24,'Reference Data - Transport fuel'!$C:$O,Z$4,FALSE))","v":""},{"$f":"IF($F24=\"\",\"\",VLOOKUP($F24,'Reference Data - Transport fuel'!$C:$O,AA$4,FALSE))","v":""},{"$f":"IF($F24=\"\",\"\",VLOOKUP($F24,'Reference Data - Transport fuel'!$C:$O,AB$4,FALSE))","v":""},null,{"$f":"IF($F24=\"\",\"\",VLOOKUP($F24,'Reference Data - Transport fuel'!$C:$O,AD$4,FALSE))","v":""},null,{"$f":"IF($F24=\"\",\"\",VLOOKUP($F24,'Reference Data - Transport fuel'!$C:$O,AF$4,FALSE))","v":""},null,"","","","","","","","",null,"",null,"","",null,"",null,null,{"$f":"INDEX('Dropdown menus'!$A$1:$D$6,MATCH($M24,'Dropdown menus'!$A$1:$A$6,0),$AY$6)","v":{"$error":"#N/A"}},null,{"$f":"IF($N24=\"\",\"\",VLOOKUP($N24,'Reference - Logistics Distance'!$C:$O,BA$4,FALSE))","v":""},{"$f":"IF($N24=\"\",\"\",VLOOKUP($N24,'Reference - Logistics Distance'!$C:$O,BB$4,FALSE))","v":""},{"$f":"IF($N24=\"\",\"\",VLOOKUP($N24,'Reference - Logistics Distance'!$C:$O,BC$4,FALSE))","v":""},{"$f":"IF($N24=\"\",\"\",VLOOKUP($N24,'Reference - Logistics Distance'!$C:$O,BD$4,FALSE))","v":""},{"$f":"IF($N24=\"\",\"\",VLOOKUP($N24,'Reference - Logistics Distance'!$C:$O,BE$4,FALSE))","v":""},{"$f":"IF($N24=\"\",\"\",VLOOKUP($N24,'Reference - Logistics Distance'!$C:$O,BF$4,FALSE))","v":""},{"$f":"IF($N24=\"\",\"\",VLOOKUP($N24,'Reference - Logistics Distance'!$C:$O,BG$4,FALSE))","v":""},{"$f":"IF($N24=\"\",\"\",VLOOKUP($N24,'Reference - Logistics Distance'!$C:$O,BH$4,FALSE))","v":""},{"$f":"IF($N24=\"\",\"\",VLOOKUP($N24,'Reference - Logistics Distance'!$C:$O,BI$4,FALSE))","v":""},null,{"$f":"IF($N24=\"\",\"\",VLOOKUP($N24,'Reference - Logistics Distance'!$C:$O,BK$4,FALSE))","v":""},null,{"$f":"IF($N24=\"\",\"\",VLOOKUP($N24,'Reference - Logistics Distance'!$C:$O,BM$4,FALSE))","v":""},null,"","","","","","","","",null,"",null,"","",null,""]
[null,null,null,null,null,null,null,null,null,null,null,null,null,null,null,null,null,{"$f":"INDEX('Dropdown menus'!$A$1:$D$6,MATCH($E25,'Dropdown menus'!$A$1:$A$6,0),$R$6)","v":{"$error":"#N/A"}},null,{"$f":"IF($F25=\"\",\"\",VLOOKUP($F25,'Reference Data - Transport fuel'!$C:$O,T$4,FALSE))","v":""},{"$f":"IF($F25=\"\",\"\",VLOOKUP($F25,'Reference Data - Transport fuel'!$C:$O,U$4,FALSE))","v":""},{"$f":"IF($F25=\"\",\"\",VLOOKUP($F25,'Reference Data - Transport fuel'!$C:$O,V$4,FALSE))","v":""},{"$f":"IF($F25=\"\",\"\",VLOOKUP($F25,'Reference Data - Transport fuel'!$C:$O,W$4,FALSE))","v":""},{"$f":"IF($F25=\"\",\"\",VLOOKUP($F25,'Reference Data - Transport fuel'!$C:$O,X$4,FALSE))","v":""},{"$f":"IF($F25=\"\",\"\",VLOOKUP($F25,'Reference Data - Transport fuel'!$C:$O,Y$4,FALSE))","v":""},{"$f":"IF($F25=\"\",\"\",VLOOKUP($F25,'Reference Data - Transport fuel'!$C:$O,Z$4,FALSE))","v":""},{"$f":"IF($F25=\"\",\"\",VLOOKUP($F25,'Reference Data - Transport fuel'!$C:$O,AA$4,FALSE))","v":""},{"$f":"IF($F25=\"\",\"\",VLOOKUP($F25,'Reference Data - Transport fuel'!$C:$O,AB$4,FALSE))","v":""},null,{"$f":"IF($F25=\"\",\"\",VLOOKUP($F25,'Reference Data - Transport fuel'!$C:$O,AD$4,FALSE))","v":""},null,{"$f":"IF($F25=\"\",\"\",VLOOKUP($F25,'Reference Data - Transport fuel'!$C:$O,AF$4,FALSE))","v":""},null,"","","","","","","","",null,"",null,"","",null,"",null,null,{"$f":"INDEX('Dropdown menus'!$A$1:$D$6,MATCH($M25,'Dropdown menus'!$A$1:$A$6,0),$AY$6)","v":{"$error":"#N/A"}},null,{"$f":"IF($N25=\"\",\"\",VLOOKUP($N25,'Reference - Logistics Distance'!$C:$O,BA$4,FALSE))","v":""},{"$f":"IF($N25=\"\",\"\",VLOOKUP($N25,'Reference - Logistics Distance'!$C:$O,BB$4,FALSE))","v":""},{"$f":"IF($N25=\"\",\"\",VLOOKUP($N25,'Reference - Logistics Distance'!$C:$O,BC$4,FALSE))","v":""},{"$f":"IF($N25=\"\",\"\",VLOOKUP($N25,'Reference - Logistics Distance'!$C:$O,BD$4,FALSE))","v":""},{"$f":"IF($N25=\"\",\"\",VLOOKUP($N25,'Reference - Logistics Distance'!$C:$O,BE$4,FALSE))","v":""},{"$f":"IF($N25=\"\",\"\",VLOOKUP($N25,'Reference - Logistics Distance'!$C:$O,BF$4,FALSE))","v":""},{"$f":"IF($N25=\"\",\"\",VLOOKUP($N25,'Reference - Logistics Distance'!$C:$O,BG$4,FALSE))","v":""},{"$f":"IF($N25=\"\",\"\",VLOOKUP($N25,'Reference - Logistics Distance'!$C:$O,BH$4,FALSE))","v":""},{"$f":"IF($N25=\"\",\"\",VLOOKUP($N25,'Reference - Logistics Distance'!$C:$O,BI$4,FALSE))","v":""},null,{"$f":"IF($N25=\"\",\"\",VLOOKUP($N25,'Reference - Logistics Distance'!$C:$O,BK$4,FALSE))","v":""},null,{"$f":"IF($N25=\"\",\"\",VLOOKUP($N25,'Reference - Logistics Distance'!$C:$O,BM$4,FALSE))","v":""},null,"","","","","","","","",null,"",null,"","",null,""]
[null,null,null,null,null,null,null,null,null,null,null,null,null,null,null,null,null,{"$f":"INDEX('Dropdown menus'!$A$1:$D$6,MATCH($E26,'Dropdown menus'!$A$1:$A$6,0),$R$6)","v":{"$error":"#N/A"}},null,{"$f":"IF($F26=\"\",\"\",VLOOKUP($F26,'Reference Data - Transport fuel'!$C:$O,T$4,FALSE))","v":""},{"$f":"IF($F26=\"\",\"\",VLOOKUP($F26,'Reference Data - Transport fuel'!$C:$O,U$4,FALSE))","v":""},{"$f":"IF($F26=\"\",\"\",VLOOKUP($F26,'Reference Data - Transport fuel'!$C:$O,V$4,FALSE))","v":""},{"$f":"IF($F26=\"\",\"\",VLOOKUP($F26,'Reference Data - Transport fuel'!$C:$O,W$4,FALSE))","v":""},{"$f":"IF($F26=\"\",\"\",VLOOKUP($F26,'Reference Data - Transport fuel'!$C:$O,X$4,FALSE))","v":""},{"$f":"IF($F26=\"\",\"\",VLOOKUP($F26,'Reference Data - Transport fuel'!$C:$O,Y$4,FALSE))","v":""},{"$f":"IF($F26=\"\",\"\",VLOOKUP($F26,'Reference Data - Transport fuel'!$C:$O,Z$4,FALSE))","v":""},{"$f":"IF($F26=\"\",\"\",VLOOKUP($F26,'Reference Data - Transport fuel'!$C:$O,AA$4,FALSE))","v":""},{"$f":"IF($F26=\"\",\"\",VLOOKUP($F26,'Reference Data - Transport fuel'!$C:$O,AB$4,FALSE))","v":""},null,{"$f":"IF($F26=\"\",\"\",VLOOKUP($F26,'Reference Data - Transport fuel'!$C:$O,AD$4,FALSE))","v":""},null,{"$f":"IF($F26=\"\",\"\",VLOOKUP($F26,'Reference Data - Transport fuel'!$C:$O,AF$4,FALSE))","v":""},null,"","","","","","","","",null,"",null,"","",null,"",null,null,{"$f":"INDEX('Dropdown menus'!$A$1:$D$6,MATCH($M26,'Dropdown menus'!$A$1:$A$6,0),$AY$6)","v":{"$error":"#N/A"}},null,{"$f":"IF($N26=\"\",\"\",VLOOKUP($N26,'Reference - Logistics Distance'!$C:$O,BA$4,FALSE))","v":""},{"$f":"IF($N26=\"\",\"\",VLOOKUP($N26,'Reference - Logistics Distance'!$C:$O,BB$4,FALSE))","v":""},{"$f":"IF($N26=\"\",\"\",VLOOKUP($N26,'Reference - Logistics Distance'!$C:$O,BC$4,FALSE))","v":""},{"$f":"IF($N26=\"\",\"\",VLOOKUP($N26,'Reference - Logistics Distance'!$C:$O,BD$4,FALSE))","v":""},{"$f":"IF($N26=\"\",\"\",VLOOKUP($N26,'Reference - Logistics Distance'!$C:$O,BE$4,FALSE))","v":""},{"$f":"IF($N26=\"\",\"\",VLOOKUP($N26,'Reference - Logistics Distance'!$C:$O,BF$4,FALSE))","v":""},{"$f":"IF($N26=\"\",\"\",VLOOKUP($N26,'Reference - Logistics Distance'!$C:$O,BG$4,FALSE))","v":""},{"$f":"IF($N26=\"\",\"\",VLOOKUP($N26,'Reference - Logistics Distance'!$C:$O,BH$4,FALSE))","v":""},{"$f":"IF($N26=\"\",\"\",VLOOKUP($N26,'Reference - Logistics Distance'!$C:$O,BI$4,FALSE))","v":""},null,{"$f":"IF($N26=\"\",\"\",VLOOKUP($N26,'Reference - Logistics Distance'!$C:$O,BK$4,FALSE))","v":""},null,{"$f":"IF($N26=\"\",\"\",VLOOKUP($N26,'Reference - Logistics Distance'!$C:$O,BM$4,FALSE))","v":""},null,"","","","","","","","",null,"",null,"","",null,""]
[null,null,null,null,null,null,null,null,null,null,null,null,null,null,null,null,null,{"$f":"INDEX('Dropdown menus'!$A$1:$D$6,MATCH($E27,'Dropdown menus'!$A$1:$A$6,0),$R$6)","v":{"$error":"#N/A"}},null,{"$f":"IF($F27=\"\",\"\",VLOOKUP($F27,'Reference Data - Transport fuel'!$C:$O,T$4,FALSE))","v":""},{"$f":"IF($F27=\"\",\"\",VLOOKUP($F27,'Reference Data - Transport fuel'!$C:$O,U$4,FALSE))","v":""},{"$f":"IF($F27=\"\",\"\",VLOOKUP($F27,'Reference Data - Transport fuel'!$C:$O,V$4,FALSE))","v":""},{"$f":"IF($F27=\"\",\"\",VLOOKUP($F27,'Reference Data - Transport fuel'!$C:$O,W$4,FALSE))","v":""},{"$f":"IF($F27=\"\",\"\",VLOOKUP($F27,'Reference Data - Transport fuel'!$C:$O,X$4,FALSE))","v":""},{"$f":"IF($F27=\"\",\"\",VLOOKUP($F27,'Reference Data - Transport fuel'!$C:$O,Y$4,FALSE))","v":""},{"$f":"IF($F27=\"\",\"\",VLOOKUP($F27,'Reference Data - Transport fuel'!$C:$O,Z$4,FALSE))","v":""},{"$f":"IF($F27=\"\",\"\",VLOOKUP($F27,'Reference Data - Transport fuel'!$C:$O,AA$4,FALSE))","v":""},{"$f":"IF($F27=\"\",\"\",VLOOKUP($F27,'Reference Data - Transport fuel'!$C:$O,AB$4,FALSE))","v":""},null,{"$f":"IF($F27=\"\",\"\",VLOOKUP($F27,'Reference Data - Transport fuel'!$C:$O,AD$4,FALSE))","v":""},null,{"$f":"IF($F27=\"\",\"\",VLOOKUP($F27,'Reference Data - Transport fuel'!$C:$O,AF$4,FALSE))","v":""},null,"","","","","","","","",null,"",null,"","",null,"",null,null,{"$f":"INDEX('Dropdown menus'!$A$1:$D$6,MATCH($M27,'Dropdown menus'!$A$1:$A$6,0),$AY$6)","v":{"$error":"#N/A"}},null,{"$f":"IF($N27=\"\",\"\",VLOOKUP($N27,'Reference - Logistics Distance'!$C:$O,BA$4,FALSE))","v":""},{"$f":"IF($N27=\"\",\"\",VLOOKUP($N27,'Reference - Logistics Distance'!$C:$O,BB$4,FALSE))","v":""},{"$f":"IF($N27=\"\",\"\",VLOOKUP($N27,'Reference - Logistics Distance'!$C:$O,BC$4,FALSE))","v":""},{"$f":"IF($N27=\"\",\"\",VLOOKUP($N27,'Reference - Logistics Distance'!$C:$O,BD$4,FALSE))","v":""},{"$f":"IF($N27=\"\",\"\",VLOOKUP($N27,'Reference - Logistics Distance'!$C:$O,BE$4,FALSE))","v":""},{"$f":"IF($N27=\"\",\"\",VLOOKUP($N27,'Reference - Logistics Distance'!$C:$O,BF$4,FALSE))","v":""},{"$f":"IF($N27=\"\",\"\",VLOOKUP($N27,'Reference - Logistics Distance'!$C:$O,BG$4,FALSE))","v":""},{"$f":"IF($N27=\"\",\"\",VLOOKUP($N27,'Reference - Logistics Distance'!$C:$O,BH$4,FALSE))","v":""},{"$f":"IF($N27=\"\",\"\",VLOOKUP($N27,'Reference - Logistics Distance'!$C:$O,BI$4,FALSE))","v":""},null,{"$f":"IF($N27=\"\",\"\",VLOOKUP($N27,'Reference - Logistics Distance'!$C:$O,BK$4,FALSE))","v":""},null,{"$f":"IF($N27=\"\",\"\",VLOOKUP($N27,'Reference - Logistics Distance'!$C:$O,BM$4,FALSE))","v":""},null,"","","","","","","","",null,"",null,"","",null,""]
[null,null,null,null,null,null,null,null,null,null,null,null,null,null,null,null,null,{"$f":"INDEX('Dropdown menus'!$A$1:$D$6,MATCH($E28,'Dropdown menus'!$A$1:$A$6,0),$R$6)","v":{"$error":"#N/A"}},null,{"$f":"IF($F28=\"\",\"\",VLOOKUP($F28,'Reference Data - Transport fuel'!$C:$O,T$4,FALSE))","v":""},{"$f":"IF($F28=\"\",\"\",VLOOKUP($F28,'Reference Data - Transport fuel'!$C:$O,U$4,FALSE))","v":""},{"$f":"IF($F28=\"\",\"\",VLOOKUP($F28,'Reference Data - Transport fuel'!$C:$O,V$4,FALSE))","v":""},{"$f":"IF($F28=\"\",\"\",VLOOKUP($F28,'Reference Data - Transport fuel'!$C:$O,W$4,FALSE))","v":""},{"$f":"IF($F28=\"\",\"\",VLOOKUP($F28,'Reference Data - Transport fuel'!$C:$O,X$4,FALSE))","v":""},{"$f":"IF($F28=\"\",\"\",VLOOKUP($F28,'Reference Data - Transport fuel'!$C:$O,Y$4,FALSE))","v":""},{"$f":"IF($F28=\"\",\"\",VLOOKUP($F28,'Reference Data - Transport fuel'!$C:$O,Z$4,FALSE))","v":""},{"$f":"IF($F28=\"\",\"\",VLOOKUP($F28,'Reference Data - Transport fuel'!$C:$O,AA$4,FALSE))","v":""},{"$f":"IF($F28=\"\",\"\",VLOOKUP($F28,'Reference Data - Transport fuel'!$C:$O,AB$4,FALSE))","v":""},null,{"$f":"IF($F28=\"\",\"\",VLOOKUP($F28,'Reference Data - Transport fuel'!$C:$O,AD$4,FALSE))","v":""},null,{"$f":"IF($F28=\"\",\"\",VLOOKUP($F28,'Reference Data - Transport fuel'!$C:$O,AF$4,FALSE))","v":""},null,"","","","","","","","",null,"",null,"","",null,"",null,null,{"$f":"INDEX('Dropdown menus'!$A$1:$D$6,MATCH($M28,'Dropdown menus'!$A$1:$A$6,0),$AY$6)","v":{"$error":"#N/A"}},null,{"$f":"IF($N28=\"\",\"\",VLOOKUP($N28,'Reference - Logistics Distance'!$C:$O,BA$4,FALSE))","v":""},{"$f":"IF($N28=\"\",\"\",VLOOKUP($N28,'Reference - Logistics Distance'!$C:$O,BB$4,FALSE))","v":""},{"$f":"IF($N28=\"\",\"\",VLOOKUP($N28,'Reference - Logistics Distance'!$C:$O,BC$4,FALSE))","v":""},{"$f":"IF($N28=\"\",\"\",VLOOKUP($N28,'Reference - Logistics Distance'!$C:$O,BD$4,FALSE))","v":""},{"$f":"IF($N28=\"\",\"\",VLOOKUP($N28,'Reference - Logistics Distance'!$C:$O,BE$4,FALSE))","v":""},{"$f":"IF($N28=\"\",\"\",VLOOKUP($N28,'Reference - Logistics Distance'!$C:$O,BF$4,FALSE))","v":""},{"$f":"IF($N28=\"\",\"\",VLOOKUP($N28,'Reference - Logistics Distance'!$C:$O,BG$4,FALSE))","v":""},{"$f":"IF($N28=\"\",\"\",VLOOKUP($N28,'Reference - Logistics Distance'!$C:$O,BH$4,FALSE))","v":""},{"$f":"IF($N28=\"\",\"\",VLOOKUP($N28,'Reference - Logistics Distance'!$C:$O,BI$4,FALSE))","v":""},null,{"$f":"IF($N28=\"\",\"\",VLOOKUP($N28,'Reference - Logistics Distance'!$C:$O,BK$4,FALSE))","v":""},null,{"$f":"IF($N28=\"\",\"\",VLOOKUP($N28,'Reference - Logistics Distance'!$C:$O,BM$4,FALSE))","v":""},null,"","","","","","","","",null,"",null,"","",null,""]
[null,null,null,null,null,null,null,null,null,null,null,null,null,null,null,null,null,{"$f":"INDEX('Dropdown menus'!$A$1:$D$6,MATCH($E29,'Dropdown menus'!$A$1:$A$6,0),$R$6)","v":{"$error":"#N/A"}},null,{"$f":"IF($F29=\"\",\"\",VLOOKUP($F29,'Reference Data - Transport fuel'!$C:$O,T$4,FALSE))","v":""},{"$f":"IF($F29=\"\",\"\",VLOOKUP($F29,'Reference Data - Transport fuel'!$C:$O,U$4,FALSE))","v":""},{"$f":"IF($F29=\"\",\"\",VLOOKUP($F29,'Reference Data - Transport fuel'!$C:$O,V$4,FALSE))","v":""},{"$f":"IF($F29=\"\",\"\",VLOOKUP($F29,'Reference Data - Transport fuel'!$C:$O,W$4,FALSE))","v":""},{"$f":"IF($F29=\"\",\"\",VLOOKUP($F29,'Reference Data - Transport fuel'!$C:$O,X$4,FALSE))","v":""},{"$f":"IF($F29=\"\",\"\",VLOOKUP($F29,'Reference Data - Transport fuel'!$C:$O,Y$4,FALSE))","v":""},{"$f":"IF($F29=\"\",\"\",VLOOKUP($F29,'Reference Data - Transport fuel'!$C:$O,Z$4,FALSE))","v":""},{"$f":"IF($F29=\"\",\"\",VLOOKUP($F29,'Reference Data - Transport fuel'!$C:$O,AA$4,FALSE))","v":""},{"$f":"IF($F29=\"\",\"\",VLOOKUP($F29,'Reference Data - Transport fuel'!$C:$O,AB$4,FALSE))","v":""},null,{"$f":"IF($F29=\"\",\"\",VLOOKUP($F29,'Reference Data - Transport fuel'!$C:$O,AD$4,FALSE))","v":""},null,{"$f":"IF($F29=\"\",\"\",VLOOKUP($F29,'Reference Data - Transport fuel'!$C:$O,AF$4,FALSE))","v":""},null,"","","","","","","","",null,"",null,"","",null,"",null,null,{"$f":"INDEX('Dropdown menus'!$A$1:$D$6,MATCH($M29,'Dropdown menus'!$A$1:$A$6,0),$AY$6)","v":{"$error":"#N/A"}},null,{"$f":"IF($N29=\"\",\"\",VLOOKUP($N29,'Reference - Logistics Distance'!$C:$O,BA$4,FALSE))","v":""},{"$f":"IF($N29=\"\",\"\",VLOOKUP($N29,'Reference - Logistics Distance'!$C:$O,BB$4,FALSE))","v":""},{"$f":"IF($N29=\"\",\"\",VLOOKUP($N29,'Reference - Logistics Distance'!$C:$O,BC$4,FALSE))","v":""},{"$f":"IF($N29=\"\",\"\",VLOOKUP($N29,'Reference - Logistics Distance'!$C:$O,BD$4,FALSE))","v":""},{"$f":"IF($N29=\"\",\"\",VLOOKUP($N29,'Reference - Logistics Distance'!$C:$O,BE$4,FALSE))","v":""},{"$f":"IF($N29=\"\",\"\",VLOOKUP($N29,'Reference - Logistics Distance'!$C:$O,BF$4,FALSE))","v":""},{"$f":"IF($N29=\"\",\"\",VLOOKUP($N29,'Reference - Logistics Distance'!$C:$O,BG$4,FALSE))","v":""},{"$f":"IF($N29=\"\",\"\",VLOOKUP($N29,'Reference - Logistics Distance'!$C:$O,BH$4,FALSE))","v":""},{"$f":"IF($N29=\"\",\"\",VLOOKUP($N29,'Reference - Logistics Distance'!$C:$O,BI$4,FALSE))","v":""},null,{"$f":"IF($N29=\"\",\"\",VLOOKUP($N29,'Reference - Logistics Distance'!$C:$O,BK$4,FALSE))","v":""},null,{"$f":"IF($N29=\"\",\"\",VLOOKUP($N29,'Reference - Logistics Distance'!$C:$O,BM$4,FALSE))","v":""},null,"","","","","","","","",null,"",null,"","",null,""]
[null,null,null,null,null,null,null,null,null,null,null,null,null,null,null,null,null,{"$f":"INDEX('Dropdown menus'!$A$1:$D$6,MATCH($E30,'Dropdown menus'!$A$1:$A$6,0),$R$6)","v":{"$error":"#N/A"}},null,{"$f":"IF($F30=\"\",\"\",VLOOKUP($F30,'Reference Data - Transport fuel'!$C:$O,T$4,FALSE))","v":""},{"$f":"IF($F30=\"\",\"\",VLOOKUP($F30,'Reference Data - Transport fuel'!$C:$O,U$4,FALSE))","v":""},{"$f":"IF($F30=\"\",\"\",VLOOKUP($F30,'Reference Data - Transport fuel'!$C:$O,V$4,FALSE))","v":""},{"$f":"IF($F30=\"\",\"\",VLOOKUP($F30,'Reference Data - Transport fuel'!$C:$O,W$4,FALSE))","v":""},{"$f":"IF($F30=\"\",\"\",VLOOKUP($F30,'Reference Data - Transport fuel'!$C:$O,X$4,FALSE))","v":""},{"$f":"IF($F30=\"\",\"\",VLOOKUP($F30,'Reference Data - Transport fuel'!$C:$O,Y$4,FALSE))","v":""},{"$f":"IF($F30=\"\",\"\",VLOOKUP($F30,'Reference Data - Transport fuel'!$C:$O,Z$4,FALSE))","v":""},{"$f":"IF($F30=\"\",\"\",VLOOKUP($F30,'Reference Data - Transport fuel'!$C:$O,AA$4,FALSE))","v":""},{"$f":"IF($F30=\"\",\"\",VLOOKUP($F30,'Reference Data - Transport fuel'!$C:$O,AB$4,FALSE))","v":""},null,{"$f":"IF($F30=\"\",\"\",VLOOKUP($F30,'Reference Data - Transport fuel'!$C:$O,AD$4,FALSE))","v":""},null,{"$f":"IF($F30=\"\",\"\",VLOOKUP($F30,'Reference Data - Transport fuel'!$C:$O,AF$4,FALSE))","v":""},null,"","","","","","","","",null,"",null,"","",null,"",null,null,{"$f":"INDEX('Dropdown menus'!$A$1:$D$6,MATCH($M30,'Dropdown menus'!$A$1:$A$6,0),$AY$6)","v":{"$error":"#N/A"}},null,{"$f":"IF($N30=\"\",\"\",VLOOKUP($N30,'Reference - Logistics Distance'!$C:$O,BA$4,FALSE))","v":""},{"$f":"IF($N30=\"\",\"\",VLOOKUP($N30,'Reference - Logistics Distance'!$C:$O,BB$4,FALSE))","v":""},{"$f":"IF($N30=\"\",\"\",VLOOKUP($N30,'Reference - Logistics Distance'!$C:$O,BC$4,FALSE))","v":""},{"$f":"IF($N30=\"\",\"\",VLOOKUP($N30,'Reference - Logistics Distance'!$C:$O,BD$4,FALSE))","v":""},{"$f":"IF($N30=\"\",\"\",VLOOKUP($N30,'Reference - Logistics Distance'!$C:$O,BE$4,FALSE))","v":""},{"$f":"IF($N30=\"\",\"\",VLOOKUP($N30,'Reference - Logistics Distance'!$C:$O,BF$4,FALSE))","v":""},{"$f":"IF($N30=\"\",\"\",VLOOKUP($N30,'Reference - Logistics Distance'!$C:$O,BG$4,FALSE))","v":""},{"$f":"IF($N30=\"\",\"\",VLOOKUP($N30,'Reference - Logistics Distance'!$C:$O,BH$4,FALSE))","v":""},{"$f":"IF($N30=\"\",\"\",VLOOKUP($N30,'Reference - Logistics Distance'!$C:$O,BI$4,FALSE))","v":""},null,{"$f":"IF($N30=\"\",\"\",VLOOKUP($N30,'Reference - Logistics Distance'!$C:$O,BK$4,FALSE))","v":""},null,{"$f":"IF($N30=\"\",\"\",VLOOKUP($N30,'Reference - Logistics Distance'!$C:$O,BM$4,FALSE))","v":""},null,"","","","","","","","",null,"",null,"","",null,""]
[null,null,null,null,null,null,null,null,null,null,null,null,null,null,null,null,null,{"$f":"INDEX('Dropdown menus'!$A$1:$D$6,MATCH($E31,'Dropdown menus'!$A$1:$A$6,0),$R$6)","v":{"$error":"#N/A"}},null,{"$f":"IF($F31=\"\",\"\",VLOOKUP($F31,'Reference Data - Transport fuel'!$C:$O,T$4,FALSE))","v":""},{"$f":"IF($F31=\"\",\"\",VLOOKUP($F31,'Reference Data - Transport fuel'!$C:$O,U$4,FALSE))","v":""},{"$f":"IF($F31=\"\",\"\",VLOOKUP($F31,'Reference Data - Transport fuel'!$C:$O,V$4,FALSE))","v":""},{"$f":"IF($F31=\"\",\"\",VLOOKUP($F31,'Reference Data - Transport fuel'!$C:$O,W$4,FALSE))","v":""},{"$f":"IF($F31=\"\",\"\",VLOOKUP($F31,'Reference Data - Transport fuel'!$C:$O,X$4,FALSE))","v":""},{"$f":"IF($F31=\"\",\"\",VLOOKUP($F31,'Reference Data - Transport fuel'!$C:$O,Y$4,FALSE))","v":""},{"$f":"IF($F31=\"\",\"\",VLOOKUP($F31,'Reference Data - Transport fuel'!$C:$O,Z$4,FALSE))","v":""},{"$f":"IF($F31=\"\",\"\",VLOOKUP($F31,'Reference Data - Transport fuel'!$C:$O,AA$4,FALSE))","v":""},{"$f":"IF($F31=\"\",\"\",VLOOKUP($F31,'Reference Data - Transport fuel'!$C:$O,AB$4,FALSE))","v":""},null,{"$f":"IF($F31=\"\",\"\",VLOOKUP($F31,'Reference Data - Transport fuel'!$C:$O,AD$4,FALSE))","v":""},null,{"$f":"IF($F31=\"\",\"\",VLOOKUP($F31,'Reference Data - Transport fuel'!$C:$O,AF$4,FALSE))","v":""},null,"","","","","","","","",null,"",null,"","",null,"",null,null,{"$f":"INDEX('Dropdown menus'!$A$1:$D$6,MATCH($M31,'Dropdown menus'!$A$1:$A$6,0),$AY$6)","v":{"$error":"#N/A"}},null,{"$f":"IF($N31=\"\",\"\",VLOOKUP($N31,'Reference - Logistics Distance'!$C:$O,BA$4,FALSE))","v":""},{"$f":"IF($N31=\"\",\"\",VLOOKUP($N31,'Reference - Logistics Distance'!$C:$O,BB$4,FALSE))","v":""},{"$f":"IF($N31=\"\",\"\",VLOOKUP($N31,'Reference - Logistics Distance'!$C:$O,BC$4,FALSE))","v":""},{"$f":"IF($N31=\"\",\"\",VLOOKUP($N31,'Reference - Logistics Distance'!$C:$O,BD$4,FALSE))","v":""},{"$f":"IF($N31=\"\",\"\",VLOOKUP($N31,'Reference - Logistics Distance'!$C:$O,BE$4,FALSE))","v":""},{"$f":"IF($N31=\"\",\"\",VLOOKUP($N31,'Reference - Logistics Distance'!$C:$O,BF$4,FALSE))","v":""},{"$f":"IF($N31=\"\",\"\",VLOOKUP($N31,'Reference - Logistics Distance'!$C:$O,BG$4,FALSE))","v":""},{"$f":"IF($N31=\"\",\"\",VLOOKUP($N31,'Reference - Logistics Distance'!$C:$O,BH$4,FALSE))","v":""},{"$f":"IF($N31=\"\",\"\",VLOOKUP($N31,'Reference - Logistics Distance'!$C:$O,BI$4,FALSE))","v":""},null,{"$f":"IF($N31=\"\",\"\",VLOOKUP($N31,'Reference - Logistics Distance'!$C:$O,BK$4,FALSE))","v":""},null,{"$f":"IF($N31=\"\",\"\",VLOOKUP($N31,'Reference - Logistics Distance'!$C:$O,BM$4,FALSE))","v":""},null,"","","","","","","","",null,"",null,"","",null,""]
[null,null,null,null,null,null,null,null,null,null,null,null,null,null,null,null,null,{"$f":"INDEX('Dropdown menus'!$A$1:$D$6,MATCH($E32,'Dropdown menus'!$A$1:$A$6,0),$R$6)","v":{"$error":"#N/A"}},null,{"$f":"IF($F32=\"\",\"\",VLOOKUP($F32,'Reference Data - Transport fuel'!$C:$O,T$4,FALSE))","v":""},{"$f":"IF($F32=\"\",\"\",VLOOKUP($F32,'Reference Data - Transport fuel'!$C:$O,U$4,FALSE))","v":""},{"$f":"IF($F32=\"\",\"\",VLOOKUP($F32,'Reference Data - Transport fuel'!$C:$O,V$4,FALSE))","v":""},{"$f":"IF($F32=\"\",\"\",VLOOKUP($F32,'Reference Data - Transport fuel'!$C:$O,W$4,FALSE))","v":""},{"$f":"IF($F32=\"\",\"\",VLOOKUP($F32,'Reference Data - Transport fuel'!$C:$O,X$4,FALSE))","v":""},{"$f":"IF($F32=\"\",\"\",VLOOKUP($F32,'Reference Data - Transport fuel'!$C:$O,Y$4,FALSE))","v":""},{"$f":"IF($F32=\"\",\"\",VLOOKUP($F32,'Reference Data - Transport fuel'!$C:$O,Z$4,FALSE))","v":""},{"$f":"IF($F32=\"\",\"\",VLOOKUP($F32,'Reference Data - Transport fuel'!$C:$O,AA$4,FALSE))","v":""},{"$f":"IF($F32=\"\",\"\",VLOOKUP($F32,'Reference Data - Transport fuel'!$C:$O,AB$4,FALSE))","v":""},null,{"$f":"IF($F32=\"\",\"\",VLOOKUP($F32,'Reference Data - Transport fuel'!$C:$O,AD$4,FALSE))","v":""},null,{"$f":"IF($F32=\"\",\"\",VLOOKUP($F32,'Reference Data - Transport fuel'!$C:$O,AF$4,FALSE))","v":""},null,"","","","","","","","",null,"",null,"","",null,"",null,null,{"$f":"INDEX('Dropdown menus'!$A$1:$D$6,MATCH($M32,'Dropdown menus'!$A$1:$A$6,0),$AY$6)","v":{"$error":"#N/A"}},null,{"$f":"IF($N32=\"\",\"\",VLOOKUP($N32,'Reference - Logistics Distance'!$C:$O,BA$4,FALSE))","v":""},{"$f":"IF($N32=\"\",\"\",VLOOKUP($N32,'Reference - Logistics Distance'!$C:$O,BB$4,FALSE))","v":""},{"$f":"IF($N32=\"\",\"\",VLOOKUP($N32,'Reference - Logistics Distance'!$C:$O,BC$4,FALSE))","v":""},{"$f":"IF($N32=\"\",\"\",VLOOKUP($N32,'Reference - Logistics Distance'!$C:$O,BD$4,FALSE))","v":""},{"$f":"IF($N32=\"\",\"\",VLOOKUP($N32,'Reference - Logistics Distance'!$C:$O,BE$4,FALSE))","v":""},{"$f":"IF($N32=\"\",\"\",VLOOKUP($N32,'Reference - Logistics Distance'!$C:$O,BF$4,FALSE))","v":""},{"$f":"IF($N32=\"\",\"\",VLOOKUP($N32,'Reference - Logistics Distance'!$C:$O,BG$4,FALSE))","v":""},{"$f":"IF($N32=\"\",\"\",VLOOKUP($N32,'Reference - Logistics Distance'!$C:$O,BH$4,FALSE))","v":""},{"$f":"IF($N32=\"\",\"\",VLOOKUP($N32,'Reference - Logistics Distance'!$C:$O,BI$4,FALSE))","v":""},null,{"$f":"IF($N32=\"\",\"\",VLOOKUP($N32,'Reference - Logistics Distance'!$C:$O,BK$4,FALSE))","v":""},null,{"$f":"IF($N32=\"\",\"\",VLOOKUP($N32,'Reference - Logistics Distance'!$C:$O,BM$4,FALSE))","v":""},null,"","","","","","","","",null,"",null,"","",null,""]
[null,null,null,null,null,null,null,null,null,null,null,null,null,null,null,null,null,{"$f":"INDEX('Dropdown menus'!$A$1:$D$6,MATCH($E33,'Dropdown menus'!$A$1:$A$6,0),$R$6)","v":{"$error":"#N/A"}},null,{"$f":"IF($F33=\"\",\"\",VLOOKUP($F33,'Reference Data - Transport fuel'!$C:$O,T$4,FALSE))","v":""},{"$f":"IF($F33=\"\",\"\",VLOOKUP($F33,'Reference Data - Transport fuel'!$C:$O,U$4,FALSE))","v":""},{"$f":"IF($F33=\"\",\"\",VLOOKUP($F33,'Reference Data - Transport fuel'!$C:$O,V$4,FALSE))","v":""},{"$f":"IF($F33=\"\",\"\",VLOOKUP($F33,'Reference Data - Transport fuel'!$C:$O,W$4,FALSE))","v":""},{"$f":"IF($F33=\"\",\"\",VLOOKUP($F33,'Reference Data - Transport fuel'!$C:$O,X$4,FALSE))","v":""},{"$f":"IF($F33=\"\",\"\",VLOOKUP($F33,'Reference Data - Transport fuel'!$C:$O,Y$4,FALSE))","v":""},{"$f":"IF($F33=\"\",\"\",VLOOKUP($F33,'Reference Data - Transport fuel'!$C:$O,Z$4,FALSE))","v":""},{"$f":"IF($F33=\"\",\"\",VLOOKUP($F33,'Reference Data - Transport fuel'!$C:$O,AA$4,FALSE))","v":""},{"$f":"IF($F33=\"\",\"\",VLOOKUP($F33,'Reference Data - Transport fuel'!$C:$O,AB$4,FALSE))","v":""},null,{"$f":"IF($F33=\"\",\"\",VLOOKUP($F33,'Reference Data - Transport fuel'!$C:$O,AD$4,FALSE))","v":""},null,{"$f":"IF($F33=\"\",\"\",VLOOKUP($F33,'Reference Data - Transport fuel'!$C:$O,AF$4,FALSE))","v":""},null,"","","","","","","","",null,"",null,"","",null,"",null,null,{"$f":"INDEX('Dropdown menus'!$A$1:$D$6,MATCH($M33,'Dropdown menus'!$A$1:$A$6,0),$AY$6)","v":{"$error":"#N/A"}},null,{"$f":"IF($N33=\"\",\"\",VLOOKUP($N33,'Reference - Logistics Distance'!$C:$O,BA$4,FALSE))","v":""},{"$f":"IF($N33=\"\",\"\",VLOOKUP($N33,'Reference - Logistics Distance'!$C:$O,BB$4,FALSE))","v":""},{"$f":"IF($N33=\"\",\"\",VLOOKUP($N33,'Reference - Logistics Distance'!$C:$O,BC$4,FALSE))","v":""},{"$f":"IF($N33=\"\",\"\",VLOOKUP($N33,'Reference - Logistics Distance'!$C:$O,BD$4,FALSE))","v":""},{"$f":"IF($N33=\"\",\"\",VLOOKUP($N33,'Reference - Logistics Distance'!$C:$O,BE$4,FALSE))","v":""},{"$f":"IF($N33=\"\",\"\",VLOOKUP($N33,'Reference - Logistics Distance'!$C:$O,BF$4,FALSE))","v":""},{"$f":"IF($N33=\"\",\"\",VLOOKUP($N33,'Reference - Logistics Distance'!$C:$O,BG$4,FALSE))","v":""},{"$f":"IF($N33=\"\",\"\",VLOOKUP($N33,'Reference - Logistics Distance'!$C:$O,BH$4,FALSE))","v":""},{"$f":"IF($N33=\"\",\"\",VLOOKUP($N33,'Reference - Logistics Distance'!$C:$O,BI$4,FALSE))","v":""},null,{"$f":"IF($N33=\"\",\"\",VLOOKUP($N33,'Reference - Logistics Distance'!$C:$O,BK$4,FALSE))","v":""},null,{"$f":"IF($N33=\"\",\"\",VLOOKUP($N33,'Reference - Logistics Distance'!$C:$O,BM$4,FALSE))","v":""},null,"","","","","","","","",null,"",null,"","",null,""]
[null,null,null,null,null,null,null,null,null,null,null,null,null,null,null,null,null,{"$f":"INDEX('Dropdown menus'!$A$1:$D$6,MATCH($E34,'Dropdown menus'!$A$1:$A$6,0),$R$6)","v":{"$error":"#N/A"}},null,{"$f":"IF($F34=\"\",\"\",VLOOKUP($F34,'Reference Data - Transport fuel'!$C:$O,T$4,FALSE))","v":""},{"$f":"IF($F34=\"\",\"\",VLOOKUP($F34,'Reference Data - Transport fuel'!$C:$O,U$4,FALSE))","v":""},{"$f":"IF($F34=\"\",\"\",VLOOKUP($F34,'Reference Data - Transport fuel'!$C:$O,V$4,FALSE))","v":""},{"$f":"IF($F34=\"\",\"\",VLOOKUP($F34,'Reference Data - Transport fuel'!$C:$O,W$4,FALSE))","v":""},{"$f":"IF($F34=\"\",\"\",VLOOKUP($F34,'Reference Data - Transport fuel'!$C:$O,X$4,FALSE))","v":""},{"$f":"IF($F34=\"\",\"\",VLOOKUP($F34,'Reference Data - Transport fuel'!$C:$O,Y$4,FALSE))","v":""},{"$f":"IF($F34=\"\",\"\",VLOOKUP($F34,'Reference Data - Transport fuel'!$C:$O,Z$4,FALSE))","v":""},{"$f":"IF($F34=\"\",\"\",VLOOKUP($F34,'Reference Data - Transport fuel'!$C:$O,AA$4,FALSE))","v":""},{"$f":"IF($F34=\"\",\"\",VLOOKUP($F34,'Reference Data - Transport fuel'!$C:$O,AB$4,FALSE))","v":""},null,{"$f":"IF($F34=\"\",\"\",VLOOKUP($F34,'Reference Data - Transport fuel'!$C:$O,AD$4,FALSE))","v":""},null,{"$f":"IF($F34=\"\",\"\",VLOOKUP($F34,'Reference Data - Transport fuel'!$C:$O,AF$4,FALSE))","v":""},null,"","","","","","","","",null,"",null,"","",null,"",null,null,{"$f":"INDEX('Dropdown menus'!$A$1:$D$6,MATCH($M34,'Dropdown menus'!$A$1:$A$6,0),$AY$6)","v":{"$error":"#N/A"}},null,{"$f":"IF($N34=\"\",\"\",VLOOKUP($N34,'Reference - Logistics Distance'!$C:$O,BA$4,FALSE))","v":""},{"$f":"IF($N34=\"\",\"\",VLOOKUP($N34,'Reference - Logistics Distance'!$C:$O,BB$4,FALSE))","v":""},{"$f":"IF($N34=\"\",\"\",VLOOKUP($N34,'Reference - Logistics Distance'!$C:$O,BC$4,FALSE))","v":""},{"$f":"IF($N34=\"\",\"\",VLOOKUP($N34,'Reference - Logistics Distance'!$C:$O,BD$4,FALSE))","v":""},{"$f":"IF($N34=\"\",\"\",VLOOKUP($N34,'Reference - Logistics Distance'!$C:$O,BE$4,FALSE))","v":""},{"$f":"IF($N34=\"\",\"\",VLOOKUP($N34,'Reference - Logistics Distance'!$C:$O,BF$4,FALSE))","v":""},{"$f":"IF($N34=\"\",\"\",VLOOKUP($N34,'Reference - Logistics Distance'!$C:$O,BG$4,FALSE))","v":""},{"$f":"IF($N34=\"\",\"\",VLOOKUP($N34,'Reference - Logistics Distance'!$C:$O,BH$4,FALSE))","v":""},{"$f":"IF($N34=\"\",\"\",VLOOKUP($N34,'Reference - Logistics Distance'!$C:$O,BI$4,FALSE))","v":""},null,{"$f":"IF($N34=\"\",\"\",VLOOKUP($N34,'Reference - Logistics Distance'!$C:$O,BK$4,FALSE))","v":""},null,{"$f":"IF($N34=\"\",\"\",VLOOKUP($N34,'Reference - Logistics Distance'!$C:$O,BM$4,FALSE))","v":""},null,"","","","","","","","",null,"",null,"","",null,""]
[null,null,null,null,null,null,null,null,null,null,null,null,null,null,null,null,null,{"$f":"INDEX('Dropdown menus'!$A$1:$D$6,MATCH($E35,'Dropdown menus'!$A$1:$A$6,0),$R$6)","v":{"$error":"#N/A"}},null,{"$f":"IF($F35=\"\",\"\",VLOOKUP($F35,'Reference Data - Transport fuel'!$C:$O,T$4,FALSE))","v":""},{"$f":"IF($F35=\"\",\"\",VLOOKUP($F35,'Reference Data - Transport fuel'!$C:$O,U$4,FALSE))","v":""},{"$f":"IF($F35=\"\",\"\",VLOOKUP($F35,'Reference Data - Transport fuel'!$C:$O,V$4,FALSE))","v":""},{"$f":"IF($F35=\"\",\"\",VLOOKUP($F35,'Reference Data - Transport fuel'!$C:$O,W$4,FALSE))","v":""},{"$f":"IF($F35=\"\",\"\",VLOOKUP($F35,'Reference Data - Transport fuel'!$C:$O,X$4,FALSE))","v":""},{"$f":"IF($F35=\"\",\"\",VLOOKUP($F35,'Reference Data - Transport fuel'!$C:$O,Y$4,FALSE))","v":""},{"$f":"IF($F35=\"\",\"\",VLOOKUP($F35,'Reference Data - Transport fuel'!$C:$O,Z$4,FALSE))","v":""},{"$f":"IF($F35=\"\",\"\",VLOOKUP($F35,'Reference Data - Transport fuel'!$C:$O,AA$4,FALSE))","v":""},{"$f":"IF($F35=\"\",\"\",VLOOKUP($F35,'Reference Data - Transport fuel'!$C:$O,AB$4,FALSE))","v":""},null,{"$f":"IF($F35=\"\",\"\",VLOOKUP($F35,'Reference Data - Transport fuel'!$C:$O,AD$4,FALSE))","v":""},null,{"$f":"IF($F35=\"\",\"\",VLOOKUP($F35,'Reference Data - Transport fuel'!$C:$O,AF$4,FALSE))","v":""},null,"","","","","","","","",null,"",null,"","",null,"",null,null,{"$f":"INDEX('Dropdown menus'!$A$1:$D$6,MATCH($M35,'Dropdown menus'!$A$1:$A$6,0),$AY$6)","v":{"$error":"#N/A"}},null,{"$f":"IF($N35=\"\",\"\",VLOOKUP($N35,'Reference - Logistics Distance'!$C:$O,BA$4,FALSE))","v":""},{"$f":"IF($N35=\"\",\"\",VLOOKUP($N35,'Reference - Logistics Distance'!$C:$O,BB$4,FALSE))","v":""},{"$f":"IF($N35=\"\",\"\",VLOOKUP($N35,'Reference - Logistics Distance'!$C:$O,BC$4,FALSE))","v":""},{"$f":"IF($N35=\"\",\"\",VLOOKUP($N35,'Reference - Logistics Distance'!$C:$O,BD$4,FALSE))","v":""},{"$f":"IF($N35=\"\",\"\",VLOOKUP($N35,'Reference - Logistics Distance'!$C:$O,BE$4,FALSE))","v":""},{"$f":"IF($N35=\"\",\"\",VLOOKUP($N35,'Reference - Logistics Distance'!$C:$O,BF$4,FALSE))","v":""},{"$f":"IF($N35=\"\",\"\",VLOOKUP($N35,'Reference - Logistics Distance'!$C:$O,BG$4,FALSE))","v":""},{"$f":"IF($N35=\"\",\"\",VLOOKUP($N35,'Reference - Logistics Distance'!$C:$O,BH$4,FALSE))","v":""},{"$f":"IF($N35=\"\",\"\",VLOOKUP($N35,'Reference - Logistics Distance'!$C:$O,BI$4,FALSE))","v":""},null,{"$f":"IF($N35=\"\",\"\",VLOOKUP($N35,'Reference - Logistics Distance'!$C:$O,BK$4,FALSE))","v":""},null,{"$f":"IF($N35=\"\",\"\",VLOOKUP($N35,'Reference - Logistics Distance'!$C:$O,BM$4,FALSE))","v":""},null,"","","","","","","","",null,"",null,"","",null,""]
[null,null,null,null,null,null,null,null,null,null,null,null,null,null,null,null,null,{"$f":"INDEX('Dropdown menus'!$A$1:$D$6,MATCH($E36,'Dropdown menus'!$A$1:$A$6,0),$R$6)","v":{"$error":"#N/A"}},null,{"$f":"IF($F36=\"\",\"\",VLOOKUP($F36,'Reference Data - Transport fuel'!$C:$O,T$4,FALSE))","v":""},{"$f":"IF($F36=\"\",\"\",VLOOKUP($F36,'Reference Data - Transport fuel'!$C:$O,U$4,FALSE))","v":""},{"$f":"IF($F36=\"\",\"\",VLOOKUP($F36,'Reference Data - Transport fuel'!$C:$O,V$4,FALSE))","v":""},{"$f":"IF($F36=\"\",\"\",VLOOKUP($F36,'Reference Data - Transport fuel'!$C:$O,W$4,FALSE))","v":""},{"$f":"IF($F36=\"\",\"\",VLOOKUP($F36,'Reference Data - Transport fuel'!$C:$O,X$4,FALSE))","v":""},{"$f":"IF($F36=\"\",\"\",VLOOKUP($F36,'Reference Data - Transport fuel'!$C:$O,Y$4,FALSE))","v":""},{"$f":"IF($F36=\"\",\"\",VLOOKUP($F36,'Reference Data - Transport fuel'!$C:$O,Z$4,FALSE))","v":""},{"$f":"IF($F36=\"\",\"\",VLOOKUP($F36,'Reference Data - Transport fuel'!$C:$O,AA$4,FALSE))","v":""},{"$f":"IF($F36=\"\",\"\",VLOOKUP($F36,'Reference Data - Transport fuel'!$C:$O,AB$4,FALSE))","v":""},null,{"$f":"IF($F36=\"\",\"\",VLOOKUP($F36,'Reference Data - Transport fuel'!$C:$O,AD$4,FALSE))","v":""},null,{"$f":"IF($F36=\"\",\"\",VLOOKUP($F36,'Reference Data - Transport fuel'!$C:$O,AF$4,FALSE))","v":""},null,"","","","","","","","",null,"",null,"","",null,"",null,null,{"$f":"INDEX('Dropdown menus'!$A$1:$D$6,MATCH($M36,'Dropdown menus'!$A$1:$A$6,0),$AY$6)","v":{"$error":"#N/A"}},null,{"$f":"IF($N36=\"\",\"\",VLOOKUP($N36,'Reference - Logistics Distance'!$C:$O,BA$4,FALSE))","v":""},{"$f":"IF($N36=\"\",\"\",VLOOKUP($N36,'Reference - Logistics Distance'!$C:$O,BB$4,FALSE))","v":""},{"$f":"IF($N36=\"\",\"\",VLOOKUP($N36,'Reference - Logistics Distance'!$C:$O,BC$4,FALSE))","v":""},{"$f":"IF($N36=\"\",\"\",VLOOKUP($N36,'Reference - Logistics Distance'!$C:$O,BD$4,FALSE))","v":""},{"$f":"IF($N36=\"\",\"\",VLOOKUP($N36,'Reference - Logistics Distance'!$C:$O,BE$4,FALSE))","v":""},{"$f":"IF($N36=\"\",\"\",VLOOKUP($N36,'Reference - Logistics Distance'!$C:$O,BF$4,FALSE))","v":""},{"$f":"IF($N36=\"\",\"\",VLOOKUP($N36,'Reference - Logistics Distance'!$C:$O,BG$4,FALSE))","v":""},{"$f":"IF($N36=\"\",\"\",VLOOKUP($N36,'Reference - Logistics Distance'!$C:$O,BH$4,FALSE))","v":""},{"$f":"IF($N36=\"\",\"\",VLOOKUP($N36,'Reference - Logistics Distance'!$C:$O,BI$4,FALSE))","v":""},null,{"$f":"IF($N36=\"\",\"\",VLOOKUP($N36,'Reference - Logistics Distance'!$C:$O,BK$4,FALSE))","v":""},null,{"$f":"IF($N36=\"\",\"\",VLOOKUP($N36,'Reference - Logistics Distance'!$C:$O,BM$4,FALSE))","v":""},null,"","","","","","","","",null,"",null,"","",null,""]
[null,null,null,null,null,null,null,null,null,null,null,null,null,null,null,null,null,{"$f":"INDEX('Dropdown menus'!$A$1:$D$6,MATCH($E37,'Dropdown menus'!$A$1:$A$6,0),$R$6)","v":{"$error":"#N/A"}},null,{"$f":"IF($F37=\"\",\"\",VLOOKUP($F37,'Reference Data - Transport fuel'!$C:$O,T$4,FALSE))","v":""},{"$f":"IF($F37=\"\",\"\",VLOOKUP($F37,'Reference Data - Transport fuel'!$C:$O,U$4,FALSE))","v":""},{"$f":"IF($F37=\"\",\"\",VLOOKUP($F37,'Reference Data - Transport fuel'!$C:$O,V$4,FALSE))","v":""},{"$f":"IF($F37=\"\",\"\",VLOOKUP($F37,'Reference Data - Transport fuel'!$C:$O,W$4,FALSE))","v":""},{"$f":"IF($F37=\"\",\"\",VLOOKUP($F37,'Reference Data - Transport fuel'!$C:$O,X$4,FALSE))","v":""},{"$f":"IF($F37=\"\",\"\",VLOOKUP($F37,'Reference Data - Transport fuel'!$C:$O,Y$4,FALSE))","v":""},{"$f":"IF($F37=\"\",\"\",VLOOKUP($F37,'Reference Data - Transport fuel'!$C:$O,Z$4,FALSE))","v":""},{"$f":"IF($F37=\"\",\"\",VLOOKUP($F37,'Reference Data - Transport fuel'!$C:$O,AA$4,FALSE))","v":""},{"$f":"IF($F37=\"\",\"\",VLOOKUP($F37,'Reference Data - Transport fuel'!$C:$O,AB$4,FALSE))","v":""},null,{"$f":"IF($F37=\"\",\"\",VLOOKUP($F37,'Reference Data - Transport fuel'!$C:$O,AD$4,FALSE))","v":""},null,{"$f":"IF($F37=\"\",\"\",VLOOKUP($F37,'Reference Data - Transport fuel'!$C:$O,AF$4,FALSE))","v":""},null,"","","","","","","","",null,"",null,"","",null,"",null,null,{"$f":"INDEX('Dropdown menus'!$A$1:$D$6,MATCH($M37,'Dropdown menus'!$A$1:$A$6,0),$AY$6)","v":{"$error":"#N/A"}},null,{"$f":"IF($N37=\"\",\"\",VLOOKUP($N37,'Reference - Logistics Distance'!$C:$O,BA$4,FALSE))","v":""},{"$f":"IF($N37=\"\",\"\",VLOOKUP($N37,'Reference - Logistics Distance'!$C:$O,BB$4,FALSE))","v":""},{"$f":"IF($N37=\"\",\"\",VLOOKUP($N37,'Reference - Logistics Distance'!$C:$O,BC$4,FALSE))","v":""},{"$f":"IF($N37=\"\",\"\",VLOOKUP($N37,'Reference - Logistics Distance'!$C:$O,BD$4,FALSE))","v":""},{"$f":"IF($N37=\"\",\"\",VLOOKUP($N37,'Reference - Logistics Distance'!$C:$O,BE$4,FALSE))","v":""},{"$f":"IF($N37=\"\",\"\",VLOOKUP($N37,'Reference - Logistics Distance'!$C:$O,BF$4,FALSE))","v":""},{"$f":"IF($N37=\"\",\"\",VLOOKUP($N37,'Reference - Logistics Distance'!$C:$O,BG$4,FALSE))","v":""},{"$f":"IF($N37=\"\",\"\",VLOOKUP($N37,'Reference - Logistics Distance'!$C:$O,BH$4,FALSE))","v":""},{"$f":"IF($N37=\"\",\"\",VLOOKUP($N37,'Reference - Logistics Distance'!$C:$O,BI$4,FALSE))","v":""},null,{"$f":"IF($N37=\"\",\"\",VLOOKUP($N37,'Reference - Logistics Distance'!$C:$O,BK$4,FALSE))","v":""},null,{"$f":"IF($N37=\"\",\"\",VLOOKUP($N37,'Reference - Logistics Distance'!$C:$O,BM$4,FALSE))","v":""},null,"","","","","","","","",null,"",null,"","",null,""]
[null,null,null,null,null,null,null,null,null,null,null,null,null,null,null,null,null,{"$f":"INDEX('Dropdown menus'!$A$1:$D$6,MATCH($E38,'Dropdown menus'!$A$1:$A$6,0),$R$6)","v":{"$error":"#N/A"}},null,{"$f":"IF($F38=\"\",\"\",VLOOKUP($F38,'Reference Data - Transport fuel'!$C:$O,T$4,FALSE))","v":""},{"$f":"IF($F38=\"\",\"\",VLOOKUP($F38,'Reference Data - Transport fuel'!$C:$O,U$4,FALSE))","v":""},{"$f":"IF($F38=\"\",\"\",VLOOKUP($F38,'Reference Data - Transport fuel'!$C:$O,V$4,FALSE))","v":""},{"$f":"IF($F38=\"\",\"\",VLOOKUP($F38,'Reference Data - Transport fuel'!$C:$O,W$4,FALSE))","v":""},{"$f":"IF($F38=\"\",\"\",VLOOKUP($F38,'Reference Data - Transport fuel'!$C:$O,X$4,FALSE))","v":""},{"$f":"IF($F38=\"\",\"\",VLOOKUP($F38,'Reference Data - Transport fuel'!$C:$O,Y$4,FALSE))","v":""},{"$f":"IF($F38=\"\",\"\",VLOOKUP($F38,'Reference Data - Transport fuel'!$C:$O,Z$4,FALSE))","v":""},{"$f":"IF($F38=\"\",\"\",VLOOKUP($F38,'Reference Data - Transport fuel'!$C:$O,AA$4,FALSE))","v":""},{"$f":"IF($F38=\"\",\"\",VLOOKUP($F38,'Reference Data - Transport fuel'!$C:$O,AB$4,FALSE))","v":""},null,{"$f":"IF($F38=\"\",\"\",VLOOKUP($F38,'Reference Data - Transport fuel'!$C:$O,AD$4,FALSE))","v":""},null,{"$f":"IF($F38=\"\",\"\",VLOOKUP($F38,'Reference Data - Transport fuel'!$C:$O,AF$4,FALSE))","v":""},null,"","","","","","","","",null,"",null,"","",null,"",null,null,{"$f":"INDEX('Dropdown menus'!$A$1:$D$6,MATCH($M38,'Dropdown menus'!$A$1:$A$6,0),$AY$6)","v":{"$error":"#N/A"}},null,{"$f":"IF($N38=\"\",\"\",VLOOKUP($N38,'Reference - Logistics Distance'!$C:$O,BA$4,FALSE))","v":""},{"$f":"IF($N38=\"\",\"\",VLOOKUP($N38,'Reference - Logistics Distance'!$C:$O,BB$4,FALSE))","v":""},{"$f":"IF($N38=\"\",\"\",VLOOKUP($N38,'Reference - Logistics Distance'!$C:$O,BC$4,FALSE))","v":""},{"$f":"IF($N38=\"\",\"\",VLOOKUP($N38,'Reference - Logistics Distance'!$C:$O,BD$4,FALSE))","v":""},{"$f":"IF($N38=\"\",\"\",VLOOKUP($N38,'Reference - Logistics Distance'!$C:$O,BE$4,FALSE))","v":""},{"$f":"IF($N38=\"\",\"\",VLOOKUP($N38,'Reference - Logistics Distance'!$C:$O,BF$4,FALSE))","v":""},{"$f":"IF($N38=\"\",\"\",VLOOKUP($N38,'Reference - Logistics Distance'!$C:$O,BG$4,FALSE))","v":""},{"$f":"IF($N38=\"\",\"\",VLOOKUP($N38,'Reference - Logistics Distance'!$C:$O,BH$4,FALSE))","v":""},{"$f":"IF($N38=\"\",\"\",VLOOKUP($N38,'Reference - Logistics Distance'!$C:$O,BI$4,FALSE))","v":""},null,{"$f":"IF($N38=\"\",\"\",VLOOKUP($N38,'Reference - Logistics Distance'!$C:$O,BK$4,FALSE))","v":""},null,{"$f":"IF($N38=\"\",\"\",VLOOKUP($N38,'Reference - Logistics Distance'!$C:$O,BM$4,FALSE))","v":""},null,"","","","","","","","",null,"",null,"","",null,""]
[null,null,null,null,null,null,null,null,null,null,null,null,null,null,null,null,null,{"$f":"INDEX('Dropdown menus'!$A$1:$D$6,MATCH($E39,'Dropdown menus'!$A$1:$A$6,0),$R$6)","v":{"$error":"#N/A"}},null,{"$f":"IF($F39=\"\",\"\",VLOOKUP($F39,'Reference Data - Transport fuel'!$C:$O,T$4,FALSE))","v":""},{"$f":"IF($F39=\"\",\"\",VLOOKUP($F39,'Reference Data - Transport fuel'!$C:$O,U$4,FALSE))","v":""},{"$f":"IF($F39=\"\",\"\",VLOOKUP($F39,'Reference Data - Transport fuel'!$C:$O,V$4,FALSE))","v":""},{"$f":"IF($F39=\"\",\"\",VLOOKUP($F39,'Reference Data - Transport fuel'!$C:$O,W$4,FALSE))","v":""},{"$f":"IF($F39=\"\",\"\",VLOOKUP($F39,'Reference Data - Transport fuel'!$C:$O,X$4,FALSE))","v":""},{"$f":"IF($F39=\"\",\"\",VLOOKUP($F39,'Reference Data - Transport fuel'!$C:$O,Y$4,FALSE))","v":""},{"$f":"IF($F39=\"\",\"\",VLOOKUP($F39,'Reference Data - Transport fuel'!$C:$O,Z$4,FALSE))","v":""},{"$f":"IF($F39=\"\",\"\",VLOOKUP($F39,'Reference Data - Transport fuel'!$C:$O,AA$4,FALSE))","v":""},{"$f":"IF($F39=\"\",\"\",VLOOKUP($F39,'Reference Data - Transport fuel'!$C:$O,AB$4,FALSE))","v":""},null,{"$f":"IF($F39=\"\",\"\",VLOOKUP($F39,'Reference Data - Transport fuel'!$C:$O,AD$4,FALSE))","v":""},null,{"$f":"IF($F39=\"\",\"\",VLOOKUP($F39,'Reference Data - Transport fuel'!$C:$O,AF$4,FALSE))","v":""},null,"","","","","","","","",null,"",null,"","",null,"",null,null,{"$f":"INDEX('Dropdown menus'!$A$1:$D$6,MATCH($M39,'Dropdown menus'!$A$1:$A$6,0),$AY$6)","v":{"$error":"#N/A"}},null,{"$f":"IF($N39=\"\",\"\",VLOOKUP($N39,'Reference - Logistics Distance'!$C:$O,BA$4,FALSE))","v":""},{"$f":"IF($N39=\"\",\"\",VLOOKUP($N39,'Reference - Logistics Distance'!$C:$O,BB$4,FALSE))","v":""},{"$f":"IF($N39=\"\",\"\",VLOOKUP($N39,'Reference - Logistics Distance'!$C:$O,BC$4,FALSE))","v":""},{"$f":"IF($N39=\"\",\"\",VLOOKUP($N39,'Reference - Logistics Distance'!$C:$O,BD$4,FALSE))","v":""},{"$f":"IF($N39=\"\",\"\",VLOOKUP($N39,'Reference - Logistics Distance'!$C:$O,BE$4,FALSE))","v":""},{"$f":"IF($N39=\"\",\"\",VLOOKUP($N39,'Reference - Logistics Distance'!$C:$O,BF$4,FALSE))","v":""},{"$f":"IF($N39=\"\",\"\",VLOOKUP($N39,'Reference - Logistics Distance'!$C:$O,BG$4,FALSE))","v":""},{"$f":"IF($N39=\"\",\"\",VLOOKUP($N39,'Reference - Logistics Distance'!$C:$O,BH$4,FALSE))","v":""},{"$f":"IF($N39=\"\",\"\",VLOOKUP($N39,'Reference - Logistics Distance'!$C:$O,BI$4,FALSE))","v":""},null,{"$f":"IF($N39=\"\",\"\",VLOOKUP($N39,'Reference - Logistics Distance'!$C:$O,BK$4,FALSE))","v":""},null,{"$f":"IF($N39=\"\",\"\",VLOOKUP($N39,'Reference - Logistics Distance'!$C:$O,BM$4,FALSE))","v":""},null,"","","","","","","","",null,"",null,"","",null,""]
[null,null,null,null,null,null,null,null,null,null,null,null,null,null,null,null,null,{"$f":"INDEX('Dropdown menus'!$A$1:$D$6,MATCH($E40,'Dropdown menus'!$A$1:$A$6,0),$R$6)","v":{"$error":"#N/A"}},null,{"$f":"IF($F40=\"\",\"\",VLOOKUP($F40,'Reference Data - Transport fuel'!$C:$O,T$4,FALSE))","v":""},{"$f":"IF($F40=\"\",\"\",VLOOKUP($F40,'Reference Data - Transport fuel'!$C:$O,U$4,FALSE))","v":""},{"$f":"IF($F40=\"\",\"\",VLOOKUP($F40,'Reference Data - Transport fuel'!$C:$O,V$4,FALSE))","v":""},{"$f":"IF($F40=\"\",\"\",VLOOKUP($F40,'Reference Data - Transport fuel'!$C:$O,W$4,FALSE))","v":""},{"$f":"IF($F40=\"\",\"\",VLOOKUP($F40,'Reference Data - Transport fuel'!$C:$O,X$4,FALSE))","v":""},{"$f":"IF($F40=\"\",\"\",VLOOKUP($F40,'Reference Data - Transport fuel'!$C:$O,Y$4,FALSE))","v":""},{"$f":"IF($F40=\"\",\"\",VLOOKUP($F40,'Reference Data - Transport fuel'!$C:$O,Z$4,FALSE))","v":""},{"$f":"IF($F40=\"\",\"\",VLOOKUP($F40,'Reference Data - Transport fuel'!$C:$O,AA$4,FALSE))","v":""},{"$f":"IF($F40=\"\",\"\",VLOOKUP($F40,'Reference Data - Transport fuel'!$C:$O,AB$4,FALSE))","v":""},null,{"$f":"IF($F40=\"\",\"\",VLOOKUP($F40,'Reference Data - Transport fuel'!$C:$O,AD$4,FALSE))","v":""},null,{"$f":"IF($F40=\"\",\"\",VLOOKUP($F40,'Reference Data - Transport fuel'!$C:$O,AF$4,FALSE))","v":""},null,"","","","","","","","",null,"",null,"","",null,"",null,null,{"$f":"INDEX('Dropdown menus'!$A$1:$D$6,MATCH($M40,'Dropdown menus'!$A$1:$A$6,0),$AY$6)","v":{"$error":"#N/A"}},null,{"$f":"IF($N40=\"\",\"\",VLOOKUP($N40,'Reference - Logistics Distance'!$C:$O,BA$4,FALSE))","v":""},{"$f":"IF($N40=\"\",\"\",VLOOKUP($N40,'Reference - Logistics Distance'!$C:$O,BB$4,FALSE))","v":""},{"$f":"IF($N40=\"\",\"\",VLOOKUP($N40,'Reference - Logistics Distance'!$C:$O,BC$4,FALSE))","v":""},{"$f":"IF($N40=\"\",\"\",VLOOKUP($N40,'Reference - Logistics Distance'!$C:$O,BD$4,FALSE))","v":""},{"$f":"IF($N40=\"\",\"\",VLOOKUP($N40,'Reference - Logistics Distance'!$C:$O,BE$4,FALSE))","v":""},{"$f":"IF($N40=\"\",\"\",VLOOKUP($N40,'Reference - Logistics Distance'!$C:$O,BF$4,FALSE))","v":""},{"$f":"IF($N40=\"\",\"\",VLOOKUP($N40,'Reference - Logistics Distance'!$C:$O,BG$4,FALSE))","v":""},{"$f":"IF($N40=\"\",\"\",VLOOKUP($N40,'Reference - Logistics Distance'!$C:$O,BH$4,FALSE))","v":""},{"$f":"IF($N40=\"\",\"\",VLOOKUP($N40,'Reference - Logistics Distance'!$C:$O,BI$4,FALSE))","v":""},null,{"$f":"IF($N40=\"\",\"\",VLOOKUP($N40,'Reference - Logistics Distance'!$C:$O,BK$4,FALSE))","v":""},null,{"$f":"IF($N40=\"\",\"\",VLOOKUP($N40,'Reference - Logistics Distance'!$C:$O,BM$4,FALSE))","v":""},null,"","","","","","","","",null,"",null,"","",null,""]
[null,null,null,null,null,null,null,null,null,null,null,null,null,null,null,null,null,{"$f":"INDEX('Dropdown menus'!$A$1:$D$6,MATCH($E41,'Dropdown menus'!$A$1:$A$6,0),$R$6)","v":{"$error":"#N/A"}},null,{"$f":"IF($F41=\"\",\"\",VLOOKUP($F41,'Reference Data - Transport fuel'!$C:$O,T$4,FALSE))","v":""},{"$f":"IF($F41=\"\",\"\",VLOOKUP($F41,'Reference Data - Transport fuel'!$C:$O,U$4,FALSE))","v":""},{"$f":"IF($F41=\"\",\"\",VLOOKUP($F41,'Reference Data - Transport fuel'!$C:$O,V$4,FALSE))","v":""},{"$f":"IF($F41=\"\",\"\",VLOOKUP($F41,'Reference Data - Transport fuel'!$C:$O,W$4,FALSE))","v":""},{"$f":"IF($F41=\"\",\"\",VLOOKUP($F41,'Reference Data - Transport fuel'!$C:$O,X$4,FALSE))","v":""},{"$f":"IF($F41=\"\",\"\",VLOOKUP($F41,'Reference Data - Transport fuel'!$C:$O,Y$4,FALSE))","v":""},{"$f":"IF($F41=\"\",\"\",VLOOKUP($F41,'Reference Data - Transport fuel'!$C:$O,Z$4,FALSE))","v":""},{"$f":"IF($F41=\"\",\"\",VLOOKUP($F41,'Reference Data - Transport fuel'!$C:$O,AA$4,FALSE))","v":""},{"$f":"IF($F41=\"\",\"\",VLOOKUP($F41,'Reference Data - Transport fuel'!$C:$O,AB$4,FALSE))","v":""},null,{"$f":"IF($F41=\"\",\"\",VLOOKUP($F41,'Reference Data - Transport fuel'!$C:$O,AD$4,FALSE))","v":""},null,{"$f":"IF($F41=\"\",\"\",VLOOKUP($F41,'Reference Data - Transport fuel'!$C:$O,AF$4,FALSE))","v":""},null,"","","","","","","","",null,"",null,"","",null,"",null,null,{"$f":"INDEX('Dropdown menus'!$A$1:$D$6,MATCH($M41,'Dropdown menus'!$A$1:$A$6,0),$AY$6)","v":{"$error":"#N/A"}},null,{"$f":"IF($N41=\"\",\"\",VLOOKUP($N41,'Reference - Logistics Distance'!$C:$O,BA$4,FALSE))","v":""},{"$f":"IF($N41=\"\",\"\",VLOOKUP($N41,'Reference - Logistics Distance'!$C:$O,BB$4,FALSE))","v":""},{"$f":"IF($N41=\"\",\"\",VLOOKUP($N41,'Reference - Logistics Distance'!$C:$O,BC$4,FALSE))","v":""},{"$f":"IF($N41=\"\",\"\",VLOOKUP($N41,'Reference - Logistics Distance'!$C:$O,BD$4,FALSE))","v":""},{"$f":"IF($N41=\"\",\"\",VLOOKUP($N41,'Reference - Logistics Distance'!$C:$O,BE$4,FALSE))","v":""},{"$f":"IF($N41=\"\",\"\",VLOOKUP($N41,'Reference - Logistics Distance'!$C:$O,BF$4,FALSE))","v":""},{"$f":"IF($N41=\"\",\"\",VLOOKUP($N41,'Reference - Logistics Distance'!$C:$O,BG$4,FALSE))","v":""},{"$f":"IF($N41=\"\",\"\",VLOOKUP($N41,'Reference - Logistics Distance'!$C:$O,BH$4,FALSE))","v":""},{"$f":"IF($N41=\"\",\"\",VLOOKUP($N41,'Reference - Logistics Distance'!$C:$O,BI$4,FALSE))","v":""},null,{"$f":"IF($N41=\"\",\"\",VLOOKUP($N41,'Reference - Logistics Distance'!$C:$O,BK$4,FALSE))","v":""},null,{"$f":"IF($N41=\"\",\"\",VLOOKUP($N41,'Reference - Logistics Distance'!$C:$O,BM$4,FALSE))","v":""},null,"","","","","","","","",null,"",null,"","",null,""]
[null,null,null,null,null,null,null,null,null,null,null,null,null,null,null,null,null,{"$f":"INDEX('Dropdown menus'!$A$1:$D$6,MATCH($E42,'Dropdown menus'!$A$1:$A$6,0),$R$6)","v":{"$error":"#N/A"}},null,{"$f":"IF($F42=\"\",\"\",VLOOKUP($F42,'Reference Data - Transport fuel'!$C:$O,T$4,FALSE))","v":""},{"$f":"IF($F42=\"\",\"\",VLOOKUP($F42,'Reference Data - Transport fuel'!$C:$O,U$4,FALSE))","v":""},{"$f":"IF($F42=\"\",\"\",VLOOKUP($F42,'Reference Data - Transport fuel'!$C:$O,V$4,FALSE))","v":""},{"$f":"IF($F42=\"\",\"\",VLOOKUP($F42,'Reference Data - Transport fuel'!$C:$O,W$4,FALSE))","v":""},{"$f":"IF($F42=\"\",\"\",VLOOKUP($F42,'Reference Data - Transport fuel'!$C:$O,X$4,FALSE))","v":""},{"$f":"IF($F42=\"\",\"\",VLOOKUP($F42,'Reference Data - Transport fuel'!$C:$O,Y$4,FALSE))","v":""},{"$f":"IF($F42=\"\",\"\",VLOOKUP($F42,'Reference Data - Transport fuel'!$C:$O,Z$4,FALSE))","v":""},{"$f":"IF($F42=\"\",\"\",VLOOKUP($F42,'Reference Data - Transport fuel'!$C:$O,AA$4,FALSE))","v":""},{"$f":"IF($F42=\"\",\"\",VLOOKUP($F42,'Reference Data - Transport fuel'!$C:$O,AB$4,FALSE))","v":""},null,{"$f":"IF($F42=\"\",\"\",VLOOKUP($F42,'Reference Data - Transport fuel'!$C:$O,AD$4,FALSE))","v":""},null,{"$f":"IF($F42=\"\",\"\",VLOOKUP($F42,'Reference Data - Transport fuel'!$C:$O,AF$4,FALSE))","v":""},null,"","","","","","","","",null,"",null,"","",null,"",null,null,{"$f":"INDEX('Dropdown menus'!$A$1:$D$6,MATCH($M42,'Dropdown menus'!$A$1:$A$6,0),$AY$6)","v":{"$error":"#N/A"}},null,{"$f":"IF($N42=\"\",\"\",VLOOKUP($N42,'Reference - Logistics Distance'!$C:$O,BA$4,FALSE))","v":""},{"$f":"IF($N42=\"\",\"\",VLOOKUP($N42,'Reference - Logistics Distance'!$C:$O,BB$4,FALSE))","v":""},{"$f":"IF($N42=\"\",\"\",VLOOKUP($N42,'Reference - Logistics Distance'!$C:$O,BC$4,FALSE))","v":""},{"$f":"IF($N42=\"\",\"\",VLOOKUP($N42,'Reference - Logistics Distance'!$C:$O,BD$4,FALSE))","v":""},{"$f":"IF($N42=\"\",\"\",VLOOKUP($N42,'Reference - Logistics Distance'!$C:$O,BE$4,FALSE))","v":""},{"$f":"IF($N42=\"\",\"\",VLOOKUP($N42,'Reference - Logistics Distance'!$C:$O,BF$4,FALSE))","v":""},{"$f":"IF($N42=\"\",\"\",VLOOKUP($N42,'Reference - Logistics Distance'!$C:$O,BG$4,FALSE))","v":""},{"$f":"IF($N42=\"\",\"\",VLOOKUP($N42,'Reference - Logistics Distance'!$C:$O,BH$4,FALSE))","v":""},{"$f":"IF($N42=\"\",\"\",VLOOKUP($N42,'Reference - Logistics Distance'!$C:$O,BI$4,FALSE))","v":""},null,{"$f":"IF($N42=\"\",\"\",VLOOKUP($N42,'Reference - Logistics Distance'!$C:$O,BK$4,FALSE))","v":""},null,{"$f":"IF($N42=\"\",\"\",VLOOKUP($N42,'Reference - Logistics Distance'!$C:$O,BM$4,FALSE))","v":""},null,"","","","","","","","",null,"",null,"","",null,""]
[null,null,null,null,null,null,null,null,null,null,null,null,null,null,null,null,null,{"$f":"INDEX('Dropdown menus'!$A$1:$D$6,MATCH($E43,'Dropdown menus'!$A$1:$A$6,0),$R$6)","v":{"$error":"#N/A"}},null,{"$f":"IF($F43=\"\",\"\",VLOOKUP($F43,'Reference Data - Transport fuel'!$C:$O,T$4,FALSE))","v":""},{"$f":"IF($F43=\"\",\"\",VLOOKUP($F43,'Reference Data - Transport fuel'!$C:$O,U$4,FALSE))","v":""},{"$f":"IF($F43=\"\",\"\",VLOOKUP($F43,'Reference Data - Transport fuel'!$C:$O,V$4,FALSE))","v":""},{"$f":"IF($F43=\"\",\"\",VLOOKUP($F43,'Reference Data - Transport fuel'!$C:$O,W$4,FALSE))","v":""},{"$f":"IF($F43=\"\",\"\",VLOOKUP($F43,'Reference Data - Transport fuel'!$C:$O,X$4,FALSE))","v":""},{"$f":"IF($F43=\"\",\"\",VLOOKUP($F43,'Reference Data - Transport fuel'!$C:$O,Y$4,FALSE))","v":""},{"$f":"IF($F43=\"\",\"\",VLOOKUP($F43,'Reference Data - Transport fuel'!$C:$O,Z$4,FALSE))","v":""},{"$f":"IF($F43=\"\",\"\",VLOOKUP($F43,'Reference Data - Transport fuel'!$C:$O,AA$4,FALSE))","v":""},{"$f":"IF($F43=\"\",\"\",VLOOKUP($F43,'Reference Data - Transport fuel'!$C:$O,AB$4,FALSE))","v":""},null,{"$f":"IF($F43=\"\",\"\",VLOOKUP($F43,'Reference Data - Transport fuel'!$C:$O,AD$4,FALSE))","v":""},null,{"$f":"IF($F43=\"\",\"\",VLOOKUP($F43,'Reference Data - Transport fuel'!$C:$O,AF$4,FALSE))","v":""},null,"","","","","","","","",null,"",null,"","",null,"",null,null,{"$f":"INDEX('Dropdown menus'!$A$1:$D$6,MATCH($M43,'Dropdown menus'!$A$1:$A$6,0),$AY$6)","v":{"$error":"#N/A"}},null,{"$f":"IF($N43=\"\",\"\",VLOOKUP($N43,'Reference - Logistics Distance'!$C:$O,BA$4,FALSE))","v":""},{"$f":"IF($N43=\"\",\"\",VLOOKUP($N43,'Reference - Logistics Distance'!$C:$O,BB$4,FALSE))","v":""},{"$f":"IF($N43=\"\",\"\",VLOOKUP($N43,'Reference - Logistics Distance'!$C:$O,BC$4,FALSE))","v":""},{"$f":"IF($N43=\"\",\"\",VLOOKUP($N43,'Reference - Logistics Distance'!$C:$O,BD$4,FALSE))","v":""},{"$f":"IF($N43=\"\",\"\",VLOOKUP($N43,'Reference - Logistics Distance'!$C:$O,BE$4,FALSE))","v":""},{"$f":"IF($N43=\"\",\"\",VLOOKUP($N43,'Reference - Logistics Distance'!$C:$O,BF$4,FALSE))","v":""},{"$f":"IF($N43=\"\",\"\",VLOOKUP($N43,'Reference - Logistics Distance'!$C:$O,BG$4,FALSE))","v":""},{"$f":"IF($N43=\"\",\"\",VLOOKUP($N43,'Reference - Logistics Distance'!$C:$O,BH$4,FALSE))","v":""},{"$f":"IF($N43=\"\",\"\",VLOOKUP($N43,'Reference - Logistics Distance'!$C:$O,BI$4,FALSE))","v":""},null,{"$f":"IF($N43=\"\",\"\",VLOOKUP($N43,'Reference - Logistics Distance'!$C:$O,BK$4,FALSE))","v":""},null,{"$f":"IF($N43=\"\",\"\",VLOOKUP($N43,'Reference - Logistics Distance'!$C:$O,BM$4,FALSE))","v":""},null,"","","","","","","","",null,"",null,"","",null,""]
[null,null,null,null,null,null,null,null,null,null,null,null,null,null,null,null,null,{"$f":"INDEX('Dropdown menus'!$A$1:$D$6,MATCH($E44,'Dropdown menus'!$A$1:$A$6,0),$R$6)","v":{"$error":"#N/A"}},null,{"$f":"IF($F44=\"\",\"\",VLOOKUP($F44,'Reference Data - Transport fuel'!$C:$O,T$4,FALSE))","v":""},{"$f":"IF($F44=\"\",\"\",VLOOKUP($F44,'Reference Data - Transport fuel'!$C:$O,U$4,FALSE))","v":""},{"$f":"IF($F44=\"\",\"\",VLOOKUP($F44,'Reference Data - Transport fuel'!$C:$O,V$4,FALSE))","v":""},{"$f":"IF($F44=\"\",\"\",VLOOKUP($F44,'Reference Data - Transport fuel'!$C:$O,W$4,FALSE))","v":""},{"$f":"IF($F44=\"\",\"\",VLOOKUP($F44,'Reference Data - Transport fuel'!$C:$O,X$4,FALSE))","v":""},{"$f":"IF($F44=\"\",\"\",VLOOKUP($F44,'Reference Data - Transport fuel'!$C:$O,Y$4,FALSE))","v":""},{"$f":"IF($F44=\"\",\"\",VLOOKUP($F44,'Reference Data - Transport fuel'!$C:$O,Z$4,FALSE))","v":""},{"$f":"IF($F44=\"\",\"\",VLOOKUP($F44,'Reference Data - Transport fuel'!$C:$O,AA$4,FALSE))","v":""},{"$f":"IF($F44=\"\",\"\",VLOOKUP($F44,'Reference Data - Transport fuel'!$C:$O,AB$4,FALSE))","v":""},null,{"$f":"IF($F44=\"\",\"\",VLOOKUP($F44,'Reference Data - Transport fuel'!$C:$O,AD$4,FALSE))","v":""},null,{"$f":"IF($F44=\"\",\"\",VLOOKUP($F44,'Reference Data - Transport fuel'!$C:$O,AF$4,FALSE))","v":""},null,"","","","","","","","",null,"",null,"","",null,"",null,null,{"$f":"INDEX('Dropdown menus'!$A$1:$D$6,MATCH($M44,'Dropdown menus'!$A$1:$A$6,0),$AY$6)","v":{"$error":"#N/A"}},null,{"$f":"IF($N44=\"\",\"\",VLOOKUP($N44,'Reference - Logistics Distance'!$C:$O,BA$4,FALSE))","v":""},{"$f":"IF($N44=\"\",\"\",VLOOKUP($N44,'Reference - Logistics Distance'!$C:$O,BB$4,FALSE))","v":""},{"$f":"IF($N44=\"\",\"\",VLOOKUP($N44,'Reference - Logistics Distance'!$C:$O,BC$4,FALSE))","v":""},{"$f":"IF($N44=\"\",\"\",VLOOKUP($N44,'Reference - Logistics Distance'!$C:$O,BD$4,FALSE))","v":""},{"$f":"IF($N44=\"\",\"\",VLOOKUP($N44,'Reference - Logistics Distance'!$C:$O,BE$4,FALSE))","v":""},{"$f":"IF($N44=\"\",\"\",VLOOKUP($N44,'Reference - Logistics Distance'!$C:$O,BF$4,FALSE))","v":""},{"$f":"IF($N44=\"\",\"\",VLOOKUP($N44,'Reference - Logistics Distance'!$C:$O,BG$4,FALSE))","v":""},{"$f":"IF($N44=\"\",\"\",VLOOKUP($N44,'Reference - Logistics Distance'!$C:$O,BH$4,FALSE))","v":""},{"$f":"IF($N44=\"\",\"\",VLOOKUP($N44,'Reference - Logistics Distance'!$C:$O,BI$4,FALSE))","v":""},null,{"$f":"IF($N44=\"\",\"\",VLOOKUP($N44,'Reference - Logistics Distance'!$C:$O,BK$4,FALSE))","v":""},null,{"$f":"IF($N44=\"\",\"\",VLOOKUP($N44,'Reference - Logistics Distance'!$C:$O,BM$4,FALSE))","v":""},null,"","","","","","","","",null,"",null,"","",null,""]
[null,null,null,null,null,null,null,null,null,null,null,null,null,null,null,null,null,{"$f":"INDEX('Dropdown menus'!$A$1:$D$6,MATCH($E45,'Dropdown menus'!$A$1:$A$6,0),$R$6)","v":{"$error":"#N/A"}},null,{"$f":"IF($F45=\"\",\"\",VLOOKUP($F45,'Reference Data - Transport fuel'!$C:$O,T$4,FALSE))","v":""},{"$f":"IF($F45=\"\",\"\",VLOOKUP($F45,'Reference Data - Transport fuel'!$C:$O,U$4,FALSE))","v":""},{"$f":"IF($F45=\"\",\"\",VLOOKUP($F45,'Reference Data - Transport fuel'!$C:$O,V$4,FALSE))","v":""},{"$f":"IF($F45=\"\",\"\",VLOOKUP($F45,'Reference Data - Transport fuel'!$C:$O,W$4,FALSE))","v":""},{"$f":"IF($F45=\"\",\"\",VLOOKUP($F45,'Reference Data - Transport fuel'!$C:$O,X$4,FALSE))","v":""},{"$f":"IF($F45=\"\",\"\",VLOOKUP($F45,'Reference Data - Transport fuel'!$C:$O,Y$4,FALSE))","v":""},{"$f":"IF($F45=\"\",\"\",VLOOKUP($F45,'Reference Data - Transport fuel'!$C:$O,Z$4,FALSE))","v":""},{"$f":"IF($F45=\"\",\"\",VLOOKUP($F45,'Reference Data - Transport fuel'!$C:$O,AA$4,FALSE))","v":""},{"$f":"IF($F45=\"\",\"\",VLOOKUP($F45,'Reference Data - Transport fuel'!$C:$O,AB$4,FALSE))","v":""},null,{"$f":"IF($F45=\"\",\"\",VLOOKUP($F45,'Reference Data - Transport fuel'!$C:$O,AD$4,FALSE))","v":""},null,{"$f":"IF($F45=\"\",\"\",VLOOKUP($F45,'Reference Data - Transport fuel'!$C:$O,AF$4,FALSE))","v":""},null,"","","","","","","","",null,"",null,"","",null,"",null,null,{"$f":"INDEX('Dropdown menus'!$A$1:$D$6,MATCH($M45,'Dropdown menus'!$A$1:$A$6,0),$AY$6)","v":{"$error":"#N/A"}},null,{"$f":"IF($N45=\"\",\"\",VLOOKUP($N45,'Reference - Logistics Distance'!$C:$O,BA$4,FALSE))","v":""},{"$f":"IF($N45=\"\",\"\",VLOOKUP($N45,'Reference - Logistics Distance'!$C:$O,BB$4,FALSE))","v":""},{"$f":"IF($N45=\"\",\"\",VLOOKUP($N45,'Reference - Logistics Distance'!$C:$O,BC$4,FALSE))","v":""},{"$f":"IF($N45=\"\",\"\",VLOOKUP($N45,'Reference - Logistics Distance'!$C:$O,BD$4,FALSE))","v":""},{"$f":"IF($N45=\"\",\"\",VLOOKUP($N45,'Reference - Logistics Distance'!$C:$O,BE$4,FALSE))","v":""},{"$f":"IF($N45=\"\",\"\",VLOOKUP($N45,'Reference - Logistics Distance'!$C:$O,BF$4,FALSE))","v":""},{"$f":"IF($N45=\"\",\"\",VLOOKUP($N45,'Reference - Logistics Distance'!$C:$O,BG$4,FALSE))","v":""},{"$f":"IF($N45=\"\",\"\",VLOOKUP($N45,'Reference - Logistics Distance'!$C:$O,BH$4,FALSE))","v":""},{"$f":"IF($N45=\"\",\"\",VLOOKUP($N45,'Reference - Logistics Distance'!$C:$O,BI$4,FALSE))","v":""},null,{"$f":"IF($N45=\"\",\"\",VLOOKUP($N45,'Reference - Logistics Distance'!$C:$O,BK$4,FALSE))","v":""},null,{"$f":"IF($N45=\"\",\"\",VLOOKUP($N45,'Reference - Logistics Distance'!$C:$O,BM$4,FALSE))","v":""},null,"","","","","","","","",null,"",null,"","",null,""]
[null,null,null,null,null,null,null,null,null,null,null,null,null,null,null,null,null,{"$f":"INDEX('Dropdown menus'!$A$1:$D$6,MATCH($E46,'Dropdown menus'!$A$1:$A$6,0),$R$6)","v":{"$error":"#N/A"}},null,{"$f":"IF($F46=\"\",\"\",VLOOKUP($F46,'Reference Data - Transport fuel'!$C:$O,T$4,FALSE))","v":""},{"$f":"IF($F46=\"\",\"\",VLOOKUP($F46,'Reference Data - Transport fuel'!$C:$O,U$4,FALSE))","v":""},{"$f":"IF($F46=\"\",\"\",VLOOKUP($F46,'Reference Data - Transport fuel'!$C:$O,V$4,FALSE))","v":""},{"$f":"IF($F46=\"\",\"\",VLOOKUP($F46,'Reference Data - Transport fuel'!$C:$O,W$4,FALSE))","v":""},{"$f":"IF($F46=\"\",\"\",VLOOKUP($F46,'Reference Data - Transport fuel'!$C:$O,X$4,FALSE))","v":""},{"$f":"IF($F46=\"\",\"\",VLOOKUP($F46,'Reference Data - Transport fuel'!$C:$O,Y$4,FALSE))","v":""},{"$f":"IF($F46=\"\",\"\",VLOOKUP($F46,'Reference Data - Transport fuel'!$C:$O,Z$4,FALSE))","v":""},{"$f":"IF($F46=\"\",\"\",VLOOKUP($F46,'Reference Data - Transport fuel'!$C:$O,AA$4,FALSE))","v":""},{"$f":"IF($F46=\"\",\"\",VLOOKUP($F46,'Reference Data - Transport fuel'!$C:$O,AB$4,FALSE))","v":""},null,{"$f":"IF($F46=\"\",\"\",VLOOKUP($F46,'Reference Data - Transport fuel'!$C:$O,AD$4,FALSE))","v":""},null,{"$f":"IF($F46=\"\",\"\",VLOOKUP($F46,'Reference Data - Transport fuel'!$C:$O,AF$4,FALSE))","v":""},null,"","","","","","","","",null,"",null,"","",null,"",null,null,{"$f":"INDEX('Dropdown menus'!$A$1:$D$6,MATCH($M46,'Dropdown menus'!$A$1:$A$6,0),$AY$6)","v":{"$error":"#N/A"}},null,{"$f":"IF($N46=\"\",\"\",VLOOKUP($N46,'Reference - Logistics Distance'!$C:$O,BA$4,FALSE))","v":""},{"$f":"IF($N46=\"\",\"\",VLOOKUP($N46,'Reference - Logistics Distance'!$C:$O,BB$4,FALSE))","v":""},{"$f":"IF($N46=\"\",\"\",VLOOKUP($N46,'Reference - Logistics Distance'!$C:$O,BC$4,FALSE))","v":""},{"$f":"IF($N46=\"\",\"\",VLOOKUP($N46,'Reference - Logistics Distance'!$C:$O,BD$4,FALSE))","v":""},{"$f":"IF($N46=\"\",\"\",VLOOKUP($N46,'Reference - Logistics Distance'!$C:$O,BE$4,FALSE))","v":""},{"$f":"IF($N46=\"\",\"\",VLOOKUP($N46,'Reference - Logistics Distance'!$C:$O,BF$4,FALSE))","v":""},{"$f":"IF($N46=\"\",\"\",VLOOKUP($N46,'Reference - Logistics Distance'!$C:$O,BG$4,FALSE))","v":""},{"$f":"IF($N46=\"\",\"\",VLOOKUP($N46,'Reference - Logistics Distance'!$C:$O,BH$4,FALSE))","v":""},{"$f":"IF($N46=\"\",\"\",VLOOKUP($N46,'Reference - Logistics Distance'!$C:$O,BI$4,FALSE))","v":""},null,{"$f":"IF($N46=\"\",\"\",VLOOKUP($N46,'Reference - Logistics Distance'!$C:$O,BK$4,FALSE))","v":""},null,{"$f":"IF($N46=\"\",\"\",VLOOKUP($N46,'Reference - Logistics Distance'!$C:$O,BM$4,FALSE))","v":""},null,"","","","","","","","",null,"",null,"","",null,""]
[null,null,null,null,null,null,null,null,null,null,null,null,null,null,null,null,null,{"$f":"INDEX('Dropdown menus'!$A$1:$D$6,MATCH($E47,'Dropdown menus'!$A$1:$A$6,0),$R$6)","v":{"$error":"#N/A"}},null,{"$f":"IF($F47=\"\",\"\",VLOOKUP($F47,'Reference Data - Transport fuel'!$C:$O,T$4,FALSE))","v":""},{"$f":"IF($F47=\"\",\"\",VLOOKUP($F47,'Reference Data - Transport fuel'!$C:$O,U$4,FALSE))","v":""},{"$f":"IF($F47=\"\",\"\",VLOOKUP($F47,'Reference Data - Transport fuel'!$C:$O,V$4,FALSE))","v":""},{"$f":"IF($F47=\"\",\"\",VLOOKUP($F47,'Reference Data - Transport fuel'!$C:$O,W$4,FALSE))","v":""},{"$f":"IF($F47=\"\",\"\",VLOOKUP($F47,'Reference Data - Transport fuel'!$C:$O,X$4,FALSE))","v":""},{"$f":"IF($F47=\"\",\"\",VLOOKUP($F47,'Reference Data - Transport fuel'!$C:$O,Y$4,FALSE))","v":""},{"$f":"IF($F47=\"\",\"\",VLOOKUP($F47,'Reference Data - Transport fuel'!$C:$O,Z$4,FALSE))","v":""},{"$f":"IF($F47=\"\",\"\",VLOOKUP($F47,'Reference Data - Transport fuel'!$C:$O,AA$4,FALSE))","v":""},{"$f":"IF($F47=\"\",\"\",VLOOKUP($F47,'Reference Data - Transport fuel'!$C:$O,AB$4,FALSE))","v":""},null,{"$f":"IF($F47=\"\",\"\",VLOOKUP($F47,'Reference Data - Transport fuel'!$C:$O,AD$4,FALSE))","v":""},null,{"$f":"IF($F47=\"\",\"\",VLOOKUP($F47,'Reference Data - Transport fuel'!$C:$O,AF$4,FALSE))","v":""},null,"","","","","","","","",null,"",null,"","",null,"",null,null,{"$f":"INDEX('Dropdown menus'!$A$1:$D$6,MATCH($M47,'Dropdown menus'!$A$1:$A$6,0),$AY$6)","v":{"$error":"#N/A"}},null,{"$f":"IF($N47=\"\",\"\",VLOOKUP($N47,'Reference - Logistics Distance'!$C:$O,BA$4,FALSE))","v":""},{"$f":"IF($N47=\"\",\"\",VLOOKUP($N47,'Reference - Logistics Distance'!$C:$O,BB$4,FALSE))","v":""},{"$f":"IF($N47=\"\",\"\",VLOOKUP($N47,'Reference - Logistics Distance'!$C:$O,BC$4,FALSE))","v":""},{"$f":"IF($N47=\"\",\"\",VLOOKUP($N47,'Reference - Logistics Distance'!$C:$O,BD$4,FALSE))","v":""},{"$f":"IF($N47=\"\",\"\",VLOOKUP($N47,'Reference - Logistics Distance'!$C:$O,BE$4,FALSE))","v":""},{"$f":"IF($N47=\"\",\"\",VLOOKUP($N47,'Reference - Logistics Distance'!$C:$O,BF$4,FALSE))","v":""},{"$f":"IF($N47=\"\",\"\",VLOOKUP($N47,'Reference - Logistics Distance'!$C:$O,BG$4,FALSE))","v":""},{"$f":"IF($N47=\"\",\"\",VLOOKUP($N47,'Reference - Logistics Distance'!$C:$O,BH$4,FALSE))","v":""},{"$f":"IF($N47=\"\",\"\",VLOOKUP($N47,'Reference - Logistics Distance'!$C:$O,BI$4,FALSE))","v":""},null,{"$f":"IF($N47=\"\",\"\",VLOOKUP($N47,'Reference - Logistics Distance'!$C:$O,BK$4,FALSE))","v":""},null,{"$f":"IF($N47=\"\",\"\",VLOOKUP($N47,'Reference - Logistics Distance'!$C:$O,BM$4,FALSE))","v":""},null,"","","","","","","","",null,"",null,"","",null,""]
[null,null,null,null,null,null,null,null,null,null,null,null,null,null,null,null,null,{"$f":"INDEX('Dropdown menus'!$A$1:$D$6,MATCH($E48,'Dropdown menus'!$A$1:$A$6,0),$R$6)","v":{"$error":"#N/A"}},null,{"$f":"IF($F48=\"\",\"\",VLOOKUP($F48,'Reference Data - Transport fuel'!$C:$O,T$4,FALSE))","v":""},{"$f":"IF($F48=\"\",\"\",VLOOKUP($F48,'Reference Data - Transport fuel'!$C:$O,U$4,FALSE))","v":""},{"$f":"IF($F48=\"\",\"\",VLOOKUP($F48,'Reference Data - Transport fuel'!$C:$O,V$4,FALSE))","v":""},{"$f":"IF($F48=\"\",\"\",VLOOKUP($F48,'Reference Data - Transport fuel'!$C:$O,W$4,FALSE))","v":""},{"$f":"IF($F48=\"\",\"\",VLOOKUP($F48,'Reference Data - Transport fuel'!$C:$O,X$4,FALSE))","v":""},{"$f":"IF($F48=\"\",\"\",VLOOKUP($F48,'Reference Data - Transport fuel'!$C:$O,Y$4,FALSE))","v":""},{"$f":"IF($F48=\"\",\"\",VLOOKUP($F48,'Reference Data - Transport fuel'!$C:$O,Z$4,FALSE))","v":""},{"$f":"IF($F48=\"\",\"\",VLOOKUP($F48,'Reference Data - Transport fuel'!$C:$O,AA$4,FALSE))","v":""},{"$f":"IF($F48=\"\",\"\",VLOOKUP($F48,'Reference Data - Transport fuel'!$C:$O,AB$4,FALSE))","v":""},null,{"$f":"IF($F48=\"\",\"\",VLOOKUP($F48,'Reference Data - Transport fuel'!$C:$O,AD$4,FALSE))","v":""},null,{"$f":"IF($F48=\"\",\"\",VLOOKUP($F48,'Reference Data - Transport fuel'!$C:$O,AF$4,FALSE))","v":""},null,"","","","","","","","",null,"",null,"","",null,"",null,null,{"$f":"INDEX('Dropdown menus'!$A$1:$D$6,MATCH($M48,'Dropdown menus'!$A$1:$A$6,0),$AY$6)","v":{"$error":"#N/A"}},null,{"$f":"IF($N48=\"\",\"\",VLOOKUP($N48,'Reference - Logistics Distance'!$C:$O,BA$4,FALSE))","v":""},{"$f":"IF($N48=\"\",\"\",VLOOKUP($N48,'Reference - Logistics Distance'!$C:$O,BB$4,FALSE))","v":""},{"$f":"IF($N48=\"\",\"\",VLOOKUP($N48,'Reference - Logistics Distance'!$C:$O,BC$4,FALSE))","v":""},{"$f":"IF($N48=\"\",\"\",VLOOKUP($N48,'Reference - Logistics Distance'!$C:$O,BD$4,FALSE))","v":""},{"$f":"IF($N48=\"\",\"\",VLOOKUP($N48,'Reference - Logistics Distance'!$C:$O,BE$4,FALSE))","v":""},{"$f":"IF($N48=\"\",\"\",VLOOKUP($N48,'Reference - Logistics Distance'!$C:$O,BF$4,FALSE))","v":""},{"$f":"IF($N48=\"\",\"\",VLOOKUP($N48,'Reference - Logistics Distance'!$C:$O,BG$4,FALSE))","v":""},{"$f":"IF($N48=\"\",\"\",VLOOKUP($N48,'Reference - Logistics Distance'!$C:$O,BH$4,FALSE))","v":""},{"$f":"IF($N48=\"\",\"\",VLOOKUP($N48,'Reference - Logistics Distance'!$C:$O,BI$4,FALSE))","v":""},null,{"$f":"IF($N48=\"\",\"\",VLOOKUP($N48,'Reference - Logistics Distance'!$C:$O,BK$4,FALSE))","v":""},null,{"$f":"IF($N48=\"\",\"\",VLOOKUP($N48,'Reference - Logistics Distance'!$C:$O,BM$4,FALSE))","v":""},null,"","","","","","","","",null,"",null,"","",null,""]
[null,null,null,null,null,null,null,null,null,null,null,null,null,null,null,null,null,{"$f":"INDEX('Dropdown menus'!$A$1:$D$6,MATCH($E49,'Dropdown menus'!$A$1:$A$6,0),$R$6)","v":{"$error":"#N/A"}},null,{"$f":"IF($F49=\"\",\"\",VLOOKUP($F49,'Reference Data - Transport fuel'!$C:$O,T$4,FALSE))","v":""},{"$f":"IF($F49=\"\",\"\",VLOOKUP($F49,'Reference Data - Transport fuel'!$C:$O,U$4,FALSE))","v":""},{"$f":"IF($F49=\"\",\"\",VLOOKUP($F49,'Reference Data - Transport fuel'!$C:$O,V$4,FALSE))","v":""},{"$f":"IF($F49=\"\",\"\",VLOOKUP($F49,'Reference Data - Transport fuel'!$C:$O,W$4,FALSE))","v":""},{"$f":"IF($F49=\"\",\"\",VLOOKUP($F49,'Reference Data - Transport fuel'!$C:$O,X$4,FALSE))","v":""},{"$f":"IF($F49=\"\",\"\",VLOOKUP($F49,'Reference Data - Transport fuel'!$C:$O,Y$4,FALSE))","v":""},{"$f":"IF($F49=\"\",\"\",VLOOKUP($F49,'Reference Data - Transport fuel'!$C:$O,Z$4,FALSE))","v":""},{"$f":"IF($F49=\"\",\"\",VLOOKUP($F49,'Reference Data - Transport fuel'!$C:$O,AA$4,FALSE))","v":""},{"$f":"IF($F49=\"\",\"\",VLOOKUP($F49,'Reference Data - Transport fuel'!$C:$O,AB$4,FALSE))","v":""},null,{"$f":"IF($F49=\"\",\"\",VLOOKUP($F49,'Reference Data - Transport fuel'!$C:$O,AD$4,FALSE))","v":""},null,{"$f":"IF($F49=\"\",\"\",VLOOKUP($F49,'Reference Data - Transport fuel'!$C:$O,AF$4,FALSE))","v":""},null,"","","","","","","","",null,"",null,"","",null,"",null,null,{"$f":"INDEX('Dropdown menus'!$A$1:$D$6,MATCH($M49,'Dropdown menus'!$A$1:$A$6,0),$AY$6)","v":{"$error":"#N/A"}},null,{"$f":"IF($N49=\"\",\"\",VLOOKUP($N49,'Reference - Logistics Distance'!$C:$O,BA$4,FALSE))","v":""},{"$f":"IF($N49=\"\",\"\",VLOOKUP($N49,'Reference - Logistics Distance'!$C:$O,BB$4,FALSE))","v":""},{"$f":"IF($N49=\"\",\"\",VLOOKUP($N49,'Reference - Logistics Distance'!$C:$O,BC$4,FALSE))","v":""},{"$f":"IF($N49=\"\",\"\",VLOOKUP($N49,'Reference - Logistics Distance'!$C:$O,BD$4,FALSE))","v":""},{"$f":"IF($N49=\"\",\"\",VLOOKUP($N49,'Reference - Logistics Distance'!$C:$O,BE$4,FALSE))","v":""},{"$f":"IF($N49=\"\",\"\",VLOOKUP($N49,'Reference - Logistics Distance'!$C:$O,BF$4,FALSE))","v":""},{"$f":"IF($N49=\"\",\"\",VLOOKUP($N49,'Reference - Logistics Distance'!$C:$O,BG$4,FALSE))","v":""},{"$f":"IF($N49=\"\",\"\",VLOOKUP($N49,'Reference - Logistics Distance'!$C:$O,BH$4,FALSE))","v":""},{"$f":"IF($N49=\"\",\"\",VLOOKUP($N49,'Reference - Logistics Distance'!$C:$O,BI$4,FALSE))","v":""},null,{"$f":"IF($N49=\"\",\"\",VLOOKUP($N49,'Reference - Logistics Distance'!$C:$O,BK$4,FALSE))","v":""},null,{"$f":"IF($N49=\"\",\"\",VLOOKUP($N49,'Reference - Logistics Distance'!$C:$O,BM$4,FALSE))","v":""},null,"","","","","","","","",null,"",null,"","",null,""]
[null,null,null,null,null,null,null,null,null,null,null,null,null,null,null,null,null,{"$f":"INDEX('Dropdown menus'!$A$1:$D$6,MATCH($E50,'Dropdown menus'!$A$1:$A$6,0),$R$6)","v":{"$error":"#N/A"}},null,{"$f":"IF($F50=\"\",\"\",VLOOKUP($F50,'Reference Data - Transport fuel'!$C:$O,T$4,FALSE))","v":""},{"$f":"IF($F50=\"\",\"\",VLOOKUP($F50,'Reference Data - Transport fuel'!$C:$O,U$4,FALSE))","v":""},{"$f":"IF($F50=\"\",\"\",VLOOKUP($F50,'Reference Data - Transport fuel'!$C:$O,V$4,FALSE))","v":""},{"$f":"IF($F50=\"\",\"\",VLOOKUP($F50,'Reference Data - Transport fuel'!$C:$O,W$4,FALSE))","v":""},{"$f":"IF($F50=\"\",\"\",VLOOKUP($F50,'Reference Data - Transport fuel'!$C:$O,X$4,FALSE))","v":""},{"$f":"IF($F50=\"\",\"\",VLOOKUP($F50,'Reference Data - Transport fuel'!$C:$O,Y$4,FALSE))","v":""},{"$f":"IF($F50=\"\",\"\",VLOOKUP($F50,'Reference Data - Transport fuel'!$C:$O,Z$4,FALSE))","v":""},{"$f":"IF($F50=\"\",\"\",VLOOKUP($F50,'Reference Data - Transport fuel'!$C:$O,AA$4,FALSE))","v":""},{"$f":"IF($F50=\"\",\"\",VLOOKUP($F50,'Reference Data - Transport fuel'!$C:$O,AB$4,FALSE))","v":""},null,{"$f":"IF($F50=\"\",\"\",VLOOKUP($F50,'Reference Data - Transport fuel'!$C:$O,AD$4,FALSE))","v":""},null,{"$f":"IF($F50=\"\",\"\",VLOOKUP($F50,'Reference Data - Transport fuel'!$C:$O,AF$4,FALSE))","v":""},null,"","","","","","","","",null,"",null,"","",null,"",null,null,{"$f":"INDEX('Dropdown menus'!$A$1:$D$6,MATCH($M50,'Dropdown menus'!$A$1:$A$6,0),$AY$6)","v":{"$error":"#N/A"}},null,{"$f":"IF($N50=\"\",\"\",VLOOKUP($N50,'Reference - Logistics Distance'!$C:$O,BA$4,FALSE))","v":""},{"$f":"IF($N50=\"\",\"\",VLOOKUP($N50,'Reference - Logistics Distance'!$C:$O,BB$4,FALSE))","v":""},{"$f":"IF($N50=\"\",\"\",VLOOKUP($N50,'Reference - Logistics Distance'!$C:$O,BC$4,FALSE))","v":""},{"$f":"IF($N50=\"\",\"\",VLOOKUP($N50,'Reference - Logistics Distance'!$C:$O,BD$4,FALSE))","v":""},{"$f":"IF($N50=\"\",\"\",VLOOKUP($N50,'Reference - Logistics Distance'!$C:$O,BE$4,FALSE))","v":""},{"$f":"IF($N50=\"\",\"\",VLOOKUP($N50,'Reference - Logistics Distance'!$C:$O,BF$4,FALSE))","v":""},{"$f":"IF($N50=\"\",\"\",VLOOKUP($N50,'Reference - Logistics Distance'!$C:$O,BG$4,FALSE))","v":""},{"$f":"IF($N50=\"\",\"\",VLOOKUP($N50,'Reference - Logistics Distance'!$C:$O,BH$4,FALSE))","v":""},{"$f":"IF($N50=\"\",\"\",VLOOKUP($N50,'Reference - Logistics Distance'!$C:$O,BI$4,FALSE))","v":""},null,{"$f":"IF($N50=\"\",\"\",VLOOKUP($N50,'Reference - Logistics Distance'!$C:$O,BK$4,FALSE))","v":""},null,{"$f":"IF($N50=\"\",\"\",VLOOKUP($N50,'Reference - Logistics Distance'!$C:$O,BM$4,FALSE))","v":""},null,"","","","","","","","",null,"",null,"","",null,""]
[null,null,null,null,null,null,null,null,null,null,null,null,null,null,null,null,null,{"$f":"INDEX('Dropdown menus'!$A$1:$D$6,MATCH($E51,'Dropdown menus'!$A$1:$A$6,0),$R$6)","v":{"$error":"#N/A"}},null,{"$f":"IF($F51=\"\",\"\",VLOOKUP($F51,'Reference Data - Transport fuel'!$C:$O,T$4,FALSE))","v":""},{"$f":"IF($F51=\"\",\"\",VLOOKUP($F51,'Reference Data - Transport fuel'!$C:$O,U$4,FALSE))","v":""},{"$f":"IF($F51=\"\",\"\",VLOOKUP($F51,'Reference Data - Transport fuel'!$C:$O,V$4,FALSE))","v":""},{"$f":"IF($F51=\"\",\"\",VLOOKUP($F51,'Reference Data - Transport fuel'!$C:$O,W$4,FALSE))","v":""},{"$f":"IF($F51=\"\",\"\",VLOOKUP($F51,'Reference Data - Transport fuel'!$C:$O,X$4,FALSE))","v":""},{"$f":"IF($F51=\"\",\"\",VLOOKUP($F51,'Reference Data - Transport fuel'!$C:$O,Y$4,FALSE))","v":""},{"$f":"IF($F51=\"\",\"\",VLOOKUP($F51,'Reference Data - Transport fuel'!$C:$O,Z$4,FALSE))","v":""},{"$f":"IF($F51=\"\",\"\",VLOOKUP($F51,'Reference Data - Transport fuel'!$C:$O,AA$4,FALSE))","v":""},{"$f":"IF($F51=\"\",\"\",VLOOKUP($F51,'Reference Data - Transport fuel'!$C:$O,AB$4,FALSE))","v":""},null,{"$f":"IF($F51=\"\",\"\",VLOOKUP($F51,'Reference Data - Transport fuel'!$C:$O,AD$4,FALSE))","v":""},null,{"$f":"IF($F51=\"\",\"\",VLOOKUP($F51,'Reference Data - Transport fuel'!$C:$O,AF$4,FALSE))","v":""},null,"","","","","","","","",null,"",null,"","",null,"",null,null,{"$f":"INDEX('Dropdown menus'!$A$1:$D$6,MATCH($M51,'Dropdown menus'!$A$1:$A$6,0),$AY$6)","v":{"$error":"#N/A"}},null,{"$f":"IF($N51=\"\",\"\",VLOOKUP($N51,'Reference - Logistics Distance'!$C:$O,BA$4,FALSE))","v":""},{"$f":"IF($N51=\"\",\"\",VLOOKUP($N51,'Reference - Logistics Distance'!$C:$O,BB$4,FALSE))","v":""},{"$f":"IF($N51=\"\",\"\",VLOOKUP($N51,'Reference - Logistics Distance'!$C:$O,BC$4,FALSE))","v":""},{"$f":"IF($N51=\"\",\"\",VLOOKUP($N51,'Reference - Logistics Distance'!$C:$O,BD$4,FALSE))","v":""},{"$f":"IF($N51=\"\",\"\",VLOOKUP($N51,'Reference - Logistics Distance'!$C:$O,BE$4,FALSE))","v":""},{"$f":"IF($N51=\"\",\"\",VLOOKUP($N51,'Reference - Logistics Distance'!$C:$O,BF$4,FALSE))","v":""},{"$f":"IF($N51=\"\",\"\",VLOOKUP($N51,'Reference - Logistics Distance'!$C:$O,BG$4,FALSE))","v":""},{"$f":"IF($N51=\"\",\"\",VLOOKUP($N51,'Reference - Logistics Distance'!$C:$O,BH$4,FALSE))","v":""},{"$f":"IF($N51=\"\",\"\",VLOOKUP($N51,'Reference - Logistics Distance'!$C:$O,BI$4,FALSE))","v":""},null,{"$f":"IF($N51=\"\",\"\",VLOOKUP($N51,'Reference - Logistics Distance'!$C:$O,BK$4,FALSE))","v":""},null,{"$f":"IF($N51=\"\",\"\",VLOOKUP($N51,'Reference - Logistics Distance'!$C:$O,BM$4,FALSE))","v":""},null,"","","","","","","","",null,"",null,"","",null,""]
[null,null,null,null,null,null,null,null,null,null,null,null,null,null,null,null,null,{"$f":"INDEX('Dropdown menus'!$A$1:$D$6,MATCH($E52,'Dropdown menus'!$A$1:$A$6,0),$R$6)","v":{"$error":"#N/A"}},null,{"$f":"IF($F52=\"\",\"\",VLOOKUP($F52,'Reference Data - Transport fuel'!$C:$O,T$4,FALSE))","v":""},{"$f":"IF($F52=\"\",\"\",VLOOKUP($F52,'Reference Data - Transport fuel'!$C:$O,U$4,FALSE))","v":""},{"$f":"IF($F52=\"\",\"\",VLOOKUP($F52,'Reference Data - Transport fuel'!$C:$O,V$4,FALSE))","v":""},{"$f":"IF($F52=\"\",\"\",VLOOKUP($F52,'Reference Data - Transport fuel'!$C:$O,W$4,FALSE))","v":""},{"$f":"IF($F52=\"\",\"\",VLOOKUP($F52,'Reference Data - Transport fuel'!$C:$O,X$4,FALSE))","v":""},{"$f":"IF($F52=\"\",\"\",VLOOKUP($F52,'Reference Data - Transport fuel'!$C:$O,Y$4,FALSE))","v":""},{"$f":"IF($F52=\"\",\"\",VLOOKUP($F52,'Reference Data - Transport fuel'!$C:$O,Z$4,FALSE))","v":""},{"$f":"IF($F52=\"\",\"\",VLOOKUP($F52,'Reference Data - Transport fuel'!$C:$O,AA$4,FALSE))","v":""},{"$f":"IF($F52=\"\",\"\",VLOOKUP($F52,'Reference Data - Transport fuel'!$C:$O,AB$4,FALSE))","v":""},null,{"$f":"IF($F52=\"\",\"\",VLOOKUP($F52,'Reference Data - Transport fuel'!$C:$O,AD$4,FALSE))","v":""},null,{"$f":"IF($F52=\"\",\"\",VLOOKUP($F52,'Reference Data - Transport fuel'!$C:$O,AF$4,FALSE))","v":""},null,"","","","","","","","",null,"",null,"","",null,"",null,null,{"$f":"INDEX('Dropdown menus'!$A$1:$D$6,MATCH($M52,'Dropdown menus'!$A$1:$A$6,0),$AY$6)","v":{"$error":"#N/A"}},null,{"$f":"IF($N52=\"\",\"\",VLOOKUP($N52,'Reference - Logistics Distance'!$C:$O,BA$4,FALSE))","v":""},{"$f":"IF($N52=\"\",\"\",VLOOKUP($N52,'Reference - Logistics Distance'!$C:$O,BB$4,FALSE))","v":""},{"$f":"IF($N52=\"\",\"\",VLOOKUP($N52,'Reference - Logistics Distance'!$C:$O,BC$4,FALSE))","v":""},{"$f":"IF($N52=\"\",\"\",VLOOKUP($N52,'Reference - Logistics Distance'!$C:$O,BD$4,FALSE))","v":""},{"$f":"IF($N52=\"\",\"\",VLOOKUP($N52,'Reference - Logistics Distance'!$C:$O,BE$4,FALSE))","v":""},{"$f":"IF($N52=\"\",\"\",VLOOKUP($N52,'Reference - Logistics Distance'!$C:$O,BF$4,FALSE))","v":""},{"$f":"IF($N52=\"\",\"\",VLOOKUP($N52,'Reference - Logistics Distance'!$C:$O,BG$4,FALSE))","v":""},{"$f":"IF($N52=\"\",\"\",VLOOKUP($N52,'Reference - Logistics Distance'!$C:$O,BH$4,FALSE))","v":""},{"$f":"IF($N52=\"\",\"\",VLOOKUP($N52,'Reference - Logistics Distance'!$C:$O,BI$4,FALSE))","v":""},null,{"$f":"IF($N52=\"\",\"\",VLOOKUP($N52,'Reference - Logistics Distance'!$C:$O,BK$4,FALSE))","v":""},null,{"$f":"IF($N52=\"\",\"\",VLOOKUP($N52,'Reference - Logistics Distance'!$C:$O,BM$4,FALSE))","v":""},null,"","","","","","","","",null,"",null,"","",null,""]
[null,null,null,null,null,null,null,null,null,null,null,null,null,null,null,null,null,{"$f":"INDEX('Dropdown menus'!$A$1:$D$6,MATCH($E53,'Dropdown menus'!$A$1:$A$6,0),$R$6)","v":{"$error":"#N/A"}},null,{"$f":"IF($F53=\"\",\"\",VLOOKUP($F53,'Reference Data - Transport fuel'!$C:$O,T$4,FALSE))","v":""},{"$f":"IF($F53=\"\",\"\",VLOOKUP($F53,'Reference Data - Transport fuel'!$C:$O,U$4,FALSE))","v":""},{"$f":"IF($F53=\"\",\"\",VLOOKUP($F53,'Reference Data - Transport fuel'!$C:$O,V$4,FALSE))","v":""},{"$f":"IF($F53=\"\",\"\",VLOOKUP($F53,'Reference Data - Transport fuel'!$C:$O,W$4,FALSE))","v":""},{"$f":"IF($F53=\"\",\"\",VLOOKUP($F53,'Reference Data - Transport fuel'!$C:$O,X$4,FALSE))","v":""},{"$f":"IF($F53=\"\",\"\",VLOOKUP($F53,'Reference Data - Transport fuel'!$C:$O,Y$4,FALSE))","v":""},{"$f":"IF($F53=\"\",\"\",VLOOKUP($F53,'Reference Data - Transport fuel'!$C:$O,Z$4,FALSE))","v":""},{"$f":"IF($F53=\"\",\"\",VLOOKUP($F53,'Reference Data - Transport fuel'!$C:$O,AA$4,FALSE))","v":""},{"$f":"IF($F53=\"\",\"\",VLOOKUP($F53,'Reference Data - Transport fuel'!$C:$O,AB$4,FALSE))","v":""},null,{"$f":"IF($F53=\"\",\"\",VLOOKUP($F53,'Reference Data - Transport fuel'!$C:$O,AD$4,FALSE))","v":""},null,{"$f":"IF($F53=\"\",\"\",VLOOKUP($F53,'Reference Data - Transport fuel'!$C:$O,AF$4,FALSE))","v":""},null,"","","","","","","","",null,"",null,"","",null,"",null,null,{"$f":"INDEX('Dropdown menus'!$A$1:$D$6,MATCH($M53,'Dropdown menus'!$A$1:$A$6,0),$AY$6)","v":{"$error":"#N/A"}},null,{"$f":"IF($N53=\"\",\"\",VLOOKUP($N53,'Reference - Logistics Distance'!$C:$O,BA$4,FALSE))","v":""},{"$f":"IF($N53=\"\",\"\",VLOOKUP($N53,'Reference - Logistics Distance'!$C:$O,BB$4,FALSE))","v":""},{"$f":"IF($N53=\"\",\"\",VLOOKUP($N53,'Reference - Logistics Distance'!$C:$O,BC$4,FALSE))","v":""},{"$f":"IF($N53=\"\",\"\",VLOOKUP($N53,'Reference - Logistics Distance'!$C:$O,BD$4,FALSE))","v":""},{"$f":"IF($N53=\"\",\"\",VLOOKUP($N53,'Reference - Logistics Distance'!$C:$O,BE$4,FALSE))","v":""},{"$f":"IF($N53=\"\",\"\",VLOOKUP($N53,'Reference - Logistics Distance'!$C:$O,BF$4,FALSE))","v":""},{"$f":"IF($N53=\"\",\"\",VLOOKUP($N53,'Reference - Logistics Distance'!$C:$O,BG$4,FALSE))","v":""},{"$f":"IF($N53=\"\",\"\",VLOOKUP($N53,'Reference - Logistics Distance'!$C:$O,BH$4,FALSE))","v":""},{"$f":"IF($N53=\"\",\"\",VLOOKUP($N53,'Reference - Logistics Distance'!$C:$O,BI$4,FALSE))","v":""},null,{"$f":"IF($N53=\"\",\"\",VLOOKUP($N53,'Reference - Logistics Distance'!$C:$O,BK$4,FALSE))","v":""},null,{"$f":"IF($N53=\"\",\"\",VLOOKUP($N53,'Reference - Logistics Distance'!$C:$O,BM$4,FALSE))","v":""},null,"","","","","","","","",null,"",null,"","",null,""]
[null,null,null,null,null,null,null,null,null,null,null,null,null,null,null,null,null,{"$f":"INDEX('Dropdown menus'!$A$1:$D$6,MATCH($E54,'Dropdown menus'!$A$1:$A$6,0),$R$6)","v":{"$error":"#N/A"}},null,{"$f":"IF($F54=\"\",\"\",VLOOKUP($F54,'Reference Data - Transport fuel'!$C:$O,T$4,FALSE))","v":""},{"$f":"IF($F54=\"\",\"\",VLOOKUP($F54,'Reference Data - Transport fuel'!$C:$O,U$4,FALSE))","v":""},{"$f":"IF($F54=\"\",\"\",VLOOKUP($F54,'Reference Data - Transport fuel'!$C:$O,V$4,FALSE))","v":""},{"$f":"IF($F54=\"\",\"\",VLOOKUP($F54,'Reference Data - Transport fuel'!$C:$O,W$4,FALSE))","v":""},{"$f":"IF($F54=\"\",\"\",VLOOKUP($F54,'Reference Data - Transport fuel'!$C:$O,X$4,FALSE))","v":""},{"$f":"IF($F54=\"\",\"\",VLOOKUP($F54,'Reference Data - Transport fuel'!$C:$O,Y$4,FALSE))","v":""},{"$f":"IF($F54=\"\",\"\",VLOOKUP($F54,'Reference Data - Transport fuel'!$C:$O,Z$4,FALSE))","v":""},{"$f":"IF($F54=\"\",\"\",VLOOKUP($F54,'Reference Data - Transport fuel'!$C:$O,AA$4,FALSE))","v":""},{"$f":"IF($F54=\"\",\"\",VLOOKUP($F54,'Reference Data - Transport fuel'!$C:$O,AB$4,FALSE))","v":""},null,{"$f":"IF($F54=\"\",\"\",VLOOKUP($F54,'Reference Data - Transport fuel'!$C:$O,AD$4,FALSE))","v":""},null,{"$f":"IF($F54=\"\",\"\",VLOOKUP($F54,'Reference Data - Transport fuel'!$C:$O,AF$4,FALSE))","v":""},null,"","","","","","","","",null,"",null,"","",null,"",null,null,{"$f":"INDEX('Dropdown menus'!$A$1:$D$6,MATCH($M54,'Dropdown menus'!$A$1:$A$6,0),$AY$6)","v":{"$error":"#N/A"}},null,{"$f":"IF($N54=\"\",\"\",VLOOKUP($N54,'Reference - Logistics Distance'!$C:$O,BA$4,FALSE))","v":""},{"$f":"IF($N54=\"\",\"\",VLOOKUP($N54,'Reference - Logistics Distance'!$C:$O,BB$4,FALSE))","v":""},{"$f":"IF($N54=\"\",\"\",VLOOKUP($N54,'Reference - Logistics Distance'!$C:$O,BC$4,FALSE))","v":""},{"$f":"IF($N54=\"\",\"\",VLOOKUP($N54,'Reference - Logistics Distance'!$C:$O,BD$4,FALSE))","v":""},{"$f":"IF($N54=\"\",\"\",VLOOKUP($N54,'Reference - Logistics Distance'!$C:$O,BE$4,FALSE))","v":""},{"$f":"IF($N54=\"\",\"\",VLOOKUP($N54,'Reference - Logistics Distance'!$C:$O,BF$4,FALSE))","v":""},{"$f":"IF($N54=\"\",\"\",VLOOKUP($N54,'Reference - Logistics Distance'!$C:$O,BG$4,FALSE))","v":""},{"$f":"IF($N54=\"\",\"\",VLOOKUP($N54,'Reference - Logistics Distance'!$C:$O,BH$4,FALSE))","v":""},{"$f":"IF($N54=\"\",\"\",VLOOKUP($N54,'Reference - Logistics Distance'!$C:$O,BI$4,FALSE))","v":""},null,{"$f":"IF($N54=\"\",\"\",VLOOKUP($N54,'Reference - Logistics Distance'!$C:$O,BK$4,FALSE))","v":""},null,{"$f":"IF($N54=\"\",\"\",VLOOKUP($N54,'Reference - Logistics Distance'!$C:$O,BM$4,FALSE))","v":""},null,"","","","","","","","",null,"",null,"","",null,""]
[null,null,null,null,null,null,null,null,null,null,null,null,null,null,null,null,null,{"$f":"INDEX('Dropdown menus'!$A$1:$D$6,MATCH($E55,'Dropdown menus'!$A$1:$A$6,0),$R$6)","v":{"$error":"#N/A"}},null,{"$f":"IF($F55=\"\",\"\",VLOOKUP($F55,'Reference Data - Transport fuel'!$C:$O,T$4,FALSE))","v":""},{"$f":"IF($F55=\"\",\"\",VLOOKUP($F55,'Reference Data - Transport fuel'!$C:$O,U$4,FALSE))","v":""},{"$f":"IF($F55=\"\",\"\",VLOOKUP($F55,'Reference Data - Transport fuel'!$C:$O,V$4,FALSE))","v":""},{"$f":"IF($F55=\"\",\"\",VLOOKUP($F55,'Reference Data - Transport fuel'!$C:$O,W$4,FALSE))","v":""},{"$f":"IF($F55=\"\",\"\",VLOOKUP($F55,'Reference Data - Transport fuel'!$C:$O,X$4,FALSE))","v":""},{"$f":"IF($F55=\"\",\"\",VLOOKUP($F55,'Reference Data - Transport fuel'!$C:$O,Y$4,FALSE))","v":""},{"$f":"IF($F55=\"\",\"\",VLOOKUP($F55,'Reference Data - Transport fuel'!$C:$O,Z$4,FALSE))","v":""},{"$f":"IF($F55=\"\",\"\",VLOOKUP($F55,'Reference Data - Transport fuel'!$C:$O,AA$4,FALSE))","v":""},{"$f":"IF($F55=\"\",\"\",VLOOKUP($F55,'Reference Data - Transport fuel'!$C:$O,AB$4,FALSE))","v":""},null,{"$f":"IF($F55=\"\",\"\",VLOOKUP($F55,'Reference Data - Transport fuel'!$C:$O,AD$4,FALSE))","v":""},null,{"$f":"IF($F55=\"\",\"\",VLOOKUP($F55,'Reference Data - Transport fuel'!$C:$O,AF$4,FALSE))","v":""},null,"","","","","","","","",null,"",null,"","",null,"",null,null,{"$f":"INDEX('Dropdown menus'!$A$1:$D$6,MATCH($M55,'Dropdown menus'!$A$1:$A$6,0),$AY$6)","v":{"$error":"#N/A"}},null,{"$f":"IF($N55=\"\",\"\",VLOOKUP($N55,'Reference - Logistics Distance'!$C:$O,BA$4,FALSE))","v":""},{"$f":"IF($N55=\"\",\"\",VLOOKUP($N55,'Reference - Logistics Distance'!$C:$O,BB$4,FALSE))","v":""},{"$f":"IF($N55=\"\",\"\",VLOOKUP($N55,'Reference - Logistics Distance'!$C:$O,BC$4,FALSE))","v":""},{"$f":"IF($N55=\"\",\"\",VLOOKUP($N55,'Reference - Logistics Distance'!$C:$O,BD$4,FALSE))","v":""},{"$f":"IF($N55=\"\",\"\",VLOOKUP($N55,'Reference - Logistics Distance'!$C:$O,BE$4,FALSE))","v":""},{"$f":"IF($N55=\"\",\"\",VLOOKUP($N55,'Reference - Logistics Distance'!$C:$O,BF$4,FALSE))","v":""},{"$f":"IF($N55=\"\",\"\",VLOOKUP($N55,'Reference - Logistics Distance'!$C:$O,BG$4,FALSE))","v":""},{"$f":"IF($N55=\"\",\"\",VLOOKUP($N55,'Reference - Logistics Distance'!$C:$O,BH$4,FALSE))","v":""},{"$f":"IF($N55=\"\",\"\",VLOOKUP($N55,'Reference - Logistics Distance'!$C:$O,BI$4,FALSE))","v":""},null,{"$f":"IF($N55=\"\",\"\",VLOOKUP($N55,'Reference - Logistics Distance'!$C:$O,BK$4,FALSE))","v":""},null,{"$f":"IF($N55=\"\",\"\",VLOOKUP($N55,'Reference - Logistics Distance'!$C:$O,BM$4,FALSE))","v":""},null,"","","","","","","","",null,"",null,"","",null,""]
[null,null,null,null,null,null,null,null,null,null,null,null,null,null,null,null,null,{"$f":"INDEX('Dropdown menus'!$A$1:$D$6,MATCH($E56,'Dropdown menus'!$A$1:$A$6,0),$R$6)","v":{"$error":"#N/A"}},null,{"$f":"IF($F56=\"\",\"\",VLOOKUP($F56,'Reference Data - Transport fuel'!$C:$O,T$4,FALSE))","v":""},{"$f":"IF($F56=\"\",\"\",VLOOKUP($F56,'Reference Data - Transport fuel'!$C:$O,U$4,FALSE))","v":""},{"$f":"IF($F56=\"\",\"\",VLOOKUP($F56,'Reference Data - Transport fuel'!$C:$O,V$4,FALSE))","v":""},{"$f":"IF($F56=\"\",\"\",VLOOKUP($F56,'Reference Data - Transport fuel'!$C:$O,W$4,FALSE))","v":""},{"$f":"IF($F56=\"\",\"\",VLOOKUP($F56,'Reference Data - Transport fuel'!$C:$O,X$4,FALSE))","v":""},{"$f":"IF($F56=\"\",\"\",VLOOKUP($F56,'Reference Data - Transport fuel'!$C:$O,Y$4,FALSE))","v":""},{"$f":"IF($F56=\"\",\"\",VLOOKUP($F56,'Reference Data - Transport fuel'!$C:$O,Z$4,FALSE))","v":""},{"$f":"IF($F56=\"\",\"\",VLOOKUP($F56,'Reference Data - Transport fuel'!$C:$O,AA$4,FALSE))","v":""},{"$f":"IF($F56=\"\",\"\",VLOOKUP($F56,'Reference Data - Transport fuel'!$C:$O,AB$4,FALSE))","v":""},null,{"$f":"IF($F56=\"\",\"\",VLOOKUP($F56,'Reference Data - Transport fuel'!$C:$O,AD$4,FALSE))","v":""},null,{"$f":"IF($F56=\"\",\"\",VLOOKUP($F56,'Reference Data - Transport fuel'!$C:$O,AF$4,FALSE))","v":""},null,"","","","","","","","",null,"",null,"","",null,"",null,null,{"$f":"INDEX('Dropdown menus'!$A$1:$D$6,MATCH($M56,'Dropdown menus'!$A$1:$A$6,0),$AY$6)","v":{"$error":"#N/A"}},null,{"$f":"IF($N56=\"\",\"\",VLOOKUP($N56,'Reference - Logistics Distance'!$C:$O,BA$4,FALSE))","v":""},{"$f":"IF($N56=\"\",\"\",VLOOKUP($N56,'Reference - Logistics Distance'!$C:$O,BB$4,FALSE))","v":""},{"$f":"IF($N56=\"\",\"\",VLOOKUP($N56,'Reference - Logistics Distance'!$C:$O,BC$4,FALSE))","v":""},{"$f":"IF($N56=\"\",\"\",VLOOKUP($N56,'Reference - Logistics Distance'!$C:$O,BD$4,FALSE))","v":""},{"$f":"IF($N56=\"\",\"\",VLOOKUP($N56,'Reference - Logistics Distance'!$C:$O,BE$4,FALSE))","v":""},{"$f":"IF($N56=\"\",\"\",VLOOKUP($N56,'Reference - Logistics Distance'!$C:$O,BF$4,FALSE))","v":""},{"$f":"IF($N56=\"\",\"\",VLOOKUP($N56,'Reference - Logistics Distance'!$C:$O,BG$4,FALSE))","v":""},{"$f":"IF($N56=\"\",\"\",VLOOKUP($N56,'Reference - Logistics Distance'!$C:$O,BH$4,FALSE))","v":""},{"$f":"IF($N56=\"\",\"\",VLOOKUP($N56,'Reference - Logistics Distance'!$C:$O,BI$4,FALSE))","v":""},null,{"$f":"IF($N56=\"\",\"\",VLOOKUP($N56,'Reference - Logistics Distance'!$C:$O,BK$4,FALSE))","v":""},null,{"$f":"IF($N56=\"\",\"\",VLOOKUP($N56,'Reference - Logistics Distance'!$C:$O,BM$4,FALSE))","v":""},null,"","","","","","","","",null,"",null,"","",null,""]
[null,null,null,null,null,null,null,null,null,null,null,null,null,null,null,null,null,{"$f":"INDEX('Dropdown menus'!$A$1:$D$6,MATCH($E57,'Dropdown menus'!$A$1:$A$6,0),$R$6)","v":{"$error":"#N/A"}},null,{"$f":"IF($F57=\"\",\"\",VLOOKUP($F57,'Reference Data - Transport fuel'!$C:$O,T$4,FALSE))","v":""},{"$f":"IF($F57=\"\",\"\",VLOOKUP($F57,'Reference Data - Transport fuel'!$C:$O,U$4,FALSE))","v":""},{"$f":"IF($F57=\"\",\"\",VLOOKUP($F57,'Reference Data - Transport fuel'!$C:$O,V$4,FALSE))","v":""},{"$f":"IF($F57=\"\",\"\",VLOOKUP($F57,'Reference Data - Transport fuel'!$C:$O,W$4,FALSE))","v":""},{"$f":"IF($F57=\"\",\"\",VLOOKUP($F57,'Reference Data - Transport fuel'!$C:$O,X$4,FALSE))","v":""},{"$f":"IF($F57=\"\",\"\",VLOOKUP($F57,'Reference Data - Transport fuel'!$C:$O,Y$4,FALSE))","v":""},{"$f":"IF($F57=\"\",\"\",VLOOKUP($F57,'Reference Data - Transport fuel'!$C:$O,Z$4,FALSE))","v":""},{"$f":"IF($F57=\"\",\"\",VLOOKUP($F57,'Reference Data - Transport fuel'!$C:$O,AA$4,FALSE))","v":""},{"$f":"IF($F57=\"\",\"\",VLOOKUP($F57,'Reference Data - Transport fuel'!$C:$O,AB$4,FALSE))","v":""},null,{"$f":"IF($F57=\"\",\"\",VLOOKUP($F57,'Reference Data - Transport fuel'!$C:$O,AD$4,FALSE))","v":""},null,{"$f":"IF($F57=\"\",\"\",VLOOKUP($F57,'Reference Data - Transport fuel'!$C:$O,AF$4,FALSE))","v":""},null,"","","","","","","","",null,"",null,"","",null,"",null,null,{"$f":"INDEX('Dropdown menus'!$A$1:$D$6,MATCH($M57,'Dropdown menus'!$A$1:$A$6,0),$AY$6)","v":{"$error":"#N/A"}},null,{"$f":"IF($N57=\"\",\"\",VLOOKUP($N57,'Reference - Logistics Distance'!$C:$O,BA$4,FALSE))","v":""},{"$f":"IF($N57=\"\",\"\",VLOOKUP($N57,'Reference - Logistics Distance'!$C:$O,BB$4,FALSE))","v":""},{"$f":"IF($N57=\"\",\"\",VLOOKUP($N57,'Reference - Logistics Distance'!$C:$O,BC$4,FALSE))","v":""},{"$f":"IF($N57=\"\",\"\",VLOOKUP($N57,'Reference - Logistics Distance'!$C:$O,BD$4,FALSE))","v":""},{"$f":"IF($N57=\"\",\"\",VLOOKUP($N57,'Reference - Logistics Distance'!$C:$O,BE$4,FALSE))","v":""},{"$f":"IF($N57=\"\",\"\",VLOOKUP($N57,'Reference - Logistics Distance'!$C:$O,BF$4,FALSE))","v":""},{"$f":"IF($N57=\"\",\"\",VLOOKUP($N57,'Reference - Logistics Distance'!$C:$O,BG$4,FALSE))","v":""},{"$f":"IF($N57=\"\",\"\",VLOOKUP($N57,'Reference - Logistics Distance'!$C:$O,BH$4,FALSE))","v":""},{"$f":"IF($N57=\"\",\"\",VLOOKUP($N57,'Reference - Logistics Distance'!$C:$O,BI$4,FALSE))","v":""},null,{"$f":"IF($N57=\"\",\"\",VLOOKUP($N57,'Reference - Logistics Distance'!$C:$O,BK$4,FALSE))","v":""},null,{"$f":"IF($N57=\"\",\"\",VLOOKUP($N57,'Reference - Logistics Distance'!$C:$O,BM$4,FALSE))","v":""},null,"","","","","","","","",null,"",null,"","",null,""]
[null,null,null,null,null,null,null,null,null,null,null,null,null,null,null,null,null,{"$f":"INDEX('Dropdown menus'!$A$1:$D$6,MATCH($E58,'Dropdown menus'!$A$1:$A$6,0),$R$6)","v":{"$error":"#N/A"}},null,{"$f":"IF($F58=\"\",\"\",VLOOKUP($F58,'Reference Data - Transport fuel'!$C:$O,T$4,FALSE))","v":""},{"$f":"IF($F58=\"\",\"\",VLOOKUP($F58,'Reference Data - Transport fuel'!$C:$O,U$4,FALSE))","v":""},{"$f":"IF($F58=\"\",\"\",VLOOKUP($F58,'Reference Data - Transport fuel'!$C:$O,V$4,FALSE))","v":""},{"$f":"IF($F58=\"\",\"\",VLOOKUP($F58,'Reference Data - Transport fuel'!$C:$O,W$4,FALSE))","v":""},{"$f":"IF($F58=\"\",\"\",VLOOKUP($F58,'Reference Data - Transport fuel'!$C:$O,X$4,FALSE))","v":""},{"$f":"IF($F58=\"\",\"\",VLOOKUP($F58,'Reference Data - Transport fuel'!$C:$O,Y$4,FALSE))","v":""},{"$f":"IF($F58=\"\",\"\",VLOOKUP($F58,'Reference Data - Transport fuel'!$C:$O,Z$4,FALSE))","v":""},{"$f":"IF($F58=\"\",\"\",VLOOKUP($F58,'Reference Data - Transport fuel'!$C:$O,AA$4,FALSE))","v":""},{"$f":"IF($F58=\"\",\"\",VLOOKUP($F58,'Reference Data - Transport fuel'!$C:$O,AB$4,FALSE))","v":""},null,{"$f":"IF($F58=\"\",\"\",VLOOKUP($F58,'Reference Data - Transport fuel'!$C:$O,AD$4,FALSE))","v":""},null,{"$f":"IF($F58=\"\",\"\",VLOOKUP($F58,'Reference Data - Transport fuel'!$C:$O,AF$4,FALSE))","v":""},null,"","","","","","","","",null,"",null,"","",null,"",null,null,{"$f":"INDEX('Dropdown menus'!$A$1:$D$6,MATCH($M58,'Dropdown menus'!$A$1:$A$6,0),$AY$6)","v":{"$error":"#N/A"}},null,{"$f":"IF($N58=\"\",\"\",VLOOKUP($N58,'Reference - Logistics Distance'!$C:$O,BA$4,FALSE))","v":""},{"$f":"IF($N58=\"\",\"\",VLOOKUP($N58,'Reference - Logistics Distance'!$C:$O,BB$4,FALSE))","v":""},{"$f":"IF($N58=\"\",\"\",VLOOKUP($N58,'Reference - Logistics Distance'!$C:$O,BC$4,FALSE))","v":""},{"$f":"IF($N58=\"\",\"\",VLOOKUP($N58,'Reference - Logistics Distance'!$C:$O,BD$4,FALSE))","v":""},{"$f":"IF($N58=\"\",\"\",VLOOKUP($N58,'Reference - Logistics Distance'!$C:$O,BE$4,FALSE))","v":""},{"$f":"IF($N58=\"\",\"\",VLOOKUP($N58,'Reference - Logistics Distance'!$C:$O,BF$4,FALSE))","v":""},{"$f":"IF($N58=\"\",\"\",VLOOKUP($N58,'Reference - Logistics Distance'!$C:$O,BG$4,FALSE))","v":""},{"$f":"IF($N58=\"\",\"\",VLOOKUP($N58,'Reference - Logistics Distance'!$C:$O,BH$4,FALSE))","v":""},{"$f":"IF($N58=\"\",\"\",VLOOKUP($N58,'Reference - Logistics Distance'!$C:$O,BI$4,FALSE))","v":""},null,{"$f":"IF($N58=\"\",\"\",VLOOKUP($N58,'Reference - Logistics Distance'!$C:$O,BK$4,FALSE))","v":""},null,{"$f":"IF($N58=\"\",\"\",VLOOKUP($N58,'Reference - Logistics Distance'!$C:$O,BM$4,FALSE))","v":""},null,"","","","","","","","",null,"",null,"","",null,""]
[null,null,null,null,null,null,null,null,null,null,null,null,null,null,null,null,null,{"$f":"INDEX('Dropdown menus'!$A$1:$D$6,MATCH($E59,'Dropdown menus'!$A$1:$A$6,0),$R$6)","v":{"$error":"#N/A"}},null,{"$f":"IF($F59=\"\",\"\",VLOOKUP($F59,'Reference Data - Transport fuel'!$C:$O,T$4,FALSE))","v":""},{"$f":"IF($F59=\"\",\"\",VLOOKUP($F59,'Reference Data - Transport fuel'!$C:$O,U$4,FALSE))","v":""},{"$f":"IF($F59=\"\",\"\",VLOOKUP($F59,'Reference Data - Transport fuel'!$C:$O,V$4,FALSE))","v":""},{"$f":"IF($F59=\"\",\"\",VLOOKUP($F59,'Reference Data - Transport fuel'!$C:$O,W$4,FALSE))","v":""},{"$f":"IF($F59=\"\",\"\",VLOOKUP($F59,'Reference Data - Transport fuel'!$C:$O,X$4,FALSE))","v":""},{"$f":"IF($F59=\"\",\"\",VLOOKUP($F59,'Reference Data - Transport fuel'!$C:$O,Y$4,FALSE))","v":""},{"$f":"IF($F59=\"\",\"\",VLOOKUP($F59,'Reference Data - Transport fuel'!$C:$O,Z$4,FALSE))","v":""},{"$f":"IF($F59=\"\",\"\",VLOOKUP($F59,'Reference Data - Transport fuel'!$C:$O,AA$4,FALSE))","v":""},{"$f":"IF($F59=\"\",\"\",VLOOKUP($F59,'Reference Data - Transport fuel'!$C:$O,AB$4,FALSE))","v":""},null,{"$f":"IF($F59=\"\",\"\",VLOOKUP($F59,'Reference Data - Transport fuel'!$C:$O,AD$4,FALSE))","v":""},null,{"$f":"IF($F59=\"\",\"\",VLOOKUP($F59,'Reference Data - Transport fuel'!$C:$O,AF$4,FALSE))","v":""},null,"","","","","","","","",null,"",null,"","",null,"",null,null,{"$f":"INDEX('Dropdown menus'!$A$1:$D$6,MATCH($M59,'Dropdown menus'!$A$1:$A$6,0),$AY$6)","v":{"$error":"#N/A"}},null,{"$f":"IF($N59=\"\",\"\",VLOOKUP($N59,'Reference - Logistics Distance'!$C:$O,BA$4,FALSE))","v":""},{"$f":"IF($N59=\"\",\"\",VLOOKUP($N59,'Reference - Logistics Distance'!$C:$O,BB$4,FALSE))","v":""},{"$f":"IF($N59=\"\",\"\",VLOOKUP($N59,'Reference - Logistics Distance'!$C:$O,BC$4,FALSE))","v":""},{"$f":"IF($N59=\"\",\"\",VLOOKUP($N59,'Reference - Logistics Distance'!$C:$O,BD$4,FALSE))","v":""},{"$f":"IF($N59=\"\",\"\",VLOOKUP($N59,'Reference - Logistics Distance'!$C:$O,BE$4,FALSE))","v":""},{"$f":"IF($N59=\"\",\"\",VLOOKUP($N59,'Reference - Logistics Distance'!$C:$O,BF$4,FALSE))","v":""},{"$f":"IF($N59=\"\",\"\",VLOOKUP($N59,'Reference - Logistics Distance'!$C:$O,BG$4,FALSE))","v":""},{"$f":"IF($N59=\"\",\"\",VLOOKUP($N59,'Reference - Logistics Distance'!$C:$O,BH$4,FALSE))","v":""},{"$f":"IF($N59=\"\",\"\",VLOOKUP($N59,'Reference - Logistics Distance'!$C:$O,BI$4,FALSE))","v":""},null,{"$f":"IF($N59=\"\",\"\",VLOOKUP($N59,'Reference - Logistics Distance'!$C:$O,BK$4,FALSE))","v":""},null,{"$f":"IF($N59=\"\",\"\",VLOOKUP($N59,'Reference - Logistics Distance'!$C:$O,BM$4,FALSE))","v":""},null,"","","","","","","","",null,"",null,"","",null,""]
[null,null,null,null,null,null,null,null,null,null,null,null,null,null,null,null,null,{"$f":"INDEX('Dropdown menus'!$A$1:$D$6,MATCH($E60,'Dropdown menus'!$A$1:$A$6,0),$R$6)","v":{"$error":"#N/A"}},null,{"$f":"IF($F60=\"\",\"\",VLOOKUP($F60,'Reference Data - Transport fuel'!$C:$O,T$4,FALSE))","v":""},{"$f":"IF($F60=\"\",\"\",VLOOKUP($F60,'Reference Data - Transport fuel'!$C:$O,U$4,FALSE))","v":""},{"$f":"IF($F60=\"\",\"\",VLOOKUP($F60,'Reference Data - Transport fuel'!$C:$O,V$4,FALSE))","v":""},{"$f":"IF($F60=\"\",\"\",VLOOKUP($F60,'Reference Data - Transport fuel'!$C:$O,W$4,FALSE))","v":""},{"$f":"IF($F60=\"\",\"\",VLOOKUP($F60,'Reference Data - Transport fuel'!$C:$O,X$4,FALSE))","v":""},{"$f":"IF($F60=\"\",\"\",VLOOKUP($F60,'Reference Data - Transport fuel'!$C:$O,Y$4,FALSE))","v":""},{"$f":"IF($F60=\"\",\"\",VLOOKUP($F60,'Reference Data - Transport fuel'!$C:$O,Z$4,FALSE))","v":""},{"$f":"IF($F60=\"\",\"\",VLOOKUP($F60,'Reference Data - Transport fuel'!$C:$O,AA$4,FALSE))","v":""},{"$f":"IF($F60=\"\",\"\",VLOOKUP($F60,'Reference Data - Transport fuel'!$C:$O,AB$4,FALSE))","v":""},null,{"$f":"IF($F60=\"\",\"\",VLOOKUP($F60,'Reference Data - Transport fuel'!$C:$O,AD$4,FALSE))","v":""},null,{"$f":"IF($F60=\"\",\"\",VLOOKUP($F60,'Reference Data - Transport fuel'!$C:$O,AF$4,FALSE))","v":""},null,"","","","","","","","",null,"",null,"","",null,"",null,null,{"$f":"INDEX('Dropdown menus'!$A$1:$D$6,MATCH($M60,'Dropdown menus'!$A$1:$A$6,0),$AY$6)","v":{"$error":"#N/A"}},null,{"$f":"IF($N60=\"\",\"\",VLOOKUP($N60,'Reference - Logistics Distance'!$C:$O,BA$4,FALSE))","v":""},{"$f":"IF($N60=\"\",\"\",VLOOKUP($N60,'Reference - Logistics Distance'!$C:$O,BB$4,FALSE))","v":""},{"$f":"IF($N60=\"\",\"\",VLOOKUP($N60,'Reference - Logistics Distance'!$C:$O,BC$4,FALSE))","v":""},{"$f":"IF($N60=\"\",\"\",VLOOKUP($N60,'Reference - Logistics Distance'!$C:$O,BD$4,FALSE))","v":""},{"$f":"IF($N60=\"\",\"\",VLOOKUP($N60,'Reference - Logistics Distance'!$C:$O,BE$4,FALSE))","v":""},{"$f":"IF($N60=\"\",\"\",VLOOKUP($N60,'Reference - Logistics Distance'!$C:$O,BF$4,FALSE))","v":""},{"$f":"IF($N60=\"\",\"\",VLOOKUP($N60,'Reference - Logistics Distance'!$C:$O,BG$4,FALSE))","v":""},{"$f":"IF($N60=\"\",\"\",VLOOKUP($N60,'Reference - Logistics Distance'!$C:$O,BH$4,FALSE))","v":""},{"$f":"IF($N60=\"\",\"\",VLOOKUP($N60,'Reference - Logistics Distance'!$C:$O,BI$4,FALSE))","v":""},null,{"$f":"IF($N60=\"\",\"\",VLOOKUP($N60,'Reference - Logistics Distance'!$C:$O,BK$4,FALSE))","v":""},null,{"$f":"IF($N60=\"\",\"\",VLOOKUP($N60,'Reference - Logistics Distance'!$C:$O,BM$4,FALSE))","v":""},null,"","","","","","","","",null,"",null,"","",null,""]
[null,null,null,null,null,null,null,null,null,null,null,null,null,null,null,null,null,{"$f":"INDEX('Dropdown menus'!$A$1:$D$6,MATCH($E61,'Dropdown menus'!$A$1:$A$6,0),$R$6)","v":{"$error":"#N/A"}},null,{"$f":"IF($F61=\"\",\"\",VLOOKUP($F61,'Reference Data - Transport fuel'!$C:$O,T$4,FALSE))","v":""},{"$f":"IF($F61=\"\",\"\",VLOOKUP($F61,'Reference Data - Transport fuel'!$C:$O,U$4,FALSE))","v":""},{"$f":"IF($F61=\"\",\"\",VLOOKUP($F61,'Reference Data - Transport fuel'!$C:$O,V$4,FALSE))","v":""},{"$f":"IF($F61=\"\",\"\",VLOOKUP($F61,'Reference Data - Transport fuel'!$C:$O,W$4,FALSE))","v":""},{"$f":"IF($F61=\"\",\"\",VLOOKUP($F61,'Reference Data - Transport fuel'!$C:$O,X$4,FALSE))","v":""},{"$f":"IF($F61=\"\",\"\",VLOOKUP($F61,'Reference Data - Transport fuel'!$C:$O,Y$4,FALSE))","v":""},{"$f":"IF($F61=\"\",\"\",VLOOKUP($F61,'Reference Data - Transport fuel'!$C:$O,Z$4,FALSE))","v":""},{"$f":"IF($F61=\"\",\"\",VLOOKUP($F61,'Reference Data - Transport fuel'!$C:$O,AA$4,FALSE))","v":""},{"$f":"IF($F61=\"\",\"\",VLOOKUP($F61,'Reference Data - Transport fuel'!$C:$O,AB$4,FALSE))","v":""},null,{"$f":"IF($F61=\"\",\"\",VLOOKUP($F61,'Reference Data - Transport fuel'!$C:$O,AD$4,FALSE))","v":""},null,{"$f":"IF($F61=\"\",\"\",VLOOKUP($F61,'Reference Data - Transport fuel'!$C:$O,AF$4,FALSE))","v":""},null,"","","","","","","","",null,"",null,"","",null,"",null,null,{"$f":"INDEX('Dropdown menus'!$A$1:$D$6,MATCH($M61,'Dropdown menus'!$A$1:$A$6,0),$AY$6)","v":{"$error":"#N/A"}},null,{"$f":"IF($N61=\"\",\"\",VLOOKUP($N61,'Reference - Logistics Distance'!$C:$O,BA$4,FALSE))","v":""},{"$f":"IF($N61=\"\",\"\",VLOOKUP($N61,'Reference - Logistics Distance'!$C:$O,BB$4,FALSE))","v":""},{"$f":"IF($N61=\"\",\"\",VLOOKUP($N61,'Reference - Logistics Distance'!$C:$O,BC$4,FALSE))","v":""},{"$f":"IF($N61=\"\",\"\",VLOOKUP($N61,'Reference - Logistics Distance'!$C:$O,BD$4,FALSE))","v":""},{"$f":"IF($N61=\"\",\"\",VLOOKUP($N61,'Reference - Logistics Distance'!$C:$O,BE$4,FALSE))","v":""},{"$f":"IF($N61=\"\",\"\",VLOOKUP($N61,'Reference - Logistics Distance'!$C:$O,BF$4,FALSE))","v":""},{"$f":"IF($N61=\"\",\"\",VLOOKUP($N61,'Reference - Logistics Distance'!$C:$O,BG$4,FALSE))","v":""},{"$f":"IF($N61=\"\",\"\",VLOOKUP($N61,'Reference - Logistics Distance'!$C:$O,BH$4,FALSE))","v":""},{"$f":"IF($N61=\"\",\"\",VLOOKUP($N61,'Reference - Logistics Distance'!$C:$O,BI$4,FALSE))","v":""},null,{"$f":"IF($N61=\"\",\"\",VLOOKUP($N61,'Reference - Logistics Distance'!$C:$O,BK$4,FALSE))","v":""},null,{"$f":"IF($N61=\"\",\"\",VLOOKUP($N61,'Reference - Logistics Distance'!$C:$O,BM$4,FALSE))","v":""},null,"","","","","","","","",null,"",null,"","",null,""]
[null,null,null,null,null,null,null,null,null,null,null,null,null,null,null,null,null,{"$f":"INDEX('Dropdown menus'!$A$1:$D$6,MATCH($E62,'Dropdown menus'!$A$1:$A$6,0),$R$6)","v":{"$error":"#N/A"}},null,{"$f":"IF($F62=\"\",\"\",VLOOKUP($F62,'Reference Data - Transport fuel'!$C:$O,T$4,FALSE))","v":""},{"$f":"IF($F62=\"\",\"\",VLOOKUP($F62,'Reference Data - Transport fuel'!$C:$O,U$4,FALSE))","v":""},{"$f":"IF($F62=\"\",\"\",VLOOKUP($F62,'Reference Data - Transport fuel'!$C:$O,V$4,FALSE))","v":""},{"$f":"IF($F62=\"\",\"\",VLOOKUP($F62,'Reference Data - Transport fuel'!$C:$O,W$4,FALSE))","v":""},{"$f":"IF($F62=\"\",\"\",VLOOKUP($F62,'Reference Data - Transport fuel'!$C:$O,X$4,FALSE))","v":""},{"$f":"IF($F62=\"\",\"\",VLOOKUP($F62,'Reference Data - Transport fuel'!$C:$O,Y$4,FALSE))","v":""},{"$f":"IF($F62=\"\",\"\",VLOOKUP($F62,'Reference Data - Transport fuel'!$C:$O,Z$4,FALSE))","v":""},{"$f":"IF($F62=\"\",\"\",VLOOKUP($F62,'Reference Data - Transport fuel'!$C:$O,AA$4,FALSE))","v":""},{"$f":"IF($F62=\"\",\"\",VLOOKUP($F62,'Reference Data - Transport fuel'!$C:$O,AB$4,FALSE))","v":""},null,{"$f":"IF($F62=\"\",\"\",VLOOKUP($F62,'Reference Data - Transport fuel'!$C:$O,AD$4,FALSE))","v":""},null,{"$f":"IF($F62=\"\",\"\",VLOOKUP($F62,'Reference Data - Transport fuel'!$C:$O,AF$4,FALSE))","v":""},null,"","","","","","","","",null,"",null,"","",null,"",null,null,{"$f":"INDEX('Dropdown menus'!$A$1:$D$6,MATCH($M62,'Dropdown menus'!$A$1:$A$6,0),$AY$6)","v":{"$error":"#N/A"}},null,{"$f":"IF($N62=\"\",\"\",VLOOKUP($N62,'Reference - Logistics Distance'!$C:$O,BA$4,FALSE))","v":""},{"$f":"IF($N62=\"\",\"\",VLOOKUP($N62,'Reference - Logistics Distance'!$C:$O,BB$4,FALSE))","v":""},{"$f":"IF($N62=\"\",\"\",VLOOKUP($N62,'Reference - Logistics Distance'!$C:$O,BC$4,FALSE))","v":""},{"$f":"IF($N62=\"\",\"\",VLOOKUP($N62,'Reference - Logistics Distance'!$C:$O,BD$4,FALSE))","v":""},{"$f":"IF($N62=\"\",\"\",VLOOKUP($N62,'Reference - Logistics Distance'!$C:$O,BE$4,FALSE))","v":""},{"$f":"IF($N62=\"\",\"\",VLOOKUP($N62,'Reference - Logistics Distance'!$C:$O,BF$4,FALSE))","v":""},{"$f":"IF($N62=\"\",\"\",VLOOKUP($N62,'Reference - Logistics Distance'!$C:$O,BG$4,FALSE))","v":""},{"$f":"IF($N62=\"\",\"\",VLOOKUP($N62,'Reference - Logistics Distance'!$C:$O,BH$4,FALSE))","v":""},{"$f":"IF($N62=\"\",\"\",VLOOKUP($N62,'Reference - Logistics Distance'!$C:$O,BI$4,FALSE))","v":""},null,{"$f":"IF($N62=\"\",\"\",VLOOKUP($N62,'Reference - Logistics Distance'!$C:$O,BK$4,FALSE))","v":""},null,{"$f":"IF($N62=\"\",\"\",VLOOKUP($N62,'Reference - Logistics Distance'!$C:$O,BM$4,FALSE))","v":""},null,"","","","","","","","",null,"",null,"","",null,""]
[null,null,null,null,null,null,null,null,null,null,null,null,null,null,null,null,null,{"$f":"INDEX('Dropdown menus'!$A$1:$D$6,MATCH($E63,'Dropdown menus'!$A$1:$A$6,0),$R$6)","v":{"$error":"#N/A"}},null,{"$f":"IF($F63=\"\",\"\",VLOOKUP($F63,'Reference Data - Transport fuel'!$C:$O,T$4,FALSE))","v":""},{"$f":"IF($F63=\"\",\"\",VLOOKUP($F63,'Reference Data - Transport fuel'!$C:$O,U$4,FALSE))","v":""},{"$f":"IF($F63=\"\",\"\",VLOOKUP($F63,'Reference Data - Transport fuel'!$C:$O,V$4,FALSE))","v":""},{"$f":"IF($F63=\"\",\"\",VLOOKUP($F63,'Reference Data - Transport fuel'!$C:$O,W$4,FALSE))","v":""},{"$f":"IF($F63=\"\",\"\",VLOOKUP($F63,'Reference Data - Transport fuel'!$C:$O,X$4,FALSE))","v":""},{"$f":"IF($F63=\"\",\"\",VLOOKUP($F63,'Reference Data - Transport fuel'!$C:$O,Y$4,FALSE))","v":""},{"$f":"IF($F63=\"\",\"\",VLOOKUP($F63,'Reference Data - Transport fuel'!$C:$O,Z$4,FALSE))","v":""},{"$f":"IF($F63=\"\",\"\",VLOOKUP($F63,'Reference Data - Transport fuel'!$C:$O,AA$4,FALSE))","v":""},{"$f":"IF($F63=\"\",\"\",VLOOKUP($F63,'Reference Data - Transport fuel'!$C:$O,AB$4,FALSE))","v":""},null,{"$f":"IF($F63=\"\",\"\",VLOOKUP($F63,'Reference Data - Transport fuel'!$C:$O,AD$4,FALSE))","v":""},null,{"$f":"IF($F63=\"\",\"\",VLOOKUP($F63,'Reference Data - Transport fuel'!$C:$O,AF$4,FALSE))","v":""},null,"","","","","","","","",null,"",null,"","",null,"",null,null,{"$f":"INDEX('Dropdown menus'!$A$1:$D$6,MATCH($M63,'Dropdown menus'!$A$1:$A$6,0),$AY$6)","v":{"$error":"#N/A"}},null,{"$f":"IF($N63=\"\",\"\",VLOOKUP($N63,'Reference - Logistics Distance'!$C:$O,BA$4,FALSE))","v":""},{"$f":"IF($N63=\"\",\"\",VLOOKUP($N63,'Reference - Logistics Distance'!$C:$O,BB$4,FALSE))","v":""},{"$f":"IF($N63=\"\",\"\",VLOOKUP($N63,'Reference - Logistics Distance'!$C:$O,BC$4,FALSE))","v":""},{"$f":"IF($N63=\"\",\"\",VLOOKUP($N63,'Reference - Logistics Distance'!$C:$O,BD$4,FALSE))","v":""},{"$f":"IF($N63=\"\",\"\",VLOOKUP($N63,'Reference - Logistics Distance'!$C:$O,BE$4,FALSE))","v":""},{"$f":"IF($N63=\"\",\"\",VLOOKUP($N63,'Reference - Logistics Distance'!$C:$O,BF$4,FALSE))","v":""},{"$f":"IF($N63=\"\",\"\",VLOOKUP($N63,'Reference - Logistics Distance'!$C:$O,BG$4,FALSE))","v":""},{"$f":"IF($N63=\"\",\"\",VLOOKUP($N63,'Reference - Logistics Distance'!$C:$O,BH$4,FALSE))","v":""},{"$f":"IF($N63=\"\",\"\",VLOOKUP($N63,'Reference - Logistics Distance'!$C:$O,BI$4,FALSE))","v":""},null,{"$f":"IF($N63=\"\",\"\",VLOOKUP($N63,'Reference - Logistics Distance'!$C:$O,BK$4,FALSE))","v":""},null,{"$f":"IF($N63=\"\",\"\",VLOOKUP($N63,'Reference - Logistics Distance'!$C:$O,BM$4,FALSE))","v":""},null,"","","","","","","","",null,"",null,"","",null,""]
[null,null,null,null,null,null,null,null,null,null,null,null,null,null,null,null,null,{"$f":"INDEX('Dropdown menus'!$A$1:$D$6,MATCH($E64,'Dropdown menus'!$A$1:$A$6,0),$R$6)","v":{"$error":"#N/A"}},null,{"$f":"IF($F64=\"\",\"\",VLOOKUP($F64,'Reference Data - Transport fuel'!$C:$O,T$4,FALSE))","v":""},{"$f":"IF($F64=\"\",\"\",VLOOKUP($F64,'Reference Data - Transport fuel'!$C:$O,U$4,FALSE))","v":""},{"$f":"IF($F64=\"\",\"\",VLOOKUP($F64,'Reference Data - Transport fuel'!$C:$O,V$4,FALSE))","v":""},{"$f":"IF($F64=\"\",\"\",VLOOKUP($F64,'Reference Data - Transport fuel'!$C:$O,W$4,FALSE))","v":""},{"$f":"IF($F64=\"\",\"\",VLOOKUP($F64,'Reference Data - Transport fuel'!$C:$O,X$4,FALSE))","v":""},{"$f":"IF($F64=\"\",\"\",VLOOKUP($F64,'Reference Data - Transport fuel'!$C:$O,Y$4,FALSE))","v":""},{"$f":"IF($F64=\"\",\"\",VLOOKUP($F64,'Reference Data - Transport fuel'!$C:$O,Z$4,FALSE))","v":""},{"$f":"IF($F64=\"\",\"\",VLOOKUP($F64,'Reference Data - Transport fuel'!$C:$O,AA$4,FALSE))","v":""},{"$f":"IF($F64=\"\",\"\",VLOOKUP($F64,'Reference Data - Transport fuel'!$C:$O,AB$4,FALSE))","v":""},null,{"$f":"IF($F64=\"\",\"\",VLOOKUP($F64,'Reference Data - Transport fuel'!$C:$O,AD$4,FALSE))","v":""},null,{"$f":"IF($F64=\"\",\"\",VLOOKUP($F64,'Reference Data - Transport fuel'!$C:$O,AF$4,FALSE))","v":""},null,"","","","","","","","",null,"",null,"","",null,"",null,null,{"$f":"INDEX('Dropdown menus'!$A$1:$D$6,MATCH($M64,'Dropdown menus'!$A$1:$A$6,0),$AY$6)","v":{"$error":"#N/A"}},null,{"$f":"IF($N64=\"\",\"\",VLOOKUP($N64,'Reference - Logistics Distance'!$C:$O,BA$4,FALSE))","v":""},{"$f":"IF($N64=\"\",\"\",VLOOKUP($N64,'Reference - Logistics Distance'!$C:$O,BB$4,FALSE))","v":""},{"$f":"IF($N64=\"\",\"\",VLOOKUP($N64,'Reference - Logistics Distance'!$C:$O,BC$4,FALSE))","v":""},{"$f":"IF($N64=\"\",\"\",VLOOKUP($N64,'Reference - Logistics Distance'!$C:$O,BD$4,FALSE))","v":""},{"$f":"IF($N64=\"\",\"\",VLOOKUP($N64,'Reference - Logistics Distance'!$C:$O,BE$4,FALSE))","v":""},{"$f":"IF($N64=\"\",\"\",VLOOKUP($N64,'Reference - Logistics Distance'!$C:$O,BF$4,FALSE))","v":""},{"$f":"IF($N64=\"\",\"\",VLOOKUP($N64,'Reference - Logistics Distance'!$C:$O,BG$4,FALSE))","v":""},{"$f":"IF($N64=\"\",\"\",VLOOKUP($N64,'Reference - Logistics Distance'!$C:$O,BH$4,FALSE))","v":""},{"$f":"IF($N64=\"\",\"\",VLOOKUP($N64,'Reference - Logistics Distance'!$C:$O,BI$4,FALSE))","v":""},null,{"$f":"IF($N64=\"\",\"\",VLOOKUP($N64,'Reference - Logistics Distance'!$C:$O,BK$4,FALSE))","v":""},null,{"$f":"IF($N64=\"\",\"\",VLOOKUP($N64,'Reference - Logistics Distance'!$C:$O,BM$4,FALSE))","v":""},null,"","","","","","","","",null,"",null,"","",null,""]
[null,null,null,null,null,null,null,null,null,null,null,null,null,null,null,null,null,{"$f":"INDEX('Dropdown menus'!$A$1:$D$6,MATCH($E65,'Dropdown menus'!$A$1:$A$6,0),$R$6)","v":{"$error":"#N/A"}},null,{"$f":"IF($F65=\"\",\"\",VLOOKUP($F65,'Reference Data - Transport fuel'!$C:$O,T$4,FALSE))","v":""},{"$f":"IF($F65=\"\",\"\",VLOOKUP($F65,'Reference Data - Transport fuel'!$C:$O,U$4,FALSE))","v":""},{"$f":"IF($F65=\"\",\"\",VLOOKUP($F65,'Reference Data - Transport fuel'!$C:$O,V$4,FALSE))","v":""},{"$f":"IF($F65=\"\",\"\",VLOOKUP($F65,'Reference Data - Transport fuel'!$C:$O,W$4,FALSE))","v":""},{"$f":"IF($F65=\"\",\"\",VLOOKUP($F65,'Reference Data - Transport fuel'!$C:$O,X$4,FALSE))","v":""},{"$f":"IF($F65=\"\",\"\",VLOOKUP($F65,'Reference Data - Transport fuel'!$C:$O,Y$4,FALSE))","v":""},{"$f":"IF($F65=\"\",\"\",VLOOKUP($F65,'Reference Data - Transport fuel'!$C:$O,Z$4,FALSE))","v":""},{"$f":"IF($F65=\"\",\"\",VLOOKUP($F65,'Reference Data - Transport fuel'!$C:$O,AA$4,FALSE))","v":""},{"$f":"IF($F65=\"\",\"\",VLOOKUP($F65,'Reference Data - Transport fuel'!$C:$O,AB$4,FALSE))","v":""},null,{"$f":"IF($F65=\"\",\"\",VLOOKUP($F65,'Reference Data - Transport fuel'!$C:$O,AD$4,FALSE))","v":""},null,{"$f":"IF($F65=\"\",\"\",VLOOKUP($F65,'Reference Data - Transport fuel'!$C:$O,AF$4,FALSE))","v":""},null,"","","","","","","","",null,"",null,"","",null,"",null,null,{"$f":"INDEX('Dropdown menus'!$A$1:$D$6,MATCH($M65,'Dropdown menus'!$A$1:$A$6,0),$AY$6)","v":{"$error":"#N/A"}},null,{"$f":"IF($N65=\"\",\"\",VLOOKUP($N65,'Reference - Logistics Distance'!$C:$O,BA$4,FALSE))","v":""},{"$f":"IF($N65=\"\",\"\",VLOOKUP($N65,'Reference - Logistics Distance'!$C:$O,BB$4,FALSE))","v":""},{"$f":"IF($N65=\"\",\"\",VLOOKUP($N65,'Reference - Logistics Distance'!$C:$O,BC$4,FALSE))","v":""},{"$f":"IF($N65=\"\",\"\",VLOOKUP($N65,'Reference - Logistics Distance'!$C:$O,BD$4,FALSE))","v":""},{"$f":"IF($N65=\"\",\"\",VLOOKUP($N65,'Reference - Logistics Distance'!$C:$O,BE$4,FALSE))","v":""},{"$f":"IF($N65=\"\",\"\",VLOOKUP($N65,'Reference - Logistics Distance'!$C:$O,BF$4,FALSE))","v":""},{"$f":"IF($N65=\"\",\"\",VLOOKUP($N65,'Reference - Logistics Distance'!$C:$O,BG$4,FALSE))","v":""},{"$f":"IF($N65=\"\",\"\",VLOOKUP($N65,'Reference - Logistics Distance'!$C:$O,BH$4,FALSE))","v":""},{"$f":"IF($N65=\"\",\"\",VLOOKUP($N65,'Reference - Logistics Distance'!$C:$O,BI$4,FALSE))","v":""},null,{"$f":"IF($N65=\"\",\"\",VLOOKUP($N65,'Reference - Logistics Distance'!$C:$O,BK$4,FALSE))","v":""},null,{"$f":"IF($N65=\"\",\"\",VLOOKUP($N65,'Reference - Logistics Distance'!$C:$O,BM$4,FALSE))","v":""},null,"","","","","","","","",null,"",null,"","",null,""]
[null,null,null,null,null,null,null,null,null,null,null,null,null,null,null,null,null,{"$f":"INDEX('Dropdown menus'!$A$1:$D$6,MATCH($E66,'Dropdown menus'!$A$1:$A$6,0),$R$6)","v":{"$error":"#N/A"}},null,{"$f":"IF($F66=\"\",\"\",VLOOKUP($F66,'Reference Data - Transport fuel'!$C:$O,T$4,FALSE))","v":""},{"$f":"IF($F66=\"\",\"\",VLOOKUP($F66,'Reference Data - Transport fuel'!$C:$O,U$4,FALSE))","v":""},{"$f":"IF($F66=\"\",\"\",VLOOKUP($F66,'Reference Data - Transport fuel'!$C:$O,V$4,FALSE))","v":""},{"$f":"IF($F66=\"\",\"\",VLOOKUP($F66,'Reference Data - Transport fuel'!$C:$O,W$4,FALSE))","v":""},{"$f":"IF($F66=\"\",\"\",VLOOKUP($F66,'Reference Data - Transport fuel'!$C:$O,X$4,FALSE))","v":""},{"$f":"IF($F66=\"\",\"\",VLOOKUP($F66,'Reference Data - Transport fuel'!$C:$O,Y$4,FALSE))","v":""},{"$f":"IF($F66=\"\",\"\",VLOOKUP($F66,'Reference Data - Transport fuel'!$C:$O,Z$4,FALSE))","v":""},{"$f":"IF($F66=\"\",\"\",VLOOKUP($F66,'Reference Data - Transport fuel'!$C:$O,AA$4,FALSE))","v":""},{"$f":"IF($F66=\"\",\"\",VLOOKUP($F66,'Reference Data - Transport fuel'!$C:$O,AB$4,FALSE))","v":""},null,{"$f":"IF($F66=\"\",\"\",VLOOKUP($F66,'Reference Data - Transport fuel'!$C:$O,AD$4,FALSE))","v":""},null,{"$f":"IF($F66=\"\",\"\",VLOOKUP($F66,'Reference Data - Transport fuel'!$C:$O,AF$4,FALSE))","v":""},null,"","","","","","","","",null,"",null,"","",null,"",null,null,{"$f":"INDEX('Dropdown menus'!$A$1:$D$6,MATCH($M66,'Dropdown menus'!$A$1:$A$6,0),$AY$6)","v":{"$error":"#N/A"}},null,{"$f":"IF($N66=\"\",\"\",VLOOKUP($N66,'Reference - Logistics Distance'!$C:$O,BA$4,FALSE))","v":""},{"$f":"IF($N66=\"\",\"\",VLOOKUP($N66,'Reference - Logistics Distance'!$C:$O,BB$4,FALSE))","v":""},{"$f":"IF($N66=\"\",\"\",VLOOKUP($N66,'Reference - Logistics Distance'!$C:$O,BC$4,FALSE))","v":""},{"$f":"IF($N66=\"\",\"\",VLOOKUP($N66,'Reference - Logistics Distance'!$C:$O,BD$4,FALSE))","v":""},{"$f":"IF($N66=\"\",\"\",VLOOKUP($N66,'Reference - Logistics Distance'!$C:$O,BE$4,FALSE))","v":""},{"$f":"IF($N66=\"\",\"\",VLOOKUP($N66,'Reference - Logistics Distance'!$C:$O,BF$4,FALSE))","v":""},{"$f":"IF($N66=\"\",\"\",VLOOKUP($N66,'Reference - Logistics Distance'!$C:$O,BG$4,FALSE))","v":""},{"$f":"IF($N66=\"\",\"\",VLOOKUP($N66,'Reference - Logistics Distance'!$C:$O,BH$4,FALSE))","v":""},{"$f":"IF($N66=\"\",\"\",VLOOKUP($N66,'Reference - Logistics Distance'!$C:$O,BI$4,FALSE))","v":""},null,{"$f":"IF($N66=\"\",\"\",VLOOKUP($N66,'Reference - Logistics Distance'!$C:$O,BK$4,FALSE))","v":""},null,{"$f":"IF($N66=\"\",\"\",VLOOKUP($N66,'Reference - Logistics Distance'!$C:$O,BM$4,FALSE))","v":""},null,"","","","","","","","",null,"",null,"","",null,""]
[null,null,null,null,null,null,null,null,null,null,null,null,null,null,null,null,null,{"$f":"INDEX('Dropdown menus'!$A$1:$D$6,MATCH($E67,'Dropdown menus'!$A$1:$A$6,0),$R$6)","v":{"$error":"#N/A"}},null,{"$f":"IF($F67=\"\",\"\",VLOOKUP($F67,'Reference Data - Transport fuel'!$C:$O,T$4,FALSE))","v":""},{"$f":"IF($F67=\"\",\"\",VLOOKUP($F67,'Reference Data - Transport fuel'!$C:$O,U$4,FALSE))","v":""},{"$f":"IF($F67=\"\",\"\",VLOOKUP($F67,'Reference Data - Transport fuel'!$C:$O,V$4,FALSE))","v":""},{"$f":"IF($F67=\"\",\"\",VLOOKUP($F67,'Reference Data - Transport fuel'!$C:$O,W$4,FALSE))","v":""},{"$f":"IF($F67=\"\",\"\",VLOOKUP($F67,'Reference Data - Transport fuel'!$C:$O,X$4,FALSE))","v":""},{"$f":"IF($F67=\"\",\"\",VLOOKUP($F67,'Reference Data - Transport fuel'!$C:$O,Y$4,FALSE))","v":""},{"$f":"IF($F67=\"\",\"\",VLOOKUP($F67,'Reference Data - Transport fuel'!$C:$O,Z$4,FALSE))","v":""},{"$f":"IF($F67=\"\",\"\",VLOOKUP($F67,'Reference Data - Transport fuel'!$C:$O,AA$4,FALSE))","v":""},{"$f":"IF($F67=\"\",\"\",VLOOKUP($F67,'Reference Data - Transport fuel'!$C:$O,AB$4,FALSE))","v":""},null,{"$f":"IF($F67=\"\",\"\",VLOOKUP($F67,'Reference Data - Transport fuel'!$C:$O,AD$4,FALSE))","v":""},null,{"$f":"IF($F67=\"\",\"\",VLOOKUP($F67,'Reference Data - Transport fuel'!$C:$O,AF$4,FALSE))","v":""},null,"","","","","","","","",null,"",null,"","",null,"",null,null,{"$f":"INDEX('Dropdown menus'!$A$1:$D$6,MATCH($M67,'Dropdown menus'!$A$1:$A$6,0),$AY$6)","v":{"$error":"#N/A"}},null,{"$f":"IF($N67=\"\",\"\",VLOOKUP($N67,'Reference - Logistics Distance'!$C:$O,BA$4,FALSE))","v":""},{"$f":"IF($N67=\"\",\"\",VLOOKUP($N67,'Reference - Logistics Distance'!$C:$O,BB$4,FALSE))","v":""},{"$f":"IF($N67=\"\",\"\",VLOOKUP($N67,'Reference - Logistics Distance'!$C:$O,BC$4,FALSE))","v":""},{"$f":"IF($N67=\"\",\"\",VLOOKUP($N67,'Reference - Logistics Distance'!$C:$O,BD$4,FALSE))","v":""},{"$f":"IF($N67=\"\",\"\",VLOOKUP($N67,'Reference - Logistics Distance'!$C:$O,BE$4,FALSE))","v":""},{"$f":"IF($N67=\"\",\"\",VLOOKUP($N67,'Reference - Logistics Distance'!$C:$O,BF$4,FALSE))","v":""},{"$f":"IF($N67=\"\",\"\",VLOOKUP($N67,'Reference - Logistics Distance'!$C:$O,BG$4,FALSE))","v":""},{"$f":"IF($N67=\"\",\"\",VLOOKUP($N67,'Reference - Logistics Distance'!$C:$O,BH$4,FALSE))","v":""},{"$f":"IF($N67=\"\",\"\",VLOOKUP($N67,'Reference - Logistics Distance'!$C:$O,BI$4,FALSE))","v":""},null,{"$f":"IF($N67=\"\",\"\",VLOOKUP($N67,'Reference - Logistics Distance'!$C:$O,BK$4,FALSE))","v":""},null,{"$f":"IF($N67=\"\",\"\",VLOOKUP($N67,'Reference - Logistics Distance'!$C:$O,BM$4,FALSE))","v":""},null,"","","","","","","","",null,"",null,"","",null,""]
[null,null,null,null,null,null,null,null,null,null,null,null,null,null,null,null,null,{"$f":"INDEX('Dropdown menus'!$A$1:$D$6,MATCH($E68,'Dropdown menus'!$A$1:$A$6,0),$R$6)","v":{"$error":"#N/A"}},null,{"$f":"IF($F68=\"\",\"\",VLOOKUP($F68,'Reference Data - Transport fuel'!$C:$O,T$4,FALSE))","v":""},{"$f":"IF($F68=\"\",\"\",VLOOKUP($F68,'Reference Data - Transport fuel'!$C:$O,U$4,FALSE))","v":""},{"$f":"IF($F68=\"\",\"\",VLOOKUP($F68,'Reference Data - Transport fuel'!$C:$O,V$4,FALSE))","v":""},{"$f":"IF($F68=\"\",\"\",VLOOKUP($F68,'Reference Data - Transport fuel'!$C:$O,W$4,FALSE))","v":""},{"$f":"IF($F68=\"\",\"\",VLOOKUP($F68,'Reference Data - Transport fuel'!$C:$O,X$4,FALSE))","v":""},{"$f":"IF($F68=\"\",\"\",VLOOKUP($F68,'Reference Data - Transport fuel'!$C:$O,Y$4,FALSE))","v":""},{"$f":"IF($F68=\"\",\"\",VLOOKUP($F68,'Reference Data - Transport fuel'!$C:$O,Z$4,FALSE))","v":""},{"$f":"IF($F68=\"\",\"\",VLOOKUP($F68,'Reference Data - Transport fuel'!$C:$O,AA$4,FALSE))","v":""},{"$f":"IF($F68=\"\",\"\",VLOOKUP($F68,'Reference Data - Transport fuel'!$C:$O,AB$4,FALSE))","v":""},null,{"$f":"IF($F68=\"\",\"\",VLOOKUP($F68,'Reference Data - Transport fuel'!$C:$O,AD$4,FALSE))","v":""},null,{"$f":"IF($F68=\"\",\"\",VLOOKUP($F68,'Reference Data - Transport fuel'!$C:$O,AF$4,FALSE))","v":""},null,"","","","","","","","",null,"",null,"","",null,"",null,null,{"$f":"INDEX('Dropdown menus'!$A$1:$D$6,MATCH($M68,'Dropdown menus'!$A$1:$A$6,0),$AY$6)","v":{"$error":"#N/A"}},null,{"$f":"IF($N68=\"\",\"\",VLOOKUP($N68,'Reference - Logistics Distance'!$C:$O,BA$4,FALSE))","v":""},{"$f":"IF($N68=\"\",\"\",VLOOKUP($N68,'Reference - Logistics Distance'!$C:$O,BB$4,FALSE))","v":""},{"$f":"IF($N68=\"\",\"\",VLOOKUP($N68,'Reference - Logistics Distance'!$C:$O,BC$4,FALSE))","v":""},{"$f":"IF($N68=\"\",\"\",VLOOKUP($N68,'Reference - Logistics Distance'!$C:$O,BD$4,FALSE))","v":""},{"$f":"IF($N68=\"\",\"\",VLOOKUP($N68,'Reference - Logistics Distance'!$C:$O,BE$4,FALSE))","v":""},{"$f":"IF($N68=\"\",\"\",VLOOKUP($N68,'Reference - Logistics Distance'!$C:$O,BF$4,FALSE))","v":""},{"$f":"IF($N68=\"\",\"\",VLOOKUP($N68,'Reference - Logistics Distance'!$C:$O,BG$4,FALSE))","v":""},{"$f":"IF($N68=\"\",\"\",VLOOKUP($N68,'Reference - Logistics Distance'!$C:$O,BH$4,FALSE))","v":""},{"$f":"IF($N68=\"\",\"\",VLOOKUP($N68,'Reference - Logistics Distance'!$C:$O,BI$4,FALSE))","v":""},null,{"$f":"IF($N68=\"\",\"\",VLOOKUP($N68,'Reference - Logistics Distance'!$C:$O,BK$4,FALSE))","v":""},null,{"$f":"IF($N68=\"\",\"\",VLOOKUP($N68,'Reference - Logistics Distance'!$C:$O,BM$4,FALSE))","v":""},null,"","","","","","","","",null,"",null,"","",null,""]
[null,null,null,null,null,null,null,null,null,null,null,null,null,null,null,null,null,{"$f":"INDEX('Dropdown menus'!$A$1:$D$6,MATCH($E69,'Dropdown menus'!$A$1:$A$6,0),$R$6)","v":{"$error":"#N/A"}},null,{"$f":"IF($F69=\"\",\"\",VLOOKUP($F69,'Reference Data - Transport fuel'!$C:$O,T$4,FALSE))","v":""},{"$f":"IF($F69=\"\",\"\",VLOOKUP($F69,'Reference Data - Transport fuel'!$C:$O,U$4,FALSE))","v":""},{"$f":"IF($F69=\"\",\"\",VLOOKUP($F69,'Reference Data - Transport fuel'!$C:$O,V$4,FALSE))","v":""},{"$f":"IF($F69=\"\",\"\",VLOOKUP($F69,'Reference Data - Transport fuel'!$C:$O,W$4,FALSE))","v":""},{"$f":"IF($F69=\"\",\"\",VLOOKUP($F69,'Reference Data - Transport fuel'!$C:$O,X$4,FALSE))","v":""},{"$f":"IF($F69=\"\",\"\",VLOOKUP($F69,'Reference Data - Transport fuel'!$C:$O,Y$4,FALSE))","v":""},{"$f":"IF($F69=\"\",\"\",VLOOKUP($F69,'Reference Data - Transport fuel'!$C:$O,Z$4,FALSE))","v":""},{"$f":"IF($F69=\"\",\"\",VLOOKUP($F69,'Reference Data - Transport fuel'!$C:$O,AA$4,FALSE))","v":""},{"$f":"IF($F69=\"\",\"\",VLOOKUP($F69,'Reference Data - Transport fuel'!$C:$O,AB$4,FALSE))","v":""},null,{"$f":"IF($F69=\"\",\"\",VLOOKUP($F69,'Reference Data - Transport fuel'!$C:$O,AD$4,FALSE))","v":""},null,{"$f":"IF($F69=\"\",\"\",VLOOKUP($F69,'Reference Data - Transport fuel'!$C:$O,AF$4,FALSE))","v":""},null,"","","","","","","","",null,"",null,"","",null,"",null,null,{"$f":"INDEX('Dropdown menus'!$A$1:$D$6,MATCH($M69,'Dropdown menus'!$A$1:$A$6,0),$AY$6)","v":{"$error":"#N/A"}},null,{"$f":"IF($N69=\"\",\"\",VLOOKUP($N69,'Reference - Logistics Distance'!$C:$O,BA$4,FALSE))","v":""},{"$f":"IF($N69=\"\",\"\",VLOOKUP($N69,'Reference - Logistics Distance'!$C:$O,BB$4,FALSE))","v":""},{"$f":"IF($N69=\"\",\"\",VLOOKUP($N69,'Reference - Logistics Distance'!$C:$O,BC$4,FALSE))","v":""},{"$f":"IF($N69=\"\",\"\",VLOOKUP($N69,'Reference - Logistics Distance'!$C:$O,BD$4,FALSE))","v":""},{"$f":"IF($N69=\"\",\"\",VLOOKUP($N69,'Reference - Logistics Distance'!$C:$O,BE$4,FALSE))","v":""},{"$f":"IF($N69=\"\",\"\",VLOOKUP($N69,'Reference - Logistics Distance'!$C:$O,BF$4,FALSE))","v":""},{"$f":"IF($N69=\"\",\"\",VLOOKUP($N69,'Reference - Logistics Distance'!$C:$O,BG$4,FALSE))","v":""},{"$f":"IF($N69=\"\",\"\",VLOOKUP($N69,'Reference - Logistics Distance'!$C:$O,BH$4,FALSE))","v":""},{"$f":"IF($N69=\"\",\"\",VLOOKUP($N69,'Reference - Logistics Distance'!$C:$O,BI$4,FALSE))","v":""},null,{"$f":"IF($N69=\"\",\"\",VLOOKUP($N69,'Reference - Logistics Distance'!$C:$O,BK$4,FALSE))","v":""},null,{"$f":"IF($N69=\"\",\"\",VLOOKUP($N69,'Reference - Logistics Distance'!$C:$O,BM$4,FALSE))","v":""},null,"","","","","","","","",null,"",null,"","",null,""]
[null,null,null,null,null,null,null,null,null,null,null,null,null,null,null,null,null,{"$f":"INDEX('Dropdown menus'!$A$1:$D$6,MATCH($E70,'Dropdown menus'!$A$1:$A$6,0),$R$6)","v":{"$error":"#N/A"}},null,{"$f":"IF($F70=\"\",\"\",VLOOKUP($F70,'Reference Data - Transport fuel'!$C:$O,T$4,FALSE))","v":""},{"$f":"IF($F70=\"\",\"\",VLOOKUP($F70,'Reference Data - Transport fuel'!$C:$O,U$4,FALSE))","v":""},{"$f":"IF($F70=\"\",\"\",VLOOKUP($F70,'Reference Data - Transport fuel'!$C:$O,V$4,FALSE))","v":""},{"$f":"IF($F70=\"\",\"\",VLOOKUP($F70,'Reference Data - Transport fuel'!$C:$O,W$4,FALSE))","v":""},{"$f":"IF($F70=\"\",\"\",VLOOKUP($F70,'Reference Data - Transport fuel'!$C:$O,X$4,FALSE))","v":""},{"$f":"IF($F70=\"\",\"\",VLOOKUP($F70,'Reference Data - Transport fuel'!$C:$O,Y$4,FALSE))","v":""},{"$f":"IF($F70=\"\",\"\",VLOOKUP($F70,'Reference Data - Transport fuel'!$C:$O,Z$4,FALSE))","v":""},{"$f":"IF($F70=\"\",\"\",VLOOKUP($F70,'Reference Data - Transport fuel'!$C:$O,AA$4,FALSE))","v":""},{"$f":"IF($F70=\"\",\"\",VLOOKUP($F70,'Reference Data - Transport fuel'!$C:$O,AB$4,FALSE))","v":""},null,{"$f":"IF($F70=\"\",\"\",VLOOKUP($F70,'Reference Data - Transport fuel'!$C:$O,AD$4,FALSE))","v":""},null,{"$f":"IF($F70=\"\",\"\",VLOOKUP($F70,'Reference Data - Transport fuel'!$C:$O,AF$4,FALSE))","v":""},null,"","","","","","","","",null,"",null,"","",null,"",null,null,{"$f":"INDEX('Dropdown menus'!$A$1:$D$6,MATCH($M70,'Dropdown menus'!$A$1:$A$6,0),$AY$6)","v":{"$error":"#N/A"}},null,{"$f":"IF($N70=\"\",\"\",VLOOKUP($N70,'Reference - Logistics Distance'!$C:$O,BA$4,FALSE))","v":""},{"$f":"IF($N70=\"\",\"\",VLOOKUP($N70,'Reference - Logistics Distance'!$C:$O,BB$4,FALSE))","v":""},{"$f":"IF($N70=\"\",\"\",VLOOKUP($N70,'Reference - Logistics Distance'!$C:$O,BC$4,FALSE))","v":""},{"$f":"IF($N70=\"\",\"\",VLOOKUP($N70,'Reference - Logistics Distance'!$C:$O,BD$4,FALSE))","v":""},{"$f":"IF($N70=\"\",\"\",VLOOKUP($N70,'Reference - Logistics Distance'!$C:$O,BE$4,FALSE))","v":""},{"$f":"IF($N70=\"\",\"\",VLOOKUP($N70,'Reference - Logistics Distance'!$C:$O,BF$4,FALSE))","v":""},{"$f":"IF($N70=\"\",\"\",VLOOKUP($N70,'Reference - Logistics Distance'!$C:$O,BG$4,FALSE))","v":""},{"$f":"IF($N70=\"\",\"\",VLOOKUP($N70,'Reference - Logistics Distance'!$C:$O,BH$4,FALSE))","v":""},{"$f":"IF($N70=\"\",\"\",VLOOKUP($N70,'Reference - Logistics Distance'!$C:$O,BI$4,FALSE))","v":""},null,{"$f":"IF($N70=\"\",\"\",VLOOKUP($N70,'Reference - Logistics Distance'!$C:$O,BK$4,FALSE))","v":""},null,{"$f":"IF($N70=\"\",\"\",VLOOKUP($N70,'Reference - Logistics Distance'!$C:$O,BM$4,FALSE))","v":""},null,"","","","","","","","",null,"",null,"","",null,""]
[null,null,null,null,null,null,null,null,null,null,null,null,null,null,null,null,null,{"$f":"INDEX('Dropdown menus'!$A$1:$D$6,MATCH($E71,'Dropdown menus'!$A$1:$A$6,0),$R$6)","v":{"$error":"#N/A"}},null,{"$f":"IF($F71=\"\",\"\",VLOOKUP($F71,'Reference Data - Transport fuel'!$C:$O,T$4,FALSE))","v":""},{"$f":"IF($F71=\"\",\"\",VLOOKUP($F71,'Reference Data - Transport fuel'!$C:$O,U$4,FALSE))","v":""},{"$f":"IF($F71=\"\",\"\",VLOOKUP($F71,'Reference Data - Transport fuel'!$C:$O,V$4,FALSE))","v":""},{"$f":"IF($F71=\"\",\"\",VLOOKUP($F71,'Reference Data - Transport fuel'!$C:$O,W$4,FALSE))","v":""},{"$f":"IF($F71=\"\",\"\",VLOOKUP($F71,'Reference Data - Transport fuel'!$C:$O,X$4,FALSE))","v":""},{"$f":"IF($F71=\"\",\"\",VLOOKUP($F71,'Reference Data - Transport fuel'!$C:$O,Y$4,FALSE))","v":""},{"$f":"IF($F71=\"\",\"\",VLOOKUP($F71,'Reference Data - Transport fuel'!$C:$O,Z$4,FALSE))","v":""},{"$f":"IF($F71=\"\",\"\",VLOOKUP($F71,'Reference Data - Transport fuel'!$C:$O,AA$4,FALSE))","v":""},{"$f":"IF($F71=\"\",\"\",VLOOKUP($F71,'Reference Data - Transport fuel'!$C:$O,AB$4,FALSE))","v":""},null,{"$f":"IF($F71=\"\",\"\",VLOOKUP($F71,'Reference Data - Transport fuel'!$C:$O,AD$4,FALSE))","v":""},null,{"$f":"IF($F71=\"\",\"\",VLOOKUP($F71,'Reference Data - Transport fuel'!$C:$O,AF$4,FALSE))","v":""},null,"","","","","","","","",null,"",null,"","",null,"",null,null,{"$f":"INDEX('Dropdown menus'!$A$1:$D$6,MATCH($M71,'Dropdown menus'!$A$1:$A$6,0),$AY$6)","v":{"$error":"#N/A"}},null,{"$f":"IF($N71=\"\",\"\",VLOOKUP($N71,'Reference - Logistics Distance'!$C:$O,BA$4,FALSE))","v":""},{"$f":"IF($N71=\"\",\"\",VLOOKUP($N71,'Reference - Logistics Distance'!$C:$O,BB$4,FALSE))","v":""},{"$f":"IF($N71=\"\",\"\",VLOOKUP($N71,'Reference - Logistics Distance'!$C:$O,BC$4,FALSE))","v":""},{"$f":"IF($N71=\"\",\"\",VLOOKUP($N71,'Reference - Logistics Distance'!$C:$O,BD$4,FALSE))","v":""},{"$f":"IF($N71=\"\",\"\",VLOOKUP($N71,'Reference - Logistics Distance'!$C:$O,BE$4,FALSE))","v":""},{"$f":"IF($N71=\"\",\"\",VLOOKUP($N71,'Reference - Logistics Distance'!$C:$O,BF$4,FALSE))","v":""},{"$f":"IF($N71=\"\",\"\",VLOOKUP($N71,'Reference - Logistics Distance'!$C:$O,BG$4,FALSE))","v":""},{"$f":"IF($N71=\"\",\"\",VLOOKUP($N71,'Reference - Logistics Distance'!$C:$O,BH$4,FALSE))","v":""},{"$f":"IF($N71=\"\",\"\",VLOOKUP($N71,'Reference - Logistics Distance'!$C:$O,BI$4,FALSE))","v":""},null,{"$f":"IF($N71=\"\",\"\",VLOOKUP($N71,'Reference - Logistics Distance'!$C:$O,BK$4,FALSE))","v":""},null,{"$f":"IF($N71=\"\",\"\",VLOOKUP($N71,'Reference - Logistics Distance'!$C:$O,BM$4,FALSE))","v":""},null,"","","","","","","","",null,"",null,"","",null,""]
[null,null,null,null,null,null,null,null,null,null,null,null,null,null,null,null,null,{"$f":"INDEX('Dropdown menus'!$A$1:$D$6,MATCH($E72,'Dropdown menus'!$A$1:$A$6,0),$R$6)","v":{"$error":"#N/A"}},null,{"$f":"IF($F72=\"\",\"\",VLOOKUP($F72,'Reference Data - Transport fuel'!$C:$O,T$4,FALSE))","v":""},{"$f":"IF($F72=\"\",\"\",VLOOKUP($F72,'Reference Data - Transport fuel'!$C:$O,U$4,FALSE))","v":""},{"$f":"IF($F72=\"\",\"\",VLOOKUP($F72,'Reference Data - Transport fuel'!$C:$O,V$4,FALSE))","v":""},{"$f":"IF($F72=\"\",\"\",VLOOKUP($F72,'Reference Data - Transport fuel'!$C:$O,W$4,FALSE))","v":""},{"$f":"IF($F72=\"\",\"\",VLOOKUP($F72,'Reference Data - Transport fuel'!$C:$O,X$4,FALSE))","v":""},{"$f":"IF($F72=\"\",\"\",VLOOKUP($F72,'Reference Data - Transport fuel'!$C:$O,Y$4,FALSE))","v":""},{"$f":"IF($F72=\"\",\"\",VLOOKUP($F72,'Reference Data - Transport fuel'!$C:$O,Z$4,FALSE))","v":""},{"$f":"IF($F72=\"\",\"\",VLOOKUP($F72,'Reference Data - Transport fuel'!$C:$O,AA$4,FALSE))","v":""},{"$f":"IF($F72=\"\",\"\",VLOOKUP($F72,'Reference Data - Transport fuel'!$C:$O,AB$4,FALSE))","v":""},null,{"$f":"IF($F72=\"\",\"\",VLOOKUP($F72,'Reference Data - Transport fuel'!$C:$O,AD$4,FALSE))","v":""},null,{"$f":"IF($F72=\"\",\"\",VLOOKUP($F72,'Reference Data - Transport fuel'!$C:$O,AF$4,FALSE))","v":""},null,{"$f":"IF($F72=\"\",\"\",IF($R72=1,(T72*$G72)-AQ72,\"\"))","v":""},{"$f":"IF($F72=\"\",\"\",IF($R72=1,IF(AD72=\"Yes\",0,U72*$G72),\"\"))","v":""},{"$f":"IF($F72=\"\",\"\",IF($R72=1,V72*$G72,\"\"))","v":""},{"$f":"IF($F72=\"\",\"\",IF($R72=1,W72*$G72,\"\"))","v":""},{"$f":"IF($F72=\"\",\"\",IF($R72=1,X72*$G72,\"\"))","v":""},{"$f":"IF($F72=\"\",\"\",IF($R72=1,Y72*$G72,\"\"))","v":""},{"$f":"IF($F72=\"\",\"\",IF($R72=1,Z72*$G72,\"\"))","v":""},{"$f":"IF($F72=\"\",\"\",IF($R72=1,AA72*$G72,\"\"))","v":""},null,{"$f":"IF($F72=\"\",\"\",IF($R72=1,IF(AD72=\"Yes\",G72*U72,0),\"\"))","v":""},null,{"$f":"IF($F72=\"\",\"\",$G72*AB72)","v":""},{"$f":"IF($F72=\"\",\"\",IF($R72=3,T72*$G72,\"\"))","v":""},null,{"$f":"IF($F72=\"\",\"\",IF($R72=1,G72*AF72,\"\"))","v":""},null,null,{"$f":"INDEX('Dropdown menus'!$A$1:$D$6,MATCH($M72,'Dropdown menus'!$A$1:$A$6,0),$AY$6)","v":{"$error":"#N/A"}},null,{"$f":"IF($N72=\"\",\"\",VLOOKUP($N72,'Reference - Logistics Distance'!$C:$O,BA$4,FALSE))","v":""},{"$f":"IF($N72=\"\",\"\",VLOOKUP($N72,'Reference - Logistics Distance'!$C:$O,BB$4,FALSE))","v":""},{"$f":"IF($N72=\"\",\"\",VLOOKUP($N72,'Reference - Logistics Distance'!$C:$O,BC$4,FALSE))","v":""},{"$f":"IF($N72=\"\",\"\",VLOOKUP($N72,'Reference - Logistics Distance'!$C:$O,BD$4,FALSE))","v":""},{"$f":"IF($N72=\"\",\"\",VLOOKUP($N72,'Reference - Logistics Distance'!$C:$O,BE$4,FALSE))","v":""},{"$f":"IF($N72=\"\",\"\",VLOOKUP($N72,'Reference - Logistics Distance'!$C:$O,BF$4,FALSE))","v":""},{"$f":"IF($N72=\"\",\"\",VLOOKUP($N72,'Reference - Logistics Distance'!$C:$O,BG$4,FALSE))","v":""},{"$f":"IF($N72=\"\",\"\",VLOOKUP($N72,'Reference - Logistics Distance'!$C:$O,BH$4,FALSE))","v":""},{"$f":"IF($N72=\"\",\"\",VLOOKUP($N72,'Reference - Logistics Distance'!$C:$O,BI$4,FALSE))","v":""},null,{"$f":"IF($N72=\"\",\"\",VLOOKUP($N72,'Reference - Logistics Distance'!$C:$O,BK$4,FALSE))","v":""},null,{"$f":"IF($N72=\"\",\"\",VLOOKUP($N72,'Reference - Logistics Distance'!$C:$O,BM$4,FALSE))","v":""},null,{"$f":"IF($N72=\"\",\"\",IF($AY72=1,(BA72*$O72)-BX72,\"\"))","v":""},{"$f":"IF($N72=\"\",\"\",IF($AY72=1,IF(BK72=\"Yes\",0,BB72*$O72),\"\"))","v":""},{"$f":"IF($N72=\"\",\"\",IF($AY72=1,BC72*$O72,\"\"))","v":""},{"$f":"IF($N72=\"\",\"\",IF($AY72=1,BD72*$O72,\"\"))","v":""},{"$f":"IF($N72=\"\",\"\",IF($AY72=1,BE72*$O72,\"\"))","v":""},{"$f":"IF($N72=\"\",\"\",IF($AY72=1,BF72*$O72,\"\"))","v":""},{"$f":"IF($N72=\"\",\"\",IF($AY72=1,BG72*$O72,\"\"))","v":""},{"$f":"IF($N72=\"\",\"\",IF($AY72=1,BH72*$O72,\"\"))","v":""},null,{"$f":"IF($N72=\"\",\"\",IF($AY72=1,IF(BK72=\"Yes\",BB72*O72,0),\"\"))","v":""},null,{"$f":"IF($N72=\"\",\"\",$O72*BI72)","v":""},{"$f":"IF($N72=\"\",\"\",IF($AY72=3,BA72*$O72,\"\"))","v":""},null,{"$f":"IF($N72=\"\",\"\",IF($AY72=1,$O72*BM72,\"\"))","v":""}]
[null,null,null,null,null,null,null,null,null,null,null,null,null,null,null,null,null,{"$f":"INDEX('Dropdown menus'!$A$1:$D$6,MATCH($E73,'Dropdown menus'!$A$1:$A$6,0),$R$6)","v":{"$error":"#N/A"}},null,{"$f":"IF($F73=\"\",\"\",VLOOKUP($F73,'Reference Data - Transport fuel'!$C:$O,T$4,FALSE))","v":""},{"$f":"IF($F73=\"\",\"\",VLOOKUP($F73,'Reference Data - Transport fuel'!$C:$O,U$4,FALSE))","v":""},{"$f":"IF($F73=\"\",\"\",VLOOKUP($F73,'Reference Data - Transport fuel'!$C:$O,V$4,FALSE))","v":""},{"$f":"IF($F73=\"\",\"\",VLOOKUP($F73,'Reference Data - Transport fuel'!$C:$O,W$4,FALSE))","v":""},{"$f":"IF($F73=\"\",\"\",VLOOKUP($F73,'Reference Data - Transport fuel'!$C:$O,X$4,FALSE))","v":""},{"$f":"IF($F73=\"\",\"\",VLOOKUP($F73,'Reference Data - Transport fuel'!$C:$O,Y$4,FALSE))","v":""},{"$f":"IF($F73=\"\",\"\",VLOOKUP($F73,'Reference Data - Transport fuel'!$C:$O,Z$4,FALSE))","v":""},{"$f":"IF($F73=\"\",\"\",VLOOKUP($F73,'Reference Data - Transport fuel'!$C:$O,AA$4,FALSE))","v":""},{"$f":"IF($F73=\"\",\"\",VLOOKUP($F73,'Reference Data - Transport fuel'!$C:$O,AB$4,FALSE))","v":""},null,{"$f":"IF($F73=\"\",\"\",VLOOKUP($F73,'Reference Data - Transport fuel'!$C:$O,AD$4,FALSE))","v":""},null,{"$f":"IF($F73=\"\",\"\",VLOOKUP($F73,'Reference Data - Transport fuel'!$C:$O,AF$4,FALSE))","v":""},null,"","","","","","","","",null,"",null,"","",null,"",null,null,{"$f":"INDEX('Dropdown menus'!$A$1:$D$6,MATCH($M73,'Dropdown menus'!$A$1:$A$6,0),$AY$6)","v":{"$error":"#N/A"}},null,{"$f":"IF($N73=\"\",\"\",VLOOKUP($N73,'Reference - Logistics Distance'!$C:$O,BA$4,FALSE))","v":""},{"$f":"IF($N73=\"\",\"\",VLOOKUP($N73,'Reference - Logistics Distance'!$C:$O,BB$4,FALSE))","v":""},{"$f":"IF($N73=\"\",\"\",VLOOKUP($N73,'Reference - Logistics Distance'!$C:$O,BC$4,FALSE))","v":""},{"$f":"IF($N73=\"\",\"\",VLOOKUP($N73,'Reference - Logistics Distance'!$C:$O,BD$4,FALSE))","v":""},{"$f":"IF($N73=\"\",\"\",VLOOKUP($N73,'Reference - Logistics Distance'!$C:$O,BE$4,FALSE))","v":""},{"$f":"IF($N73=\"\",\"\",VLOOKUP($N73,'Reference - Logistics Distance'!$C:$O,BF$4,FALSE))","v":""},{"$f":"IF($N73=\"\",\"\",VLOOKUP($N73,'Reference - Logistics Distance'!$C:$O,BG$4,FALSE))","v":""},{"$f":"IF($N73=\"\",\"\",VLOOKUP($N73,'Reference - Logistics Distance'!$C:$O,BH$4,FALSE))","v":""},{"$f":"IF($N73=\"\",\"\",VLOOKUP($N73,'Reference - Logistics Distance'!$C:$O,BI$4,FALSE))","v":""},null,{"$f":"IF($N73=\"\",\"\",VLOOKUP($N73,'Reference - Logistics Distance'!$C:$O,BK$4,FALSE))","v":""},null,{"$f":"IF($N73=\"\",\"\",VLOOKUP($N73,'Reference - Logistics Distance'!$C:$O,BM$4,FALSE))","v":""},null,"","","","","","","","",null,"",null,"","",null,""]
[null,null,null,null,null,null,null,null,null,null,null,null,null,null,null,null,null,{"$f":"INDEX('Dropdown menus'!$A$1:$D$6,MATCH($E74,'Dropdown menus'!$A$1:$A$6,0),$R$6)","v":{"$error":"#N/A"}},null,{"$f":"IF($F74=\"\",\"\",VLOOKUP($F74,'Reference Data - Transport fuel'!$C:$O,T$4,FALSE))","v":""},{"$f":"IF($F74=\"\",\"\",VLOOKUP($F74,'Reference Data - Transport fuel'!$C:$O,U$4,FALSE))","v":""},{"$f":"IF($F74=\"\",\"\",VLOOKUP($F74,'Reference Data - Transport fuel'!$C:$O,V$4,FALSE))","v":""},{"$f":"IF($F74=\"\",\"\",VLOOKUP($F74,'Reference Data - Transport fuel'!$C:$O,W$4,FALSE))","v":""},{"$f":"IF($F74=\"\",\"\",VLOOKUP($F74,'Reference Data - Transport fuel'!$C:$O,X$4,FALSE))","v":""},{"$f":"IF($F74=\"\",\"\",VLOOKUP($F74,'Reference Data - Transport fuel'!$C:$O,Y$4,FALSE))","v":""},{"$f":"IF($F74=\"\",\"\",VLOOKUP($F74,'Reference Data - Transport fuel'!$C:$O,Z$4,FALSE))","v":""},{"$f":"IF($F74=\"\",\"\",VLOOKUP($F74,'Reference Data - Transport fuel'!$C:$O,AA$4,FALSE))","v":""},{"$f":"IF($F74=\"\",\"\",VLOOKUP($F74,'Reference Data - Transport fuel'!$C:$O,AB$4,FALSE))","v":""},null,{"$f":"IF($F74=\"\",\"\",VLOOKUP($F74,'Reference Data - Transport fuel'!$C:$O,AD$4,FALSE))","v":""},null,{"$f":"IF($F74=\"\",\"\",VLOOKUP($F74,'Reference Data - Transport fuel'!$C:$O,AF$4,FALSE))","v":""},null,"","","","","","","","",null,"",null,"","",null,"",null,null,{"$f":"INDEX('Dropdown menus'!$A$1:$D$6,MATCH($M74,'Dropdown menus'!$A$1:$A$6,0),$AY$6)","v":{"$error":"#N/A"}},null,{"$f":"IF($N74=\"\",\"\",VLOOKUP($N74,'Reference - Logistics Distance'!$C:$O,BA$4,FALSE))","v":""},{"$f":"IF($N74=\"\",\"\",VLOOKUP($N74,'Reference - Logistics Distance'!$C:$O,BB$4,FALSE))","v":""},{"$f":"IF($N74=\"\",\"\",VLOOKUP($N74,'Reference - Logistics Distance'!$C:$O,BC$4,FALSE))","v":""},{"$f":"IF($N74=\"\",\"\",VLOOKUP($N74,'Reference - Logistics Distance'!$C:$O,BD$4,FALSE))","v":""},{"$f":"IF($N74=\"\",\"\",VLOOKUP($N74,'Reference - Logistics Distance'!$C:$O,BE$4,FALSE))","v":""},{"$f":"IF($N74=\"\",\"\",VLOOKUP($N74,'Reference - Logistics Distance'!$C:$O,BF$4,FALSE))","v":""},{"$f":"IF($N74=\"\",\"\",VLOOKUP($N74,'Reference - Logistics Distance'!$C:$O,BG$4,FALSE))","v":""},{"$f":"IF($N74=\"\",\"\",VLOOKUP($N74,'Reference - Logistics Distance'!$C:$O,BH$4,FALSE))","v":""},{"$f":"IF($N74=\"\",\"\",VLOOKUP($N74,'Reference - Logistics Distance'!$C:$O,BI$4,FALSE))","v":""},null,{"$f":"IF($N74=\"\",\"\",VLOOKUP($N74,'Reference - Logistics Distance'!$C:$O,BK$4,FALSE))","v":""},null,{"$f":"IF($N74=\"\",\"\",VLOOKUP($N74,'Reference - Logistics Distance'!$C:$O,BM$4,FALSE))","v":""},null,"","","","","","","","",null,"",null,"","",null,""]
[null,null,null,null,null,null,null,null,null,null,null,null,null,null,null,null,null,{"$f":"INDEX('Dropdown menus'!$A$1:$D$6,MATCH($E75,'Dropdown menus'!$A$1:$A$6,0),$R$6)","v":{"$error":"#N/A"}},null,{"$f":"IF($F75=\"\",\"\",VLOOKUP($F75,'Reference Data - Transport fuel'!$C:$O,T$4,FALSE))","v":""},{"$f":"IF($F75=\"\",\"\",VLOOKUP($F75,'Reference Data - Transport fuel'!$C:$O,U$4,FALSE))","v":""},{"$f":"IF($F75=\"\",\"\",VLOOKUP($F75,'Reference Data - Transport fuel'!$C:$O,V$4,FALSE))","v":""},{"$f":"IF($F75=\"\",\"\",VLOOKUP($F75,'Reference Data - Transport fuel'!$C:$O,W$4,FALSE))","v":""},{"$f":"IF($F75=\"\",\"\",VLOOKUP($F75,'Reference Data - Transport fuel'!$C:$O,X$4,FALSE))","v":""},{"$f":"IF($F75=\"\",\"\",VLOOKUP($F75,'Reference Data - Transport fuel'!$C:$O,Y$4,FALSE))","v":""},{"$f":"IF($F75=\"\",\"\",VLOOKUP($F75,'Reference Data - Transport fuel'!$C:$O,Z$4,FALSE))","v":""},{"$f":"IF($F75=\"\",\"\",VLOOKUP($F75,'Reference Data - Transport fuel'!$C:$O,AA$4,FALSE))","v":""},{"$f":"IF($F75=\"\",\"\",VLOOKUP($F75,'Reference Data - Transport fuel'!$C:$O,AB$4,FALSE))","v":""},null,{"$f":"IF($F75=\"\",\"\",VLOOKUP($F75,'Reference Data - Transport fuel'!$C:$O,AD$4,FALSE))","v":""},null,{"$f":"IF($F75=\"\",\"\",VLOOKUP($F75,'Reference Data - Transport fuel'!$C:$O,AF$4,FALSE))","v":""},null,"","","","","","","","",null,"",null,"","",null,"",null,null,{"$f":"INDEX('Dropdown menus'!$A$1:$D$6,MATCH($M75,'Dropdown menus'!$A$1:$A$6,0),$AY$6)","v":{"$error":"#N/A"}},null,{"$f":"IF($N75=\"\",\"\",VLOOKUP($N75,'Reference - Logistics Distance'!$C:$O,BA$4,FALSE))","v":""},{"$f":"IF($N75=\"\",\"\",VLOOKUP($N75,'Reference - Logistics Distance'!$C:$O,BB$4,FALSE))","v":""},{"$f":"IF($N75=\"\",\"\",VLOOKUP($N75,'Reference - Logistics Distance'!$C:$O,BC$4,FALSE))","v":""},{"$f":"IF($N75=\"\",\"\",VLOOKUP($N75,'Reference - Logistics Distance'!$C:$O,BD$4,FALSE))","v":""},{"$f":"IF($N75=\"\",\"\",VLOOKUP($N75,'Reference - Logistics Distance'!$C:$O,BE$4,FALSE))","v":""},{"$f":"IF($N75=\"\",\"\",VLOOKUP($N75,'Reference - Logistics Distance'!$C:$O,BF$4,FALSE))","v":""},{"$f":"IF($N75=\"\",\"\",VLOOKUP($N75,'Reference - Logistics Distance'!$C:$O,BG$4,FALSE))","v":""},{"$f":"IF($N75=\"\",\"\",VLOOKUP($N75,'Reference - Logistics Distance'!$C:$O,BH$4,FALSE))","v":""},{"$f":"IF($N75=\"\",\"\",VLOOKUP($N75,'Reference - Logistics Distance'!$C:$O,BI$4,FALSE))","v":""},null,{"$f":"IF($N75=\"\",\"\",VLOOKUP($N75,'Reference - Logistics Distance'!$C:$O,BK$4,FALSE))","v":""},null,{"$f":"IF($N75=\"\",\"\",VLOOKUP($N75,'Reference - Logistics Distance'!$C:$O,BM$4,FALSE))","v":""},null,"","","","","","","","",null,"",null,"","",null,""]
[null,null,null,null,null,null,null,null,null,null,null,null,null,null,null,null,null,{"$f":"INDEX('Dropdown menus'!$A$1:$D$6,MATCH($E76,'Dropdown menus'!$A$1:$A$6,0),$R$6)","v":{"$error":"#N/A"}},null,{"$f":"IF($F76=\"\",\"\",VLOOKUP($F76,'Reference Data - Transport fuel'!$C:$O,T$4,FALSE))","v":""},{"$f":"IF($F76=\"\",\"\",VLOOKUP($F76,'Reference Data - Transport fuel'!$C:$O,U$4,FALSE))","v":""},{"$f":"IF($F76=\"\",\"\",VLOOKUP($F76,'Reference Data - Transport fuel'!$C:$O,V$4,FALSE))","v":""},{"$f":"IF($F76=\"\",\"\",VLOOKUP($F76,'Reference Data - Transport fuel'!$C:$O,W$4,FALSE))","v":""},{"$f":"IF($F76=\"\",\"\",VLOOKUP($F76,'Reference Data - Transport fuel'!$C:$O,X$4,FALSE))","v":""},{"$f":"IF($F76=\"\",\"\",VLOOKUP($F76,'Reference Data - Transport fuel'!$C:$O,Y$4,FALSE))","v":""},{"$f":"IF($F76=\"\",\"\",VLOOKUP($F76,'Reference Data - Transport fuel'!$C:$O,Z$4,FALSE))","v":""},{"$f":"IF($F76=\"\",\"\",VLOOKUP($F76,'Reference Data - Transport fuel'!$C:$O,AA$4,FALSE))","v":""},{"$f":"IF($F76=\"\",\"\",VLOOKUP($F76,'Reference Data - Transport fuel'!$C:$O,AB$4,FALSE))","v":""},null,{"$f":"IF($F76=\"\",\"\",VLOOKUP($F76,'Reference Data - Transport fuel'!$C:$O,AD$4,FALSE))","v":""},null,{"$f":"IF($F76=\"\",\"\",VLOOKUP($F76,'Reference Data - Transport fuel'!$C:$O,AF$4,FALSE))","v":""},null,"","","","","","","","",null,"",null,"","",null,"",null,null,{"$f":"INDEX('Dropdown menus'!$A$1:$D$6,MATCH($M76,'Dropdown menus'!$A$1:$A$6,0),$AY$6)","v":{"$error":"#N/A"}},null,{"$f":"IF($N76=\"\",\"\",VLOOKUP($N76,'Reference - Logistics Distance'!$C:$O,BA$4,FALSE))","v":""},{"$f":"IF($N76=\"\",\"\",VLOOKUP($N76,'Reference - Logistics Distance'!$C:$O,BB$4,FALSE))","v":""},{"$f":"IF($N76=\"\",\"\",VLOOKUP($N76,'Reference - Logistics Distance'!$C:$O,BC$4,FALSE))","v":""},{"$f":"IF($N76=\"\",\"\",VLOOKUP($N76,'Reference - Logistics Distance'!$C:$O,BD$4,FALSE))","v":""},{"$f":"IF($N76=\"\",\"\",VLOOKUP($N76,'Reference - Logistics Distance'!$C:$O,BE$4,FALSE))","v":""},{"$f":"IF($N76=\"\",\"\",VLOOKUP($N76,'Reference - Logistics Distance'!$C:$O,BF$4,FALSE))","v":""},{"$f":"IF($N76=\"\",\"\",VLOOKUP($N76,'Reference - Logistics Distance'!$C:$O,BG$4,FALSE))","v":""},{"$f":"IF($N76=\"\",\"\",VLOOKUP($N76,'Reference - Logistics Distance'!$C:$O,BH$4,FALSE))","v":""},{"$f":"IF($N76=\"\",\"\",VLOOKUP($N76,'Reference - Logistics Distance'!$C:$O,BI$4,FALSE))","v":""},null,{"$f":"IF($N76=\"\",\"\",VLOOKUP($N76,'Reference - Logistics Distance'!$C:$O,BK$4,FALSE))","v":""},null,{"$f":"IF($N76=\"\",\"\",VLOOKUP($N76,'Reference - Logistics Distance'!$C:$O,BM$4,FALSE))","v":""},null,"","","","","","","","",null,"",null,"","",null,""]
[null,null,null,null,null,null,null,null,null,null,null,null,null,null,null,null,null,{"$f":"INDEX('Dropdown menus'!$A$1:$D$6,MATCH($E77,'Dropdown menus'!$A$1:$A$6,0),$R$6)","v":{"$error":"#N/A"}},null,{"$f":"IF($F77=\"\",\"\",VLOOKUP($F77,'Reference Data - Transport fuel'!$C:$O,T$4,FALSE))","v":""},{"$f":"IF($F77=\"\",\"\",VLOOKUP($F77,'Reference Data - Transport fuel'!$C:$O,U$4,FALSE))","v":""},{"$f":"IF($F77=\"\",\"\",VLOOKUP($F77,'Reference Data - Transport fuel'!$C:$O,V$4,FALSE))","v":""},{"$f":"IF($F77=\"\",\"\",VLOOKUP($F77,'Reference Data - Transport fuel'!$C:$O,W$4,FALSE))","v":""},{"$f":"IF($F77=\"\",\"\",VLOOKUP($F77,'Reference Data - Transport fuel'!$C:$O,X$4,FALSE))","v":""},{"$f":"IF($F77=\"\",\"\",VLOOKUP($F77,'Reference Data - Transport fuel'!$C:$O,Y$4,FALSE))","v":""},{"$f":"IF($F77=\"\",\"\",VLOOKUP($F77,'Reference Data - Transport fuel'!$C:$O,Z$4,FALSE))","v":""},{"$f":"IF($F77=\"\",\"\",VLOOKUP($F77,'Reference Data - Transport fuel'!$C:$O,AA$4,FALSE))","v":""},{"$f":"IF($F77=\"\",\"\",VLOOKUP($F77,'Reference Data - Transport fuel'!$C:$O,AB$4,FALSE))","v":""},null,{"$f":"IF($F77=\"\",\"\",VLOOKUP($F77,'Reference Data - Transport fuel'!$C:$O,AD$4,FALSE))","v":""},null,{"$f":"IF($F77=\"\",\"\",VLOOKUP($F77,'Reference Data - Transport fuel'!$C:$O,AF$4,FALSE))","v":""},null,"","","","","","","","",null,"",null,"","",null,"",null,null,{"$f":"INDEX('Dropdown menus'!$A$1:$D$6,MATCH($M77,'Dropdown menus'!$A$1:$A$6,0),$AY$6)","v":{"$error":"#N/A"}},null,{"$f":"IF($N77=\"\",\"\",VLOOKUP($N77,'Reference - Logistics Distance'!$C:$O,BA$4,FALSE))","v":""},{"$f":"IF($N77=\"\",\"\",VLOOKUP($N77,'Reference - Logistics Distance'!$C:$O,BB$4,FALSE))","v":""},{"$f":"IF($N77=\"\",\"\",VLOOKUP($N77,'Reference - Logistics Distance'!$C:$O,BC$4,FALSE))","v":""},{"$f":"IF($N77=\"\",\"\",VLOOKUP($N77,'Reference - Logistics Distance'!$C:$O,BD$4,FALSE))","v":""},{"$f":"IF($N77=\"\",\"\",VLOOKUP($N77,'Reference - Logistics Distance'!$C:$O,BE$4,FALSE))","v":""},{"$f":"IF($N77=\"\",\"\",VLOOKUP($N77,'Reference - Logistics Distance'!$C:$O,BF$4,FALSE))","v":""},{"$f":"IF($N77=\"\",\"\",VLOOKUP($N77,'Reference - Logistics Distance'!$C:$O,BG$4,FALSE))","v":""},{"$f":"IF($N77=\"\",\"\",VLOOKUP($N77,'Reference - Logistics Distance'!$C:$O,BH$4,FALSE))","v":""},{"$f":"IF($N77=\"\",\"\",VLOOKUP($N77,'Reference - Logistics Distance'!$C:$O,BI$4,FALSE))","v":""},null,{"$f":"IF($N77=\"\",\"\",VLOOKUP($N77,'Reference - Logistics Distance'!$C:$O,BK$4,FALSE))","v":""},null,{"$f":"IF($N77=\"\",\"\",VLOOKUP($N77,'Reference - Logistics Distance'!$C:$O,BM$4,FALSE))","v":""},null,"","","","","","","","",null,"",null,"","",null,""]
[null,null,null,null,null,null,null,null,null,null,null,null,null,null,null,null,null,{"$f":"INDEX('Dropdown menus'!$A$1:$D$6,MATCH($E78,'Dropdown menus'!$A$1:$A$6,0),$R$6)","v":{"$error":"#N/A"}},null,{"$f":"IF($F78=\"\",\"\",VLOOKUP($F78,'Reference Data - Transport fuel'!$C:$O,T$4,FALSE))","v":""},{"$f":"IF($F78=\"\",\"\",VLOOKUP($F78,'Reference Data - Transport fuel'!$C:$O,U$4,FALSE))","v":""},{"$f":"IF($F78=\"\",\"\",VLOOKUP($F78,'Reference Data - Transport fuel'!$C:$O,V$4,FALSE))","v":""},{"$f":"IF($F78=\"\",\"\",VLOOKUP($F78,'Reference Data - Transport fuel'!$C:$O,W$4,FALSE))","v":""},{"$f":"IF($F78=\"\",\"\",VLOOKUP($F78,'Reference Data - Transport fuel'!$C:$O,X$4,FALSE))","v":""},{"$f":"IF($F78=\"\",\"\",VLOOKUP($F78,'Reference Data - Transport fuel'!$C:$O,Y$4,FALSE))","v":""},{"$f":"IF($F78=\"\",\"\",VLOOKUP($F78,'Reference Data - Transport fuel'!$C:$O,Z$4,FALSE))","v":""},{"$f":"IF($F78=\"\",\"\",VLOOKUP($F78,'Reference Data - Transport fuel'!$C:$O,AA$4,FALSE))","v":""},{"$f":"IF($F78=\"\",\"\",VLOOKUP($F78,'Reference Data - Transport fuel'!$C:$O,AB$4,FALSE))","v":""},null,{"$f":"IF($F78=\"\",\"\",VLOOKUP($F78,'Reference Data - Transport fuel'!$C:$O,AD$4,FALSE))","v":""},null,{"$f":"IF($F78=\"\",\"\",VLOOKUP($F78,'Reference Data - Transport fuel'!$C:$O,AF$4,FALSE))","v":""},null,"","","","","","","","",null,"",null,"","",null,"",null,null,{"$f":"INDEX('Dropdown menus'!$A$1:$D$6,MATCH($M78,'Dropdown menus'!$A$1:$A$6,0),$AY$6)","v":{"$error":"#N/A"}},null,{"$f":"IF($N78=\"\",\"\",VLOOKUP($N78,'Reference - Logistics Distance'!$C:$O,BA$4,FALSE))","v":""},{"$f":"IF($N78=\"\",\"\",VLOOKUP($N78,'Reference - Logistics Distance'!$C:$O,BB$4,FALSE))","v":""},{"$f":"IF($N78=\"\",\"\",VLOOKUP($N78,'Reference - Logistics Distance'!$C:$O,BC$4,FALSE))","v":""},{"$f":"IF($N78=\"\",\"\",VLOOKUP($N78,'Reference - Logistics Distance'!$C:$O,BD$4,FALSE))","v":""},{"$f":"IF($N78=\"\",\"\",VLOOKUP($N78,'Reference - Logistics Distance'!$C:$O,BE$4,FALSE))","v":""},{"$f":"IF($N78=\"\",\"\",VLOOKUP($N78,'Reference - Logistics Distance'!$C:$O,BF$4,FALSE))","v":""},{"$f":"IF($N78=\"\",\"\",VLOOKUP($N78,'Reference - Logistics Distance'!$C:$O,BG$4,FALSE))","v":""},{"$f":"IF($N78=\"\",\"\",VLOOKUP($N78,'Reference - Logistics Distance'!$C:$O,BH$4,FALSE))","v":""},{"$f":"IF($N78=\"\",\"\",VLOOKUP($N78,'Reference - Logistics Distance'!$C:$O,BI$4,FALSE))","v":""},null,{"$f":"IF($N78=\"\",\"\",VLOOKUP($N78,'Reference - Logistics Distance'!$C:$O,BK$4,FALSE))","v":""},null,{"$f":"IF($N78=\"\",\"\",VLOOKUP($N78,'Reference - Logistics Distance'!$C:$O,BM$4,FALSE))","v":""},null,"","","","","","","","",null,"",null,"","",null,""]
[null,null,null,null,null,null,null,null,null,null,null,null,null,null,null,null,null,{"$f":"INDEX('Dropdown menus'!$A$1:$D$6,MATCH($E79,'Dropdown menus'!$A$1:$A$6,0),$R$6)","v":{"$error":"#N/A"}},null,{"$f":"IF($F79=\"\",\"\",VLOOKUP($F79,'Reference Data - Transport fuel'!$C:$O,T$4,FALSE))","v":""},{"$f":"IF($F79=\"\",\"\",VLOOKUP($F79,'Reference Data - Transport fuel'!$C:$O,U$4,FALSE))","v":""},{"$f":"IF($F79=\"\",\"\",VLOOKUP($F79,'Reference Data - Transport fuel'!$C:$O,V$4,FALSE))","v":""},{"$f":"IF($F79=\"\",\"\",VLOOKUP($F79,'Reference Data - Transport fuel'!$C:$O,W$4,FALSE))","v":""},{"$f":"IF($F79=\"\",\"\",VLOOKUP($F79,'Reference Data - Transport fuel'!$C:$O,X$4,FALSE))","v":""},{"$f":"IF($F79=\"\",\"\",VLOOKUP($F79,'Reference Data - Transport fuel'!$C:$O,Y$4,FALSE))","v":""},{"$f":"IF($F79=\"\",\"\",VLOOKUP($F79,'Reference Data - Transport fuel'!$C:$O,Z$4,FALSE))","v":""},{"$f":"IF($F79=\"\",\"\",VLOOKUP($F79,'Reference Data - Transport fuel'!$C:$O,AA$4,FALSE))","v":""},{"$f":"IF($F79=\"\",\"\",VLOOKUP($F79,'Reference Data - Transport fuel'!$C:$O,AB$4,FALSE))","v":""},null,{"$f":"IF($F79=\"\",\"\",VLOOKUP($F79,'Reference Data - Transport fuel'!$C:$O,AD$4,FALSE))","v":""},null,{"$f":"IF($F79=\"\",\"\",VLOOKUP($F79,'Reference Data - Transport fuel'!$C:$O,AF$4,FALSE))","v":""},null,"","","","","","","","",null,"",null,"","",null,"",null,null,{"$f":"INDEX('Dropdown menus'!$A$1:$D$6,MATCH($M79,'Dropdown menus'!$A$1:$A$6,0),$AY$6)","v":{"$error":"#N/A"}},null,{"$f":"IF($N79=\"\",\"\",VLOOKUP($N79,'Reference - Logistics Distance'!$C:$O,BA$4,FALSE))","v":""},{"$f":"IF($N79=\"\",\"\",VLOOKUP($N79,'Reference - Logistics Distance'!$C:$O,BB$4,FALSE))","v":""},{"$f":"IF($N79=\"\",\"\",VLOOKUP($N79,'Reference - Logistics Distance'!$C:$O,BC$4,FALSE))","v":""},{"$f":"IF($N79=\"\",\"\",VLOOKUP($N79,'Reference - Logistics Distance'!$C:$O,BD$4,FALSE))","v":""},{"$f":"IF($N79=\"\",\"\",VLOOKUP($N79,'Reference - Logistics Distance'!$C:$O,BE$4,FALSE))","v":""},{"$f":"IF($N79=\"\",\"\",VLOOKUP($N79,'Reference - Logistics Distance'!$C:$O,BF$4,FALSE))","v":""},{"$f":"IF($N79=\"\",\"\",VLOOKUP($N79,'Reference - Logistics Distance'!$C:$O,BG$4,FALSE))","v":""},{"$f":"IF($N79=\"\",\"\",VLOOKUP($N79,'Reference - Logistics Distance'!$C:$O,BH$4,FALSE))","v":""},{"$f":"IF($N79=\"\",\"\",VLOOKUP($N79,'Reference - Logistics Distance'!$C:$O,BI$4,FALSE))","v":""},null,{"$f":"IF($N79=\"\",\"\",VLOOKUP($N79,'Reference - Logistics Distance'!$C:$O,BK$4,FALSE))","v":""},null,{"$f":"IF($N79=\"\",\"\",VLOOKUP($N79,'Reference - Logistics Distance'!$C:$O,BM$4,FALSE))","v":""},null,"","","","","","","","",null,"",null,"","",null,""]
[null,null,null,null,null,null,null,null,null,null,null,null,null,null,null,null,null,{"$f":"INDEX('Dropdown menus'!$A$1:$D$6,MATCH($E80,'Dropdown menus'!$A$1:$A$6,0),$R$6)","v":{"$error":"#N/A"}},null,{"$f":"IF($F80=\"\",\"\",VLOOKUP($F80,'Reference Data - Transport fuel'!$C:$O,T$4,FALSE))","v":""},{"$f":"IF($F80=\"\",\"\",VLOOKUP($F80,'Reference Data - Transport fuel'!$C:$O,U$4,FALSE))","v":""},{"$f":"IF($F80=\"\",\"\",VLOOKUP($F80,'Reference Data - Transport fuel'!$C:$O,V$4,FALSE))","v":""},{"$f":"IF($F80=\"\",\"\",VLOOKUP($F80,'Reference Data - Transport fuel'!$C:$O,W$4,FALSE))","v":""},{"$f":"IF($F80=\"\",\"\",VLOOKUP($F80,'Reference Data - Transport fuel'!$C:$O,X$4,FALSE))","v":""},{"$f":"IF($F80=\"\",\"\",VLOOKUP($F80,'Reference Data - Transport fuel'!$C:$O,Y$4,FALSE))","v":""},{"$f":"IF($F80=\"\",\"\",VLOOKUP($F80,'Reference Data - Transport fuel'!$C:$O,Z$4,FALSE))","v":""},{"$f":"IF($F80=\"\",\"\",VLOOKUP($F80,'Reference Data - Transport fuel'!$C:$O,AA$4,FALSE))","v":""},{"$f":"IF($F80=\"\",\"\",VLOOKUP($F80,'Reference Data - Transport fuel'!$C:$O,AB$4,FALSE))","v":""},null,{"$f":"IF($F80=\"\",\"\",VLOOKUP($F80,'Reference Data - Transport fuel'!$C:$O,AD$4,FALSE))","v":""},null,{"$f":"IF($F80=\"\",\"\",VLOOKUP($F80,'Reference Data - Transport fuel'!$C:$O,AF$4,FALSE))","v":""},null,"","","","","","","","",null,"",null,"","",null,"",null,null,{"$f":"INDEX('Dropdown menus'!$A$1:$D$6,MATCH($M80,'Dropdown menus'!$A$1:$A$6,0),$AY$6)","v":{"$error":"#N/A"}},null,{"$f":"IF($N80=\"\",\"\",VLOOKUP($N80,'Reference - Logistics Distance'!$C:$O,BA$4,FALSE))","v":""},{"$f":"IF($N80=\"\",\"\",VLOOKUP($N80,'Reference - Logistics Distance'!$C:$O,BB$4,FALSE))","v":""},{"$f":"IF($N80=\"\",\"\",VLOOKUP($N80,'Reference - Logistics Distance'!$C:$O,BC$4,FALSE))","v":""},{"$f":"IF($N80=\"\",\"\",VLOOKUP($N80,'Reference - Logistics Distance'!$C:$O,BD$4,FALSE))","v":""},{"$f":"IF($N80=\"\",\"\",VLOOKUP($N80,'Reference - Logistics Distance'!$C:$O,BE$4,FALSE))","v":""},{"$f":"IF($N80=\"\",\"\",VLOOKUP($N80,'Reference - Logistics Distance'!$C:$O,BF$4,FALSE))","v":""},{"$f":"IF($N80=\"\",\"\",VLOOKUP($N80,'Reference - Logistics Distance'!$C:$O,BG$4,FALSE))","v":""},{"$f":"IF($N80=\"\",\"\",VLOOKUP($N80,'Reference - Logistics Distance'!$C:$O,BH$4,FALSE))","v":""},{"$f":"IF($N80=\"\",\"\",VLOOKUP($N80,'Reference - Logistics Distance'!$C:$O,BI$4,FALSE))","v":""},null,{"$f":"IF($N80=\"\",\"\",VLOOKUP($N80,'Reference - Logistics Distance'!$C:$O,BK$4,FALSE))","v":""},null,{"$f":"IF($N80=\"\",\"\",VLOOKUP($N80,'Reference - Logistics Distance'!$C:$O,BM$4,FALSE))","v":""},null,"","","","","","","","",null,"",null,"","",null,""]
[null,null,null,null,null,null,null,null,null,null,null,null,null,null,null,null,null,{"$f":"INDEX('Dropdown menus'!$A$1:$D$6,MATCH($E81,'Dropdown menus'!$A$1:$A$6,0),$R$6)","v":{"$error":"#N/A"}},null,{"$f":"IF($F81=\"\",\"\",VLOOKUP($F81,'Reference Data - Transport fuel'!$C:$O,T$4,FALSE))","v":""},{"$f":"IF($F81=\"\",\"\",VLOOKUP($F81,'Reference Data - Transport fuel'!$C:$O,U$4,FALSE))","v":""},{"$f":"IF($F81=\"\",\"\",VLOOKUP($F81,'Reference Data - Transport fuel'!$C:$O,V$4,FALSE))","v":""},{"$f":"IF($F81=\"\",\"\",VLOOKUP($F81,'Reference Data - Transport fuel'!$C:$O,W$4,FALSE))","v":""},{"$f":"IF($F81=\"\",\"\",VLOOKUP($F81,'Reference Data - Transport fuel'!$C:$O,X$4,FALSE))","v":""},{"$f":"IF($F81=\"\",\"\",VLOOKUP($F81,'Reference Data - Transport fuel'!$C:$O,Y$4,FALSE))","v":""},{"$f":"IF($F81=\"\",\"\",VLOOKUP($F81,'Reference Data - Transport fuel'!$C:$O,Z$4,FALSE))","v":""},{"$f":"IF($F81=\"\",\"\",VLOOKUP($F81,'Reference Data - Transport fuel'!$C:$O,AA$4,FALSE))","v":""},{"$f":"IF($F81=\"\",\"\",VLOOKUP($F81,'Reference Data - Transport fuel'!$C:$O,AB$4,FALSE))","v":""},null,{"$f":"IF($F81=\"\",\"\",VLOOKUP($F81,'Reference Data - Transport fuel'!$C:$O,AD$4,FALSE))","v":""},null,{"$f":"IF($F81=\"\",\"\",VLOOKUP($F81,'Reference Data - Transport fuel'!$C:$O,AF$4,FALSE))","v":""},null,"","","","","","","","",null,"",null,"","",null,"",null,null,{"$f":"INDEX('Dropdown menus'!$A$1:$D$6,MATCH($M81,'Dropdown menus'!$A$1:$A$6,0),$AY$6)","v":{"$error":"#N/A"}},null,{"$f":"IF($N81=\"\",\"\",VLOOKUP($N81,'Reference - Logistics Distance'!$C:$O,BA$4,FALSE))","v":""},{"$f":"IF($N81=\"\",\"\",VLOOKUP($N81,'Reference - Logistics Distance'!$C:$O,BB$4,FALSE))","v":""},{"$f":"IF($N81=\"\",\"\",VLOOKUP($N81,'Reference - Logistics Distance'!$C:$O,BC$4,FALSE))","v":""},{"$f":"IF($N81=\"\",\"\",VLOOKUP($N81,'Reference - Logistics Distance'!$C:$O,BD$4,FALSE))","v":""},{"$f":"IF($N81=\"\",\"\",VLOOKUP($N81,'Reference - Logistics Distance'!$C:$O,BE$4,FALSE))","v":""},{"$f":"IF($N81=\"\",\"\",VLOOKUP($N81,'Reference - Logistics Distance'!$C:$O,BF$4,FALSE))","v":""},{"$f":"IF($N81=\"\",\"\",VLOOKUP($N81,'Reference - Logistics Distance'!$C:$O,BG$4,FALSE))","v":""},{"$f":"IF($N81=\"\",\"\",VLOOKUP($N81,'Reference - Logistics Distance'!$C:$O,BH$4,FALSE))","v":""},{"$f":"IF($N81=\"\",\"\",VLOOKUP($N81,'Reference - Logistics Distance'!$C:$O,BI$4,FALSE))","v":""},null,{"$f":"IF($N81=\"\",\"\",VLOOKUP($N81,'Reference - Logistics Distance'!$C:$O,BK$4,FALSE))","v":""},null,{"$f":"IF($N81=\"\",\"\",VLOOKUP($N81,'Reference - Logistics Distance'!$C:$O,BM$4,FALSE))","v":""},null,"","","","","","","","",null,"",null,"","",null,""]
[null,null,null,null,null,null,null,null,null,null,null,null,null,null,null,null,null,{"$f":"INDEX('Dropdown menus'!$A$1:$D$6,MATCH($E82,'Dropdown menus'!$A$1:$A$6,0),$R$6)","v":{"$error":"#N/A"}},null,{"$f":"IF($F82=\"\",\"\",VLOOKUP($F82,'Reference Data - Transport fuel'!$C:$O,T$4,FALSE))","v":""},{"$f":"IF($F82=\"\",\"\",VLOOKUP($F82,'Reference Data - Transport fuel'!$C:$O,U$4,FALSE))","v":""},{"$f":"IF($F82=\"\",\"\",VLOOKUP($F82,'Reference Data - Transport fuel'!$C:$O,V$4,FALSE))","v":""},{"$f":"IF($F82=\"\",\"\",VLOOKUP($F82,'Reference Data - Transport fuel'!$C:$O,W$4,FALSE))","v":""},{"$f":"IF($F82=\"\",\"\",VLOOKUP($F82,'Reference Data - Transport fuel'!$C:$O,X$4,FALSE))","v":""},{"$f":"IF($F82=\"\",\"\",VLOOKUP($F82,'Reference Data - Transport fuel'!$C:$O,Y$4,FALSE))","v":""},{"$f":"IF($F82=\"\",\"\",VLOOKUP($F82,'Reference Data - Transport fuel'!$C:$O,Z$4,FALSE))","v":""},{"$f":"IF($F82=\"\",\"\",VLOOKUP($F82,'Reference Data - Transport fuel'!$C:$O,AA$4,FALSE))","v":""},{"$f":"IF($F82=\"\",\"\",VLOOKUP($F82,'Reference Data - Transport fuel'!$C:$O,AB$4,FALSE))","v":""},null,{"$f":"IF($F82=\"\",\"\",VLOOKUP($F82,'Reference Data - Transport fuel'!$C:$O,AD$4,FALSE))","v":""},null,{"$f":"IF($F82=\"\",\"\",VLOOKUP($F82,'Reference Data - Transport fuel'!$C:$O,AF$4,FALSE))","v":""},null,"","","","","","","","",null,"",null,"","",null,"",null,null,{"$f":"INDEX('Dropdown menus'!$A$1:$D$6,MATCH($M82,'Dropdown menus'!$A$1:$A$6,0),$AY$6)","v":{"$error":"#N/A"}},null,{"$f":"IF($N82=\"\",\"\",VLOOKUP($N82,'Reference - Logistics Distance'!$C:$O,BA$4,FALSE))","v":""},{"$f":"IF($N82=\"\",\"\",VLOOKUP($N82,'Reference - Logistics Distance'!$C:$O,BB$4,FALSE))","v":""},{"$f":"IF($N82=\"\",\"\",VLOOKUP($N82,'Reference - Logistics Distance'!$C:$O,BC$4,FALSE))","v":""},{"$f":"IF($N82=\"\",\"\",VLOOKUP($N82,'Reference - Logistics Distance'!$C:$O,BD$4,FALSE))","v":""},{"$f":"IF($N82=\"\",\"\",VLOOKUP($N82,'Reference - Logistics Distance'!$C:$O,BE$4,FALSE))","v":""},{"$f":"IF($N82=\"\",\"\",VLOOKUP($N82,'Reference - Logistics Distance'!$C:$O,BF$4,FALSE))","v":""},{"$f":"IF($N82=\"\",\"\",VLOOKUP($N82,'Reference - Logistics Distance'!$C:$O,BG$4,FALSE))","v":""},{"$f":"IF($N82=\"\",\"\",VLOOKUP($N82,'Reference - Logistics Distance'!$C:$O,BH$4,FALSE))","v":""},{"$f":"IF($N82=\"\",\"\",VLOOKUP($N82,'Reference - Logistics Distance'!$C:$O,BI$4,FALSE))","v":""},null,{"$f":"IF($N82=\"\",\"\",VLOOKUP($N82,'Reference - Logistics Distance'!$C:$O,BK$4,FALSE))","v":""},null,{"$f":"IF($N82=\"\",\"\",VLOOKUP($N82,'Reference - Logistics Distance'!$C:$O,BM$4,FALSE))","v":""},null,"","","","","","","","",null,"",null,"","",null,""]
[null,null,null,null,null,null,null,null,null,null,null,null,null,null,null,null,null,{"$f":"INDEX('Dropdown menus'!$A$1:$D$6,MATCH($E83,'Dropdown menus'!$A$1:$A$6,0),$R$6)","v":{"$error":"#N/A"}},null,{"$f":"IF($F83=\"\",\"\",VLOOKUP($F83,'Reference Data - Transport fuel'!$C:$O,T$4,FALSE))","v":""},{"$f":"IF($F83=\"\",\"\",VLOOKUP($F83,'Reference Data - Transport fuel'!$C:$O,U$4,FALSE))","v":""},{"$f":"IF($F83=\"\",\"\",VLOOKUP($F83,'Reference Data - Transport fuel'!$C:$O,V$4,FALSE))","v":""},{"$f":"IF($F83=\"\",\"\",VLOOKUP($F83,'Reference Data - Transport fuel'!$C:$O,W$4,FALSE))","v":""},{"$f":"IF($F83=\"\",\"\",VLOOKUP($F83,'Reference Data - Transport fuel'!$C:$O,X$4,FALSE))","v":""},{"$f":"IF($F83=\"\",\"\",VLOOKUP($F83,'Reference Data - Transport fuel'!$C:$O,Y$4,FALSE))","v":""},{"$f":"IF($F83=\"\",\"\",VLOOKUP($F83,'Reference Data - Transport fuel'!$C:$O,Z$4,FALSE))","v":""},{"$f":"IF($F83=\"\",\"\",VLOOKUP($F83,'Reference Data - Transport fuel'!$C:$O,AA$4,FALSE))","v":""},{"$f":"IF($F83=\"\",\"\",VLOOKUP($F83,'Reference Data - Transport fuel'!$C:$O,AB$4,FALSE))","v":""},null,{"$f":"IF($F83=\"\",\"\",VLOOKUP($F83,'Reference Data - Transport fuel'!$C:$O,AD$4,FALSE))","v":""},null,{"$f":"IF($F83=\"\",\"\",VLOOKUP($F83,'Reference Data - Transport fuel'!$C:$O,AF$4,FALSE))","v":""},null,"","","","","","","","",null,"",null,"","",null,"",null,null,{"$f":"INDEX('Dropdown menus'!$A$1:$D$6,MATCH($M83,'Dropdown menus'!$A$1:$A$6,0),$AY$6)","v":{"$error":"#N/A"}},null,{"$f":"IF($N83=\"\",\"\",VLOOKUP($N83,'Reference - Logistics Distance'!$C:$O,BA$4,FALSE))","v":""},{"$f":"IF($N83=\"\",\"\",VLOOKUP($N83,'Reference - Logistics Distance'!$C:$O,BB$4,FALSE))","v":""},{"$f":"IF($N83=\"\",\"\",VLOOKUP($N83,'Reference - Logistics Distance'!$C:$O,BC$4,FALSE))","v":""},{"$f":"IF($N83=\"\",\"\",VLOOKUP($N83,'Reference - Logistics Distance'!$C:$O,BD$4,FALSE))","v":""},{"$f":"IF($N83=\"\",\"\",VLOOKUP($N83,'Reference - Logistics Distance'!$C:$O,BE$4,FALSE))","v":""},{"$f":"IF($N83=\"\",\"\",VLOOKUP($N83,'Reference - Logistics Distance'!$C:$O,BF$4,FALSE))","v":""},{"$f":"IF($N83=\"\",\"\",VLOOKUP($N83,'Reference - Logistics Distance'!$C:$O,BG$4,FALSE))","v":""},{"$f":"IF($N83=\"\",\"\",VLOOKUP($N83,'Reference - Logistics Distance'!$C:$O,BH$4,FALSE))","v":""},{"$f":"IF($N83=\"\",\"\",VLOOKUP($N83,'Reference - Logistics Distance'!$C:$O,BI$4,FALSE))","v":""},null,{"$f":"IF($N83=\"\",\"\",VLOOKUP($N83,'Reference - Logistics Distance'!$C:$O,BK$4,FALSE))","v":""},null,{"$f":"IF($N83=\"\",\"\",VLOOKUP($N83,'Reference - Logistics Distance'!$C:$O,BM$4,FALSE))","v":""},null,"","","","","","","","",null,"",null,"","",null,""]
[null,null,null,null,null,null,null,null,null,null,null,null,null,null,null,null,null,{"$f":"INDEX('Dropdown menus'!$A$1:$D$6,MATCH($E84,'Dropdown menus'!$A$1:$A$6,0),$R$6)","v":{"$error":"#N/A"}},null,{"$f":"IF($F84=\"\",\"\",VLOOKUP($F84,'Reference Data - Transport fuel'!$C:$O,T$4,FALSE))","v":""},{"$f":"IF($F84=\"\",\"\",VLOOKUP($F84,'Reference Data - Transport fuel'!$C:$O,U$4,FALSE))","v":""},{"$f":"IF($F84=\"\",\"\",VLOOKUP($F84,'Reference Data - Transport fuel'!$C:$O,V$4,FALSE))","v":""},{"$f":"IF($F84=\"\",\"\",VLOOKUP($F84,'Reference Data - Transport fuel'!$C:$O,W$4,FALSE))","v":""},{"$f":"IF($F84=\"\",\"\",VLOOKUP($F84,'Reference Data - Transport fuel'!$C:$O,X$4,FALSE))","v":""},{"$f":"IF($F84=\"\",\"\",VLOOKUP($F84,'Reference Data - Transport fuel'!$C:$O,Y$4,FALSE))","v":""},{"$f":"IF($F84=\"\",\"\",VLOOKUP($F84,'Reference Data - Transport fuel'!$C:$O,Z$4,FALSE))","v":""},{"$f":"IF($F84=\"\",\"\",VLOOKUP($F84,'Reference Data - Transport fuel'!$C:$O,AA$4,FALSE))","v":""},{"$f":"IF($F84=\"\",\"\",VLOOKUP($F84,'Reference Data - Transport fuel'!$C:$O,AB$4,FALSE))","v":""},null,{"$f":"IF($F84=\"\",\"\",VLOOKUP($F84,'Reference Data - Transport fuel'!$C:$O,AD$4,FALSE))","v":""},null,{"$f":"IF($F84=\"\",\"\",VLOOKUP($F84,'Reference Data - Transport fuel'!$C:$O,AF$4,FALSE))","v":""},null,"","","","","","","","",null,"",null,"","",null,"",null,null,{"$f":"INDEX('Dropdown menus'!$A$1:$D$6,MATCH($M84,'Dropdown menus'!$A$1:$A$6,0),$AY$6)","v":{"$error":"#N/A"}},null,{"$f":"IF($N84=\"\",\"\",VLOOKUP($N84,'Reference - Logistics Distance'!$C:$O,BA$4,FALSE))","v":""},{"$f":"IF($N84=\"\",\"\",VLOOKUP($N84,'Reference - Logistics Distance'!$C:$O,BB$4,FALSE))","v":""},{"$f":"IF($N84=\"\",\"\",VLOOKUP($N84,'Reference - Logistics Distance'!$C:$O,BC$4,FALSE))","v":""},{"$f":"IF($N84=\"\",\"\",VLOOKUP($N84,'Reference - Logistics Distance'!$C:$O,BD$4,FALSE))","v":""},{"$f":"IF($N84=\"\",\"\",VLOOKUP($N84,'Reference - Logistics Distance'!$C:$O,BE$4,FALSE))","v":""},{"$f":"IF($N84=\"\",\"\",VLOOKUP($N84,'Reference - Logistics Distance'!$C:$O,BF$4,FALSE))","v":""},{"$f":"IF($N84=\"\",\"\",VLOOKUP($N84,'Reference - Logistics Distance'!$C:$O,BG$4,FALSE))","v":""},{"$f":"IF($N84=\"\",\"\",VLOOKUP($N84,'Reference - Logistics Distance'!$C:$O,BH$4,FALSE))","v":""},{"$f":"IF($N84=\"\",\"\",VLOOKUP($N84,'Reference - Logistics Distance'!$C:$O,BI$4,FALSE))","v":""},null,{"$f":"IF($N84=\"\",\"\",VLOOKUP($N84,'Reference - Logistics Distance'!$C:$O,BK$4,FALSE))","v":""},null,{"$f":"IF($N84=\"\",\"\",VLOOKUP($N84,'Reference - Logistics Distance'!$C:$O,BM$4,FALSE))","v":""},null,"","","","","","","","",null,"",null,"","",null,""]
[null,null,null,null,null,null,null,null,null,null,null,null,null,null,null,null,null,{"$f":"INDEX('Dropdown menus'!$A$1:$D$6,MATCH($E85,'Dropdown menus'!$A$1:$A$6,0),$R$6)","v":{"$error":"#N/A"}},null,{"$f":"IF($F85=\"\",\"\",VLOOKUP($F85,'Reference Data - Transport fuel'!$C:$O,T$4,FALSE))","v":""},{"$f":"IF($F85=\"\",\"\",VLOOKUP($F85,'Reference Data - Transport fuel'!$C:$O,U$4,FALSE))","v":""},{"$f":"IF($F85=\"\",\"\",VLOOKUP($F85,'Reference Data - Transport fuel'!$C:$O,V$4,FALSE))","v":""},{"$f":"IF($F85=\"\",\"\",VLOOKUP($F85,'Reference Data - Transport fuel'!$C:$O,W$4,FALSE))","v":""},{"$f":"IF($F85=\"\",\"\",VLOOKUP($F85,'Reference Data - Transport fuel'!$C:$O,X$4,FALSE))","v":""},{"$f":"IF($F85=\"\",\"\",VLOOKUP($F85,'Reference Data - Transport fuel'!$C:$O,Y$4,FALSE))","v":""},{"$f":"IF($F85=\"\",\"\",VLOOKUP($F85,'Reference Data - Transport fuel'!$C:$O,Z$4,FALSE))","v":""},{"$f":"IF($F85=\"\",\"\",VLOOKUP($F85,'Reference Data - Transport fuel'!$C:$O,AA$4,FALSE))","v":""},{"$f":"IF($F85=\"\",\"\",VLOOKUP($F85,'Reference Data - Transport fuel'!$C:$O,AB$4,FALSE))","v":""},null,{"$f":"IF($F85=\"\",\"\",VLOOKUP($F85,'Reference Data - Transport fuel'!$C:$O,AD$4,FALSE))","v":""},null,{"$f":"IF($F85=\"\",\"\",VLOOKUP($F85,'Reference Data - Transport fuel'!$C:$O,AF$4,FALSE))","v":""},null,"","","","","","","","",null,"",null,"","",null,"",null,null,{"$f":"INDEX('Dropdown menus'!$A$1:$D$6,MATCH($M85,'Dropdown menus'!$A$1:$A$6,0),$AY$6)","v":{"$error":"#N/A"}},null,{"$f":"IF($N85=\"\",\"\",VLOOKUP($N85,'Reference - Logistics Distance'!$C:$O,BA$4,FALSE))","v":""},{"$f":"IF($N85=\"\",\"\",VLOOKUP($N85,'Reference - Logistics Distance'!$C:$O,BB$4,FALSE))","v":""},{"$f":"IF($N85=\"\",\"\",VLOOKUP($N85,'Reference - Logistics Distance'!$C:$O,BC$4,FALSE))","v":""},{"$f":"IF($N85=\"\",\"\",VLOOKUP($N85,'Reference - Logistics Distance'!$C:$O,BD$4,FALSE))","v":""},{"$f":"IF($N85=\"\",\"\",VLOOKUP($N85,'Reference - Logistics Distance'!$C:$O,BE$4,FALSE))","v":""},{"$f":"IF($N85=\"\",\"\",VLOOKUP($N85,'Reference - Logistics Distance'!$C:$O,BF$4,FALSE))","v":""},{"$f":"IF($N85=\"\",\"\",VLOOKUP($N85,'Reference - Logistics Distance'!$C:$O,BG$4,FALSE))","v":""},{"$f":"IF($N85=\"\",\"\",VLOOKUP($N85,'Reference - Logistics Distance'!$C:$O,BH$4,FALSE))","v":""},{"$f":"IF($N85=\"\",\"\",VLOOKUP($N85,'Reference - Logistics Distance'!$C:$O,BI$4,FALSE))","v":""},null,{"$f":"IF($N85=\"\",\"\",VLOOKUP($N85,'Reference - Logistics Distance'!$C:$O,BK$4,FALSE))","v":""},null,{"$f":"IF($N85=\"\",\"\",VLOOKUP($N85,'Reference - Logistics Distance'!$C:$O,BM$4,FALSE))","v":""},null,"","","","","","","","",null,"",null,"","",null,""]
[null,null,null,null,null,null,null,null,null,null,null,null,null,null,null,null,null,{"$f":"INDEX('Dropdown menus'!$A$1:$D$6,MATCH($E86,'Dropdown menus'!$A$1:$A$6,0),$R$6)","v":{"$error":"#N/A"}},null,{"$f":"IF($F86=\"\",\"\",VLOOKUP($F86,'Reference Data - Transport fuel'!$C:$O,T$4,FALSE))","v":""},{"$f":"IF($F86=\"\",\"\",VLOOKUP($F86,'Reference Data - Transport fuel'!$C:$O,U$4,FALSE))","v":""},{"$f":"IF($F86=\"\",\"\",VLOOKUP($F86,'Reference Data - Transport fuel'!$C:$O,V$4,FALSE))","v":""},{"$f":"IF($F86=\"\",\"\",VLOOKUP($F86,'Reference Data - Transport fuel'!$C:$O,W$4,FALSE))","v":""},{"$f":"IF($F86=\"\",\"\",VLOOKUP($F86,'Reference Data - Transport fuel'!$C:$O,X$4,FALSE))","v":""},{"$f":"IF($F86=\"\",\"\",VLOOKUP($F86,'Reference Data - Transport fuel'!$C:$O,Y$4,FALSE))","v":""},{"$f":"IF($F86=\"\",\"\",VLOOKUP($F86,'Reference Data - Transport fuel'!$C:$O,Z$4,FALSE))","v":""},{"$f":"IF($F86=\"\",\"\",VLOOKUP($F86,'Reference Data - Transport fuel'!$C:$O,AA$4,FALSE))","v":""},{"$f":"IF($F86=\"\",\"\",VLOOKUP($F86,'Reference Data - Transport fuel'!$C:$O,AB$4,FALSE))","v":""},null,{"$f":"IF($F86=\"\",\"\",VLOOKUP($F86,'Reference Data - Transport fuel'!$C:$O,AD$4,FALSE))","v":""},null,{"$f":"IF($F86=\"\",\"\",VLOOKUP($F86,'Reference Data - Transport fuel'!$C:$O,AF$4,FALSE))","v":""},null,"","","","","","","","",null,"",null,"","",null,"",null,null,{"$f":"INDEX('Dropdown menus'!$A$1:$D$6,MATCH($M86,'Dropdown menus'!$A$1:$A$6,0),$AY$6)","v":{"$error":"#N/A"}},null,{"$f":"IF($N86=\"\",\"\",VLOOKUP($N86,'Reference - Logistics Distance'!$C:$O,BA$4,FALSE))","v":""},{"$f":"IF($N86=\"\",\"\",VLOOKUP($N86,'Reference - Logistics Distance'!$C:$O,BB$4,FALSE))","v":""},{"$f":"IF($N86=\"\",\"\",VLOOKUP($N86,'Reference - Logistics Distance'!$C:$O,BC$4,FALSE))","v":""},{"$f":"IF($N86=\"\",\"\",VLOOKUP($N86,'Reference - Logistics Distance'!$C:$O,BD$4,FALSE))","v":""},{"$f":"IF($N86=\"\",\"\",VLOOKUP($N86,'Reference - Logistics Distance'!$C:$O,BE$4,FALSE))","v":""},{"$f":"IF($N86=\"\",\"\",VLOOKUP($N86,'Reference - Logistics Distance'!$C:$O,BF$4,FALSE))","v":""},{"$f":"IF($N86=\"\",\"\",VLOOKUP($N86,'Reference - Logistics Distance'!$C:$O,BG$4,FALSE))","v":""},{"$f":"IF($N86=\"\",\"\",VLOOKUP($N86,'Reference - Logistics Distance'!$C:$O,BH$4,FALSE))","v":""},{"$f":"IF($N86=\"\",\"\",VLOOKUP($N86,'Reference - Logistics Distance'!$C:$O,BI$4,FALSE))","v":""},null,{"$f":"IF($N86=\"\",\"\",VLOOKUP($N86,'Reference - Logistics Distance'!$C:$O,BK$4,FALSE))","v":""},null,{"$f":"IF($N86=\"\",\"\",VLOOKUP($N86,'Reference - Logistics Distance'!$C:$O,BM$4,FALSE))","v":""},null,"","","","","","","","",null,"",null,"","",null,""]
[null,null,null,null,null,null,null,null,null,null,null,null,null,null,null,null,null,{"$f":"INDEX('Dropdown menus'!$A$1:$D$6,MATCH($E87,'Dropdown menus'!$A$1:$A$6,0),$R$6)","v":{"$error":"#N/A"}},null,{"$f":"IF($F87=\"\",\"\",VLOOKUP($F87,'Reference Data - Transport fuel'!$C:$O,T$4,FALSE))","v":""},{"$f":"IF($F87=\"\",\"\",VLOOKUP($F87,'Reference Data - Transport fuel'!$C:$O,U$4,FALSE))","v":""},{"$f":"IF($F87=\"\",\"\",VLOOKUP($F87,'Reference Data - Transport fuel'!$C:$O,V$4,FALSE))","v":""},{"$f":"IF($F87=\"\",\"\",VLOOKUP($F87,'Reference Data - Transport fuel'!$C:$O,W$4,FALSE))","v":""},{"$f":"IF($F87=\"\",\"\",VLOOKUP($F87,'Reference Data - Transport fuel'!$C:$O,X$4,FALSE))","v":""},{"$f":"IF($F87=\"\",\"\",VLOOKUP($F87,'Reference Data - Transport fuel'!$C:$O,Y$4,FALSE))","v":""},{"$f":"IF($F87=\"\",\"\",VLOOKUP($F87,'Reference Data - Transport fuel'!$C:$O,Z$4,FALSE))","v":""},{"$f":"IF($F87=\"\",\"\",VLOOKUP($F87,'Reference Data - Transport fuel'!$C:$O,AA$4,FALSE))","v":""},{"$f":"IF($F87=\"\",\"\",VLOOKUP($F87,'Reference Data - Transport fuel'!$C:$O,AB$4,FALSE))","v":""},null,{"$f":"IF($F87=\"\",\"\",VLOOKUP($F87,'Reference Data - Transport fuel'!$C:$O,AD$4,FALSE))","v":""},null,{"$f":"IF($F87=\"\",\"\",VLOOKUP($F87,'Reference Data - Transport fuel'!$C:$O,AF$4,FALSE))","v":""},null,"","","","","","","","",null,"",null,"","",null,"",null,null,{"$f":"INDEX('Dropdown menus'!$A$1:$D$6,MATCH($M87,'Dropdown menus'!$A$1:$A$6,0),$AY$6)","v":{"$error":"#N/A"}},null,{"$f":"IF($N87=\"\",\"\",VLOOKUP($N87,'Reference - Logistics Distance'!$C:$O,BA$4,FALSE))","v":""},{"$f":"IF($N87=\"\",\"\",VLOOKUP($N87,'Reference - Logistics Distance'!$C:$O,BB$4,FALSE))","v":""},{"$f":"IF($N87=\"\",\"\",VLOOKUP($N87,'Reference - Logistics Distance'!$C:$O,BC$4,FALSE))","v":""},{"$f":"IF($N87=\"\",\"\",VLOOKUP($N87,'Reference - Logistics Distance'!$C:$O,BD$4,FALSE))","v":""},{"$f":"IF($N87=\"\",\"\",VLOOKUP($N87,'Reference - Logistics Distance'!$C:$O,BE$4,FALSE))","v":""},{"$f":"IF($N87=\"\",\"\",VLOOKUP($N87,'Reference - Logistics Distance'!$C:$O,BF$4,FALSE))","v":""},{"$f":"IF($N87=\"\",\"\",VLOOKUP($N87,'Reference - Logistics Distance'!$C:$O,BG$4,FALSE))","v":""},{"$f":"IF($N87=\"\",\"\",VLOOKUP($N87,'Reference - Logistics Distance'!$C:$O,BH$4,FALSE))","v":""},{"$f":"IF($N87=\"\",\"\",VLOOKUP($N87,'Reference - Logistics Distance'!$C:$O,BI$4,FALSE))","v":""},null,{"$f":"IF($N87=\"\",\"\",VLOOKUP($N87,'Reference - Logistics Distance'!$C:$O,BK$4,FALSE))","v":""},null,{"$f":"IF($N87=\"\",\"\",VLOOKUP($N87,'Reference - Logistics Distance'!$C:$O,BM$4,FALSE))","v":""},null,"","","","","","","","",null,"",null,"","",null,""]
[null,null,null,null,null,null,null,null,null,null,null,null,null,null,null,null,null,{"$f":"INDEX('Dropdown menus'!$A$1:$D$6,MATCH($E88,'Dropdown menus'!$A$1:$A$6,0),$R$6)","v":{"$error":"#N/A"}},null,{"$f":"IF($F88=\"\",\"\",VLOOKUP($F88,'Reference Data - Transport fuel'!$C:$O,T$4,FALSE))","v":""},{"$f":"IF($F88=\"\",\"\",VLOOKUP($F88,'Reference Data - Transport fuel'!$C:$O,U$4,FALSE))","v":""},{"$f":"IF($F88=\"\",\"\",VLOOKUP($F88,'Reference Data - Transport fuel'!$C:$O,V$4,FALSE))","v":""},{"$f":"IF($F88=\"\",\"\",VLOOKUP($F88,'Reference Data - Transport fuel'!$C:$O,W$4,FALSE))","v":""},{"$f":"IF($F88=\"\",\"\",VLOOKUP($F88,'Reference Data - Transport fuel'!$C:$O,X$4,FALSE))","v":""},{"$f":"IF($F88=\"\",\"\",VLOOKUP($F88,'Reference Data - Transport fuel'!$C:$O,Y$4,FALSE))","v":""},{"$f":"IF($F88=\"\",\"\",VLOOKUP($F88,'Reference Data - Transport fuel'!$C:$O,Z$4,FALSE))","v":""},{"$f":"IF($F88=\"\",\"\",VLOOKUP($F88,'Reference Data - Transport fuel'!$C:$O,AA$4,FALSE))","v":""},{"$f":"IF($F88=\"\",\"\",VLOOKUP($F88,'Reference Data - Transport fuel'!$C:$O,AB$4,FALSE))","v":""},null,{"$f":"IF($F88=\"\",\"\",VLOOKUP($F88,'Reference Data - Transport fuel'!$C:$O,AD$4,FALSE))","v":""},null,{"$f":"IF($F88=\"\",\"\",VLOOKUP($F88,'Reference Data - Transport fuel'!$C:$O,AF$4,FALSE))","v":""},null,"","","","","","","","",null,"",null,"","",null,"",null,null,{"$f":"INDEX('Dropdown menus'!$A$1:$D$6,MATCH($M88,'Dropdown menus'!$A$1:$A$6,0),$AY$6)","v":{"$error":"#N/A"}},null,{"$f":"IF($N88=\"\",\"\",VLOOKUP($N88,'Reference - Logistics Distance'!$C:$O,BA$4,FALSE))","v":""},{"$f":"IF($N88=\"\",\"\",VLOOKUP($N88,'Reference - Logistics Distance'!$C:$O,BB$4,FALSE))","v":""},{"$f":"IF($N88=\"\",\"\",VLOOKUP($N88,'Reference - Logistics Distance'!$C:$O,BC$4,FALSE))","v":""},{"$f":"IF($N88=\"\",\"\",VLOOKUP($N88,'Reference - Logistics Distance'!$C:$O,BD$4,FALSE))","v":""},{"$f":"IF($N88=\"\",\"\",VLOOKUP($N88,'Reference - Logistics Distance'!$C:$O,BE$4,FALSE))","v":""},{"$f":"IF($N88=\"\",\"\",VLOOKUP($N88,'Reference - Logistics Distance'!$C:$O,BF$4,FALSE))","v":""},{"$f":"IF($N88=\"\",\"\",VLOOKUP($N88,'Reference - Logistics Distance'!$C:$O,BG$4,FALSE))","v":""},{"$f":"IF($N88=\"\",\"\",VLOOKUP($N88,'Reference - Logistics Distance'!$C:$O,BH$4,FALSE))","v":""},{"$f":"IF($N88=\"\",\"\",VLOOKUP($N88,'Reference - Logistics Distance'!$C:$O,BI$4,FALSE))","v":""},null,{"$f":"IF($N88=\"\",\"\",VLOOKUP($N88,'Reference - Logistics Distance'!$C:$O,BK$4,FALSE))","v":""},null,{"$f":"IF($N88=\"\",\"\",VLOOKUP($N88,'Reference - Logistics Distance'!$C:$O,BM$4,FALSE))","v":""},null,"","","","","","","","",null,"",null,"","",null,""]
[null,null,null,null,null,null,null,null,null,null,null,null,null,null,null,null,null,{"$f":"INDEX('Dropdown menus'!$A$1:$D$6,MATCH($E89,'Dropdown menus'!$A$1:$A$6,0),$R$6)","v":{"$error":"#N/A"}},null,{"$f":"IF($F89=\"\",\"\",VLOOKUP($F89,'Reference Data - Transport fuel'!$C:$O,T$4,FALSE))","v":""},{"$f":"IF($F89=\"\",\"\",VLOOKUP($F89,'Reference Data - Transport fuel'!$C:$O,U$4,FALSE))","v":""},{"$f":"IF($F89=\"\",\"\",VLOOKUP($F89,'Reference Data - Transport fuel'!$C:$O,V$4,FALSE))","v":""},{"$f":"IF($F89=\"\",\"\",VLOOKUP($F89,'Reference Data - Transport fuel'!$C:$O,W$4,FALSE))","v":""},{"$f":"IF($F89=\"\",\"\",VLOOKUP($F89,'Reference Data - Transport fuel'!$C:$O,X$4,FALSE))","v":""},{"$f":"IF($F89=\"\",\"\",VLOOKUP($F89,'Reference Data - Transport fuel'!$C:$O,Y$4,FALSE))","v":""},{"$f":"IF($F89=\"\",\"\",VLOOKUP($F89,'Reference Data - Transport fuel'!$C:$O,Z$4,FALSE))","v":""},{"$f":"IF($F89=\"\",\"\",VLOOKUP($F89,'Reference Data - Transport fuel'!$C:$O,AA$4,FALSE))","v":""},{"$f":"IF($F89=\"\",\"\",VLOOKUP($F89,'Reference Data - Transport fuel'!$C:$O,AB$4,FALSE))","v":""},null,{"$f":"IF($F89=\"\",\"\",VLOOKUP($F89,'Reference Data - Transport fuel'!$C:$O,AD$4,FALSE))","v":""},null,{"$f":"IF($F89=\"\",\"\",VLOOKUP($F89,'Reference Data - Transport fuel'!$C:$O,AF$4,FALSE))","v":""},null,"","","","","","","","",null,"",null,"","",null,"",null,null,{"$f":"INDEX('Dropdown menus'!$A$1:$D$6,MATCH($M89,'Dropdown menus'!$A$1:$A$6,0),$AY$6)","v":{"$error":"#N/A"}},null,{"$f":"IF($N89=\"\",\"\",VLOOKUP($N89,'Reference - Logistics Distance'!$C:$O,BA$4,FALSE))","v":""},{"$f":"IF($N89=\"\",\"\",VLOOKUP($N89,'Reference - Logistics Distance'!$C:$O,BB$4,FALSE))","v":""},{"$f":"IF($N89=\"\",\"\",VLOOKUP($N89,'Reference - Logistics Distance'!$C:$O,BC$4,FALSE))","v":""},{"$f":"IF($N89=\"\",\"\",VLOOKUP($N89,'Reference - Logistics Distance'!$C:$O,BD$4,FALSE))","v":""},{"$f":"IF($N89=\"\",\"\",VLOOKUP($N89,'Reference - Logistics Distance'!$C:$O,BE$4,FALSE))","v":""},{"$f":"IF($N89=\"\",\"\",VLOOKUP($N89,'Reference - Logistics Distance'!$C:$O,BF$4,FALSE))","v":""},{"$f":"IF($N89=\"\",\"\",VLOOKUP($N89,'Reference - Logistics Distance'!$C:$O,BG$4,FALSE))","v":""},{"$f":"IF($N89=\"\",\"\",VLOOKUP($N89,'Reference - Logistics Distance'!$C:$O,BH$4,FALSE))","v":""},{"$f":"IF($N89=\"\",\"\",VLOOKUP($N89,'Reference - Logistics Distance'!$C:$O,BI$4,FALSE))","v":""},null,{"$f":"IF($N89=\"\",\"\",VLOOKUP($N89,'Reference - Logistics Distance'!$C:$O,BK$4,FALSE))","v":""},null,{"$f":"IF($N89=\"\",\"\",VLOOKUP($N89,'Reference - Logistics Distance'!$C:$O,BM$4,FALSE))","v":""},null,"","","","","","","","",null,"",null,"","",null,""]
[null,null,null,null,null,null,null,null,null,null,null,null,null,null,null,null,null,{"$f":"INDEX('Dropdown menus'!$A$1:$D$6,MATCH($E90,'Dropdown menus'!$A$1:$A$6,0),$R$6)","v":{"$error":"#N/A"}},null,{"$f":"IF($F90=\"\",\"\",VLOOKUP($F90,'Reference Data - Transport fuel'!$C:$O,T$4,FALSE))","v":""},{"$f":"IF($F90=\"\",\"\",VLOOKUP($F90,'Reference Data - Transport fuel'!$C:$O,U$4,FALSE))","v":""},{"$f":"IF($F90=\"\",\"\",VLOOKUP($F90,'Reference Data - Transport fuel'!$C:$O,V$4,FALSE))","v":""},{"$f":"IF($F90=\"\",\"\",VLOOKUP($F90,'Reference Data - Transport fuel'!$C:$O,W$4,FALSE))","v":""},{"$f":"IF($F90=\"\",\"\",VLOOKUP($F90,'Reference Data - Transport fuel'!$C:$O,X$4,FALSE))","v":""},{"$f":"IF($F90=\"\",\"\",VLOOKUP($F90,'Reference Data - Transport fuel'!$C:$O,Y$4,FALSE))","v":""},{"$f":"IF($F90=\"\",\"\",VLOOKUP($F90,'Reference Data - Transport fuel'!$C:$O,Z$4,FALSE))","v":""},{"$f":"IF($F90=\"\",\"\",VLOOKUP($F90,'Reference Data - Transport fuel'!$C:$O,AA$4,FALSE))","v":""},{"$f":"IF($F90=\"\",\"\",VLOOKUP($F90,'Reference Data - Transport fuel'!$C:$O,AB$4,FALSE))","v":""},null,{"$f":"IF($F90=\"\",\"\",VLOOKUP($F90,'Reference Data - Transport fuel'!$C:$O,AD$4,FALSE))","v":""},null,{"$f":"IF($F90=\"\",\"\",VLOOKUP($F90,'Reference Data - Transport fuel'!$C:$O,AF$4,FALSE))","v":""},null,"","","","","","","","",null,"",null,"","",null,"",null,null,{"$f":"INDEX('Dropdown menus'!$A$1:$D$6,MATCH($M90,'Dropdown menus'!$A$1:$A$6,0),$AY$6)","v":{"$error":"#N/A"}},null,{"$f":"IF($N90=\"\",\"\",VLOOKUP($N90,'Reference - Logistics Distance'!$C:$O,BA$4,FALSE))","v":""},{"$f":"IF($N90=\"\",\"\",VLOOKUP($N90,'Reference - Logistics Distance'!$C:$O,BB$4,FALSE))","v":""},{"$f":"IF($N90=\"\",\"\",VLOOKUP($N90,'Reference - Logistics Distance'!$C:$O,BC$4,FALSE))","v":""},{"$f":"IF($N90=\"\",\"\",VLOOKUP($N90,'Reference - Logistics Distance'!$C:$O,BD$4,FALSE))","v":""},{"$f":"IF($N90=\"\",\"\",VLOOKUP($N90,'Reference - Logistics Distance'!$C:$O,BE$4,FALSE))","v":""},{"$f":"IF($N90=\"\",\"\",VLOOKUP($N90,'Reference - Logistics Distance'!$C:$O,BF$4,FALSE))","v":""},{"$f":"IF($N90=\"\",\"\",VLOOKUP($N90,'Reference - Logistics Distance'!$C:$O,BG$4,FALSE))","v":""},{"$f":"IF($N90=\"\",\"\",VLOOKUP($N90,'Reference - Logistics Distance'!$C:$O,BH$4,FALSE))","v":""},{"$f":"IF($N90=\"\",\"\",VLOOKUP($N90,'Reference - Logistics Distance'!$C:$O,BI$4,FALSE))","v":""},null,{"$f":"IF($N90=\"\",\"\",VLOOKUP($N90,'Reference - Logistics Distance'!$C:$O,BK$4,FALSE))","v":""},null,{"$f":"IF($N90=\"\",\"\",VLOOKUP($N90,'Reference - Logistics Distance'!$C:$O,BM$4,FALSE))","v":""},null,"","","","","","","","",null,"",null,"","",null,""]
[null,null,null,null,null,null,null,null,null,null,null,null,null,null,null,null,null,{"$f":"INDEX('Dropdown menus'!$A$1:$D$6,MATCH($E91,'Dropdown menus'!$A$1:$A$6,0),$R$6)","v":{"$error":"#N/A"}},null,{"$f":"IF($F91=\"\",\"\",VLOOKUP($F91,'Reference Data - Transport fuel'!$C:$O,T$4,FALSE))","v":""},{"$f":"IF($F91=\"\",\"\",VLOOKUP($F91,'Reference Data - Transport fuel'!$C:$O,U$4,FALSE))","v":""},{"$f":"IF($F91=\"\",\"\",VLOOKUP($F91,'Reference Data - Transport fuel'!$C:$O,V$4,FALSE))","v":""},{"$f":"IF($F91=\"\",\"\",VLOOKUP($F91,'Reference Data - Transport fuel'!$C:$O,W$4,FALSE))","v":""},{"$f":"IF($F91=\"\",\"\",VLOOKUP($F91,'Reference Data - Transport fuel'!$C:$O,X$4,FALSE))","v":""},{"$f":"IF($F91=\"\",\"\",VLOOKUP($F91,'Reference Data - Transport fuel'!$C:$O,Y$4,FALSE))","v":""},{"$f":"IF($F91=\"\",\"\",VLOOKUP($F91,'Reference Data - Transport fuel'!$C:$O,Z$4,FALSE))","v":""},{"$f":"IF($F91=\"\",\"\",VLOOKUP($F91,'Reference Data - Transport fuel'!$C:$O,AA$4,FALSE))","v":""},{"$f":"IF($F91=\"\",\"\",VLOOKUP($F91,'Reference Data - Transport fuel'!$C:$O,AB$4,FALSE))","v":""},null,{"$f":"IF($F91=\"\",\"\",VLOOKUP($F91,'Reference Data - Transport fuel'!$C:$O,AD$4,FALSE))","v":""},null,{"$f":"IF($F91=\"\",\"\",VLOOKUP($F91,'Reference Data - Transport fuel'!$C:$O,AF$4,FALSE))","v":""},null,"","","","","","","","",null,"",null,"","",null,"",null,null,{"$f":"INDEX('Dropdown menus'!$A$1:$D$6,MATCH($M91,'Dropdown menus'!$A$1:$A$6,0),$AY$6)","v":{"$error":"#N/A"}},null,{"$f":"IF($N91=\"\",\"\",VLOOKUP($N91,'Reference - Logistics Distance'!$C:$O,BA$4,FALSE))","v":""},{"$f":"IF($N91=\"\",\"\",VLOOKUP($N91,'Reference - Logistics Distance'!$C:$O,BB$4,FALSE))","v":""},{"$f":"IF($N91=\"\",\"\",VLOOKUP($N91,'Reference - Logistics Distance'!$C:$O,BC$4,FALSE))","v":""},{"$f":"IF($N91=\"\",\"\",VLOOKUP($N91,'Reference - Logistics Distance'!$C:$O,BD$4,FALSE))","v":""},{"$f":"IF($N91=\"\",\"\",VLOOKUP($N91,'Reference - Logistics Distance'!$C:$O,BE$4,FALSE))","v":""},{"$f":"IF($N91=\"\",\"\",VLOOKUP($N91,'Reference - Logistics Distance'!$C:$O,BF$4,FALSE))","v":""},{"$f":"IF($N91=\"\",\"\",VLOOKUP($N91,'Reference - Logistics Distance'!$C:$O,BG$4,FALSE))","v":""},{"$f":"IF($N91=\"\",\"\",VLOOKUP($N91,'Reference - Logistics Distance'!$C:$O,BH$4,FALSE))","v":""},{"$f":"IF($N91=\"\",\"\",VLOOKUP($N91,'Reference - Logistics Distance'!$C:$O,BI$4,FALSE))","v":""},null,{"$f":"IF($N91=\"\",\"\",VLOOKUP($N91,'Reference - Logistics Distance'!$C:$O,BK$4,FALSE))","v":""},null,{"$f":"IF($N91=\"\",\"\",VLOOKUP($N91,'Reference - Logistics Distance'!$C:$O,BM$4,FALSE))","v":""},null,"","","","","","","","",null,"",null,"","",null,""]
[null,null,null,null,null,null,null,null,null,null,null,null,null,null,null,null,null,{"$f":"INDEX('Dropdown menus'!$A$1:$D$6,MATCH($E92,'Dropdown menus'!$A$1:$A$6,0),$R$6)","v":{"$error":"#N/A"}},null,{"$f":"IF($F92=\"\",\"\",VLOOKUP($F92,'Reference Data - Transport fuel'!$C:$O,T$4,FALSE))","v":""},{"$f":"IF($F92=\"\",\"\",VLOOKUP($F92,'Reference Data - Transport fuel'!$C:$O,U$4,FALSE))","v":""},{"$f":"IF($F92=\"\",\"\",VLOOKUP($F92,'Reference Data - Transport fuel'!$C:$O,V$4,FALSE))","v":""},{"$f":"IF($F92=\"\",\"\",VLOOKUP($F92,'Reference Data - Transport fuel'!$C:$O,W$4,FALSE))","v":""},{"$f":"IF($F92=\"\",\"\",VLOOKUP($F92,'Reference Data - Transport fuel'!$C:$O,X$4,FALSE))","v":""},{"$f":"IF($F92=\"\",\"\",VLOOKUP($F92,'Reference Data - Transport fuel'!$C:$O,Y$4,FALSE))","v":""},{"$f":"IF($F92=\"\",\"\",VLOOKUP($F92,'Reference Data - Transport fuel'!$C:$O,Z$4,FALSE))","v":""},{"$f":"IF($F92=\"\",\"\",VLOOKUP($F92,'Reference Data - Transport fuel'!$C:$O,AA$4,FALSE))","v":""},{"$f":"IF($F92=\"\",\"\",VLOOKUP($F92,'Reference Data - Transport fuel'!$C:$O,AB$4,FALSE))","v":""},null,{"$f":"IF($F92=\"\",\"\",VLOOKUP($F92,'Reference Data - Transport fuel'!$C:$O,AD$4,FALSE))","v":""},null,{"$f":"IF($F92=\"\",\"\",VLOOKUP($F92,'Reference Data - Transport fuel'!$C:$O,AF$4,FALSE))","v":""},null,"","","","","","","","",null,"",null,"","",null,"",null,null,{"$f":"INDEX('Dropdown menus'!$A$1:$D$6,MATCH($M92,'Dropdown menus'!$A$1:$A$6,0),$AY$6)","v":{"$error":"#N/A"}},null,{"$f":"IF($N92=\"\",\"\",VLOOKUP($N92,'Reference - Logistics Distance'!$C:$O,BA$4,FALSE))","v":""},{"$f":"IF($N92=\"\",\"\",VLOOKUP($N92,'Reference - Logistics Distance'!$C:$O,BB$4,FALSE))","v":""},{"$f":"IF($N92=\"\",\"\",VLOOKUP($N92,'Reference - Logistics Distance'!$C:$O,BC$4,FALSE))","v":""},{"$f":"IF($N92=\"\",\"\",VLOOKUP($N92,'Reference - Logistics Distance'!$C:$O,BD$4,FALSE))","v":""},{"$f":"IF($N92=\"\",\"\",VLOOKUP($N92,'Reference - Logistics Distance'!$C:$O,BE$4,FALSE))","v":""},{"$f":"IF($N92=\"\",\"\",VLOOKUP($N92,'Reference - Logistics Distance'!$C:$O,BF$4,FALSE))","v":""},{"$f":"IF($N92=\"\",\"\",VLOOKUP($N92,'Reference - Logistics Distance'!$C:$O,BG$4,FALSE))","v":""},{"$f":"IF($N92=\"\",\"\",VLOOKUP($N92,'Reference - Logistics Distance'!$C:$O,BH$4,FALSE))","v":""},{"$f":"IF($N92=\"\",\"\",VLOOKUP($N92,'Reference - Logistics Distance'!$C:$O,BI$4,FALSE))","v":""},null,{"$f":"IF($N92=\"\",\"\",VLOOKUP($N92,'Reference - Logistics Distance'!$C:$O,BK$4,FALSE))","v":""},null,{"$f":"IF($N92=\"\",\"\",VLOOKUP($N92,'Reference - Logistics Distance'!$C:$O,BM$4,FALSE))","v":""},null,"","","","","","","","",null,"",null,"","",null,""]
[null,null,null,null,null,null,null,null,null,null,null,null,null,null,null,null,null,{"$f":"INDEX('Dropdown menus'!$A$1:$D$6,MATCH($E93,'Dropdown menus'!$A$1:$A$6,0),$R$6)","v":{"$error":"#N/A"}},null,{"$f":"IF($F93=\"\",\"\",VLOOKUP($F93,'Reference Data - Transport fuel'!$C:$O,T$4,FALSE))","v":""},{"$f":"IF($F93=\"\",\"\",VLOOKUP($F93,'Reference Data - Transport fuel'!$C:$O,U$4,FALSE))","v":""},{"$f":"IF($F93=\"\",\"\",VLOOKUP($F93,'Reference Data - Transport fuel'!$C:$O,V$4,FALSE))","v":""},{"$f":"IF($F93=\"\",\"\",VLOOKUP($F93,'Reference Data - Transport fuel'!$C:$O,W$4,FALSE))","v":""},{"$f":"IF($F93=\"\",\"\",VLOOKUP($F93,'Reference Data - Transport fuel'!$C:$O,X$4,FALSE))","v":""},{"$f":"IF($F93=\"\",\"\",VLOOKUP($F93,'Reference Data - Transport fuel'!$C:$O,Y$4,FALSE))","v":""},{"$f":"IF($F93=\"\",\"\",VLOOKUP($F93,'Reference Data - Transport fuel'!$C:$O,Z$4,FALSE))","v":""},{"$f":"IF($F93=\"\",\"\",VLOOKUP($F93,'Reference Data - Transport fuel'!$C:$O,AA$4,FALSE))","v":""},{"$f":"IF($F93=\"\",\"\",VLOOKUP($F93,'Reference Data - Transport fuel'!$C:$O,AB$4,FALSE))","v":""},null,{"$f":"IF($F93=\"\",\"\",VLOOKUP($F93,'Reference Data - Transport fuel'!$C:$O,AD$4,FALSE))","v":""},null,{"$f":"IF($F93=\"\",\"\",VLOOKUP($F93,'Reference Data - Transport fuel'!$C:$O,AF$4,FALSE))","v":""},null,"","","","","","","","",null,"",null,"","",null,"",null,null,{"$f":"INDEX('Dropdown menus'!$A$1:$D$6,MATCH($M93,'Dropdown menus'!$A$1:$A$6,0),$AY$6)","v":{"$error":"#N/A"}},null,{"$f":"IF($N93=\"\",\"\",VLOOKUP($N93,'Reference - Logistics Distance'!$C:$O,BA$4,FALSE))","v":""},{"$f":"IF($N93=\"\",\"\",VLOOKUP($N93,'Reference - Logistics Distance'!$C:$O,BB$4,FALSE))","v":""},{"$f":"IF($N93=\"\",\"\",VLOOKUP($N93,'Reference - Logistics Distance'!$C:$O,BC$4,FALSE))","v":""},{"$f":"IF($N93=\"\",\"\",VLOOKUP($N93,'Reference - Logistics Distance'!$C:$O,BD$4,FALSE))","v":""},{"$f":"IF($N93=\"\",\"\",VLOOKUP($N93,'Reference - Logistics Distance'!$C:$O,BE$4,FALSE))","v":""},{"$f":"IF($N93=\"\",\"\",VLOOKUP($N93,'Reference - Logistics Distance'!$C:$O,BF$4,FALSE))","v":""},{"$f":"IF($N93=\"\",\"\",VLOOKUP($N93,'Reference - Logistics Distance'!$C:$O,BG$4,FALSE))","v":""},{"$f":"IF($N93=\"\",\"\",VLOOKUP($N93,'Reference - Logistics Distance'!$C:$O,BH$4,FALSE))","v":""},{"$f":"IF($N93=\"\",\"\",VLOOKUP($N93,'Reference - Logistics Distance'!$C:$O,BI$4,FALSE))","v":""},null,{"$f":"IF($N93=\"\",\"\",VLOOKUP($N93,'Reference - Logistics Distance'!$C:$O,BK$4,FALSE))","v":""},null,{"$f":"IF($N93=\"\",\"\",VLOOKUP($N93,'Reference - Logistics Distance'!$C:$O,BM$4,FALSE))","v":""},null,"","","","","","","","",null,"",null,"","",null,""]
[null,null,null,null,null,null,null,null,null,null,null,null,null,null,null,null,null,{"$f":"INDEX('Dropdown menus'!$A$1:$D$6,MATCH($E94,'Dropdown menus'!$A$1:$A$6,0),$R$6)","v":{"$error":"#N/A"}},null,{"$f":"IF($F94=\"\",\"\",VLOOKUP($F94,'Reference Data - Transport fuel'!$C:$O,T$4,FALSE))","v":""},{"$f":"IF($F94=\"\",\"\",VLOOKUP($F94,'Reference Data - Transport fuel'!$C:$O,U$4,FALSE))","v":""},{"$f":"IF($F94=\"\",\"\",VLOOKUP($F94,'Reference Data - Transport fuel'!$C:$O,V$4,FALSE))","v":""},{"$f":"IF($F94=\"\",\"\",VLOOKUP($F94,'Reference Data - Transport fuel'!$C:$O,W$4,FALSE))","v":""},{"$f":"IF($F94=\"\",\"\",VLOOKUP($F94,'Reference Data - Transport fuel'!$C:$O,X$4,FALSE))","v":""},{"$f":"IF($F94=\"\",\"\",VLOOKUP($F94,'Reference Data - Transport fuel'!$C:$O,Y$4,FALSE))","v":""},{"$f":"IF($F94=\"\",\"\",VLOOKUP($F94,'Reference Data - Transport fuel'!$C:$O,Z$4,FALSE))","v":""},{"$f":"IF($F94=\"\",\"\",VLOOKUP($F94,'Reference Data - Transport fuel'!$C:$O,AA$4,FALSE))","v":""},{"$f":"IF($F94=\"\",\"\",VLOOKUP($F94,'Reference Data - Transport fuel'!$C:$O,AB$4,FALSE))","v":""},null,{"$f":"IF($F94=\"\",\"\",VLOOKUP($F94,'Reference Data - Transport fuel'!$C:$O,AD$4,FALSE))","v":""},null,{"$f":"IF($F94=\"\",\"\",VLOOKUP($F94,'Reference Data - Transport fuel'!$C:$O,AF$4,FALSE))","v":""},null,"","","","","","","","",null,"",null,"","",null,"",null,null,{"$f":"INDEX('Dropdown menus'!$A$1:$D$6,MATCH($M94,'Dropdown menus'!$A$1:$A$6,0),$AY$6)","v":{"$error":"#N/A"}},null,{"$f":"IF($N94=\"\",\"\",VLOOKUP($N94,'Reference - Logistics Distance'!$C:$O,BA$4,FALSE))","v":""},{"$f":"IF($N94=\"\",\"\",VLOOKUP($N94,'Reference - Logistics Distance'!$C:$O,BB$4,FALSE))","v":""},{"$f":"IF($N94=\"\",\"\",VLOOKUP($N94,'Reference - Logistics Distance'!$C:$O,BC$4,FALSE))","v":""},{"$f":"IF($N94=\"\",\"\",VLOOKUP($N94,'Reference - Logistics Distance'!$C:$O,BD$4,FALSE))","v":""},{"$f":"IF($N94=\"\",\"\",VLOOKUP($N94,'Reference - Logistics Distance'!$C:$O,BE$4,FALSE))","v":""},{"$f":"IF($N94=\"\",\"\",VLOOKUP($N94,'Reference - Logistics Distance'!$C:$O,BF$4,FALSE))","v":""},{"$f":"IF($N94=\"\",\"\",VLOOKUP($N94,'Reference - Logistics Distance'!$C:$O,BG$4,FALSE))","v":""},{"$f":"IF($N94=\"\",\"\",VLOOKUP($N94,'Reference - Logistics Distance'!$C:$O,BH$4,FALSE))","v":""},{"$f":"IF($N94=\"\",\"\",VLOOKUP($N94,'Reference - Logistics Distance'!$C:$O,BI$4,FALSE))","v":""},null,{"$f":"IF($N94=\"\",\"\",VLOOKUP($N94,'Reference - Logistics Distance'!$C:$O,BK$4,FALSE))","v":""},null,{"$f":"IF($N94=\"\",\"\",VLOOKUP($N94,'Reference - Logistics Distance'!$C:$O,BM$4,FALSE))","v":""},null,"","","","","","","","",null,"",null,"","",null,""]
[null,null,null,null,null,null,null,null,null,null,null,null,null,null,null,null,null,{"$f":"INDEX('Dropdown menus'!$A$1:$D$6,MATCH($E95,'Dropdown menus'!$A$1:$A$6,0),$R$6)","v":{"$error":"#N/A"}},null,{"$f":"IF($F95=\"\",\"\",VLOOKUP($F95,'Reference Data - Transport fuel'!$C:$O,T$4,FALSE))","v":""},{"$f":"IF($F95=\"\",\"\",VLOOKUP($F95,'Reference Data - Transport fuel'!$C:$O,U$4,FALSE))","v":""},{"$f":"IF($F95=\"\",\"\",VLOOKUP($F95,'Reference Data - Transport fuel'!$C:$O,V$4,FALSE))","v":""},{"$f":"IF($F95=\"\",\"\",VLOOKUP($F95,'Reference Data - Transport fuel'!$C:$O,W$4,FALSE))","v":""},{"$f":"IF($F95=\"\",\"\",VLOOKUP($F95,'Reference Data - Transport fuel'!$C:$O,X$4,FALSE))","v":""},{"$f":"IF($F95=\"\",\"\",VLOOKUP($F95,'Reference Data - Transport fuel'!$C:$O,Y$4,FALSE))","v":""},{"$f":"IF($F95=\"\",\"\",VLOOKUP($F95,'Reference Data - Transport fuel'!$C:$O,Z$4,FALSE))","v":""},{"$f":"IF($F95=\"\",\"\",VLOOKUP($F95,'Reference Data - Transport fuel'!$C:$O,AA$4,FALSE))","v":""},{"$f":"IF($F95=\"\",\"\",VLOOKUP($F95,'Reference Data - Transport fuel'!$C:$O,AB$4,FALSE))","v":""},null,{"$f":"IF($F95=\"\",\"\",VLOOKUP($F95,'Reference Data - Transport fuel'!$C:$O,AD$4,FALSE))","v":""},null,{"$f":"IF($F95=\"\",\"\",VLOOKUP($F95,'Reference Data - Transport fuel'!$C:$O,AF$4,FALSE))","v":""},null,"","","","","","","","",null,"",null,"","",null,"",null,null,{"$f":"INDEX('Dropdown menus'!$A$1:$D$6,MATCH($M95,'Dropdown menus'!$A$1:$A$6,0),$AY$6)","v":{"$error":"#N/A"}},null,{"$f":"IF($N95=\"\",\"\",VLOOKUP($N95,'Reference - Logistics Distance'!$C:$O,BA$4,FALSE))","v":""},{"$f":"IF($N95=\"\",\"\",VLOOKUP($N95,'Reference - Logistics Distance'!$C:$O,BB$4,FALSE))","v":""},{"$f":"IF($N95=\"\",\"\",VLOOKUP($N95,'Reference - Logistics Distance'!$C:$O,BC$4,FALSE))","v":""},{"$f":"IF($N95=\"\",\"\",VLOOKUP($N95,'Reference - Logistics Distance'!$C:$O,BD$4,FALSE))","v":""},{"$f":"IF($N95=\"\",\"\",VLOOKUP($N95,'Reference - Logistics Distance'!$C:$O,BE$4,FALSE))","v":""},{"$f":"IF($N95=\"\",\"\",VLOOKUP($N95,'Reference - Logistics Distance'!$C:$O,BF$4,FALSE))","v":""},{"$f":"IF($N95=\"\",\"\",VLOOKUP($N95,'Reference - Logistics Distance'!$C:$O,BG$4,FALSE))","v":""},{"$f":"IF($N95=\"\",\"\",VLOOKUP($N95,'Reference - Logistics Distance'!$C:$O,BH$4,FALSE))","v":""},{"$f":"IF($N95=\"\",\"\",VLOOKUP($N95,'Reference - Logistics Distance'!$C:$O,BI$4,FALSE))","v":""},null,{"$f":"IF($N95=\"\",\"\",VLOOKUP($N95,'Reference - Logistics Distance'!$C:$O,BK$4,FALSE))","v":""},null,{"$f":"IF($N95=\"\",\"\",VLOOKUP($N95,'Reference - Logistics Distance'!$C:$O,BM$4,FALSE))","v":""},null,"","","","","","","","",null,"",null,"","",null,""]
[null,null,null,null,null,null,null,null,null,null,null,null,null,null,null,null,null,{"$f":"INDEX('Dropdown menus'!$A$1:$D$6,MATCH($E96,'Dropdown menus'!$A$1:$A$6,0),$R$6)","v":{"$error":"#N/A"}},null,{"$f":"IF($F96=\"\",\"\",VLOOKUP($F96,'Reference Data - Transport fuel'!$C:$O,T$4,FALSE))","v":""},{"$f":"IF($F96=\"\",\"\",VLOOKUP($F96,'Reference Data - Transport fuel'!$C:$O,U$4,FALSE))","v":""},{"$f":"IF($F96=\"\",\"\",VLOOKUP($F96,'Reference Data - Transport fuel'!$C:$O,V$4,FALSE))","v":""},{"$f":"IF($F96=\"\",\"\",VLOOKUP($F96,'Reference Data - Transport fuel'!$C:$O,W$4,FALSE))","v":""},{"$f":"IF($F96=\"\",\"\",VLOOKUP($F96,'Reference Data - Transport fuel'!$C:$O,X$4,FALSE))","v":""},{"$f":"IF($F96=\"\",\"\",VLOOKUP($F96,'Reference Data - Transport fuel'!$C:$O,Y$4,FALSE))","v":""},{"$f":"IF($F96=\"\",\"\",VLOOKUP($F96,'Reference Data - Transport fuel'!$C:$O,Z$4,FALSE))","v":""},{"$f":"IF($F96=\"\",\"\",VLOOKUP($F96,'Reference Data - Transport fuel'!$C:$O,AA$4,FALSE))","v":""},{"$f":"IF($F96=\"\",\"\",VLOOKUP($F96,'Reference Data - Transport fuel'!$C:$O,AB$4,FALSE))","v":""},null,{"$f":"IF($F96=\"\",\"\",VLOOKUP($F96,'Reference Data - Transport fuel'!$C:$O,AD$4,FALSE))","v":""},null,{"$f":"IF($F96=\"\",\"\",VLOOKUP($F96,'Reference Data - Transport fuel'!$C:$O,AF$4,FALSE))","v":""},null,"","","","","","","","",null,"",null,"","",null,"",null,null,{"$f":"INDEX('Dropdown menus'!$A$1:$D$6,MATCH($M96,'Dropdown menus'!$A$1:$A$6,0),$AY$6)","v":{"$error":"#N/A"}},null,{"$f":"IF($N96=\"\",\"\",VLOOKUP($N96,'Reference - Logistics Distance'!$C:$O,BA$4,FALSE))","v":""},{"$f":"IF($N96=\"\",\"\",VLOOKUP($N96,'Reference - Logistics Distance'!$C:$O,BB$4,FALSE))","v":""},{"$f":"IF($N96=\"\",\"\",VLOOKUP($N96,'Reference - Logistics Distance'!$C:$O,BC$4,FALSE))","v":""},{"$f":"IF($N96=\"\",\"\",VLOOKUP($N96,'Reference - Logistics Distance'!$C:$O,BD$4,FALSE))","v":""},{"$f":"IF($N96=\"\",\"\",VLOOKUP($N96,'Reference - Logistics Distance'!$C:$O,BE$4,FALSE))","v":""},{"$f":"IF($N96=\"\",\"\",VLOOKUP($N96,'Reference - Logistics Distance'!$C:$O,BF$4,FALSE))","v":""},{"$f":"IF($N96=\"\",\"\",VLOOKUP($N96,'Reference - Logistics Distance'!$C:$O,BG$4,FALSE))","v":""},{"$f":"IF($N96=\"\",\"\",VLOOKUP($N96,'Reference - Logistics Distance'!$C:$O,BH$4,FALSE))","v":""},{"$f":"IF($N96=\"\",\"\",VLOOKUP($N96,'Reference - Logistics Distance'!$C:$O,BI$4,FALSE))","v":""},null,{"$f":"IF($N96=\"\",\"\",VLOOKUP($N96,'Reference - Logistics Distance'!$C:$O,BK$4,FALSE))","v":""},null,{"$f":"IF($N96=\"\",\"\",VLOOKUP($N96,'Reference - Logistics Distance'!$C:$O,BM$4,FALSE))","v":""},null,"","","","","","","","",null,"",null,"","",null,""]
[null,null,null,null,null,null,null,null,null,null,null,null,null,null,null,null,null,{"$f":"INDEX('Dropdown menus'!$A$1:$D$6,MATCH($E97,'Dropdown menus'!$A$1:$A$6,0),$R$6)","v":{"$error":"#N/A"}},null,{"$f":"IF($F97=\"\",\"\",VLOOKUP($F97,'Reference Data - Transport fuel'!$C:$O,T$4,FALSE))","v":""},{"$f":"IF($F97=\"\",\"\",VLOOKUP($F97,'Reference Data - Transport fuel'!$C:$O,U$4,FALSE))","v":""},{"$f":"IF($F97=\"\",\"\",VLOOKUP($F97,'Reference Data - Transport fuel'!$C:$O,V$4,FALSE))","v":""},{"$f":"IF($F97=\"\",\"\",VLOOKUP($F97,'Reference Data - Transport fuel'!$C:$O,W$4,FALSE))","v":""},{"$f":"IF($F97=\"\",\"\",VLOOKUP($F97,'Reference Data - Transport fuel'!$C:$O,X$4,FALSE))","v":""},{"$f":"IF($F97=\"\",\"\",VLOOKUP($F97,'Reference Data - Transport fuel'!$C:$O,Y$4,FALSE))","v":""},{"$f":"IF($F97=\"\",\"\",VLOOKUP($F97,'Reference Data - Transport fuel'!$C:$O,Z$4,FALSE))","v":""},{"$f":"IF($F97=\"\",\"\",VLOOKUP($F97,'Reference Data - Transport fuel'!$C:$O,AA$4,FALSE))","v":""},{"$f":"IF($F97=\"\",\"\",VLOOKUP($F97,'Reference Data - Transport fuel'!$C:$O,AB$4,FALSE))","v":""},null,{"$f":"IF($F97=\"\",\"\",VLOOKUP($F97,'Reference Data - Transport fuel'!$C:$O,AD$4,FALSE))","v":""},null,{"$f":"IF($F97=\"\",\"\",VLOOKUP($F97,'Reference Data - Transport fuel'!$C:$O,AF$4,FALSE))","v":""},null,"","","","","","","","",null,"",null,"","",null,"",null,null,{"$f":"INDEX('Dropdown menus'!$A$1:$D$6,MATCH($M97,'Dropdown menus'!$A$1:$A$6,0),$AY$6)","v":{"$error":"#N/A"}},null,{"$f":"IF($N97=\"\",\"\",VLOOKUP($N97,'Reference - Logistics Distance'!$C:$O,BA$4,FALSE))","v":""},{"$f":"IF($N97=\"\",\"\",VLOOKUP($N97,'Reference - Logistics Distance'!$C:$O,BB$4,FALSE))","v":""},{"$f":"IF($N97=\"\",\"\",VLOOKUP($N97,'Reference - Logistics Distance'!$C:$O,BC$4,FALSE))","v":""},{"$f":"IF($N97=\"\",\"\",VLOOKUP($N97,'Reference - Logistics Distance'!$C:$O,BD$4,FALSE))","v":""},{"$f":"IF($N97=\"\",\"\",VLOOKUP($N97,'Reference - Logistics Distance'!$C:$O,BE$4,FALSE))","v":""},{"$f":"IF($N97=\"\",\"\",VLOOKUP($N97,'Reference - Logistics Distance'!$C:$O,BF$4,FALSE))","v":""},{"$f":"IF($N97=\"\",\"\",VLOOKUP($N97,'Reference - Logistics Distance'!$C:$O,BG$4,FALSE))","v":""},{"$f":"IF($N97=\"\",\"\",VLOOKUP($N97,'Reference - Logistics Distance'!$C:$O,BH$4,FALSE))","v":""},{"$f":"IF($N97=\"\",\"\",VLOOKUP($N97,'Reference - Logistics Distance'!$C:$O,BI$4,FALSE))","v":""},null,{"$f":"IF($N97=\"\",\"\",VLOOKUP($N97,'Reference - Logistics Distance'!$C:$O,BK$4,FALSE))","v":""},null,{"$f":"IF($N97=\"\",\"\",VLOOKUP($N97,'Reference - Logistics Distance'!$C:$O,BM$4,FALSE))","v":""},null,"","","","","","","","",null,"",null,"","",null,""]
[null,null,null,null,null,null,null,null,null,null,null,null,null,null,null,null,null,{"$f":"INDEX('Dropdown menus'!$A$1:$D$6,MATCH($E98,'Dropdown menus'!$A$1:$A$6,0),$R$6)","v":{"$error":"#N/A"}},null,{"$f":"IF($F98=\"\",\"\",VLOOKUP($F98,'Reference Data - Transport fuel'!$C:$O,T$4,FALSE))","v":""},{"$f":"IF($F98=\"\",\"\",VLOOKUP($F98,'Reference Data - Transport fuel'!$C:$O,U$4,FALSE))","v":""},{"$f":"IF($F98=\"\",\"\",VLOOKUP($F98,'Reference Data - Transport fuel'!$C:$O,V$4,FALSE))","v":""},{"$f":"IF($F98=\"\",\"\",VLOOKUP($F98,'Reference Data - Transport fuel'!$C:$O,W$4,FALSE))","v":""},{"$f":"IF($F98=\"\",\"\",VLOOKUP($F98,'Reference Data - Transport fuel'!$C:$O,X$4,FALSE))","v":""},{"$f":"IF($F98=\"\",\"\",VLOOKUP($F98,'Reference Data - Transport fuel'!$C:$O,Y$4,FALSE))","v":""},{"$f":"IF($F98=\"\",\"\",VLOOKUP($F98,'Reference Data - Transport fuel'!$C:$O,Z$4,FALSE))","v":""},{"$f":"IF($F98=\"\",\"\",VLOOKUP($F98,'Reference Data - Transport fuel'!$C:$O,AA$4,FALSE))","v":""},{"$f":"IF($F98=\"\",\"\",VLOOKUP($F98,'Reference Data - Transport fuel'!$C:$O,AB$4,FALSE))","v":""},null,{"$f":"IF($F98=\"\",\"\",VLOOKUP($F98,'Reference Data - Transport fuel'!$C:$O,AD$4,FALSE))","v":""},null,{"$f":"IF($F98=\"\",\"\",VLOOKUP($F98,'Reference Data - Transport fuel'!$C:$O,AF$4,FALSE))","v":""},null,"","","","","","","","",null,"",null,"","",null,"",null,null,{"$f":"INDEX('Dropdown menus'!$A$1:$D$6,MATCH($M98,'Dropdown menus'!$A$1:$A$6,0),$AY$6)","v":{"$error":"#N/A"}},null,{"$f":"IF($N98=\"\",\"\",VLOOKUP($N98,'Reference - Logistics Distance'!$C:$O,BA$4,FALSE))","v":""},{"$f":"IF($N98=\"\",\"\",VLOOKUP($N98,'Reference - Logistics Distance'!$C:$O,BB$4,FALSE))","v":""},{"$f":"IF($N98=\"\",\"\",VLOOKUP($N98,'Reference - Logistics Distance'!$C:$O,BC$4,FALSE))","v":""},{"$f":"IF($N98=\"\",\"\",VLOOKUP($N98,'Reference - Logistics Distance'!$C:$O,BD$4,FALSE))","v":""},{"$f":"IF($N98=\"\",\"\",VLOOKUP($N98,'Reference - Logistics Distance'!$C:$O,BE$4,FALSE))","v":""},{"$f":"IF($N98=\"\",\"\",VLOOKUP($N98,'Reference - Logistics Distance'!$C:$O,BF$4,FALSE))","v":""},{"$f":"IF($N98=\"\",\"\",VLOOKUP($N98,'Reference - Logistics Distance'!$C:$O,BG$4,FALSE))","v":""},{"$f":"IF($N98=\"\",\"\",VLOOKUP($N98,'Reference - Logistics Distance'!$C:$O,BH$4,FALSE))","v":""},{"$f":"IF($N98=\"\",\"\",VLOOKUP($N98,'Reference - Logistics Distance'!$C:$O,BI$4,FALSE))","v":""},null,{"$f":"IF($N98=\"\",\"\",VLOOKUP($N98,'Reference - Logistics Distance'!$C:$O,BK$4,FALSE))","v":""},null,{"$f":"IF($N98=\"\",\"\",VLOOKUP($N98,'Reference - Logistics Distance'!$C:$O,BM$4,FALSE))","v":""},null,"","","","","","","","",null,"",null,"","",null,""]
[null,null,null,null,null,null,null,null,null,null,null,null,null,null,null,null,null,{"$f":"INDEX('Dropdown menus'!$A$1:$D$6,MATCH($E99,'Dropdown menus'!$A$1:$A$6,0),$R$6)","v":{"$error":"#N/A"}},null,{"$f":"IF($F99=\"\",\"\",VLOOKUP($F99,'Reference Data - Transport fuel'!$C:$O,T$4,FALSE))","v":""},{"$f":"IF($F99=\"\",\"\",VLOOKUP($F99,'Reference Data - Transport fuel'!$C:$O,U$4,FALSE))","v":""},{"$f":"IF($F99=\"\",\"\",VLOOKUP($F99,'Reference Data - Transport fuel'!$C:$O,V$4,FALSE))","v":""},{"$f":"IF($F99=\"\",\"\",VLOOKUP($F99,'Reference Data - Transport fuel'!$C:$O,W$4,FALSE))","v":""},{"$f":"IF($F99=\"\",\"\",VLOOKUP($F99,'Reference Data - Transport fuel'!$C:$O,X$4,FALSE))","v":""},{"$f":"IF($F99=\"\",\"\",VLOOKUP($F99,'Reference Data - Transport fuel'!$C:$O,Y$4,FALSE))","v":""},{"$f":"IF($F99=\"\",\"\",VLOOKUP($F99,'Reference Data - Transport fuel'!$C:$O,Z$4,FALSE))","v":""},{"$f":"IF($F99=\"\",\"\",VLOOKUP($F99,'Reference Data - Transport fuel'!$C:$O,AA$4,FALSE))","v":""},{"$f":"IF($F99=\"\",\"\",VLOOKUP($F99,'Reference Data - Transport fuel'!$C:$O,AB$4,FALSE))","v":""},null,{"$f":"IF($F99=\"\",\"\",VLOOKUP($F99,'Reference Data - Transport fuel'!$C:$O,AD$4,FALSE))","v":""},null,{"$f":"IF($F99=\"\",\"\",VLOOKUP($F99,'Reference Data - Transport fuel'!$C:$O,AF$4,FALSE))","v":""},null,"","","","","","","","",null,"",null,"","",null,"",null,null,{"$f":"INDEX('Dropdown menus'!$A$1:$D$6,MATCH($M99,'Dropdown menus'!$A$1:$A$6,0),$AY$6)","v":{"$error":"#N/A"}},null,{"$f":"IF($N99=\"\",\"\",VLOOKUP($N99,'Reference - Logistics Distance'!$C:$O,BA$4,FALSE))","v":""},{"$f":"IF($N99=\"\",\"\",VLOOKUP($N99,'Reference - Logistics Distance'!$C:$O,BB$4,FALSE))","v":""},{"$f":"IF($N99=\"\",\"\",VLOOKUP($N99,'Reference - Logistics Distance'!$C:$O,BC$4,FALSE))","v":""},{"$f":"IF($N99=\"\",\"\",VLOOKUP($N99,'Reference - Logistics Distance'!$C:$O,BD$4,FALSE))","v":""},{"$f":"IF($N99=\"\",\"\",VLOOKUP($N99,'Reference - Logistics Distance'!$C:$O,BE$4,FALSE))","v":""},{"$f":"IF($N99=\"\",\"\",VLOOKUP($N99,'Reference - Logistics Distance'!$C:$O,BF$4,FALSE))","v":""},{"$f":"IF($N99=\"\",\"\",VLOOKUP($N99,'Reference - Logistics Distance'!$C:$O,BG$4,FALSE))","v":""},{"$f":"IF($N99=\"\",\"\",VLOOKUP($N99,'Reference - Logistics Distance'!$C:$O,BH$4,FALSE))","v":""},{"$f":"IF($N99=\"\",\"\",VLOOKUP($N99,'Reference - Logistics Distance'!$C:$O,BI$4,FALSE))","v":""},null,{"$f":"IF($N99=\"\",\"\",VLOOKUP($N99,'Reference - Logistics Distance'!$C:$O,BK$4,FALSE))","v":""},null,{"$f":"IF($N99=\"\",\"\",VLOOKUP($N99,'Reference - Logistics Distance'!$C:$O,BM$4,FALSE))","v":""},null,"","","","","","","","",null,"",null,"","",null,""]
[null,null,null,null,null,null,null,null,null,null,null,null,null,null,null,null,null,{"$f":"INDEX('Dropdown menus'!$A$1:$D$6,MATCH($E100,'Dropdown menus'!$A$1:$A$6,0),$R$6)","v":{"$error":"#N/A"}},null,{"$f":"IF($F100=\"\",\"\",VLOOKUP($F100,'Reference Data - Transport fuel'!$C:$O,T$4,FALSE))","v":""},{"$f":"IF($F100=\"\",\"\",VLOOKUP($F100,'Reference Data - Transport fuel'!$C:$O,U$4,FALSE))","v":""},{"$f":"IF($F100=\"\",\"\",VLOOKUP($F100,'Reference Data - Transport fuel'!$C:$O,V$4,FALSE))","v":""},{"$f":"IF($F100=\"\",\"\",VLOOKUP($F100,'Reference Data - Transport fuel'!$C:$O,W$4,FALSE))","v":""},{"$f":"IF($F100=\"\",\"\",VLOOKUP($F100,'Reference Data - Transport fuel'!$C:$O,X$4,FALSE))","v":""},{"$f":"IF($F100=\"\",\"\",VLOOKUP($F100,'Reference Data - Transport fuel'!$C:$O,Y$4,FALSE))","v":""},{"$f":"IF($F100=\"\",\"\",VLOOKUP($F100,'Reference Data - Transport fuel'!$C:$O,Z$4,FALSE))","v":""},{"$f":"IF($F100=\"\",\"\",VLOOKUP($F100,'Reference Data - Transport fuel'!$C:$O,AA$4,FALSE))","v":""},{"$f":"IF($F100=\"\",\"\",VLOOKUP($F100,'Reference Data - Transport fuel'!$C:$O,AB$4,FALSE))","v":""},null,{"$f":"IF($F100=\"\",\"\",VLOOKUP($F100,'Reference Data - Transport fuel'!$C:$O,AD$4,FALSE))","v":""},null,{"$f":"IF($F100=\"\",\"\",VLOOKUP($F100,'Reference Data - Transport fuel'!$C:$O,AF$4,FALSE))","v":""},null,"","","","","","","","",null,"",null,"","",null,"",null,null,{"$f":"INDEX('Dropdown menus'!$A$1:$D$6,MATCH($M100,'Dropdown menus'!$A$1:$A$6,0),$AY$6)","v":{"$error":"#N/A"}},null,{"$f":"IF($N100=\"\",\"\",VLOOKUP($N100,'Reference - Logistics Distance'!$C:$O,BA$4,FALSE))","v":""},{"$f":"IF($N100=\"\",\"\",VLOOKUP($N100,'Reference - Logistics Distance'!$C:$O,BB$4,FALSE))","v":""},{"$f":"IF($N100=\"\",\"\",VLOOKUP($N100,'Reference - Logistics Distance'!$C:$O,BC$4,FALSE))","v":""},{"$f":"IF($N100=\"\",\"\",VLOOKUP($N100,'Reference - Logistics Distance'!$C:$O,BD$4,FALSE))","v":""},{"$f":"IF($N100=\"\",\"\",VLOOKUP($N100,'Reference - Logistics Distance'!$C:$O,BE$4,FALSE))","v":""},{"$f":"IF($N100=\"\",\"\",VLOOKUP($N100,'Reference - Logistics Distance'!$C:$O,BF$4,FALSE))","v":""},{"$f":"IF($N100=\"\",\"\",VLOOKUP($N100,'Reference - Logistics Distance'!$C:$O,BG$4,FALSE))","v":""},{"$f":"IF($N100=\"\",\"\",VLOOKUP($N100,'Reference - Logistics Distance'!$C:$O,BH$4,FALSE))","v":""},{"$f":"IF($N100=\"\",\"\",VLOOKUP($N100,'Reference - Logistics Distance'!$C:$O,BI$4,FALSE))","v":""},null,{"$f":"IF($N100=\"\",\"\",VLOOKUP($N100,'Reference - Logistics Distance'!$C:$O,BK$4,FALSE))","v":""},null,{"$f":"IF($N100=\"\",\"\",VLOOKUP($N100,'Reference - Logistics Distance'!$C:$O,BM$4,FALSE))","v":""},null,"","","","","","","","",null,"",null,"","",null,""]
[null,null,null,null,null,null,null,null,null,null,null,null,null,null,null,null,null,{"$f":"INDEX('Dropdown menus'!$A$1:$D$6,MATCH($E101,'Dropdown menus'!$A$1:$A$6,0),$R$6)","v":{"$error":"#N/A"}},null,{"$f":"IF($F101=\"\",\"\",VLOOKUP($F101,'Reference Data - Transport fuel'!$C:$O,T$4,FALSE))","v":""},{"$f":"IF($F101=\"\",\"\",VLOOKUP($F101,'Reference Data - Transport fuel'!$C:$O,U$4,FALSE))","v":""},{"$f":"IF($F101=\"\",\"\",VLOOKUP($F101,'Reference Data - Transport fuel'!$C:$O,V$4,FALSE))","v":""},{"$f":"IF($F101=\"\",\"\",VLOOKUP($F101,'Reference Data - Transport fuel'!$C:$O,W$4,FALSE))","v":""},{"$f":"IF($F101=\"\",\"\",VLOOKUP($F101,'Reference Data - Transport fuel'!$C:$O,X$4,FALSE))","v":""},{"$f":"IF($F101=\"\",\"\",VLOOKUP($F101,'Reference Data - Transport fuel'!$C:$O,Y$4,FALSE))","v":""},{"$f":"IF($F101=\"\",\"\",VLOOKUP($F101,'Reference Data - Transport fuel'!$C:$O,Z$4,FALSE))","v":""},{"$f":"IF($F101=\"\",\"\",VLOOKUP($F101,'Reference Data - Transport fuel'!$C:$O,AA$4,FALSE))","v":""},{"$f":"IF($F101=\"\",\"\",VLOOKUP($F101,'Reference Data - Transport fuel'!$C:$O,AB$4,FALSE))","v":""},null,{"$f":"IF($F101=\"\",\"\",VLOOKUP($F101,'Reference Data - Transport fuel'!$C:$O,AD$4,FALSE))","v":""},null,{"$f":"IF($F101=\"\",\"\",VLOOKUP($F101,'Reference Data - Transport fuel'!$C:$O,AF$4,FALSE))","v":""},null,"","","","","","","","",null,"",null,"","",null,"",null,null,{"$f":"INDEX('Dropdown menus'!$A$1:$D$6,MATCH($M101,'Dropdown menus'!$A$1:$A$6,0),$AY$6)","v":{"$error":"#N/A"}},null,{"$f":"IF($N101=\"\",\"\",VLOOKUP($N101,'Reference - Logistics Distance'!$C:$O,BA$4,FALSE))","v":""},{"$f":"IF($N101=\"\",\"\",VLOOKUP($N101,'Reference - Logistics Distance'!$C:$O,BB$4,FALSE))","v":""},{"$f":"IF($N101=\"\",\"\",VLOOKUP($N101,'Reference - Logistics Distance'!$C:$O,BC$4,FALSE))","v":""},{"$f":"IF($N101=\"\",\"\",VLOOKUP($N101,'Reference - Logistics Distance'!$C:$O,BD$4,FALSE))","v":""},{"$f":"IF($N101=\"\",\"\",VLOOKUP($N101,'Reference - Logistics Distance'!$C:$O,BE$4,FALSE))","v":""},{"$f":"IF($N101=\"\",\"\",VLOOKUP($N101,'Reference - Logistics Distance'!$C:$O,BF$4,FALSE))","v":""},{"$f":"IF($N101=\"\",\"\",VLOOKUP($N101,'Reference - Logistics Distance'!$C:$O,BG$4,FALSE))","v":""},{"$f":"IF($N101=\"\",\"\",VLOOKUP($N101,'Reference - Logistics Distance'!$C:$O,BH$4,FALSE))","v":""},{"$f":"IF($N101=\"\",\"\",VLOOKUP($N101,'Reference - Logistics Distance'!$C:$O,BI$4,FALSE))","v":""},null,{"$f":"IF($N101=\"\",\"\",VLOOKUP($N101,'Reference - Logistics Distance'!$C:$O,BK$4,FALSE))","v":""},null,{"$f":"IF($N101=\"\",\"\",VLOOKUP($N101,'Reference - Logistics Distance'!$C:$O,BM$4,FALSE))","v":""},null,"","","","","","","","",null,"",null,"","",null,""]
[null,null,null,null,null,null,null,null,null,null,null,null,null,null,null,null,null,{"$f":"INDEX('Dropdown menus'!$A$1:$D$6,MATCH($E102,'Dropdown menus'!$A$1:$A$6,0),$R$6)","v":{"$error":"#N/A"}},null,{"$f":"IF($F102=\"\",\"\",VLOOKUP($F102,'Reference Data - Transport fuel'!$C:$O,T$4,FALSE))","v":""},{"$f":"IF($F102=\"\",\"\",VLOOKUP($F102,'Reference Data - Transport fuel'!$C:$O,U$4,FALSE))","v":""},{"$f":"IF($F102=\"\",\"\",VLOOKUP($F102,'Reference Data - Transport fuel'!$C:$O,V$4,FALSE))","v":""},{"$f":"IF($F102=\"\",\"\",VLOOKUP($F102,'Reference Data - Transport fuel'!$C:$O,W$4,FALSE))","v":""},{"$f":"IF($F102=\"\",\"\",VLOOKUP($F102,'Reference Data - Transport fuel'!$C:$O,X$4,FALSE))","v":""},{"$f":"IF($F102=\"\",\"\",VLOOKUP($F102,'Reference Data - Transport fuel'!$C:$O,Y$4,FALSE))","v":""},{"$f":"IF($F102=\"\",\"\",VLOOKUP($F102,'Reference Data - Transport fuel'!$C:$O,Z$4,FALSE))","v":""},{"$f":"IF($F102=\"\",\"\",VLOOKUP($F102,'Reference Data - Transport fuel'!$C:$O,AA$4,FALSE))","v":""},{"$f":"IF($F102=\"\",\"\",VLOOKUP($F102,'Reference Data - Transport fuel'!$C:$O,AB$4,FALSE))","v":""},null,{"$f":"IF($F102=\"\",\"\",VLOOKUP($F102,'Reference Data - Transport fuel'!$C:$O,AD$4,FALSE))","v":""},null,{"$f":"IF($F102=\"\",\"\",VLOOKUP($F102,'Reference Data - Transport fuel'!$C:$O,AF$4,FALSE))","v":""},null,"","","","","","","","",null,"",null,"","",null,"",null,null,{"$f":"INDEX('Dropdown menus'!$A$1:$D$6,MATCH($M102,'Dropdown menus'!$A$1:$A$6,0),$AY$6)","v":{"$error":"#N/A"}},null,{"$f":"IF($N102=\"\",\"\",VLOOKUP($N102,'Reference - Logistics Distance'!$C:$O,BA$4,FALSE))","v":""},{"$f":"IF($N102=\"\",\"\",VLOOKUP($N102,'Reference - Logistics Distance'!$C:$O,BB$4,FALSE))","v":""},{"$f":"IF($N102=\"\",\"\",VLOOKUP($N102,'Reference - Logistics Distance'!$C:$O,BC$4,FALSE))","v":""},{"$f":"IF($N102=\"\",\"\",VLOOKUP($N102,'Reference - Logistics Distance'!$C:$O,BD$4,FALSE))","v":""},{"$f":"IF($N102=\"\",\"\",VLOOKUP($N102,'Reference - Logistics Distance'!$C:$O,BE$4,FALSE))","v":""},{"$f":"IF($N102=\"\",\"\",VLOOKUP($N102,'Reference - Logistics Distance'!$C:$O,BF$4,FALSE))","v":""},{"$f":"IF($N102=\"\",\"\",VLOOKUP($N102,'Reference - Logistics Distance'!$C:$O,BG$4,FALSE))","v":""},{"$f":"IF($N102=\"\",\"\",VLOOKUP($N102,'Reference - Logistics Distance'!$C:$O,BH$4,FALSE))","v":""},{"$f":"IF($N102=\"\",\"\",VLOOKUP($N102,'Reference - Logistics Distance'!$C:$O,BI$4,FALSE))","v":""},null,{"$f":"IF($N102=\"\",\"\",VLOOKUP($N102,'Reference - Logistics Distance'!$C:$O,BK$4,FALSE))","v":""},null,{"$f":"IF($N102=\"\",\"\",VLOOKUP($N102,'Reference - Logistics Distance'!$C:$O,BM$4,FALSE))","v":""},null,"","","","","","","","",null,"",null,"","",null,""]
[null,null,null,null,null,null,null,null,null,null,null,null,null,null,null,null,null,{"$f":"INDEX('Dropdown menus'!$A$1:$D$6,MATCH($E103,'Dropdown menus'!$A$1:$A$6,0),$R$6)","v":{"$error":"#N/A"}},null,{"$f":"IF($F103=\"\",\"\",VLOOKUP($F103,'Reference Data - Transport fuel'!$C:$O,T$4,FALSE))","v":""},{"$f":"IF($F103=\"\",\"\",VLOOKUP($F103,'Reference Data - Transport fuel'!$C:$O,U$4,FALSE))","v":""},{"$f":"IF($F103=\"\",\"\",VLOOKUP($F103,'Reference Data - Transport fuel'!$C:$O,V$4,FALSE))","v":""},{"$f":"IF($F103=\"\",\"\",VLOOKUP($F103,'Reference Data - Transport fuel'!$C:$O,W$4,FALSE))","v":""},{"$f":"IF($F103=\"\",\"\",VLOOKUP($F103,'Reference Data - Transport fuel'!$C:$O,X$4,FALSE))","v":""},{"$f":"IF($F103=\"\",\"\",VLOOKUP($F103,'Reference Data - Transport fuel'!$C:$O,Y$4,FALSE))","v":""},{"$f":"IF($F103=\"\",\"\",VLOOKUP($F103,'Reference Data - Transport fuel'!$C:$O,Z$4,FALSE))","v":""},{"$f":"IF($F103=\"\",\"\",VLOOKUP($F103,'Reference Data - Transport fuel'!$C:$O,AA$4,FALSE))","v":""},{"$f":"IF($F103=\"\",\"\",VLOOKUP($F103,'Reference Data - Transport fuel'!$C:$O,AB$4,FALSE))","v":""},null,{"$f":"IF($F103=\"\",\"\",VLOOKUP($F103,'Reference Data - Transport fuel'!$C:$O,AD$4,FALSE))","v":""},null,{"$f":"IF($F103=\"\",\"\",VLOOKUP($F103,'Reference Data - Transport fuel'!$C:$O,AF$4,FALSE))","v":""},null,"","","","","","","","",null,"",null,"","",null,"",null,null,{"$f":"INDEX('Dropdown menus'!$A$1:$D$6,MATCH($M103,'Dropdown menus'!$A$1:$A$6,0),$AY$6)","v":{"$error":"#N/A"}},null,{"$f":"IF($N103=\"\",\"\",VLOOKUP($N103,'Reference - Logistics Distance'!$C:$O,BA$4,FALSE))","v":""},{"$f":"IF($N103=\"\",\"\",VLOOKUP($N103,'Reference - Logistics Distance'!$C:$O,BB$4,FALSE))","v":""},{"$f":"IF($N103=\"\",\"\",VLOOKUP($N103,'Reference - Logistics Distance'!$C:$O,BC$4,FALSE))","v":""},{"$f":"IF($N103=\"\",\"\",VLOOKUP($N103,'Reference - Logistics Distance'!$C:$O,BD$4,FALSE))","v":""},{"$f":"IF($N103=\"\",\"\",VLOOKUP($N103,'Reference - Logistics Distance'!$C:$O,BE$4,FALSE))","v":""},{"$f":"IF($N103=\"\",\"\",VLOOKUP($N103,'Reference - Logistics Distance'!$C:$O,BF$4,FALSE))","v":""},{"$f":"IF($N103=\"\",\"\",VLOOKUP($N103,'Reference - Logistics Distance'!$C:$O,BG$4,FALSE))","v":""},{"$f":"IF($N103=\"\",\"\",VLOOKUP($N103,'Reference - Logistics Distance'!$C:$O,BH$4,FALSE))","v":""},{"$f":"IF($N103=\"\",\"\",VLOOKUP($N103,'Reference - Logistics Distance'!$C:$O,BI$4,FALSE))","v":""},null,{"$f":"IF($N103=\"\",\"\",VLOOKUP($N103,'Reference - Logistics Distance'!$C:$O,BK$4,FALSE))","v":""},null,{"$f":"IF($N103=\"\",\"\",VLOOKUP($N103,'Reference - Logistics Distance'!$C:$O,BM$4,FALSE))","v":""},null,"","","","","","","","",null,"",null,"","",null,""]
[null,null,null,null,null,null,null,null,null,null,null,null,null,null,null,null,null,{"$f":"INDEX('Dropdown menus'!$A$1:$D$6,MATCH($E104,'Dropdown menus'!$A$1:$A$6,0),$R$6)","v":{"$error":"#N/A"}},null,{"$f":"IF($F104=\"\",\"\",VLOOKUP($F104,'Reference Data - Transport fuel'!$C:$O,T$4,FALSE))","v":""},{"$f":"IF($F104=\"\",\"\",VLOOKUP($F104,'Reference Data - Transport fuel'!$C:$O,U$4,FALSE))","v":""},{"$f":"IF($F104=\"\",\"\",VLOOKUP($F104,'Reference Data - Transport fuel'!$C:$O,V$4,FALSE))","v":""},{"$f":"IF($F104=\"\",\"\",VLOOKUP($F104,'Reference Data - Transport fuel'!$C:$O,W$4,FALSE))","v":""},{"$f":"IF($F104=\"\",\"\",VLOOKUP($F104,'Reference Data - Transport fuel'!$C:$O,X$4,FALSE))","v":""},{"$f":"IF($F104=\"\",\"\",VLOOKUP($F104,'Reference Data - Transport fuel'!$C:$O,Y$4,FALSE))","v":""},{"$f":"IF($F104=\"\",\"\",VLOOKUP($F104,'Reference Data - Transport fuel'!$C:$O,Z$4,FALSE))","v":""},{"$f":"IF($F104=\"\",\"\",VLOOKUP($F104,'Reference Data - Transport fuel'!$C:$O,AA$4,FALSE))","v":""},{"$f":"IF($F104=\"\",\"\",VLOOKUP($F104,'Reference Data - Transport fuel'!$C:$O,AB$4,FALSE))","v":""},null,{"$f":"IF($F104=\"\",\"\",VLOOKUP($F104,'Reference Data - Transport fuel'!$C:$O,AD$4,FALSE))","v":""},null,{"$f":"IF($F104=\"\",\"\",VLOOKUP($F104,'Reference Data - Transport fuel'!$C:$O,AF$4,FALSE))","v":""},null,"","","","","","","","",null,"",null,"","",null,"",null,null,{"$f":"INDEX('Dropdown menus'!$A$1:$D$6,MATCH($M104,'Dropdown menus'!$A$1:$A$6,0),$AY$6)","v":{"$error":"#N/A"}},null,{"$f":"IF($N104=\"\",\"\",VLOOKUP($N104,'Reference - Logistics Distance'!$C:$O,BA$4,FALSE))","v":""},{"$f":"IF($N104=\"\",\"\",VLOOKUP($N104,'Reference - Logistics Distance'!$C:$O,BB$4,FALSE))","v":""},{"$f":"IF($N104=\"\",\"\",VLOOKUP($N104,'Reference - Logistics Distance'!$C:$O,BC$4,FALSE))","v":""},{"$f":"IF($N104=\"\",\"\",VLOOKUP($N104,'Reference - Logistics Distance'!$C:$O,BD$4,FALSE))","v":""},{"$f":"IF($N104=\"\",\"\",VLOOKUP($N104,'Reference - Logistics Distance'!$C:$O,BE$4,FALSE))","v":""},{"$f":"IF($N104=\"\",\"\",VLOOKUP($N104,'Reference - Logistics Distance'!$C:$O,BF$4,FALSE))","v":""},{"$f":"IF($N104=\"\",\"\",VLOOKUP($N104,'Reference - Logistics Distance'!$C:$O,BG$4,FALSE))","v":""},{"$f":"IF($N104=\"\",\"\",VLOOKUP($N104,'Reference - Logistics Distance'!$C:$O,BH$4,FALSE))","v":""},{"$f":"IF($N104=\"\",\"\",VLOOKUP($N104,'Reference - Logistics Distance'!$C:$O,BI$4,FALSE))","v":""},null,{"$f":"IF($N104=\"\",\"\",VLOOKUP($N104,'Reference - Logistics Distance'!$C:$O,BK$4,FALSE))","v":""},null,{"$f":"IF($N104=\"\",\"\",VLOOKUP($N104,'Reference - Logistics Distance'!$C:$O,BM$4,FALSE))","v":""},null,"","","","","","","","",null,"",null,"","",null,""]
[null,null,null,null,null,null,null,null,null,null,null,null,null,null,null,null,null,{"$f":"INDEX('Dropdown menus'!$A$1:$D$6,MATCH($E105,'Dropdown menus'!$A$1:$A$6,0),$R$6)","v":{"$error":"#N/A"}},null,{"$f":"IF($F105=\"\",\"\",VLOOKUP($F105,'Reference Data - Transport fuel'!$C:$O,T$4,FALSE))","v":""},{"$f":"IF($F105=\"\",\"\",VLOOKUP($F105,'Reference Data - Transport fuel'!$C:$O,U$4,FALSE))","v":""},{"$f":"IF($F105=\"\",\"\",VLOOKUP($F105,'Reference Data - Transport fuel'!$C:$O,V$4,FALSE))","v":""},{"$f":"IF($F105=\"\",\"\",VLOOKUP($F105,'Reference Data - Transport fuel'!$C:$O,W$4,FALSE))","v":""},{"$f":"IF($F105=\"\",\"\",VLOOKUP($F105,'Reference Data - Transport fuel'!$C:$O,X$4,FALSE))","v":""},{"$f":"IF($F105=\"\",\"\",VLOOKUP($F105,'Reference Data - Transport fuel'!$C:$O,Y$4,FALSE))","v":""},{"$f":"IF($F105=\"\",\"\",VLOOKUP($F105,'Reference Data - Transport fuel'!$C:$O,Z$4,FALSE))","v":""},{"$f":"IF($F105=\"\",\"\",VLOOKUP($F105,'Reference Data - Transport fuel'!$C:$O,AA$4,FALSE))","v":""},{"$f":"IF($F105=\"\",\"\",VLOOKUP($F105,'Reference Data - Transport fuel'!$C:$O,AB$4,FALSE))","v":""},null,{"$f":"IF($F105=\"\",\"\",VLOOKUP($F105,'Reference Data - Transport fuel'!$C:$O,AD$4,FALSE))","v":""},null,{"$f":"IF($F105=\"\",\"\",VLOOKUP($F105,'Reference Data - Transport fuel'!$C:$O,AF$4,FALSE))","v":""},null,"","","","","","","","",null,"",null,"","",null,"",null,null,{"$f":"INDEX('Dropdown menus'!$A$1:$D$6,MATCH($M105,'Dropdown menus'!$A$1:$A$6,0),$AY$6)","v":{"$error":"#N/A"}},null,{"$f":"IF($N105=\"\",\"\",VLOOKUP($N105,'Reference - Logistics Distance'!$C:$O,BA$4,FALSE))","v":""},{"$f":"IF($N105=\"\",\"\",VLOOKUP($N105,'Reference - Logistics Distance'!$C:$O,BB$4,FALSE))","v":""},{"$f":"IF($N105=\"\",\"\",VLOOKUP($N105,'Reference - Logistics Distance'!$C:$O,BC$4,FALSE))","v":""},{"$f":"IF($N105=\"\",\"\",VLOOKUP($N105,'Reference - Logistics Distance'!$C:$O,BD$4,FALSE))","v":""},{"$f":"IF($N105=\"\",\"\",VLOOKUP($N105,'Reference - Logistics Distance'!$C:$O,BE$4,FALSE))","v":""},{"$f":"IF($N105=\"\",\"\",VLOOKUP($N105,'Reference - Logistics Distance'!$C:$O,BF$4,FALSE))","v":""},{"$f":"IF($N105=\"\",\"\",VLOOKUP($N105,'Reference - Logistics Distance'!$C:$O,BG$4,FALSE))","v":""},{"$f":"IF($N105=\"\",\"\",VLOOKUP($N105,'Reference - Logistics Distance'!$C:$O,BH$4,FALSE))","v":""},{"$f":"IF($N105=\"\",\"\",VLOOKUP($N105,'Reference - Logistics Distance'!$C:$O,BI$4,FALSE))","v":""},null,{"$f":"IF($N105=\"\",\"\",VLOOKUP($N105,'Reference - Logistics Distance'!$C:$O,BK$4,FALSE))","v":""},null,{"$f":"IF($N105=\"\",\"\",VLOOKUP($N105,'Reference - Logistics Distance'!$C:$O,BM$4,FALSE))","v":""},null,"","","","","","","","",null,"",null,"","",null,""]
[null,null,null,null,null,null,null,null,null,null,null,null,null,null,null,null,null,{"$f":"INDEX('Dropdown menus'!$A$1:$D$6,MATCH($E106,'Dropdown menus'!$A$1:$A$6,0),$R$6)","v":{"$error":"#N/A"}},null,{"$f":"IF($F106=\"\",\"\",VLOOKUP($F106,'Reference Data - Transport fuel'!$C:$O,T$4,FALSE))","v":""},{"$f":"IF($F106=\"\",\"\",VLOOKUP($F106,'Reference Data - Transport fuel'!$C:$O,U$4,FALSE))","v":""},{"$f":"IF($F106=\"\",\"\",VLOOKUP($F106,'Reference Data - Transport fuel'!$C:$O,V$4,FALSE))","v":""},{"$f":"IF($F106=\"\",\"\",VLOOKUP($F106,'Reference Data - Transport fuel'!$C:$O,W$4,FALSE))","v":""},{"$f":"IF($F106=\"\",\"\",VLOOKUP($F106,'Reference Data - Transport fuel'!$C:$O,X$4,FALSE))","v":""},{"$f":"IF($F106=\"\",\"\",VLOOKUP($F106,'Reference Data - Transport fuel'!$C:$O,Y$4,FALSE))","v":""},{"$f":"IF($F106=\"\",\"\",VLOOKUP($F106,'Reference Data - Transport fuel'!$C:$O,Z$4,FALSE))","v":""},{"$f":"IF($F106=\"\",\"\",VLOOKUP($F106,'Reference Data - Transport fuel'!$C:$O,AA$4,FALSE))","v":""},{"$f":"IF($F106=\"\",\"\",VLOOKUP($F106,'Reference Data - Transport fuel'!$C:$O,AB$4,FALSE))","v":""},null,{"$f":"IF($F106=\"\",\"\",VLOOKUP($F106,'Reference Data - Transport fuel'!$C:$O,AD$4,FALSE))","v":""},null,{"$f":"IF($F106=\"\",\"\",VLOOKUP($F106,'Reference Data - Transport fuel'!$C:$O,AF$4,FALSE))","v":""},null,"","","","","","","","",null,"",null,"","",null,"",null,null,{"$f":"INDEX('Dropdown menus'!$A$1:$D$6,MATCH($M106,'Dropdown menus'!$A$1:$A$6,0),$AY$6)","v":{"$error":"#N/A"}},null,{"$f":"IF($N106=\"\",\"\",VLOOKUP($N106,'Reference - Logistics Distance'!$C:$O,BA$4,FALSE))","v":""},{"$f":"IF($N106=\"\",\"\",VLOOKUP($N106,'Reference - Logistics Distance'!$C:$O,BB$4,FALSE))","v":""},{"$f":"IF($N106=\"\",\"\",VLOOKUP($N106,'Reference - Logistics Distance'!$C:$O,BC$4,FALSE))","v":""},{"$f":"IF($N106=\"\",\"\",VLOOKUP($N106,'Reference - Logistics Distance'!$C:$O,BD$4,FALSE))","v":""},{"$f":"IF($N106=\"\",\"\",VLOOKUP($N106,'Reference - Logistics Distance'!$C:$O,BE$4,FALSE))","v":""},{"$f":"IF($N106=\"\",\"\",VLOOKUP($N106,'Reference - Logistics Distance'!$C:$O,BF$4,FALSE))","v":""},{"$f":"IF($N106=\"\",\"\",VLOOKUP($N106,'Reference - Logistics Distance'!$C:$O,BG$4,FALSE))","v":""},{"$f":"IF($N106=\"\",\"\",VLOOKUP($N106,'Reference - Logistics Distance'!$C:$O,BH$4,FALSE))","v":""},{"$f":"IF($N106=\"\",\"\",VLOOKUP($N106,'Reference - Logistics Distance'!$C:$O,BI$4,FALSE))","v":""},null,{"$f":"IF($N106=\"\",\"\",VLOOKUP($N106,'Reference - Logistics Distance'!$C:$O,BK$4,FALSE))","v":""},null,{"$f":"IF($N106=\"\",\"\",VLOOKUP($N106,'Reference - Logistics Distance'!$C:$O,BM$4,FALSE))","v":""},null,"","","","","","","","",null,"",null,"","",null,""]

{"sheet":"8. Business Travel（差旅）","index":7,"n_rows":106,"n_cols":81,"rows_kept":106,"cut":false,"hidden":false,"merged":[]}
[]
[null,null,null,"差旅--基于燃料数量",null,null,null,null,null,null,null,"差旅--基于距离"]
[null,null,null,"Business Travel - by quantity of fuel",null,null,null,null,null,null,null,"Business travel - by distance",null,null,null,null,null,"Business Travel - By quantity of fuel",null,null,null,null,null,null,null,null,null,null,null,null,null,null,null,null,null,null,null,null,null,null,null,null,null,null,null,null,null,null,null,null,"By Distance"]
[null,null,null,null,null,null,null,null,null,null,null,null,null,null,null,null,null,null,null,2,6,7,8,9,10,11,12,13,null,3,null,5,null,null,null,null,null,null,null,null,null,null,null,null,null,null,null,null,null,null,null,null,2,6,7,8,9,10,11,12,13,null,4,null,5]
[null,"C",null,"描述","交通工具所有权和控制权","所用燃料类型","年消耗量",null,null,"C",null,"描述","交通工具所有权和控制权","方式和细节","每年人-千米",null,null,"Scope",null,"Factors",null,null,null,null,null,null,null,null,null,null,null,null,null,"Scope 1 Emissions (kg)",null,null,null,null,null,null,null,null,null,null,"Scope 3 emissions (kg CO2e)",null,null,"Energy Use (MWh)",null,null,"Scope",null,"Factors",null,null,null,null,null,null,null,null,null,null,null,null,null,"Scope 1 Emissions (kg)",null,null,null,null,null,null,null,null,null,null,"Scope 3 emissions (kg CO2e)",null,null,"Energy Use (MWh)"]
[null,"E",null,"Description","Vehicle Ownership and Control","Type of Fuel Used","Quantity per year",null,null,"E",null,"Description","Vehicle Ownership and Control","Mode & Details","Passenger-km per year",null,null,{"$f":"VLOOKUP('1. Title Sheet(标题页）'!$E$16,ConsolidationApproachLookupTable,2,FALSE)","v":2},null,"Combustion Emission Factor (kg CO2e/unit)","CO2 Emission Factor (kg CO2/unit)","CH4 Emission Factor (kg CH4/unit)","N2O  Emission Factor (kg N2O/unit)","HFC  Emission Factor (kg HFC/unit)","PFC  Emission Factor (kg PFC/unit)","SF6  Emission Factor (kg SF6/unit)","NF3  Emission Factor (kg SF6/unit)","Upstream emissions (kg CO2e/unit)",null,"Biogenic - Yes/No",null,"Energy Use Conversion factor (MWh per unit)",null,"CO2e","CO2","CH4","N2O","HFC","PFC","SF6","NF3",null,"Biogenic CO2e",null,"Upstream (fuel + energy related)","Direct combustion emissions",null,null,null,null,{"$f":"VLOOKUP('1. Title Sheet(标题页）'!$E$16,ConsolidationApproachLookupTable,2,FALSE)","v":2},null,"Combustion Emission Factor (kg CO2e/unit)","CO2 Emission Factor (kg CO2/unit)","CH4 Emission Factor (kg CH4/unit)","N2O  Emission Factor (kg N2O/unit)","HFC  Emission Factor (kg HFC/unit)","PFC  Emission Factor (kg PFC/unit)","SF6  Emission Factor (kg SF6/unit)","NF3  Emission Factor (kg SF6/unit)","Upstream emissions (kg CO2e/unit)",null,"Biogenic - Yes/No",null,"Energy Use Conversion factor (MWh per unit)",null,"CO2e","CO2","CH4","N2O","HFC","PFC","SF6","NF3",null,"Biogenic CO2e",null,"Upstream (fuel + energy related)","Direct combustion emissions"]
[null,null,null,null,null,null,null,null,null,null,null,null,null,null,null,null,null,{"$f":"INDEX('Dropdown menus'!$A$1:$D$6,MATCH($E7,'Dropdown menus'!$A$1:$A$6,0),$R$6)","v":{"$error":"#N/A"}},null,{"$f":"IF($F7=\"\",\"\",VLOOKUP($F7,'Reference Data - Transport fuel'!$C:$O,T$4,FALSE))","v":""},{"$f":"IF($F7=\"\",\"\",VLOOKUP($F7,'Reference Data - Transport fuel'!$C:$O,U$4,FALSE))","v":""},{"$f":"IF($F7=\"\",\"\",VLOOKUP($F7,'Reference Data - Transport fuel'!$C:$O,V$4,FALSE))","v":""},{"$f":"IF($F7=\"\",\"\",VLOOKUP($F7,'Reference Data - Transport fuel'!$C:$O,W$4,FALSE))","v":""},{"$f":"IF($F7=\"\",\"\",VLOOKUP($F7,'Reference Data - Transport fuel'!$C:$O,X$4,FALSE))","v":""},{"$f":"IF($F7=\"\",\"\",VLOOKUP($F7,'Reference Data - Transport fuel'!$C:$O,Y$4,FALSE))","v":""},{"$f":"IF($F7=\"\",\"\",VLOOKUP($F7,'Reference Data - Transport fuel'!$C:$O,Z$4,FALSE))","v":""},{"$f":"IF($F7=\"\",\"\",VLOOKUP($F7,'Reference Data - Transport fuel'!$C:$O,AA$4,FALSE))","v":""},{"$f":"IF($F7=\"\",\"\",VLOOKUP($F7,'Reference Data - Transport fuel'!$C:$O,AB$4,FALSE))","v":""},null,{"$f":"IF($F7=\"\",\"\",VLOOKUP($F7,'Reference Data - Transport fuel'!$C:$O,AD$4,FALSE))","v":""},null,{"$f":"IF($F7=\"\",\"\",VLOOKUP($F7,'Reference Data - Transport fuel'!$C:$O,AF$4,FALSE))","v":""},null,{"$f":"IF($F7=\"\",\"\",IF($R7=1,(T7*$G7)-AQ7,\"\"))","v":""},{"$f":"IF($F7=\"\",\"\",IF($R7=1,IF(AD7=\"Yes\",0,U7*$G7),\"\"))","v":""},{"$f":"IF($F7=\"\",\"\",IF($R7=1,V7*$G7,\"\"))","v":""},"","","","","",null,{"$f":"IF($F7=\"\",\"\",IF($R7=1,IF(AD7=\"Yes\",U7*G7,0),\"\"))","v":""},null,{"$f":"IF($F7=\"\",\"\",$G7*AB7)","v":""},{"$f":"IF($F7=\"\",\"\",IF($R7=3,T7*$G7,\"\"))","v":""},null,{"$f":"IF($F7=\"\",\"\",IF($R7=1,$G7*AF7,\"\"))","v":""},null,null,{"$f":"INDEX('Dropdown menus'!$A$1:$D$6,MATCH($M7,'Dropdown menus'!$A$1:$A$6,0),$AY$6)","v":{"$error":"#N/A"}},null,{"$f":"IF($N7=\"\",\"\",VLOOKUP($N7,'Reference Passenger Transport'!$C:$O,BA$4,FALSE))","v":""},{"$f":"IF($N7=\"\",\"\",VLOOKUP($N7,'Reference Passenger Transport'!$C:$O,BB$4,FALSE))","v":""},{"$f":"IF($N7=\"\",\"\",VLOOKUP($N7,'Reference Passenger Transport'!$C:$O,BC$4,FALSE))","v":""},{"$f":"IF($N7=\"\",\"\",VLOOKUP($N7,'Reference Passenger Transport'!$C:$O,BD$4,FALSE))","v":""},{"$f":"IF($N7=\"\",\"\",VLOOKUP($N7,'Reference Passenger Transport'!$C:$O,BE$4,FALSE))","v":""},{"$f":"IF($N7=\"\",\"\",VLOOKUP($N7,'Reference Passenger Transport'!$C:$O,BF$4,FALSE))","v":""},{"$f":"IF($N7=\"\",\"\",VLOOKUP($N7,'Reference Passenger Transport'!$C:$O,BG$4,FALSE))","v":""},{"$f":"IF($N7=\"\",\"\",VLOOKUP($N7,'Reference Passenger Transport'!$C:$O,BH$4,FALSE))","v":""},{"$f":"IF($N7=\"\",\"\",VLOOKUP($N7,'Reference Passenger Transport'!$C:$O,BI$4,FALSE))","v":""},null,{"$f":"IF($N7=\"\",\"\",VLOOKUP($N7,'Reference Passenger Transport'!$C:$O,BK$4,FALSE))","v":""},null,{"$f":"IF($N7=\"\",\"\",VLOOKUP($N7,'Reference Passenger Transport'!$C:$O,BM$4,FALSE))","v":""},null,{"$f":"IF($N7=\"\",\"\",IF($AY7=1,(BA7*$O7)-BX7,\"\"))","v":""},{"$f":"IF($N7=\"\",\"\",IF($AY7=1,IF(BK7=\"Yes\",0,BB7*$O7),\"\"))","v":""},{"$f":"IF($N7=\"\",\"\",IF($AY7=1,BC7*$O7,\"\"))","v":""},"","","","","",null,{"$f":"IF($N7=\"\",\"\",IF($AY7=1,IF(BK7=\"Yes\",BB7*O7,0),\"\"))","v":""},null,{"$f":"IF($N7=\"\",\"\",$O7*BI7)","v":""},{"$f":"IF($N7=\"\",\"\",IF($AY7=3,BM7*$O7,\"\"))","v":""},null,{"$f":"IF($N7=\"\",\"\",IF($AY7=1,$O7*BM7,\"\"))","v":""}]
[null,null,null,null,null,null,null,null,null,null,null,null,null,null,null,null,null,{"$f":"INDEX('Dropdown menus'!$A$1:$D$6,MATCH($E8,'Dropdown menus'!$A$1:$A$6,0),$R$6)","v":{"$error":"#N/A"}},null,{"$f":"IF($F8=\"\",\"\",VLOOKUP($F8,'Reference Data - Transport fuel'!$C:$O,T$4,FALSE))","v":""},{"$f":"IF($F8=\"\",\"\",VLOOKUP($F8,'Reference Data - Transport fuel'!$C:$O,U$4,FALSE))","v":""},{"$f":"IF($F8=\"\",\"\",VLOOKUP($F8,'Reference Data - Transport fuel'!$C:$O,V$4,FALSE))","v":""},{"$f":"IF($F8=\"\",\"\",VLOOKUP($F8,'Reference Data - Transport fuel'!$C:$O,W$4,FALSE))","v":""},{"$f":"IF($F8=\"\",\"\",VLOOKUP($F8,'Reference Data - Transport fuel'!$C:$O,X$4,FALSE))","v":""},{"$f":"IF($F8=\"\",\"\",VLOOKUP($F8,'Reference Data - Transport fuel'!$C:$O,Y$4,FALSE))","v":""},{"$f":"IF($F8=\"\",\"\",VLOOKUP($F8,'Reference Data - Transport fuel'!$C:$O,Z$4,FALSE))","v":""},{"$f":"IF($F8=\"\",\"\",VLOOKUP($F8,'Reference Data - Transport fuel'!$C:$O,AA$4,FALSE))","v":""},{"$f":"IF($F8=\"\",\"\",VLOOKUP($F8,'Reference Data - Transport fuel'!$C:$O,AB$4,FALSE))","v":""},null,{"$f":"IF($F8=\"\",\"\",VLOOKUP($F8,'Reference Data - Transport fuel'!$C:$O,AD$4,FALSE))","v":""},null,{"$f":"IF($F8=\"\",\"\",VLOOKUP($F8,'Reference Data - Transport fuel'!$C:$O,AF$4,FALSE))","v":""},null,{"$f":"IF($F8=\"\",\"\",IF($R8=1,(T8*$G8)-AQ8,\"\"))","v":""},{"$f":"IF($F8=\"\",\"\",IF($R8=1,IF(AD8=\"Yes\",0,U8*$G8),\"\"))","v":""},{"$f":"IF($F8=\"\",\"\",IF($R8=1,V8*$G8,\"\"))","v":""},{"$f":"IF($F8=\"\",\"\",IF($R8=1,W8*$G8,\"\"))","v":""},{"$f":"IF($F8=\"\",\"\",IF($R8=1,X8*$G8,\"\"))","v":""},{"$f":"IF($F8=\"\",\"\",IF($R8=1,Y8*$G8,\"\"))","v":""},{"$f":"IF($F8=\"\",\"\",IF($R8=1,Z8*$G8,\"\"))","v":""},{"$f":"IF($F8=\"\",\"\",IF($R8=1,AA8*$G8,\"\"))","v":""},null,{"$f":"IF($F8=\"\",\"\",IF($R8=1,IF(AD8=\"Yes\",U8*G8,0),\"\"))","v":""},null,{"$f":"IF($F8=\"\",\"\",$G8*AB8)","v":""},{"$f":"IF($F8=\"\",\"\",IF($R8=3,T8*$G8,\"\"))","v":""},null,{"$f":"IF($F8=\"\",\"\",IF($R8=1,$G8*AF8,\"\"))","v":""},null,null,{"$f":"INDEX('Dropdown menus'!$A$1:$D$6,MATCH($M8,'Dropdown menus'!$A$1:$A$6,0),$AY$6)","v":{"$error":"#N/A"}},null,{"$f":"IF($N8=\"\",\"\",VLOOKUP($N8,'Reference Passenger Transport'!$C:$O,BA$4,FALSE))","v":""},{"$f":"IF($N8=\"\",\"\",VLOOKUP($N8,'Reference Passenger Transport'!$C:$O,BB$4,FALSE))","v":""},{"$f":"IF($N8=\"\",\"\",VLOOKUP($N8,'Reference Passenger Transport'!$C:$O,BC$4,FALSE))","v":""},{"$f":"IF($N8=\"\",\"\",VLOOKUP($N8,'Reference Passenger Transport'!$C:$O,BD$4,FALSE))","v":""},{"$f":"IF($N8=\"\",\"\",VLOOKUP($N8,'Reference Passenger Transport'!$C:$O,BE$4,FALSE))","v":""},{"$f":"IF($N8=\"\",\"\",VLOOKUP($N8,'Reference Passenger Transport'!$C:$O,BF$4,FALSE))","v":""},{"$f":"IF($N8=\"\",\"\",VLOOKUP($N8,'Reference Passenger Transport'!$C:$O,BG$4,FALSE))","v":""},{"$f":"IF($N8=\"\",\"\",VLOOKUP($N8,'Reference Passenger Transport'!$C:$O,BH$4,FALSE))","v":""},{"$f":"IF($N8=\"\",\"\",VLOOKUP($N8,'Reference Passenger Transport'!$C:$O,BI$4,FALSE))","v":""},{"$f":"IF($N8=\"\",\"\",VLOOKUP($N8,'Reference Passenger Transport'!$C:$O,BJ$4,FALSE))","v":""},{"$f":"IF($N8=\"\",\"\",VLOOKUP($N8,'Reference Passenger Transport'!$C:$O,BK$4,FALSE))","v":""},{"$f":"IF($N8=\"\",\"\",VLOOKUP($N8,'Reference Passenger Transport'!$C:$O,BL$4,FALSE))","v":""},{"$f":"IF($N8=\"\",\"\",VLOOKUP($N8,'Reference Passenger Transport'!$C:$O,BM$4,FALSE))","v":""},null,{"$f":"IF($N8=\"\",\"\",IF($AY8=1,(BA8*$O8)-BX8,\"\"))","v":""},{"$f":"IF($N8=\"\",\"\",IF($AY8=1,IF(BK8=\"Yes\",0,BB8*$O8),\"\"))","v":""},{"$f":"IF($N8=\"\",\"\",IF($AY8=1,BC8*$O8,\"\"))","v":""},{"$f":"IF($N8=\"\",\"\",IF($AY8=1,BD8*$O8,\"\"))","v":""},{"$f":"IF($N8=\"\",\"\",IF($AY8=1,BE8*$O8,\"\"))","v":""},{"$f":"IF($N8=\"\",\"\",IF($AY8=1,BF8*$O8,\"\"))","v":""},{"$f":"IF($N8=\"\",\"\",IF($AY8=1,BG8*$O8,\"\"))","v":""},{"$f":"IF($N8=\"\",\"\",IF($AY8=1,BH8*$O8,\"\"))","v":""},null,{"$f":"IF($N8=\"\",\"\",IF($AY8=1,IF(BK8=\"Yes\",BB8*O8,0),\"\"))","v":""},null,{"$f":"IF($N8=\"\",\"\",$O8*BI8)","v":""},{"$f":"IF($N8=\"\",\"\",IF($AY8=3,BM8*$O8,\"\"))","v":""},null,{"$f":"IF($N8=\"\",\"\",IF($AY8=1,$O8*BM8,\"\"))","v":""}]
[null,null,null,null,null,null,null,null,null,null,null,null,null,null,null,null,null,{"$f":"INDEX('Dropdown menus'!$A$1:$D$6,MATCH($E9,'Dropdown menus'!$A$1:$A$6,0),$R$6)","v":{"$error":"#N/A"}},null,{"$f":"IF($F9=\"\",\"\",VLOOKUP($F9,'Reference Data - Transport fuel'!$C:$O,T$4,FALSE))","v":""},{"$f":"IF($F9=\"\",\"\",VLOOKUP($F9,'Reference Data - Transport fuel'!$C:$O,U$4,FALSE))","v":""},{"$f":"IF($F9=\"\",\"\",VLOOKUP($F9,'Reference Data - Transport fuel'!$C:$O,V$4,FALSE))","v":""},{"$f":"IF($F9=\"\",\"\",VLOOKUP($F9,'Reference Data - Transport fuel'!$C:$O,W$4,FALSE))","v":""},{"$f":"IF($F9=\"\",\"\",VLOOKUP($F9,'Reference Data - Transport fuel'!$C:$O,X$4,FALSE))","v":""},{"$f":"IF($F9=\"\",\"\",VLOOKUP($F9,'Reference Data - Transport fuel'!$C:$O,Y$4,FALSE))","v":""},{"$f":"IF($F9=\"\",\"\",VLOOKUP($F9,'Reference Data - Transport fuel'!$C:$O,Z$4,FALSE))","v":""},{"$f":"IF($F9=\"\",\"\",VLOOKUP($F9,'Reference Data - Transport fuel'!$C:$O,AA$4,FALSE))","v":""},{"$f":"IF($F9=\"\",\"\",VLOOKUP($F9,'Reference Data - Transport fuel'!$C:$O,AB$4,FALSE))","v":""},null,{"$f":"IF($F9=\"\",\"\",VLOOKUP($F9,'Reference Data - Transport fuel'!$C:$O,AD$4,FALSE))","v":""},null,{"$f":"IF($F9=\"\",\"\",VLOOKUP($F9,'Reference Data - Transport fuel'!$C:$O,AF$4,FALSE))","v":""},null,"","","","","","","","",null,"",null,"","",null,"",null,null,{"$f":"INDEX('Dropdown menus'!$A$1:$D$6,MATCH($M9,'Dropdown menus'!$A$1:$A$6,0),$AY$6)","v":{"$error":"#N/A"}},null,{"$f":"IF($N9=\"\",\"\",VLOOKUP($N9,'Reference Passenger Transport'!$C:$O,BA$4,FALSE))","v":""},{"$f":"IF($N9=\"\",\"\",VLOOKUP($N9,'Reference Passenger Transport'!$C:$O,BB$4,FALSE))","v":""},{"$f":"IF($N9=\"\",\"\",VLOOKUP($N9,'Reference Passenger Transport'!$C:$O,BC$4,FALSE))","v":""},{"$f":"IF($N9=\"\",\"\",VLOOKUP($N9,'Reference Passenger Transport'!$C:$O,BD$4,FALSE))","v":""},{"$f":"IF($N9=\"\",\"\",VLOOKUP($N9,'Reference Passenger Transport'!$C:$O,BE$4,FALSE))","v":""},{"$f":"IF($N9=\"\",\"\",VLOOKUP($N9,'Reference Passenger Transport'!$C:$O,BF$4,FALSE))","v":""},{"$f":"IF($N9=\"\",\"\",VLOOKUP($N9,'Reference Passenger Transport'!$C:$O,BG$4,FALSE))","v":""},{"$f":"IF($N9=\"\",\"\",VLOOKUP($N9,'Reference Passenger Transport'!$C:$O,BH$4,FALSE))","v":""},{"$f":"IF($N9=\"\",\"\",VLOOKUP($N9,'Reference Passenger Transport'!$C:$O,BI$4,FALSE))","v":""},{"$f":"IF($N9=\"\",\"\",VLOOKUP($N9,'Reference Passenger Transport'!$C:$O,BJ$4,FALSE))","v":""},{"$f":"IF($N9=\"\",\"\",VLOOKUP($N9,'Reference Passenger Transport'!$C:$O,BK$4,FALSE))","v":""},{"$f":"IF($N9=\"\",\"\",VLOOKUP($N9,'Reference Passenger Transport'!$C:$O,BL$4,FALSE))","v":""},{"$f":"IF($N9=\"\",\"\",VLOOKUP($N9,'Reference Passenger Transport'!$C:$O,BM$4,FALSE))","v":""},null,"","","","","","","","",null,"",null,"","",null,""]
[null,null,null,null,null,null,null,null,null,null,null,null,null,null,null,null,null,{"$f":"INDEX('Dropdown menus'!$A$1:$D$6,MATCH($E10,'Dropdown menus'!$A$1:$A$6,0),$R$6)","v":{"$error":"#N/A"}},null,{"$f":"IF($F10=\"\",\"\",VLOOKUP($F10,'Reference Data - Transport fuel'!$C:$O,T$4,FALSE))","v":""},{"$f":"IF($F10=\"\",\"\",VLOOKUP($F10,'Reference Data - Transport fuel'!$C:$O,U$4,FALSE))","v":""},{"$f":"IF($F10=\"\",\"\",VLOOKUP($F10,'Reference Data - Transport fuel'!$C:$O,V$4,FALSE))","v":""},{"$f":"IF($F10=\"\",\"\",VLOOKUP($F10,'Reference Data - Transport fuel'!$C:$O,W$4,FALSE))","v":""},{"$f":"IF($F10=\"\",\"\",VLOOKUP($F10,'Reference Data - Transport fuel'!$C:$O,X$4,FALSE))","v":""},{"$f":"IF($F10=\"\",\"\",VLOOKUP($F10,'Reference Data - Transport fuel'!$C:$O,Y$4,FALSE))","v":""},{"$f":"IF($F10=\"\",\"\",VLOOKUP($F10,'Reference Data - Transport fuel'!$C:$O,Z$4,FALSE))","v":""},{"$f":"IF($F10=\"\",\"\",VLOOKUP($F10,'Reference Data - Transport fuel'!$C:$O,AA$4,FALSE))","v":""},{"$f":"IF($F10=\"\",\"\",VLOOKUP($F10,'Reference Data - Transport fuel'!$C:$O,AB$4,FALSE))","v":""},null,{"$f":"IF($F10=\"\",\"\",VLOOKUP($F10,'Reference Data - Transport fuel'!$C:$O,AD$4,FALSE))","v":""},null,{"$f":"IF($F10=\"\",\"\",VLOOKUP($F10,'Reference Data - Transport fuel'!$C:$O,AF$4,FALSE))","v":""},null,"","","","","","","","",null,"",null,"","",null,"",null,null,{"$f":"INDEX('Dropdown menus'!$A$1:$D$6,MATCH($M10,'Dropdown menus'!$A$1:$A$6,0),$AY$6)","v":{"$error":"#N/A"}},null,{"$f":"IF($N10=\"\",\"\",VLOOKUP($N10,'Reference Passenger Transport'!$C:$O,BA$4,FALSE))","v":""},{"$f":"IF($N10=\"\",\"\",VLOOKUP($N10,'Reference Passenger Transport'!$C:$O,BB$4,FALSE))","v":""},{"$f":"IF($N10=\"\",\"\",VLOOKUP($N10,'Reference Passenger Transport'!$C:$O,BC$4,FALSE))","v":""},{"$f":"IF($N10=\"\",\"\",VLOOKUP($N10,'Reference Passenger Transport'!$C:$O,BD$4,FALSE))","v":""},{"$f":"IF($N10=\"\",\"\",VLOOKUP($N10,'Reference Passenger Transport'!$C:$O,BE$4,FALSE))","v":""},{"$f":"IF($N10=\"\",\"\",VLOOKUP($N10,'Reference Passenger Transport'!$C:$O,BF$4,FALSE))","v":""},{"$f":"IF($N10=\"\",\"\",VLOOKUP($N10,'Reference Passenger Transport'!$C:$O,BG$4,FALSE))","v":""},{"$f":"IF($N10=\"\",\"\",VLOOKUP($N10,'Reference Passenger Transport'!$C:$O,BH$4,FALSE))","v":""},{"$f":"IF($N10=\"\",\"\",VLOOKUP($N10,'Reference Passenger Transport'!$C:$O,BI$4,FALSE))","v":""},{"$f":"IF($N10=\"\",\"\",VLOOKUP($N10,'Reference Passenger Transport'!$C:$O,BJ$4,FALSE))","v":""},{"$f":"IF($N10=\"\",\"\",VLOOKUP($N10,'Reference Passenger Transport'!$C:$O,BK$4,FALSE))","v":""},{"$f":"IF($N10=\"\",\"\",VLOOKUP($N10,'Reference Passenger Transport'!$C:$O,BL$4,FALSE))","v":""},{"$f":"IF($N10=\"\",\"\",VLOOKUP($N10,'Reference Passenger Transport'!$C:$O,BM$4,FALSE))","v":""},null,"","","","","","","","",null,"",null,"","",null,""]
[null,null,null,null,null,null,null,null,null,null,null,null,null,null,null,null,null,{"$f":"INDEX('Dropdown menus'!$A$1:$D$6,MATCH($E11,'Dropdown menus'!$A$1:$A$6,0),$R$6)","v":{"$error":"#N/A"}},null,{"$f":"IF($F11=\"\",\"\",VLOOKUP($F11,'Reference Data - Transport fuel'!$C:$O,T$4,FALSE))","v":""},{"$f":"IF($F11=\"\",\"\",VLOOKUP($F11,'Reference Data - Transport fuel'!$C:$O,U$4,FALSE))","v":""},{"$f":"IF($F11=\"\",\"\",VLOOKUP($F11,'Reference Data - Transport fuel'!$C:$O,V$4,FALSE))","v":""},{"$f":"IF($F11=\"\",\"\",VLOOKUP($F11,'Reference Data - Transport fuel'!$C:$O,W$4,FALSE))","v":""},{"$f":"IF($F11=\"\",\"\",VLOOKUP($F11,'Reference Data - Transport fuel'!$C:$O,X$4,FALSE))","v":""},{"$f":"IF($F11=\"\",\"\",VLOOKUP($F11,'Reference Data - Transport fuel'!$C:$O,Y$4,FALSE))","v":""},{"$f":"IF($F11=\"\",\"\",VLOOKUP($F11,'Reference Data - Transport fuel'!$C:$O,Z$4,FALSE))","v":""},{"$f":"IF($F11=\"\",\"\",VLOOKUP($F11,'Reference Data - Transport fuel'!$C:$O,AA$4,FALSE))","v":""},{"$f":"IF($F11=\"\",\"\",VLOOKUP($F11,'Reference Data - Transport fuel'!$C:$O,AB$4,FALSE))","v":""},null,{"$f":"IF($F11=\"\",\"\",VLOOKUP($F11,'Reference Data - Transport fuel'!$C:$O,AD$4,FALSE))","v":""},null,{"$f":"IF($F11=\"\",\"\",VLOOKUP($F11,'Reference Data - Transport fuel'!$C:$O,AF$4,FALSE))","v":""},null,"","","","","","","","",null,"",null,"","",null,"",null,null,{"$f":"INDEX('Dropdown menus'!$A$1:$D$6,MATCH($M11,'Dropdown menus'!$A$1:$A$6,0),$AY$6)","v":{"$error":"#N/A"}},null,{"$f":"IF($N11=\"\",\"\",VLOOKUP($N11,'Reference Passenger Transport'!$C:$O,BA$4,FALSE))","v":""},{"$f":"IF($N11=\"\",\"\",VLOOKUP($N11,'Reference Passenger Transport'!$C:$O,BB$4,FALSE))","v":""},{"$f":"IF($N11=\"\",\"\",VLOOKUP($N11,'Reference Passenger Transport'!$C:$O,BC$4,FALSE))","v":""},{"$f":"IF($N11=\"\",\"\",VLOOKUP($N11,'Reference Passenger Transport'!$C:$O,BD$4,FALSE))","v":""},{"$f":"IF($N11=\"\",\"\",VLOOKUP($N11,'Reference Passenger Transport'!$C:$O,BE$4,FALSE))","v":""},{"$f":"IF($N11=\"\",\"\",VLOOKUP($N11,'Reference Passenger Transport'!$C:$O,BF$4,FALSE))","v":""},{"$f":"IF($N11=\"\",\"\",VLOOKUP($N11,'Reference Passenger Transport'!$C:$O,BG$4,FALSE))","v":""},{"$f":"IF($N11=\"\",\"\",VLOOKUP($N11,'Reference Passenger Transport'!$C:$O,BH$4,FALSE))","v":""},{"$f":"IF($N11=\"\",\"\",VLOOKUP($N11,'Reference Passenger Transport'!$C:$O,BI$4,FALSE))","v":""},{"$f":"IF($N11=\"\",\"\",VLOOKUP($N11,'Reference Passenger Transport'!$C:$O,BJ$4,FALSE))","v":""},{"$f":"IF($N11=\"\",\"\",VLOOKUP($N11,'Reference Passenger Transport'!$C:$O,BK$4,FALSE))","v":""},{"$f":"IF($N11=\"\",\"\",VLOOKUP($N11,'Reference Passenger Transport'!$C:$O,BL$4,FALSE))","v":""},{"$f":"IF($N11=\"\",\"\",VLOOKUP($N11,'Reference Passenger Transport'!$C:$O,BM$4,FALSE))","v":""},null,"","","","","","","","",null,"",null,"","",null,""]
[null,null,null,null,null,null,null,null,null,null,null,null,null,null,null,null,null,{"$f":"INDEX('Dropdown menus'!$A$1:$D$6,MATCH($E12,'Dropdown menus'!$A$1:$A$6,0),$R$6)","v":{"$error":"#N/A"}},null,{"$f":"IF($F12=\"\",\"\",VLOOKUP($F12,'Reference Data - Transport fuel'!$C:$O,T$4,FALSE))","v":""},{"$f":"IF($F12=\"\",\"\",VLOOKUP($F12,'Reference Data - Transport fuel'!$C:$O,U$4,FALSE))","v":""},{"$f":"IF($F12=\"\",\"\",VLOOKUP($F12,'Reference Data - Transport fuel'!$C:$O,V$4,FALSE))","v":""},{"$f":"IF($F12=\"\",\"\",VLOOKUP($F12,'Reference Data - Transport fuel'!$C:$O,W$4,FALSE))","v":""},{"$f":"IF($F12=\"\",\"\",VLOOKUP($F12,'Reference Data - Transport fuel'!$C:$O,X$4,FALSE))","v":""},{"$f":"IF($F12=\"\",\"\",VLOOKUP($F12,'Reference Data - Transport fuel'!$C:$O,Y$4,FALSE))","v":""},{"$f":"IF($F12=\"\",\"\",VLOOKUP($F12,'Reference Data - Transport fuel'!$C:$O,Z$4,FALSE))","v":""},{"$f":"IF($F12=\"\",\"\",VLOOKUP($F12,'Reference Data - Transport fuel'!$C:$O,AA$4,FALSE))","v":""},{"$f":"IF($F12=\"\",\"\",VLOOKUP($F12,'Reference Data - Transport fuel'!$C:$O,AB$4,FALSE))","v":""},null,{"$f":"IF($F12=\"\",\"\",VLOOKUP($F12,'Reference Data - Transport fuel'!$C:$O,AD$4,FALSE))","v":""},null,{"$f":"IF($F12=\"\",\"\",VLOOKUP($F12,'Reference Data - Transport fuel'!$C:$O,AF$4,FALSE))","v":""},null,"","","","","","","","",null,"",null,"","",null,"",null,null,{"$f":"INDEX('Dropdown menus'!$A$1:$D$6,MATCH($M12,'Dropdown menus'!$A$1:$A$6,0),$AY$6)","v":{"$error":"#N/A"}},null,{"$f":"IF($N12=\"\",\"\",VLOOKUP($N12,'Reference Passenger Transport'!$C:$O,BA$4,FALSE))","v":""},{"$f":"IF($N12=\"\",\"\",VLOOKUP($N12,'Reference Passenger Transport'!$C:$O,BB$4,FALSE))","v":""},{"$f":"IF($N12=\"\",\"\",VLOOKUP($N12,'Reference Passenger Transport'!$C:$O,BC$4,FALSE))","v":""},{"$f":"IF($N12=\"\",\"\",VLOOKUP($N12,'Reference Passenger Transport'!$C:$O,BD$4,FALSE))","v":""},{"$f":"IF($N12=\"\",\"\",VLOOKUP($N12,'Reference Passenger Transport'!$C:$O,BE$4,FALSE))","v":""},{"$f":"IF($N12=\"\",\"\",VLOOKUP($N12,'Reference Passenger Transport'!$C:$O,BF$4,FALSE))","v":""},{"$f":"IF($N12=\"\",\"\",VLOOKUP($N12,'Reference Passenger Transport'!$C:$O,BG$4,FALSE))","v":""},{"$f":"IF($N12=\"\",\"\",VLOOKUP($N12,'Reference Passenger Transport'!$C:$O,BH$4,FALSE))","v":""},{"$f":"IF($N12=\"\",\"\",VLOOKUP($N12,'Reference Passenger Transport'!$C:$O,BI$4,FALSE))","v":""},{"$f":"IF($N12=\"\",\"\",VLOOKUP($N12,'Reference Passenger Transport'!$C:$O,BJ$4,FALSE))","v":""},{"$f":"IF($N12=\"\",\"\",VLOOKUP($N12,'Reference Passenger Transport'!$C:$O,BK$4,FALSE))","v":""},{"$f":"IF($N12=\"\",\"\",VLOOKUP($N12,'Reference Passenger Transport'!$C:$O,BL$4,FALSE))","v":""},{"$f":"IF($N12=\"\",\"\",VLOOKUP($N12,'Reference Passenger Transport'!$C:$O,BM$4,FALSE))","v":""},null,"","","","","","","","",null,"",null,"","",null,""]
[null,null,null,null,null,null,null,null,null,null,null,null,null,null,null,null,null,{"$f":"INDEX('Dropdown menus'!$A$1:$D$6,MATCH($E13,'Dropdown menus'!$A$1:$A$6,0),$R$6)","v":{"$error":"#N/A"}},null,{"$f":"IF($F13=\"\",\"\",VLOOKUP($F13,'Reference Data - Transport fuel'!$C:$O,T$4,FALSE))","v":""},{"$f":"IF($F13=\"\",\"\",VLOOKUP($F13,'Reference Data - Transport fuel'!$C:$O,U$4,FALSE))","v":""},{"$f":"IF($F13=\"\",\"\",VLOOKUP($F13,'Reference Data - Transport fuel'!$C:$O,V$4,FALSE))","v":""},{"$f":"IF($F13=\"\",\"\",VLOOKUP($F13,'Reference Data - Transport fuel'!$C:$O,W$4,FALSE))","v":""},{"$f":"IF($F13=\"\",\"\",VLOOKUP($F13,'Reference Data - Transport fuel'!$C:$O,X$4,FALSE))","v":""},{"$f":"IF($F13=\"\",\"\",VLOOKUP($F13,'Reference Data - Transport fuel'!$C:$O,Y$4,FALSE))","v":""},{"$f":"IF($F13=\"\",\"\",VLOOKUP($F13,'Reference Data - Transport fuel'!$C:$O,Z$4,FALSE))","v":""},{"$f":"IF($F13=\"\",\"\",VLOOKUP($F13,'Reference Data - Transport fuel'!$C:$O,AA$4,FALSE))","v":""},{"$f":"IF($F13=\"\",\"\",VLOOKUP($F13,'Reference Data - Transport fuel'!$C:$O,AB$4,FALSE))","v":""},null,{"$f":"IF($F13=\"\",\"\",VLOOKUP($F13,'Reference Data - Transport fuel'!$C:$O,AD$4,FALSE))","v":""},null,{"$f":"IF($F13=\"\",\"\",VLOOKUP($F13,'Reference Data - Transport fuel'!$C:$O,AF$4,FALSE))","v":""},null,"","","","","","","","",null,"",null,"","",null,"",null,null,{"$f":"INDEX('Dropdown menus'!$A$1:$D$6,MATCH($M13,'Dropdown menus'!$A$1:$A$6,0),$AY$6)","v":{"$error":"#N/A"}},null,{"$f":"IF($N13=\"\",\"\",VLOOKUP($N13,'Reference Passenger Transport'!$C:$O,BA$4,FALSE))","v":""},{"$f":"IF($N13=\"\",\"\",VLOOKUP($N13,'Reference Passenger Transport'!$C:$O,BB$4,FALSE))","v":""},{"$f":"IF($N13=\"\",\"\",VLOOKUP($N13,'Reference Passenger Transport'!$C:$O,BC$4,FALSE))","v":""},{"$f":"IF($N13=\"\",\"\",VLOOKUP($N13,'Reference Passenger Transport'!$C:$O,BD$4,FALSE))","v":""},{"$f":"IF($N13=\"\",\"\",VLOOKUP($N13,'Reference Passenger Transport'!$C:$O,BE$4,FALSE))","v":""},{"$f":"IF($N13=\"\",\"\",VLOOKUP($N13,'Reference Passenger Transport'!$C:$O,BF$4,FALSE))","v":""},{"$f":"IF($N13=\"\",\"\",VLOOKUP($N13,'Reference Passenger Transport'!$C:$O,BG$4,FALSE))","v":""},{"$f":"IF($N13=\"\",\"\",VLOOKUP($N13,'Reference Passenger Transport'!$C:$O,BH$4,FALSE))","v":""},{"$f":"IF($N13=\"\",\"\",VLOOKUP($N13,'Reference Passenger Transport'!$C:$O,BI$4,FALSE))","v":""},{"$f":"IF($N13=\"\",\"\",VLOOKUP($N13,'Reference Passenger Transport'!$C:$O,BJ$4,FALSE))","v":""},{"$f":"IF($N13=\"\",\"\",VLOOKUP($N13,'Reference Passenger Transport'!$C:$O,BK$4,FALSE))","v":""},{"$f":"IF($N13=\"\",\"\",VLOOKUP($N13,'Reference Passenger Transport'!$C:$O,BL$4,FALSE))","v":""},{"$f":"IF($N13=\"\",\"\",VLOOKUP($N13,'Reference Passenger Transport'!$C:$O,BM$4,FALSE))","v":""},null,"","","","","","","","",null,"",null,"","",null,""]
[null,null,null,null,null,null,null,null,null,null,null,null,null,null,null,null,null,{"$f":"INDEX('Dropdown menus'!$A$1:$D$6,MATCH($E14,'Dropdown menus'!$A$1:$A$6,0),$R$6)","v":{"$error":"#N/A"}},null,{"$f":"IF($F14=\"\",\"\",VLOOKUP($F14,'Reference Data - Transport fuel'!$C:$O,T$4,FALSE))","v":""},{"$f":"IF($F14=\"\",\"\",VLOOKUP($F14,'Reference Data - Transport fuel'!$C:$O,U$4,FALSE))","v":""},{"$f":"IF($F14=\"\",\"\",VLOOKUP($F14,'Reference Data - Transport fuel'!$C:$O,V$4,FALSE))","v":""},{"$f":"IF($F14=\"\",\"\",VLOOKUP($F14,'Reference Data - Transport fuel'!$C:$O,W$4,FALSE))","v":""},{"$f":"IF($F14=\"\",\"\",VLOOKUP($F14,'Reference Data - Transport fuel'!$C:$O,X$4,FALSE))","v":""},{"$f":"IF($F14=\"\",\"\",VLOOKUP($F14,'Reference Data - Transport fuel'!$C:$O,Y$4,FALSE))","v":""},{"$f":"IF($F14=\"\",\"\",VLOOKUP($F14,'Reference Data - Transport fuel'!$C:$O,Z$4,FALSE))","v":""},{"$f":"IF($F14=\"\",\"\",VLOOKUP($F14,'Reference Data - Transport fuel'!$C:$O,AA$4,FALSE))","v":""},{"$f":"IF($F14=\"\",\"\",VLOOKUP($F14,'Reference Data - Transport fuel'!$C:$O,AB$4,FALSE))","v":""},null,{"$f":"IF($F14=\"\",\"\",VLOOKUP($F14,'Reference Data - Transport fuel'!$C:$O,AD$4,FALSE))","v":""},null,{"$f":"IF($F14=\"\",\"\",VLOOKUP($F14,'Reference Data - Transport fuel'!$C:$O,AF$4,FALSE))","v":""},null,"","","","","","","","",null,"",null,"","",null,"",null,null,{"$f":"INDEX('Dropdown menus'!$A$1:$D$6,MATCH($M14,'Dropdown menus'!$A$1:$A$6,0),$AY$6)","v":{"$error":"#N/A"}},null,{"$f":"IF($N14=\"\",\"\",VLOOKUP($N14,'Reference Passenger Transport'!$C:$O,BA$4,FALSE))","v":""},{"$f":"IF($N14=\"\",\"\",VLOOKUP($N14,'Reference Passenger Transport'!$C:$O,BB$4,FALSE))","v":""},{"$f":"IF($N14=\"\",\"\",VLOOKUP($N14,'Reference Passenger Transport'!$C:$O,BC$4,FALSE))","v":""},{"$f":"IF($N14=\"\",\"\",VLOOKUP($N14,'Reference Passenger Transport'!$C:$O,BD$4,FALSE))","v":""},{"$f":"IF($N14=\"\",\"\",VLOOKUP($N14,'Reference Passenger Transport'!$C:$O,BE$4,FALSE))","v":""},{"$f":"IF($N14=\"\",\"\",VLOOKUP($N14,'Reference Passenger Transport'!$C:$O,BF$4,FALSE))","v":""},{"$f":"IF($N14=\"\",\"\",VLOOKUP($N14,'Reference Passenger Transport'!$C:$O,BG$4,FALSE))","v":""},{"$f":"IF($N14=\"\",\"\",VLOOKUP($N14,'Reference Passenger Transport'!$C:$O,BH$4,FALSE))","v":""},{"$f":"IF($N14=\"\",\"\",VLOOKUP($N14,'Reference Passenger Transport'!$C:$O,BI$4,FALSE))","v":""},{"$f":"IF($N14=\"\",\"\",VLOOKUP($N14,'Reference Passenger Transport'!$C:$O,BJ$4,FALSE))","v":""},{"$f":"IF($N14=\"\",\"\",VLOOKUP($N14,'Reference Passenger Transport'!$C:$O,BK$4,FALSE))","v":""},{"$f":"IF($N14=\"\",\"\",VLOOKUP($N14,'Reference Passenger Transport'!$C:$O,BL$4,FALSE))","v":""},{"$f":"IF($N14=\"\",\"\",VLOOKUP($N14,'Reference Passenger Transport'!$C:$O,BM$4,FALSE))","v":""},null,"","","","","","","","",null,"",null,"","",null,""]
[null,null,null,null,null,null,null,null,null,null,null,null,null,null,null,null,null,{"$f":"INDEX('Dropdown menus'!$A$1:$D$6,MATCH($E15,'Dropdown menus'!$A$1:$A$6,0),$R$6)","v":{"$error":"#N/A"}},null,{"$f":"IF($F15=\"\",\"\",VLOOKUP($F15,'Reference Data - Transport fuel'!$C:$O,T$4,FALSE))","v":""},{"$f":"IF($F15=\"\",\"\",VLOOKUP($F15,'Reference Data - Transport fuel'!$C:$O,U$4,FALSE))","v":""},{"$f":"IF($F15=\"\",\"\",VLOOKUP($F15,'Reference Data - Transport fuel'!$C:$O,V$4,FALSE))","v":""},{"$f":"IF($F15=\"\",\"\",VLOOKUP($F15,'Reference Data - Transport fuel'!$C:$O,W$4,FALSE))","v":""},{"$f":"IF($F15=\"\",\"\",VLOOKUP($F15,'Reference Data - Transport fuel'!$C:$O,X$4,FALSE))","v":""},{"$f":"IF($F15=\"\",\"\",VLOOKUP($F15,'Reference Data - Transport fuel'!$C:$O,Y$4,FALSE))","v":""},{"$f":"IF($F15=\"\",\"\",VLOOKUP($F15,'Reference Data - Transport fuel'!$C:$O,Z$4,FALSE))","v":""},{"$f":"IF($F15=\"\",\"\",VLOOKUP($F15,'Reference Data - Transport fuel'!$C:$O,AA$4,FALSE))","v":""},{"$f":"IF($F15=\"\",\"\",VLOOKUP($F15,'Reference Data - Transport fuel'!$C:$O,AB$4,FALSE))","v":""},null,{"$f":"IF($F15=\"\",\"\",VLOOKUP($F15,'Reference Data - Transport fuel'!$C:$O,AD$4,FALSE))","v":""},null,{"$f":"IF($F15=\"\",\"\",VLOOKUP($F15,'Reference Data - Transport fuel'!$C:$O,AF$4,FALSE))","v":""},null,"","","","","","","","",null,"",null,"","",null,"",null,null,{"$f":"INDEX('Dropdown menus'!$A$1:$D$6,MATCH($M15,'Dropdown menus'!$A$1:$A$6,0),$AY$6)","v":{"$error":"#N/A"}},null,{"$f":"IF($N15=\"\",\"\",VLOOKUP($N15,'Reference Passenger Transport'!$C:$O,BA$4,FALSE))","v":""},{"$f":"IF($N15=\"\",\"\",VLOOKUP($N15,'Reference Passenger Transport'!$C:$O,BB$4,FALSE))","v":""},{"$f":"IF($N15=\"\",\"\",VLOOKUP($N15,'Reference Passenger Transport'!$C:$O,BC$4,FALSE))","v":""},{"$f":"IF($N15=\"\",\"\",VLOOKUP($N15,'Reference Passenger Transport'!$C:$O,BD$4,FALSE))","v":""},{"$f":"IF($N15=\"\",\"\",VLOOKUP($N15,'Reference Passenger Transport'!$C:$O,BE$4,FALSE))","v":""},{"$f":"IF($N15=\"\",\"\",VLOOKUP($N15,'Reference Passenger Transport'!$C:$O,BF$4,FALSE))","v":""},{"$f":"IF($N15=\"\",\"\",VLOOKUP($N15,'Reference Passenger Transport'!$C:$O,BG$4,FALSE))","v":""},{"$f":"IF($N15=\"\",\"\",VLOOKUP($N15,'Reference Passenger Transport'!$C:$O,BH$4,FALSE))","v":""},{"$f":"IF($N15=\"\",\"\",VLOOKUP($N15,'Reference Passenger Transport'!$C:$O,BI$4,FALSE))","v":""},{"$f":"IF($N15=\"\",\"\",VLOOKUP($N15,'Reference Passenger Transport'!$C:$O,BJ$4,FALSE))","v":""},{"$f":"IF($N15=\"\",\"\",VLOOKUP($N15,'Reference Passenger Transport'!$C:$O,BK$4,FALSE))","v":""},{"$f":"IF($N15=\"\",\"\",VLOOKUP($N15,'Reference Passenger Transport'!$C:$O,BL$4,FALSE))","v":""},{"$f":"IF($N15=\"\",\"\",VLOOKUP($N15,'Reference Passenger Transport'!$C:$O,BM$4,FALSE))","v":""},null,"","","","","","","","",null,"",null,"","",null,""]
[null,null,null,null,null,null,null,null,null,null,null,null,null,null,null,null,null,{"$f":"INDEX('Dropdown menus'!$A$1:$D$6,MATCH($E16,'Dropdown menus'!$A$1:$A$6,0),$R$6)","v":{"$error":"#N/A"}},null,{"$f":"IF($F16=\"\",\"\",VLOOKUP($F16,'Reference Data - Transport fuel'!$C:$O,T$4,FALSE))","v":""},{"$f":"IF($F16=\"\",\"\",VLOOKUP($F16,'Reference Data - Transport fuel'!$C:$O,U$4,FALSE))","v":""},{"$f":"IF($F16=\"\",\"\",VLOOKUP($F16,'Reference Data - Transport fuel'!$C:$O,V$4,FALSE))","v":""},{"$f":"IF($F16=\"\",\"\",VLOOKUP($F16,'Reference Data - Transport fuel'!$C:$O,W$4,FALSE))","v":""},{"$f":"IF($F16=\"\",\"\",VLOOKUP($F16,'Reference Data - Transport fuel'!$C:$O,X$4,FALSE))","v":""},{"$f":"IF($F16=\"\",\"\",VLOOKUP($F16,'Reference Data - Transport fuel'!$C:$O,Y$4,FALSE))","v":""},{"$f":"IF($F16=\"\",\"\",VLOOKUP($F16,'Reference Data - Transport fuel'!$C:$O,Z$4,FALSE))","v":""},{"$f":"IF($F16=\"\",\"\",VLOOKUP($F16,'Reference Data - Transport fuel'!$C:$O,AA$4,FALSE))","v":""},{"$f":"IF($F16=\"\",\"\",VLOOKUP($F16,'Reference Data - Transport fuel'!$C:$O,AB$4,FALSE))","v":""},null,{"$f":"IF($F16=\"\",\"\",VLOOKUP($F16,'Reference Data - Transport fuel'!$C:$O,AD$4,FALSE))","v":""},null,{"$f":"IF($F16=\"\",\"\",VLOOKUP($F16,'Reference Data - Transport fuel'!$C:$O,AF$4,FALSE))","v":""},null,"","","","","","","","",null,"",null,"","",null,"",null,null,{"$f":"INDEX('Dropdown menus'!$A$1:$D$6,MATCH($M16,'Dropdown menus'!$A$1:$A$6,0),$AY$6)","v":{"$error":"#N/A"}},null,{"$f":"IF($N16=\"\",\"\",VLOOKUP($N16,'Reference Passenger Transport'!$C:$O,BA$4,FALSE))","v":""},{"$f":"IF($N16=\"\",\"\",VLOOKUP($N16,'Reference Passenger Transport'!$C:$O,BB$4,FALSE))","v":""},{"$f":"IF($N16=\"\",\"\",VLOOKUP($N16,'Reference Passenger Transport'!$C:$O,BC$4,FALSE))","v":""},{"$f":"IF($N16=\"\",\"\",VLOOKUP($N16,'Reference Passenger Transport'!$C:$O,BD$4,FALSE))","v":""},{"$f":"IF($N16=\"\",\"\",VLOOKUP($N16,'Reference Passenger Transport'!$C:$O,BE$4,FALSE))","v":""},{"$f":"IF($N16=\"\",\"\",VLOOKUP($N16,'Reference Passenger Transport'!$C:$O,BF$4,FALSE))","v":""},{"$f":"IF($N16=\"\",\"\",VLOOKUP($N16,'Reference Passenger Transport'!$C:$O,BG$4,FALSE))","v":""},{"$f":"IF($N16=\"\",\"\",VLOOKUP($N16,'Reference Passenger Transport'!$C:$O,BH$4,FALSE))","v":""},{"$f":"IF($N16=\"\",\"\",VLOOKUP($N16,'Reference Passenger Transport'!$C:$O,BI$4,FALSE))","v":""},{"$f":"IF($N16=\"\",\"\",VLOOKUP($N16,'Reference Passenger Transport'!$C:$O,BJ$4,FALSE))","v":""},{"$f":"IF($N16=\"\",\"\",VLOOKUP($N16,'Reference Passenger Transport'!$C:$O,BK$4,FALSE))","v":""},{"$f":"IF($N16=\"\",\"\",VLOOKUP($N16,'Reference Passenger Transport'!$C:$O,BL$4,FALSE))","v":""},{"$f":"IF($N16=\"\",\"\",VLOOKUP($N16,'Reference Passenger Transport'!$C:$O,BM$4,FALSE))","v":""},null,"","","","","","","","",null,"",null,"","",null,""]
[null,null,null,null,null,null,null,null,null,null,null,null,null,null,null,null,null,{"$f":"INDEX('Dropdown menus'!$A$1:$D$6,MATCH($E17,'Dropdown menus'!$A$1:$A$6,0),$R$6)","v":{"$error":"#N/A"}},null,{"$f":"IF($F17=\"\",\"\",VLOOKUP($F17,'Reference Data - Transport fuel'!$C:$O,T$4,FALSE))","v":""},{"$f":"IF($F17=\"\",\"\",VLOOKUP($F17,'Reference Data - Transport fuel'!$C:$O,U$4,FALSE))","v":""},{"$f":"IF($F17=\"\",\"\",VLOOKUP($F17,'Reference Data - Transport fuel'!$C:$O,V$4,FALSE))","v":""},{"$f":"IF($F17=\"\",\"\",VLOOKUP($F17,'Reference Data - Transport fuel'!$C:$O,W$4,FALSE))","v":""},{"$f":"IF($F17=\"\",\"\",VLOOKUP($F17,'Reference Data - Transport fuel'!$C:$O,X$4,FALSE))","v":""},{"$f":"IF($F17=\"\",\"\",VLOOKUP($F17,'Reference Data - Transport fuel'!$C:$O,Y$4,FALSE))","v":""},{"$f":"IF($F17=\"\",\"\",VLOOKUP($F17,'Reference Data - Transport fuel'!$C:$O,Z$4,FALSE))","v":""},{"$f":"IF($F17=\"\",\"\",VLOOKUP($F17,'Reference Data - Transport fuel'!$C:$O,AA$4,FALSE))","v":""},{"$f":"IF($F17=\"\",\"\",VLOOKUP($F17,'Reference Data - Transport fuel'!$C:$O,AB$4,FALSE))","v":""},null,{"$f":"IF($F17=\"\",\"\",VLOOKUP($F17,'Reference Data - Transport fuel'!$C:$O,AD$4,FALSE))","v":""},null,{"$f":"IF($F17=\"\",\"\",VLOOKUP($F17,'Reference Data - Transport fuel'!$C:$O,AF$4,FALSE))","v":""},null,"","","","","","","","",null,"",null,"","",null,"",null,null,{"$f":"INDEX('Dropdown menus'!$A$1:$D$6,MATCH($M17,'Dropdown menus'!$A$1:$A$6,0),$AY$6)","v":{"$error":"#N/A"}},null,{"$f":"IF($N17=\"\",\"\",VLOOKUP($N17,'Reference Passenger Transport'!$C:$O,BA$4,FALSE))","v":""},{"$f":"IF($N17=\"\",\"\",VLOOKUP($N17,'Reference Passenger Transport'!$C:$O,BB$4,FALSE))","v":""},{"$f":"IF($N17=\"\",\"\",VLOOKUP($N17,'Reference Passenger Transport'!$C:$O,BC$4,FALSE))","v":""},{"$f":"IF($N17=\"\",\"\",VLOOKUP($N17,'Reference Passenger Transport'!$C:$O,BD$4,FALSE))","v":""},{"$f":"IF($N17=\"\",\"\",VLOOKUP($N17,'Reference Passenger Transport'!$C:$O,BE$4,FALSE))","v":""},{"$f":"IF($N17=\"\",\"\",VLOOKUP($N17,'Reference Passenger Transport'!$C:$O,BF$4,FALSE))","v":""},{"$f":"IF($N17=\"\",\"\",VLOOKUP($N17,'Reference Passenger Transport'!$C:$O,BG$4,FALSE))","v":""},{"$f":"IF($N17=\"\",\"\",VLOOKUP($N17,'Reference Passenger Transport'!$C:$O,BH$4,FALSE))","v":""},{"$f":"IF($N17=\"\",\"\",VLOOKUP($N17,'Reference Passenger Transport'!$C:$O,BI$4,FALSE))","v":""},{"$f":"IF($N17=\"\",\"\",VLOOKUP($N17,'Reference Passenger Transport'!$C:$O,BJ$4,FALSE))","v":""},{"$f":"IF($N17=\"\",\"\",VLOOKUP($N17,'Reference Passenger Transport'!$C:$O,BK$4,FALSE))","v":""},{"$f":"IF($N17=\"\",\"\",VLOOKUP($N17,'Reference Passenger Transport'!$C:$O,BL$4,FALSE))","v":""},{"$f":"IF($N17=\"\",\"\",VLOOKUP($N17,'Reference Passenger Transport'!$C:$O,BM$4,FALSE))","v":""},null,"","","","","","","","",null,"",null,"","",null,""]
[null,null,null,null,null,null,null,null,null,null,null,null,null,null,null,null,null,{"$f":"INDEX('Dropdown menus'!$A$1:$D$6,MATCH($E18,'Dropdown menus'!$A$1:$A$6,0),$R$6)","v":{"$error":"#N/A"}},null,{"$f":"IF($F18=\"\",\"\",VLOOKUP($F18,'Reference Data - Transport fuel'!$C:$O,T$4,FALSE))","v":""},{"$f":"IF($F18=\"\",\"\",VLOOKUP($F18,'Reference Data - Transport fuel'!$C:$O,U$4,FALSE))","v":""},{"$f":"IF($F18=\"\",\"\",VLOOKUP($F18,'Reference Data - Transport fuel'!$C:$O,V$4,FALSE))","v":""},{"$f":"IF($F18=\"\",\"\",VLOOKUP($F18,'Reference Data - Transport fuel'!$C:$O,W$4,FALSE))","v":""},{"$f":"IF($F18=\"\",\"\",VLOOKUP($F18,'Reference Data - Transport fuel'!$C:$O,X$4,FALSE))","v":""},{"$f":"IF($F18=\"\",\"\",VLOOKUP($F18,'Reference Data - Transport fuel'!$C:$O,Y$4,FALSE))","v":""},{"$f":"IF($F18=\"\",\"\",VLOOKUP($F18,'Reference Data - Transport fuel'!$C:$O,Z$4,FALSE))","v":""},{"$f":"IF($F18=\"\",\"\",VLOOKUP($F18,'Reference Data - Transport fuel'!$C:$O,AA$4,FALSE))","v":""},{"$f":"IF($F18=\"\",\"\",VLOOKUP($F18,'Reference Data - Transport fuel'!$C:$O,AB$4,FALSE))","v":""},null,{"$f":"IF($F18=\"\",\"\",VLOOKUP($F18,'Reference Data - Transport fuel'!$C:$O,AD$4,FALSE))","v":""},null,{"$f":"IF($F18=\"\",\"\",VLOOKUP($F18,'Reference Data - Transport fuel'!$C:$O,AF$4,FALSE))","v":""},null,"","","","","","","","",null,"",null,"","",null,"",null,null,{"$f":"INDEX('Dropdown menus'!$A$1:$D$6,MATCH($M18,'Dropdown menus'!$A$1:$A$6,0),$AY$6)","v":{"$error":"#N/A"}},null,{"$f":"IF($N18=\"\",\"\",VLOOKUP($N18,'Reference Passenger Transport'!$C:$O,BA$4,FALSE))","v":""},{"$f":"IF($N18=\"\",\"\",VLOOKUP($N18,'Reference Passenger Transport'!$C:$O,BB$4,FALSE))","v":""},{"$f":"IF($N18=\"\",\"\",VLOOKUP($N18,'Reference Passenger Transport'!$C:$O,BC$4,FALSE))","v":""},{"$f":"IF($N18=\"\",\"\",VLOOKUP($N18,'Reference Passenger Transport'!$C:$O,BD$4,FALSE))","v":""},{"$f":"IF($N18=\"\",\"\",VLOOKUP($N18,'Reference Passenger Transport'!$C:$O,BE$4,FALSE))","v":""},{"$f":"IF($N18=\"\",\"\",VLOOKUP($N18,'Reference Passenger Transport'!$C:$O,BF$4,FALSE))","v":""},{"$f":"IF($N18=\"\",\"\",VLOOKUP($N18,'Reference Passenger Transport'!$C:$O,BG$4,FALSE))","v":""},{"$f":"IF($N18=\"\",\"\",VLOOKUP($N18,'Reference Passenger Transport'!$C:$O,BH$4,FALSE))","v":""},{"$f":"IF($N18=\"\",\"\",VLOOKUP($N18,'Reference Passenger Transport'!$C:$O,BI$4,FALSE))","v":""},{"$f":"IF($N18=\"\",\"\",VLOOKUP($N18,'Reference Passenger Transport'!$C:$O,BJ$4,FALSE))","v":""},{"$f":"IF($N18=\"\",\"\",VLOOKUP($N18,'Reference Passenger Transport'!$C:$O,BK$4,FALSE))","v":""},{"$f":"IF($N18=\"\",\"\",VLOOKUP($N18,'Reference Passenger Transport'!$C:$O,BL$4,FALSE))","v":""},{"$f":"IF($N18=\"\",\"\",VLOOKUP($N18,'Reference Passenger Transport'!$C:$O,BM$4,FALSE))","v":""},null,"","","","","","","","",null,"",null,"","",null,""]
[null,null,null,null,null,null,null,null,null,null,null,null,null,null,null,null,null,{"$f":"INDEX('Dropdown menus'!$A$1:$D$6,MATCH($E19,'Dropdown menus'!$A$1:$A$6,0),$R$6)","v":{"$error":"#N/A"}},null,{"$f":"IF($F19=\"\",\"\",VLOOKUP($F19,'Reference Data - Transport fuel'!$C:$O,T$4,FALSE))","v":""},{"$f":"IF($F19=\"\",\"\",VLOOKUP($F19,'Reference Data - Transport fuel'!$C:$O,U$4,FALSE))","v":""},{"$f":"IF($F19=\"\",\"\",VLOOKUP($F19,'Reference Data - Transport fuel'!$C:$O,V$4,FALSE))","v":""},{"$f":"IF($F19=\"\",\"\",VLOOKUP($F19,'Reference Data - Transport fuel'!$C:$O,W$4,FALSE))","v":""},{"$f":"IF($F19=\"\",\"\",VLOOKUP($F19,'Reference Data - Transport fuel'!$C:$O,X$4,FALSE))","v":""},{"$f":"IF($F19=\"\",\"\",VLOOKUP($F19,'Reference Data - Transport fuel'!$C:$O,Y$4,FALSE))","v":""},{"$f":"IF($F19=\"\",\"\",VLOOKUP($F19,'Reference Data - Transport fuel'!$C:$O,Z$4,FALSE))","v":""},{"$f":"IF($F19=\"\",\"\",VLOOKUP($F19,'Reference Data - Transport fuel'!$C:$O,AA$4,FALSE))","v":""},{"$f":"IF($F19=\"\",\"\",VLOOKUP($F19,'Reference Data - Transport fuel'!$C:$O,AB$4,FALSE))","v":""},null,{"$f":"IF($F19=\"\",\"\",VLOOKUP($F19,'Reference Data - Transport fuel'!$C:$O,AD$4,FALSE))","v":""},null,{"$f":"IF($F19=\"\",\"\",VLOOKUP($F19,'Reference Data - Transport fuel'!$C:$O,AF$4,FALSE))","v":""},null,"","","","","","","","",null,"",null,"","",null,"",null,null,{"$f":"INDEX('Dropdown menus'!$A$1:$D$6,MATCH($M19,'Dropdown menus'!$A$1:$A$6,0),$AY$6)","v":{"$error":"#N/A"}},null,{"$f":"IF($N19=\"\",\"\",VLOOKUP($N19,'Reference Passenger Transport'!$C:$O,BA$4,FALSE))","v":""},{"$f":"IF($N19=\"\",\"\",VLOOKUP($N19,'Reference Passenger Transport'!$C:$O,BB$4,FALSE))","v":""},{"$f":"IF($N19=\"\",\"\",VLOOKUP($N19,'Reference Passenger Transport'!$C:$O,BC$4,FALSE))","v":""},{"$f":"IF($N19=\"\",\"\",VLOOKUP($N19,'Reference Passenger Transport'!$C:$O,BD$4,FALSE))","v":""},{"$f":"IF($N19=\"\",\"\",VLOOKUP($N19,'Reference Passenger Transport'!$C:$O,BE$4,FALSE))","v":""},{"$f":"IF($N19=\"\",\"\",VLOOKUP($N19,'Reference Passenger Transport'!$C:$O,BF$4,FALSE))","v":""},{"$f":"IF($N19=\"\",\"\",VLOOKUP($N19,'Reference Passenger Transport'!$C:$O,BG$4,FALSE))","v":""},{"$f":"IF($N19=\"\",\"\",VLOOKUP($N19,'Reference Passenger Transport'!$C:$O,BH$4,FALSE))","v":""},{"$f":"IF($N19=\"\",\"\",VLOOKUP($N19,'Reference Passenger Transport'!$C:$O,BI$4,FALSE))","v":""},{"$f":"IF($N19=\"\",\"\",VLOOKUP($N19,'Reference Passenger Transport'!$C:$O,BJ$4,FALSE))","v":""},{"$f":"IF($N19=\"\",\"\",VLOOKUP($N19,'Reference Passenger Transport'!$C:$O,BK$4,FALSE))","v":""},{"$f":"IF($N19=\"\",\"\",VLOOKUP($N19,'Reference Passenger Transport'!$C:$O,BL$4,FALSE))","v":""},{"$f":"IF($N19=\"\",\"\",VLOOKUP($N19,'Reference Passenger Transport'!$C:$O,BM$4,FALSE))","v":""},null,"","","","","","","","",null,"",null,"","",null,""]
[null,null,null,null,null,null,null,null,null,null,null,null,null,null,null,null,null,{"$f":"INDEX('Dropdown menus'!$A$1:$D$6,MATCH($E20,'Dropdown menus'!$A$1:$A$6,0),$R$6)","v":{"$error":"#N/A"}},null,{"$f":"IF($F20=\"\",\"\",VLOOKUP($F20,'Reference Data - Transport fuel'!$C:$O,T$4,FALSE))","v":""},{"$f":"IF($F20=\"\",\"\",VLOOKUP($F20,'Reference Data - Transport fuel'!$C:$O,U$4,FALSE))","v":""},{"$f":"IF($F20=\"\",\"\",VLOOKUP($F20,'Reference Data - Transport fuel'!$C:$O,V$4,FALSE))","v":""},{"$f":"IF($F20=\"\",\"\",VLOOKUP($F20,'Reference Data - Transport fuel'!$C:$O,W$4,FALSE))","v":""},{"$f":"IF($F20=\"\",\"\",VLOOKUP($F20,'Reference Data - Transport fuel'!$C:$O,X$4,FALSE))","v":""},{"$f":"IF($F20=\"\",\"\",VLOOKUP($F20,'Reference Data - Transport fuel'!$C:$O,Y$4,FALSE))","v":""},{"$f":"IF($F20=\"\",\"\",VLOOKUP($F20,'Reference Data - Transport fuel'!$C:$O,Z$4,FALSE))","v":""},{"$f":"IF($F20=\"\",\"\",VLOOKUP($F20,'Reference Data - Transport fuel'!$C:$O,AA$4,FALSE))","v":""},{"$f":"IF($F20=\"\",\"\",VLOOKUP($F20,'Reference Data - Transport fuel'!$C:$O,AB$4,FALSE))","v":""},null,{"$f":"IF($F20=\"\",\"\",VLOOKUP($F20,'Reference Data - Transport fuel'!$C:$O,AD$4,FALSE))","v":""},null,{"$f":"IF($F20=\"\",\"\",VLOOKUP($F20,'Reference Data - Transport fuel'!$C:$O,AF$4,FALSE))","v":""},null,"","","","","","","","",null,"",null,"","",null,"",null,null,{"$f":"INDEX('Dropdown menus'!$A$1:$D$6,MATCH($M20,'Dropdown menus'!$A$1:$A$6,0),$AY$6)","v":{"$error":"#N/A"}},null,{"$f":"IF($N20=\"\",\"\",VLOOKUP($N20,'Reference Passenger Transport'!$C:$O,BA$4,FALSE))","v":""},{"$f":"IF($N20=\"\",\"\",VLOOKUP($N20,'Reference Passenger Transport'!$C:$O,BB$4,FALSE))","v":""},{"$f":"IF($N20=\"\",\"\",VLOOKUP($N20,'Reference Passenger Transport'!$C:$O,BC$4,FALSE))","v":""},{"$f":"IF($N20=\"\",\"\",VLOOKUP($N20,'Reference Passenger Transport'!$C:$O,BD$4,FALSE))","v":""},{"$f":"IF($N20=\"\",\"\",VLOOKUP($N20,'Reference Passenger Transport'!$C:$O,BE$4,FALSE))","v":""},{"$f":"IF($N20=\"\",\"\",VLOOKUP($N20,'Reference Passenger Transport'!$C:$O,BF$4,FALSE))","v":""},{"$f":"IF($N20=\"\",\"\",VLOOKUP($N20,'Reference Passenger Transport'!$C:$O,BG$4,FALSE))","v":""},{"$f":"IF($N20=\"\",\"\",VLOOKUP($N20,'Reference Passenger Transport'!$C:$O,BH$4,FALSE))","v":""},{"$f":"IF($N20=\"\",\"\",VLOOKUP($N20,'Reference Passenger Transport'!$C:$O,BI$4,FALSE))","v":""},{"$f":"IF($N20=\"\",\"\",VLOOKUP($N20,'Reference Passenger Transport'!$C:$O,BJ$4,FALSE))","v":""},{"$f":"IF($N20=\"\",\"\",VLOOKUP($N20,'Reference Passenger Transport'!$C:$O,BK$4,FALSE))","v":""},{"$f":"IF($N20=\"\",\"\",VLOOKUP($N20,'Reference Passenger Transport'!$C:$O,BL$4,FALSE))","v":""},{"$f":"IF($N20=\"\",\"\",VLOOKUP($N20,'Reference Passenger Transport'!$C:$O,BM$4,FALSE))","v":""},null,"","","","","","","","",null,"",null,"","",null,""]
[null,null,null,null,null,null,null,null,null,null,null,null,null,null,null,null,null,{"$f":"INDEX('Dropdown menus'!$A$1:$D$6,MATCH($E21,'Dropdown menus'!$A$1:$A$6,0),$R$6)","v":{"$error":"#N/A"}},null,{"$f":"IF($F21=\"\",\"\",VLOOKUP($F21,'Reference Data - Transport fuel'!$C:$O,T$4,FALSE))","v":""},{"$f":"IF($F21=\"\",\"\",VLOOKUP($F21,'Reference Data - Transport fuel'!$C:$O,U$4,FALSE))","v":""},{"$f":"IF($F21=\"\",\"\",VLOOKUP($F21,'Reference Data - Transport fuel'!$C:$O,V$4,FALSE))","v":""},{"$f":"IF($F21=\"\",\"\",VLOOKUP($F21,'Reference Data - Transport fuel'!$C:$O,W$4,FALSE))","v":""},{"$f":"IF($F21=\"\",\"\",VLOOKUP($F21,'Reference Data - Transport fuel'!$C:$O,X$4,FALSE))","v":""},{"$f":"IF($F21=\"\",\"\",VLOOKUP($F21,'Reference Data - Transport fuel'!$C:$O,Y$4,FALSE))","v":""},{"$f":"IF($F21=\"\",\"\",VLOOKUP($F21,'Reference Data - Transport fuel'!$C:$O,Z$4,FALSE))","v":""},{"$f":"IF($F21=\"\",\"\",VLOOKUP($F21,'Reference Data - Transport fuel'!$C:$O,AA$4,FALSE))","v":""},{"$f":"IF($F21=\"\",\"\",VLOOKUP($F21,'Reference Data - Transport fuel'!$C:$O,AB$4,FALSE))","v":""},null,{"$f":"IF($F21=\"\",\"\",VLOOKUP($F21,'Reference Data - Transport fuel'!$C:$O,AD$4,FALSE))","v":""},null,{"$f":"IF($F21=\"\",\"\",VLOOKUP($F21,'Reference Data - Transport fuel'!$C:$O,AF$4,FALSE))","v":""},null,"","","","","","","","",null,"",null,"","",null,"",null,null,{"$f":"INDEX('Dropdown menus'!$A$1:$D$6,MATCH($M21,'Dropdown menus'!$A$1:$A$6,0),$AY$6)","v":{"$error":"#N/A"}},null,{"$f":"IF($N21=\"\",\"\",VLOOKUP($N21,'Reference Passenger Transport'!$C:$O,BA$4,FALSE))","v":""},{"$f":"IF($N21=\"\",\"\",VLOOKUP($N21,'Reference Passenger Transport'!$C:$O,BB$4,FALSE))","v":""},{"$f":"IF($N21=\"\",\"\",VLOOKUP($N21,'Reference Passenger Transport'!$C:$O,BC$4,FALSE))","v":""},{"$f":"IF($N21=\"\",\"\",VLOOKUP($N21,'Reference Passenger Transport'!$C:$O,BD$4,FALSE))","v":""},{"$f":"IF($N21=\"\",\"\",VLOOKUP($N21,'Reference Passenger Transport'!$C:$O,BE$4,FALSE))","v":""},{"$f":"IF($N21=\"\",\"\",VLOOKUP($N21,'Reference Passenger Transport'!$C:$O,BF$4,FALSE))","v":""},{"$f":"IF($N21=\"\",\"\",VLOOKUP($N21,'Reference Passenger Transport'!$C:$O,BG$4,FALSE))","v":""},{"$f":"IF($N21=\"\",\"\",VLOOKUP($N21,'Reference Passenger Transport'!$C:$O,BH$4,FALSE))","v":""},{"$f":"IF($N21=\"\",\"\",VLOOKUP($N21,'Reference Passenger Transport'!$C:$O,BI$4,FALSE))","v":""},{"$f":"IF($N21=\"\",\"\",VLOOKUP($N21,'Reference Passenger Transport'!$C:$O,BJ$4,FALSE))","v":""},{"$f":"IF($N21=\"\",\"\",VLOOKUP($N21,'Reference Passenger Transport'!$C:$O,BK$4,FALSE))","v":""},{"$f":"IF($N21=\"\",\"\",VLOOKUP($N21,'Reference Passenger Transport'!$C:$O,BL$4,FALSE))","v":""},{"$f":"IF($N21=\"\",\"\",VLOOKUP($N21,'Reference Passenger Transport'!$C:$O,BM$4,FALSE))","v":""},null,"","","","","","","","",null,"",null,"","",null,""]
[null,null,null,null,null,null,null,null,null,null,null,null,null,null,null,null,null,{"$f":"INDEX('Dropdown menus'!$A$1:$D$6,MATCH($E22,'Dropdown menus'!$A$1:$A$6,0),$R$6)","v":{"$error":"#N/A"}},null,{"$f":"IF($F22=\"\",\"\",VLOOKUP($F22,'Reference Data - Transport fuel'!$C:$O,T$4,FALSE))","v":""},{"$f":"IF($F22=\"\",\"\",VLOOKUP($F22,'Reference Data - Transport fuel'!$C:$O,U$4,FALSE))","v":""},{"$f":"IF($F22=\"\",\"\",VLOOKUP($F22,'Reference Data - Transport fuel'!$C:$O,V$4,FALSE))","v":""},{"$f":"IF($F22=\"\",\"\",VLOOKUP($F22,'Reference Data - Transport fuel'!$C:$O,W$4,FALSE))","v":""},{"$f":"IF($F22=\"\",\"\",VLOOKUP($F22,'Reference Data - Transport fuel'!$C:$O,X$4,FALSE))","v":""},{"$f":"IF($F22=\"\",\"\",VLOOKUP($F22,'Reference Data - Transport fuel'!$C:$O,Y$4,FALSE))","v":""},{"$f":"IF($F22=\"\",\"\",VLOOKUP($F22,'Reference Data - Transport fuel'!$C:$O,Z$4,FALSE))","v":""},{"$f":"IF($F22=\"\",\"\",VLOOKUP($F22,'Reference Data - Transport fuel'!$C:$O,AA$4,FALSE))","v":""},{"$f":"IF($F22=\"\",\"\",VLOOKUP($F22,'Reference Data - Transport fuel'!$C:$O,AB$4,FALSE))","v":""},null,{"$f":"IF($F22=\"\",\"\",VLOOKUP($F22,'Reference Data - Transport fuel'!$C:$O,AD$4,FALSE))","v":""},null,{"$f":"IF($F22=\"\",\"\",VLOOKUP($F22,'Reference Data - Transport fuel'!$C:$O,AF$4,FALSE))","v":""},null,"","","","","","","","",null,"",null,"","",null,"",null,null,{"$f":"INDEX('Dropdown menus'!$A$1:$D$6,MATCH($M22,'Dropdown menus'!$A$1:$A$6,0),$AY$6)","v":{"$error":"#N/A"}},null,{"$f":"IF($N22=\"\",\"\",VLOOKUP($N22,'Reference Passenger Transport'!$C:$O,BA$4,FALSE))","v":""},{"$f":"IF($N22=\"\",\"\",VLOOKUP($N22,'Reference Passenger Transport'!$C:$O,BB$4,FALSE))","v":""},{"$f":"IF($N22=\"\",\"\",VLOOKUP($N22,'Reference Passenger Transport'!$C:$O,BC$4,FALSE))","v":""},{"$f":"IF($N22=\"\",\"\",VLOOKUP($N22,'Reference Passenger Transport'!$C:$O,BD$4,FALSE))","v":""},{"$f":"IF($N22=\"\",\"\",VLOOKUP($N22,'Reference Passenger Transport'!$C:$O,BE$4,FALSE))","v":""},{"$f":"IF($N22=\"\",\"\",VLOOKUP($N22,'Reference Passenger Transport'!$C:$O,BF$4,FALSE))","v":""},{"$f":"IF($N22=\"\",\"\",VLOOKUP($N22,'Reference Passenger Transport'!$C:$O,BG$4,FALSE))","v":""},{"$f":"IF($N22=\"\",\"\",VLOOKUP($N22,'Reference Passenger Transport'!$C:$O,BH$4,FALSE))","v":""},{"$f":"IF($N22=\"\",\"\",VLOOKUP($N22,'Reference Passenger Transport'!$C:$O,BI$4,FALSE))","v":""},{"$f":"IF($N22=\"\",\"\",VLOOKUP($N22,'Reference Passenger Transport'!$C:$O,BJ$4,FALSE))","v":""},{"$f":"IF($N22=\"\",\"\",VLOOKUP($N22,'Reference Passenger Transport'!$C:$O,BK$4,FALSE))","v":""},{"$f":"IF($N22=\"\",\"\",VLOOKUP($N22,'Reference Passenger Transport'!$C:$O,BL$4,FALSE))","v":""},{"$f":"IF($N22=\"\",\"\",VLOOKUP($N22,'Reference Passenger Transport'!$C:$O,BM$4,FALSE))","v":""},null,"","","","","","","","",null,"",null,"","",null,""]
[null,null,null,null,null,null,null,null,null,null,null,null,null,null,null,null,null,{"$f":"INDEX('Dropdown menus'!$A$1:$D$6,MATCH($E23,'Dropdown menus'!$A$1:$A$6,0),$R$6)","v":{"$error":"#N/A"}},null,{"$f":"IF($F23=\"\",\"\",VLOOKUP($F23,'Reference Data - Transport fuel'!$C:$O,T$4,FALSE))","v":""},{"$f":"IF($F23=\"\",\"\",VLOOKUP($F23,'Reference Data - Transport fuel'!$C:$O,U$4,FALSE))","v":""},{"$f":"IF($F23=\"\",\"\",VLOOKUP($F23,'Reference Data - Transport fuel'!$C:$O,V$4,FALSE))","v":""},{"$f":"IF($F23=\"\",\"\",VLOOKUP($F23,'Reference Data - Transport fuel'!$C:$O,W$4,FALSE))","v":""},{"$f":"IF($F23=\"\",\"\",VLOOKUP($F23,'Reference Data - Transport fuel'!$C:$O,X$4,FALSE))","v":""},{"$f":"IF($F23=\"\",\"\",VLOOKUP($F23,'Reference Data - Transport fuel'!$C:$O,Y$4,FALSE))","v":""},{"$f":"IF($F23=\"\",\"\",VLOOKUP($F23,'Reference Data - Transport fuel'!$C:$O,Z$4,FALSE))","v":""},{"$f":"IF($F23=\"\",\"\",VLOOKUP($F23,'Reference Data - Transport fuel'!$C:$O,AA$4,FALSE))","v":""},{"$f":"IF($F23=\"\",\"\",VLOOKUP($F23,'Reference Data - Transport fuel'!$C:$O,AB$4,FALSE))","v":""},null,{"$f":"IF($F23=\"\",\"\",VLOOKUP($F23,'Reference Data - Transport fuel'!$C:$O,AD$4,FALSE))","v":""},null,{"$f":"IF($F23=\"\",\"\",VLOOKUP($F23,'Reference Data - Transport fuel'!$C:$O,AF$4,FALSE))","v":""},null,"","","","","","","","",null,"",null,"","",null,"",null,null,{"$f":"INDEX('Dropdown menus'!$A$1:$D$6,MATCH($M23,'Dropdown menus'!$A$1:$A$6,0),$AY$6)","v":{"$error":"#N/A"}},null,{"$f":"IF($N23=\"\",\"\",VLOOKUP($N23,'Reference Passenger Transport'!$C:$O,BA$4,FALSE))","v":""},{"$f":"IF($N23=\"\",\"\",VLOOKUP($N23,'Reference Passenger Transport'!$C:$O,BB$4,FALSE))","v":""},{"$f":"IF($N23=\"\",\"\",VLOOKUP($N23,'Reference Passenger Transport'!$C:$O,BC$4,FALSE))","v":""},{"$f":"IF($N23=\"\",\"\",VLOOKUP($N23,'Reference Passenger Transport'!$C:$O,BD$4,FALSE))","v":""},{"$f":"IF($N23=\"\",\"\",VLOOKUP($N23,'Reference Passenger Transport'!$C:$O,BE$4,FALSE))","v":""},{"$f":"IF($N23=\"\",\"\",VLOOKUP($N23,'Reference Passenger Transport'!$C:$O,BF$4,FALSE))","v":""},{"$f":"IF($N23=\"\",\"\",VLOOKUP($N23,'Reference Passenger Transport'!$C:$O,BG$4,FALSE))","v":""},{"$f":"IF($N23=\"\",\"\",VLOOKUP($N23,'Reference Passenger Transport'!$C:$O,BH$4,FALSE))","v":""},{"$f":"IF($N23=\"\",\"\",VLOOKUP($N23,'Reference Passenger Transport'!$C:$O,BI$4,FALSE))","v":""},{"$f":"IF($N23=\"\",\"\",VLOOKUP($N23,'Reference Passenger Transport'!$C:$O,BJ$4,FALSE))","v":""},{"$f":"IF($N23=\"\",\"\",VLOOKUP($N23,'Reference Passenger Transport'!$C:$O,BK$4,FALSE))","v":""},{"$f":"IF($N23=\"\",\"\",VLOOKUP($N23,'Reference Passenger Transport'!$C:$O,BL$4,FALSE))","v":""},{"$f":"IF($N23=\"\",\"\",VLOOKUP($N23,'Reference Passenger Transport'!$C:$O,BM$4,FALSE))","v":""},null,"","","","","","","","",null,"",null,"","",null,""]
[null,null,null,null,null,null,null,null,null,null,null,null,null,null,null,null,null,{"$f":"INDEX('Dropdown menus'!$A$1:$D$6,MATCH($E24,'Dropdown menus'!$A$1:$A$6,0),$R$6)","v":{"$error":"#N/A"}},null,{"$f":"IF($F24=\"\",\"\",VLOOKUP($F24,'Reference Data - Transport fuel'!$C:$O,T$4,FALSE))","v":""},{"$f":"IF($F24=\"\",\"\",VLOOKUP($F24,'Reference Data - Transport fuel'!$C:$O,U$4,FALSE))","v":""},{"$f":"IF($F24=\"\",\"\",VLOOKUP($F24,'Reference Data - Transport fuel'!$C:$O,V$4,FALSE))","v":""},{"$f":"IF($F24=\"\",\"\",VLOOKUP($F24,'Reference Data - Transport fuel'!$C:$O,W$4,FALSE))","v":""},{"$f":"IF($F24=\"\",\"\",VLOOKUP($F24,'Reference Data - Transport fuel'!$C:$O,X$4,FALSE))","v":""},{"$f":"IF($F24=\"\",\"\",VLOOKUP($F24,'Reference Data - Transport fuel'!$C:$O,Y$4,FALSE))","v":""},{"$f":"IF($F24=\"\",\"\",VLOOKUP($F24,'Reference Data - Transport fuel'!$C:$O,Z$4,FALSE))","v":""},{"$f":"IF($F24=\"\",\"\",VLOOKUP($F24,'Reference Data - Transport fuel'!$C:$O,AA$4,FALSE))","v":""},{"$f":"IF($F24=\"\",\"\",VLOOKUP($F24,'Reference Data - Transport fuel'!$C:$O,AB$4,FALSE))","v":""},null,{"$f":"IF($F24=\"\",\"\",VLOOKUP($F24,'Reference Data - Transport fuel'!$C:$O,AD$4,FALSE))","v":""},null,{"$f":"IF($F24=\"\",\"\",VLOOKUP($F24,'Reference Data - Transport fuel'!$C:$O,AF$4,FALSE))","v":""},null,"","","","","","","","",null,"",null,"","",null,"",null,null,{"$f":"INDEX('Dropdown menus'!$A$1:$D$6,MATCH($M24,'Dropdown menus'!$A$1:$A$6,0),$AY$6)","v":{"$error":"#N/A"}},null,{"$f":"IF($N24=\"\",\"\",VLOOKUP($N24,'Reference Passenger Transport'!$C:$O,BA$4,FALSE))","v":""},{"$f":"IF($N24=\"\",\"\",VLOOKUP($N24,'Reference Passenger Transport'!$C:$O,BB$4,FALSE))","v":""},{"$f":"IF($N24=\"\",\"\",VLOOKUP($N24,'Reference Passenger Transport'!$C:$O,BC$4,FALSE))","v":""},{"$f":"IF($N24=\"\",\"\",VLOOKUP($N24,'Reference Passenger Transport'!$C:$O,BD$4,FALSE))","v":""},{"$f":"IF($N24=\"\",\"\",VLOOKUP($N24,'Reference Passenger Transport'!$C:$O,BE$4,FALSE))","v":""},{"$f":"IF($N24=\"\",\"\",VLOOKUP($N24,'Reference Passenger Transport'!$C:$O,BF$4,FALSE))","v":""},{"$f":"IF($N24=\"\",\"\",VLOOKUP($N24,'Reference Passenger Transport'!$C:$O,BG$4,FALSE))","v":""},{"$f":"IF($N24=\"\",\"\",VLOOKUP($N24,'Reference Passenger Transport'!$C:$O,BH$4,FALSE))","v":""},{"$f":"IF($N24=\"\",\"\",VLOOKUP($N24,'Reference Passenger Transport'!$C:$O,BI$4,FALSE))","v":""},{"$f":"IF($N24=\"\",\"\",VLOOKUP($N24,'Reference Passenger Transport'!$C:$O,BJ$4,FALSE))","v":""},{"$f":"IF($N24=\"\",\"\",VLOOKUP($N24,'Reference Passenger Transport'!$C:$O,BK$4,FALSE))","v":""},{"$f":"IF($N24=\"\",\"\",VLOOKUP($N24,'Reference Passenger Transport'!$C:$O,BL$4,FALSE))","v":""},{"$f":"IF($N24=\"\",\"\",VLOOKUP($N24,'Reference Passenger Transport'!$C:$O,BM$4,FALSE))","v":""},null,"","","","","","","","",null,"",null,"","",null,""]
[null,null,null,null,null,null,null,null,null,null,null,null,null,null,null,null,null,{"$f":"INDEX('Dropdown menus'!$A$1:$D$6,MATCH($E25,'Dropdown menus'!$A$1:$A$6,0),$R$6)","v":{"$error":"#N/A"}},null,{"$f":"IF($F25=\"\",\"\",VLOOKUP($F25,'Reference Data - Transport fuel'!$C:$O,T$4,FALSE))","v":""},{"$f":"IF($F25=\"\",\"\",VLOOKUP($F25,'Reference Data - Transport fuel'!$C:$O,U$4,FALSE))","v":""},{"$f":"IF($F25=\"\",\"\",VLOOKUP($F25,'Reference Data - Transport fuel'!$C:$O,V$4,FALSE))","v":""},{"$f":"IF($F25=\"\",\"\",VLOOKUP($F25,'Reference Data - Transport fuel'!$C:$O,W$4,FALSE))","v":""},{"$f":"IF($F25=\"\",\"\",VLOOKUP($F25,'Reference Data - Transport fuel'!$C:$O,X$4,FALSE))","v":""},{"$f":"IF($F25=\"\",\"\",VLOOKUP($F25,'Reference Data - Transport fuel'!$C:$O,Y$4,FALSE))","v":""},{"$f":"IF($F25=\"\",\"\",VLOOKUP($F25,'Reference Data - Transport fuel'!$C:$O,Z$4,FALSE))","v":""},{"$f":"IF($F25=\"\",\"\",VLOOKUP($F25,'Reference Data - Transport fuel'!$C:$O,AA$4,FALSE))","v":""},{"$f":"IF($F25=\"\",\"\",VLOOKUP($F25,'Reference Data - Transport fuel'!$C:$O,AB$4,FALSE))","v":""},null,{"$f":"IF($F25=\"\",\"\",VLOOKUP($F25,'Reference Data - Transport fuel'!$C:$O,AD$4,FALSE))","v":""},null,{"$f":"IF($F25=\"\",\"\",VLOOKUP($F25,'Reference Data - Transport fuel'!$C:$O,AF$4,FALSE))","v":""},null,"","","","","","","","",null,"",null,"","",null,"",null,null,{"$f":"INDEX('Dropdown menus'!$A$1:$D$6,MATCH($M25,'Dropdown menus'!$A$1:$A$6,0),$AY$6)","v":{"$error":"#N/A"}},null,{"$f":"IF($N25=\"\",\"\",VLOOKUP($N25,'Reference Passenger Transport'!$C:$O,BA$4,FALSE))","v":""},{"$f":"IF($N25=\"\",\"\",VLOOKUP($N25,'Reference Passenger Transport'!$C:$O,BB$4,FALSE))","v":""},{"$f":"IF($N25=\"\",\"\",VLOOKUP($N25,'Reference Passenger Transport'!$C:$O,BC$4,FALSE))","v":""},{"$f":"IF($N25=\"\",\"\",VLOOKUP($N25,'Reference Passenger Transport'!$C:$O,BD$4,FALSE))","v":""},{"$f":"IF($N25=\"\",\"\",VLOOKUP($N25,'Reference Passenger Transport'!$C:$O,BE$4,FALSE))","v":""},{"$f":"IF($N25=\"\",\"\",VLOOKUP($N25,'Reference Passenger Transport'!$C:$O,BF$4,FALSE))","v":""},{"$f":"IF($N25=\"\",\"\",VLOOKUP($N25,'Reference Passenger Transport'!$C:$O,BG$4,FALSE))","v":""},{"$f":"IF($N25=\"\",\"\",VLOOKUP($N25,'Reference Passenger Transport'!$C:$O,BH$4,FALSE))","v":""},{"$f":"IF($N25=\"\",\"\",VLOOKUP($N25,'Reference Passenger Transport'!$C:$O,BI$4,FALSE))","v":""},{"$f":"IF($N25=\"\",\"\",VLOOKUP($N25,'Reference Passenger Transport'!$C:$O,BJ$4,FALSE))","v":""},{"$f":"IF($N25=\"\",\"\",VLOOKUP($N25,'Reference Passenger Transport'!$C:$O,BK$4,FALSE))","v":""},{"$f":"IF($N25=\"\",\"\",VLOOKUP($N25,'Reference Passenger Transport'!$C:$O,BL$4,FALSE))","v":""},{"$f":"IF($N25=\"\",\"\",VLOOKUP($N25,'Reference Passenger Transport'!$C:$O,BM$4,FALSE))","v":""},null,"","","","","","","","",null,"",null,"","",null,""]
[null,null,null,null,null,null,null,null,null,null,null,null,null,null,null,null,null,{"$f":"INDEX('Dropdown menus'!$A$1:$D$6,MATCH($E26,'Dropdown menus'!$A$1:$A$6,0),$R$6)","v":{"$error":"#N/A"}},null,{"$f":"IF($F26=\"\",\"\",VLOOKUP($F26,'Reference Data - Transport fuel'!$C:$O,T$4,FALSE))","v":""},{"$f":"IF($F26=\"\",\"\",VLOOKUP($F26,'Reference Data - Transport fuel'!$C:$O,U$4,FALSE))","v":""},{"$f":"IF($F26=\"\",\"\",VLOOKUP($F26,'Reference Data - Transport fuel'!$C:$O,V$4,FALSE))","v":""},{"$f":"IF($F26=\"\",\"\",VLOOKUP($F26,'Reference Data - Transport fuel'!$C:$O,W$4,FALSE))","v":""},{"$f":"IF($F26=\"\",\"\",VLOOKUP($F26,'Reference Data - Transport fuel'!$C:$O,X$4,FALSE))","v":""},{"$f":"IF($F26=\"\",\"\",VLOOKUP($F26,'Reference Data - Transport fuel'!$C:$O,Y$4,FALSE))","v":""},{"$f":"IF($F26=\"\",\"\",VLOOKUP($F26,'Reference Data - Transport fuel'!$C:$O,Z$4,FALSE))","v":""},{"$f":"IF($F26=\"\",\"\",VLOOKUP($F26,'Reference Data - Transport fuel'!$C:$O,AA$4,FALSE))","v":""},{"$f":"IF($F26=\"\",\"\",VLOOKUP($F26,'Reference Data - Transport fuel'!$C:$O,AB$4,FALSE))","v":""},null,{"$f":"IF($F26=\"\",\"\",VLOOKUP($F26,'Reference Data - Transport fuel'!$C:$O,AD$4,FALSE))","v":""},null,{"$f":"IF($F26=\"\",\"\",VLOOKUP($F26,'Reference Data - Transport fuel'!$C:$O,AF$4,FALSE))","v":""},null,"","","","","","","","",null,"",null,"","",null,"",null,null,{"$f":"INDEX('Dropdown menus'!$A$1:$D$6,MATCH($M26,'Dropdown menus'!$A$1:$A$6,0),$AY$6)","v":{"$error":"#N/A"}},null,{"$f":"IF($N26=\"\",\"\",VLOOKUP($N26,'Reference Passenger Transport'!$C:$O,BA$4,FALSE))","v":""},{"$f":"IF($N26=\"\",\"\",VLOOKUP($N26,'Reference Passenger Transport'!$C:$O,BB$4,FALSE))","v":""},{"$f":"IF($N26=\"\",\"\",VLOOKUP($N26,'Reference Passenger Transport'!$C:$O,BC$4,FALSE))","v":""},{"$f":"IF($N26=\"\",\"\",VLOOKUP($N26,'Reference Passenger Transport'!$C:$O,BD$4,FALSE))","v":""},{"$f":"IF($N26=\"\",\"\",VLOOKUP($N26,'Reference Passenger Transport'!$C:$O,BE$4,FALSE))","v":""},{"$f":"IF($N26=\"\",\"\",VLOOKUP($N26,'Reference Passenger Transport'!$C:$O,BF$4,FALSE))","v":""},{"$f":"IF($N26=\"\",\"\",VLOOKUP($N26,'Reference Passenger Transport'!$C:$O,BG$4,FALSE))","v":""},{"$f":"IF($N26=\"\",\"\",VLOOKUP($N26,'Reference Passenger Transport'!$C:$O,BH$4,FALSE))","v":""},{"$f":"IF($N26=\"\",\"\",VLOOKUP($N26,'Reference Passenger Transport'!$C:$O,BI$4,FALSE))","v":""},{"$f":"IF($N26=\"\",\"\",VLOOKUP($N26,'Reference Passenger Transport'!$C:$O,BJ$4,FALSE))","v":""},{"$f":"IF($N26=\"\",\"\",VLOOKUP($N26,'Reference Passenger Transport'!$C:$O,BK$4,FALSE))","v":""},{"$f":"IF($N26=\"\",\"\",VLOOKUP($N26,'Reference Passenger Transport'!$C:$O,BL$4,FALSE))","v":""},{"$f":"IF($N26=\"\",\"\",VLOOKUP($N26,'Reference Passenger Transport'!$C:$O,BM$4,FALSE))","v":""},null,"","","","","","","","",null,"",null,"","",null,""]
[null,null,null,null,null,null,null,null,null,null,null,null,null,null,null,null,null,{"$f":"INDEX('Dropdown menus'!$A$1:$D$6,MATCH($E27,'Dropdown menus'!$A$1:$A$6,0),$R$6)","v":{"$error":"#N/A"}},null,{"$f":"IF($F27=\"\",\"\",VLOOKUP($F27,'Reference Data - Transport fuel'!$C:$O,T$4,FALSE))","v":""},{"$f":"IF($F27=\"\",\"\",VLOOKUP($F27,'Reference Data - Transport fuel'!$C:$O,U$4,FALSE))","v":""},{"$f":"IF($F27=\"\",\"\",VLOOKUP($F27,'Reference Data - Transport fuel'!$C:$O,V$4,FALSE))","v":""},{"$f":"IF($F27=\"\",\"\",VLOOKUP($F27,'Reference Data - Transport fuel'!$C:$O,W$4,FALSE))","v":""},{"$f":"IF($F27=\"\",\"\",VLOOKUP($F27,'Reference Data - Transport fuel'!$C:$O,X$4,FALSE))","v":""},{"$f":"IF($F27=\"\",\"\",VLOOKUP($F27,'Reference Data - Transport fuel'!$C:$O,Y$4,FALSE))","v":""},{"$f":"IF($F27=\"\",\"\",VLOOKUP($F27,'Reference Data - Transport fuel'!$C:$O,Z$4,FALSE))","v":""},{"$f":"IF($F27=\"\",\"\",VLOOKUP($F27,'Reference Data - Transport fuel'!$C:$O,AA$4,FALSE))","v":""},{"$f":"IF($F27=\"\",\"\",VLOOKUP($F27,'Reference Data - Transport fuel'!$C:$O,AB$4,FALSE))","v":""},null,{"$f":"IF($F27=\"\",\"\",VLOOKUP($F27,'Reference Data - Transport fuel'!$C:$O,AD$4,FALSE))","v":""},null,{"$f":"IF($F27=\"\",\"\",VLOOKUP($F27,'Reference Data - Transport fuel'!$C:$O,AF$4,FALSE))","v":""},null,"","","","","","","","",null,"",null,"","",null,"",null,null,{"$f":"INDEX('Dropdown menus'!$A$1:$D$6,MATCH($M27,'Dropdown menus'!$A$1:$A$6,0),$AY$6)","v":{"$error":"#N/A"}},null,{"$f":"IF($N27=\"\",\"\",VLOOKUP($N27,'Reference Passenger Transport'!$C:$O,BA$4,FALSE))","v":""},{"$f":"IF($N27=\"\",\"\",VLOOKUP($N27,'Reference Passenger Transport'!$C:$O,BB$4,FALSE))","v":""},{"$f":"IF($N27=\"\",\"\",VLOOKUP($N27,'Reference Passenger Transport'!$C:$O,BC$4,FALSE))","v":""},{"$f":"IF($N27=\"\",\"\",VLOOKUP($N27,'Reference Passenger Transport'!$C:$O,BD$4,FALSE))","v":""},{"$f":"IF($N27=\"\",\"\",VLOOKUP($N27,'Reference Passenger Transport'!$C:$O,BE$4,FALSE))","v":""},{"$f":"IF($N27=\"\",\"\",VLOOKUP($N27,'Reference Passenger Transport'!$C:$O,BF$4,FALSE))","v":""},{"$f":"IF($N27=\"\",\"\",VLOOKUP($N27,'Reference Passenger Transport'!$C:$O,BG$4,FALSE))","v":""},{"$f":"IF($N27=\"\",\"\",VLOOKUP($N27,'Reference Passenger Transport'!$C:$O,BH$4,FALSE))","v":""},{"$f":"IF($N27=\"\",\"\",VLOOKUP($N27,'Reference Passenger Transport'!$C:$O,BI$4,FALSE))","v":""},{"$f":"IF($N27=\"\",\"\",VLOOKUP($N27,'Reference Passenger Transport'!$C:$O,BJ$4,FALSE))","v":""},{"$f":"IF($N27=\"\",\"\",VLOOKUP($N27,'Reference Passenger Transport'!$C:$O,BK$4,FALSE))","v":""},{"$f":"IF($N27=\"\",\"\",VLOOKUP($N27,'Reference Passenger Transport'!$C:$O,BL$4,FALSE))","v":""},{"$f":"IF($N27=\"\",\"\",VLOOKUP($N27,'Reference Passenger Transport'!$C:$O,BM$4,FALSE))","v":""},null,"","","","","","","","",null,"",null,"","",null,""]
[null,null,null,null,null,null,null,null,null,null,null,null,null,null,null,null,null,{"$f":"INDEX('Dropdown menus'!$A$1:$D$6,MATCH($E28,'Dropdown menus'!$A$1:$A$6,0),$R$6)","v":{"$error":"#N/A"}},null,{"$f":"IF($F28=\"\",\"\",VLOOKUP($F28,'Reference Data - Transport fuel'!$C:$O,T$4,FALSE))","v":""},{"$f":"IF($F28=\"\",\"\",VLOOKUP($F28,'Reference Data - Transport fuel'!$C:$O,U$4,FALSE))","v":""},{"$f":"IF($F28=\"\",\"\",VLOOKUP($F28,'Reference Data - Transport fuel'!$C:$O,V$4,FALSE))","v":""},{"$f":"IF($F28=\"\",\"\",VLOOKUP($F28,'Reference Data - Transport fuel'!$C:$O,W$4,FALSE))","v":""},{"$f":"IF($F28=\"\",\"\",VLOOKUP($F28,'Reference Data - Transport fuel'!$C:$O,X$4,FALSE))","v":""},{"$f":"IF($F28=\"\",\"\",VLOOKUP($F28,'Reference Data - Transport fuel'!$C:$O,Y$4,FALSE))","v":""},{"$f":"IF($F28=\"\",\"\",VLOOKUP($F28,'Reference Data - Transport fuel'!$C:$O,Z$4,FALSE))","v":""},{"$f":"IF($F28=\"\",\"\",VLOOKUP($F28,'Reference Data - Transport fuel'!$C:$O,AA$4,FALSE))","v":""},{"$f":"IF($F28=\"\",\"\",VLOOKUP($F28,'Reference Data - Transport fuel'!$C:$O,AB$4,FALSE))","v":""},null,{"$f":"IF($F28=\"\",\"\",VLOOKUP($F28,'Reference Data - Transport fuel'!$C:$O,AD$4,FALSE))","v":""},null,{"$f":"IF($F28=\"\",\"\",VLOOKUP($F28,'Reference Data - Transport fuel'!$C:$O,AF$4,FALSE))","v":""},null,"","","","","","","","",null,"",null,"","",null,"",null,null,{"$f":"INDEX('Dropdown menus'!$A$1:$D$6,MATCH($M28,'Dropdown menus'!$A$1:$A$6,0),$AY$6)","v":{"$error":"#N/A"}},null,{"$f":"IF($N28=\"\",\"\",VLOOKUP($N28,'Reference Passenger Transport'!$C:$O,BA$4,FALSE))","v":""},{"$f":"IF($N28=\"\",\"\",VLOOKUP($N28,'Reference Passenger Transport'!$C:$O,BB$4,FALSE))","v":""},{"$f":"IF($N28=\"\",\"\",VLOOKUP($N28,'Reference Passenger Transport'!$C:$O,BC$4,FALSE))","v":""},{"$f":"IF($N28=\"\",\"\",VLOOKUP($N28,'Reference Passenger Transport'!$C:$O,BD$4,FALSE))","v":""},{"$f":"IF($N28=\"\",\"\",VLOOKUP($N28,'Reference Passenger Transport'!$C:$O,BE$4,FALSE))","v":""},{"$f":"IF($N28=\"\",\"\",VLOOKUP($N28,'Reference Passenger Transport'!$C:$O,BF$4,FALSE))","v":""},{"$f":"IF($N28=\"\",\"\",VLOOKUP($N28,'Reference Passenger Transport'!$C:$O,BG$4,FALSE))","v":""},{"$f":"IF($N28=\"\",\"\",VLOOKUP($N28,'Reference Passenger Transport'!$C:$O,BH$4,FALSE))","v":""},{"$f":"IF($N28=\"\",\"\",VLOOKUP($N28,'Reference Passenger Transport'!$C:$O,BI$4,FALSE))","v":""},{"$f":"IF($N28=\"\",\"\",VLOOKUP($N28,'Reference Passenger Transport'!$C:$O,BJ$4,FALSE))","v":""},{"$f":"IF($N28=\"\",\"\",VLOOKUP($N28,'Reference Passenger Transport'!$C:$O,BK$4,FALSE))","v":""},{"$f":"IF($N28=\"\",\"\",VLOOKUP($N28,'Reference Passenger Transport'!$C:$O,BL$4,FALSE))","v":""},{"$f":"IF($N28=\"\",\"\",VLOOKUP($N28,'Reference Passenger Transport'!$C:$O,BM$4,FALSE))","v":""},null,"","","","","","","","",null,"",null,"","",null,""]
[null,null,null,null,null,null,null,null,null,null,null,null,null,null,null,null,null,{"$f":"INDEX('Dropdown menus'!$A$1:$D$6,MATCH($E29,'Dropdown menus'!$A$1:$A$6,0),$R$6)","v":{"$error":"#N/A"}},null,{"$f":"IF($F29=\"\",\"\",VLOOKUP($F29,'Reference Data - Transport fuel'!$C:$O,T$4,FALSE))","v":""},{"$f":"IF($F29=\"\",\"\",VLOOKUP($F29,'Reference Data - Transport fuel'!$C:$O,U$4,FALSE))","v":""},{"$f":"IF($F29=\"\",\"\",VLOOKUP($F29,'Reference Data - Transport fuel'!$C:$O,V$4,FALSE))","v":""},{"$f":"IF($F29=\"\",\"\",VLOOKUP($F29,'Reference Data - Transport fuel'!$C:$O,W$4,FALSE))","v":""},{"$f":"IF($F29=\"\",\"\",VLOOKUP($F29,'Reference Data - Transport fuel'!$C:$O,X$4,FALSE))","v":""},{"$f":"IF($F29=\"\",\"\",VLOOKUP($F29,'Reference Data - Transport fuel'!$C:$O,Y$4,FALSE))","v":""},{"$f":"IF($F29=\"\",\"\",VLOOKUP($F29,'Reference Data - Transport fuel'!$C:$O,Z$4,FALSE))","v":""},{"$f":"IF($F29=\"\",\"\",VLOOKUP($F29,'Reference Data - Transport fuel'!$C:$O,AA$4,FALSE))","v":""},{"$f":"IF($F29=\"\",\"\",VLOOKUP($F29,'Reference Data - Transport fuel'!$C:$O,AB$4,FALSE))","v":""},null,{"$f":"IF($F29=\"\",\"\",VLOOKUP($F29,'Reference Data - Transport fuel'!$C:$O,AD$4,FALSE))","v":""},null,{"$f":"IF($F29=\"\",\"\",VLOOKUP($F29,'Reference Data - Transport fuel'!$C:$O,AF$4,FALSE))","v":""},null,"","","","","","","","",null,"",null,"","",null,"",null,null,{"$f":"INDEX('Dropdown menus'!$A$1:$D$6,MATCH($M29,'Dropdown menus'!$A$1:$A$6,0),$AY$6)","v":{"$error":"#N/A"}},null,{"$f":"IF($N29=\"\",\"\",VLOOKUP($N29,'Reference Passenger Transport'!$C:$O,BA$4,FALSE))","v":""},{"$f":"IF($N29=\"\",\"\",VLOOKUP($N29,'Reference Passenger Transport'!$C:$O,BB$4,FALSE))","v":""},{"$f":"IF($N29=\"\",\"\",VLOOKUP($N29,'Reference Passenger Transport'!$C:$O,BC$4,FALSE))","v":""},{"$f":"IF($N29=\"\",\"\",VLOOKUP($N29,'Reference Passenger Transport'!$C:$O,BD$4,FALSE))","v":""},{"$f":"IF($N29=\"\",\"\",VLOOKUP($N29,'Reference Passenger Transport'!$C:$O,BE$4,FALSE))","v":""},{"$f":"IF($N29=\"\",\"\",VLOOKUP($N29,'Reference Passenger Transport'!$C:$O,BF$4,FALSE))","v":""},{"$f":"IF($N29=\"\",\"\",VLOOKUP($N29,'Reference Passenger Transport'!$C:$O,BG$4,FALSE))","v":""},{"$f":"IF($N29=\"\",\"\",VLOOKUP($N29,'Reference Passenger Transport'!$C:$O,BH$4,FALSE))","v":""},{"$f":"IF($N29=\"\",\"\",VLOOKUP($N29,'Reference Passenger Transport'!$C:$O,BI$4,FALSE))","v":""},{"$f":"IF($N29=\"\",\"\",VLOOKUP($N29,'Reference Passenger Transport'!$C:$O,BJ$4,FALSE))","v":""},{"$f":"IF($N29=\"\",\"\",VLOOKUP($N29,'Reference Passenger Transport'!$C:$O,BK$4,FALSE))","v":""},{"$f":"IF($N29=\"\",\"\",VLOOKUP($N29,'Reference Passenger Transport'!$C:$O,BL$4,FALSE))","v":""},{"$f":"IF($N29=\"\",\"\",VLOOKUP($N29,'Reference Passenger Transport'!$C:$O,BM$4,FALSE))","v":""},null,"","","","","","","","",null,"",null,"","",null,""]
[null,null,null,null,null,null,null,null,null,null,null,null,null,null,null,null,null,{"$f":"INDEX('Dropdown menus'!$A$1:$D$6,MATCH($E30,'Dropdown menus'!$A$1:$A$6,0),$R$6)","v":{"$error":"#N/A"}},null,{"$f":"IF($F30=\"\",\"\",VLOOKUP($F30,'Reference Data - Transport fuel'!$C:$O,T$4,FALSE))","v":""},{"$f":"IF($F30=\"\",\"\",VLOOKUP($F30,'Reference Data - Transport fuel'!$C:$O,U$4,FALSE))","v":""},{"$f":"IF($F30=\"\",\"\",VLOOKUP($F30,'Reference Data - Transport fuel'!$C:$O,V$4,FALSE))","v":""},{"$f":"IF($F30=\"\",\"\",VLOOKUP($F30,'Reference Data - Transport fuel'!$C:$O,W$4,FALSE))","v":""},{"$f":"IF($F30=\"\",\"\",VLOOKUP($F30,'Reference Data - Transport fuel'!$C:$O,X$4,FALSE))","v":""},{"$f":"IF($F30=\"\",\"\",VLOOKUP($F30,'Reference Data - Transport fuel'!$C:$O,Y$4,FALSE))","v":""},{"$f":"IF($F30=\"\",\"\",VLOOKUP($F30,'Reference Data - Transport fuel'!$C:$O,Z$4,FALSE))","v":""},{"$f":"IF($F30=\"\",\"\",VLOOKUP($F30,'Reference Data - Transport fuel'!$C:$O,AA$4,FALSE))","v":""},{"$f":"IF($F30=\"\",\"\",VLOOKUP($F30,'Reference Data - Transport fuel'!$C:$O,AB$4,FALSE))","v":""},null,{"$f":"IF($F30=\"\",\"\",VLOOKUP($F30,'Reference Data - Transport fuel'!$C:$O,AD$4,FALSE))","v":""},null,{"$f":"IF($F30=\"\",\"\",VLOOKUP($F30,'Reference Data - Transport fuel'!$C:$O,AF$4,FALSE))","v":""},null,"","","","","","","","",null,"",null,"","",null,"",null,null,{"$f":"INDEX('Dropdown menus'!$A$1:$D$6,MATCH($M30,'Dropdown menus'!$A$1:$A$6,0),$AY$6)","v":{"$error":"#N/A"}},null,{"$f":"IF($N30=\"\",\"\",VLOOKUP($N30,'Reference Passenger Transport'!$C:$O,BA$4,FALSE))","v":""},{"$f":"IF($N30=\"\",\"\",VLOOKUP($N30,'Reference Passenger Transport'!$C:$O,BB$4,FALSE))","v":""},{"$f":"IF($N30=\"\",\"\",VLOOKUP($N30,'Reference Passenger Transport'!$C:$O,BC$4,FALSE))","v":""},{"$f":"IF($N30=\"\",\"\",VLOOKUP($N30,'Reference Passenger Transport'!$C:$O,BD$4,FALSE))","v":""},{"$f":"IF($N30=\"\",\"\",VLOOKUP($N30,'Reference Passenger Transport'!$C:$O,BE$4,FALSE))","v":""},{"$f":"IF($N30=\"\",\"\",VLOOKUP($N30,'Reference Passenger Transport'!$C:$O,BF$4,FALSE))","v":""},{"$f":"IF($N30=\"\",\"\",VLOOKUP($N30,'Reference Passenger Transport'!$C:$O,BG$4,FALSE))","v":""},{"$f":"IF($N30=\"\",\"\",VLOOKUP($N30,'Reference Passenger Transport'!$C:$O,BH$4,FALSE))","v":""},{"$f":"IF($N30=\"\",\"\",VLOOKUP($N30,'Reference Passenger Transport'!$C:$O,BI$4,FALSE))","v":""},{"$f":"IF($N30=\"\",\"\",VLOOKUP($N30,'Reference Passenger Transport'!$C:$O,BJ$4,FALSE))","v":""},{"$f":"IF($N30=\"\",\"\",VLOOKUP($N30,'Reference Passenger Transport'!$C:$O,BK$4,FALSE))","v":""},{"$f":"IF($N30=\"\",\"\",VLOOKUP($N30,'Reference Passenger Transport'!$C:$O,BL$4,FALSE))","v":""},{"$f":"IF($N30=\"\",\"\",VLOOKUP($N30,'Reference Passenger Transport'!$C:$O,BM$4,FALSE))","v":""},null,"","","","","","","","",null,"",null,"","",null,""]
[null,null,null,null,null,null,null,null,null,null,null,null,null,null,null,null,null,{"$f":"INDEX('Dropdown menus'!$A$1:$D$6,MATCH($E31,'Dropdown menus'!$A$1:$A$6,0),$R$6)","v":{"$error":"#N/A"}},null,{"$f":"IF($F31=\"\",\"\",VLOOKUP($F31,'Reference Data - Transport fuel'!$C:$O,T$4,FALSE))","v":""},{"$f":"IF($F31=\"\",\"\",VLOOKUP($F31,'Reference Data - Transport fuel'!$C:$O,U$4,FALSE))","v":""},{"$f":"IF($F31=\"\",\"\",VLOOKUP($F31,'Reference Data - Transport fuel'!$C:$O,V$4,FALSE))","v":""},{"$f":"IF($F31=\"\",\"\",VLOOKUP($F31,'Reference Data - Transport fuel'!$C:$O,W$4,FALSE))","v":""},{"$f":"IF($F31=\"\",\"\",VLOOKUP($F31,'Reference Data - Transport fuel'!$C:$O,X$4,FALSE))","v":""},{"$f":"IF($F31=\"\",\"\",VLOOKUP($F31,'Reference Data - Transport fuel'!$C:$O,Y$4,FALSE))","v":""},{"$f":"IF($F31=\"\",\"\",VLOOKUP($F31,'Reference Data - Transport fuel'!$C:$O,Z$4,FALSE))","v":""},{"$f":"IF($F31=\"\",\"\",VLOOKUP($F31,'Reference Data - Transport fuel'!$C:$O,AA$4,FALSE))","v":""},{"$f":"IF($F31=\"\",\"\",VLOOKUP($F31,'Reference Data - Transport fuel'!$C:$O,AB$4,FALSE))","v":""},null,{"$f":"IF($F31=\"\",\"\",VLOOKUP($F31,'Reference Data - Transport fuel'!$C:$O,AD$4,FALSE))","v":""},null,{"$f":"IF($F31=\"\",\"\",VLOOKUP($F31,'Reference Data - Transport fuel'!$C:$O,AF$4,FALSE))","v":""},null,"","","","","","","","",null,"",null,"","",null,"",null,null,{"$f":"INDEX('Dropdown menus'!$A$1:$D$6,MATCH($M31,'Dropdown menus'!$A$1:$A$6,0),$AY$6)","v":{"$error":"#N/A"}},null,{"$f":"IF($N31=\"\",\"\",VLOOKUP($N31,'Reference Passenger Transport'!$C:$O,BA$4,FALSE))","v":""},{"$f":"IF($N31=\"\",\"\",VLOOKUP($N31,'Reference Passenger Transport'!$C:$O,BB$4,FALSE))","v":""},{"$f":"IF($N31=\"\",\"\",VLOOKUP($N31,'Reference Passenger Transport'!$C:$O,BC$4,FALSE))","v":""},{"$f":"IF($N31=\"\",\"\",VLOOKUP($N31,'Reference Passenger Transport'!$C:$O,BD$4,FALSE))","v":""},{"$f":"IF($N31=\"\",\"\",VLOOKUP($N31,'Reference Passenger Transport'!$C:$O,BE$4,FALSE))","v":""},{"$f":"IF($N31=\"\",\"\",VLOOKUP($N31,'Reference Passenger Transport'!$C:$O,BF$4,FALSE))","v":""},{"$f":"IF($N31=\"\",\"\",VLOOKUP($N31,'Reference Passenger Transport'!$C:$O,BG$4,FALSE))","v":""},{"$f":"IF($N31=\"\",\"\",VLOOKUP($N31,'Reference Passenger Transport'!$C:$O,BH$4,FALSE))","v":""},{"$f":"IF($N31=\"\",\"\",VLOOKUP($N31,'Reference Passenger Transport'!$C:$O,BI$4,FALSE))","v":""},{"$f":"IF($N31=\"\",\"\",VLOOKUP($N31,'Reference Passenger Transport'!$C:$O,BJ$4,FALSE))","v":""},{"$f":"IF($N31=\"\",\"\",VLOOKUP($N31,'Reference Passenger Transport'!$C:$O,BK$4,FALSE))","v":""},{"$f":"IF($N31=\"\",\"\",VLOOKUP($N31,'Reference Passenger Transport'!$C:$O,BL$4,FALSE))","v":""},{"$f":"IF($N31=\"\",\"\",VLOOKUP($N31,'Reference Passenger Transport'!$C:$O,BM$4,FALSE))","v":""},null,"","","","","","","","",null,"",null,"","",null,""]
[null,null,null,null,null,null,null,null,null,null,null,null,null,null,null,null,null,{"$f":"INDEX('Dropdown menus'!$A$1:$D$6,MATCH($E32,'Dropdown menus'!$A$1:$A$6,0),$R$6)","v":{"$error":"#N/A"}},null,{"$f":"IF($F32=\"\",\"\",VLOOKUP($F32,'Reference Data - Transport fuel'!$C:$O,T$4,FALSE))","v":""},{"$f":"IF($F32=\"\",\"\",VLOOKUP($F32,'Reference Data - Transport fuel'!$C:$O,U$4,FALSE))","v":""},{"$f":"IF($F32=\"\",\"\",VLOOKUP($F32,'Reference Data - Transport fuel'!$C:$O,V$4,FALSE))","v":""},{"$f":"IF($F32=\"\",\"\",VLOOKUP($F32,'Reference Data - Transport fuel'!$C:$O,W$4,FALSE))","v":""},{"$f":"IF($F32=\"\",\"\",VLOOKUP($F32,'Reference Data - Transport fuel'!$C:$O,X$4,FALSE))","v":""},{"$f":"IF($F32=\"\",\"\",VLOOKUP($F32,'Reference Data - Transport fuel'!$C:$O,Y$4,FALSE))","v":""},{"$f":"IF($F32=\"\",\"\",VLOOKUP($F32,'Reference Data - Transport fuel'!$C:$O,Z$4,FALSE))","v":""},{"$f":"IF($F32=\"\",\"\",VLOOKUP($F32,'Reference Data - Transport fuel'!$C:$O,AA$4,FALSE))","v":""},{"$f":"IF($F32=\"\",\"\",VLOOKUP($F32,'Reference Data - Transport fuel'!$C:$O,AB$4,FALSE))","v":""},null,{"$f":"IF($F32=\"\",\"\",VLOOKUP($F32,'Reference Data - Transport fuel'!$C:$O,AD$4,FALSE))","v":""},null,{"$f":"IF($F32=\"\",\"\",VLOOKUP($F32,'Reference Data - Transport fuel'!$C:$O,AF$4,FALSE))","v":""},null,"","","","","","","","",null,"",null,"","",null,"",null,null,{"$f":"INDEX('Dropdown menus'!$A$1:$D$6,MATCH($M32,'Dropdown menus'!$A$1:$A$6,0),$AY$6)","v":{"$error":"#N/A"}},null,{"$f":"IF($N32=\"\",\"\",VLOOKUP($N32,'Reference Passenger Transport'!$C:$O,BA$4,FALSE))","v":""},{"$f":"IF($N32=\"\",\"\",VLOOKUP($N32,'Reference Passenger Transport'!$C:$O,BB$4,FALSE))","v":""},{"$f":"IF($N32=\"\",\"\",VLOOKUP($N32,'Reference Passenger Transport'!$C:$O,BC$4,FALSE))","v":""},{"$f":"IF($N32=\"\",\"\",VLOOKUP($N32,'Reference Passenger Transport'!$C:$O,BD$4,FALSE))","v":""},{"$f":"IF($N32=\"\",\"\",VLOOKUP($N32,'Reference Passenger Transport'!$C:$O,BE$4,FALSE))","v":""},{"$f":"IF($N32=\"\",\"\",VLOOKUP($N32,'Reference Passenger Transport'!$C:$O,BF$4,FALSE))","v":""},{"$f":"IF($N32=\"\",\"\",VLOOKUP($N32,'Reference Passenger Transport'!$C:$O,BG$4,FALSE))","v":""},{"$f":"IF($N32=\"\",\"\",VLOOKUP($N32,'Reference Passenger Transport'!$C:$O,BH$4,FALSE))","v":""},{"$f":"IF($N32=\"\",\"\",VLOOKUP($N32,'Reference Passenger Transport'!$C:$O,BI$4,FALSE))","v":""},{"$f":"IF($N32=\"\",\"\",VLOOKUP($N32,'Reference Passenger Transport'!$C:$O,BJ$4,FALSE))","v":""},{"$f":"IF($N32=\"\",\"\",VLOOKUP($N32,'Reference Passenger Transport'!$C:$O,BK$4,FALSE))","v":""},{"$f":"IF($N32=\"\",\"\",VLOOKUP($N32,'Reference Passenger Transport'!$C:$O,BL$4,FALSE))","v":""},{"$f":"IF($N32=\"\",\"\",VLOOKUP($N32,'Reference Passenger Transport'!$C:$O,BM$4,FALSE))","v":""},null,"","","","","","","","",null,"",null,"","",null,""]
[null,null,null,null,null,null,null,null,null,null,null,null,null,null,null,null,null,{"$f":"INDEX('Dropdown menus'!$A$1:$D$6,MATCH($E33,'Dropdown menus'!$A$1:$A$6,0),$R$6)","v":{"$error":"#N/A"}},null,{"$f":"IF($F33=\"\",\"\",VLOOKUP($F33,'Reference Data - Transport fuel'!$C:$O,T$4,FALSE))","v":""},{"$f":"IF($F33=\"\",\"\",VLOOKUP($F33,'Reference Data - Transport fuel'!$C:$O,U$4,FALSE))","v":""},{"$f":"IF($F33=\"\",\"\",VLOOKUP($F33,'Reference Data - Transport fuel'!$C:$O,V$4,FALSE))","v":""},{"$f":"IF($F33=\"\",\"\",VLOOKUP($F33,'Reference Data - Transport fuel'!$C:$O,W$4,FALSE))","v":""},{"$f":"IF($F33=\"\",\"\",VLOOKUP($F33,'Reference Data - Transport fuel'!$C:$O,X$4,FALSE))","v":""},{"$f":"IF($F33=\"\",\"\",VLOOKUP($F33,'Reference Data - Transport fuel'!$C:$O,Y$4,FALSE))","v":""},{"$f":"IF($F33=\"\",\"\",VLOOKUP($F33,'Reference Data - Transport fuel'!$C:$O,Z$4,FALSE))","v":""},{"$f":"IF($F33=\"\",\"\",VLOOKUP($F33,'Reference Data - Transport fuel'!$C:$O,AA$4,FALSE))","v":""},{"$f":"IF($F33=\"\",\"\",VLOOKUP($F33,'Reference Data - Transport fuel'!$C:$O,AB$4,FALSE))","v":""},null,{"$f":"IF($F33=\"\",\"\",VLOOKUP($F33,'Reference Data - Transport fuel'!$C:$O,AD$4,FALSE))","v":""},null,{"$f":"IF($F33=\"\",\"\",VLOOKUP($F33,'Reference Data - Transport fuel'!$C:$O,AF$4,FALSE))","v":""},null,"","","","","","","","",null,"",null,"","",null,"",null,null,{"$f":"INDEX('Dropdown menus'!$A$1:$D$6,MATCH($M33,'Dropdown menus'!$A$1:$A$6,0),$AY$6)","v":{"$error":"#N/A"}},null,{"$f":"IF($N33=\"\",\"\",VLOOKUP($N33,'Reference Passenger Transport'!$C:$O,BA$4,FALSE))","v":""},{"$f":"IF($N33=\"\",\"\",VLOOKUP($N33,'Reference Passenger Transport'!$C:$O,BB$4,FALSE))","v":""},{"$f":"IF($N33=\"\",\"\",VLOOKUP($N33,'Reference Passenger Transport'!$C:$O,BC$4,FALSE))","v":""},{"$f":"IF($N33=\"\",\"\",VLOOKUP($N33,'Reference Passenger Transport'!$C:$O,BD$4,FALSE))","v":""},{"$f":"IF($N33=\"\",\"\",VLOOKUP($N33,'Reference Passenger Transport'!$C:$O,BE$4,FALSE))","v":""},{"$f":"IF($N33=\"\",\"\",VLOOKUP($N33,'Reference Passenger Transport'!$C:$O,BF$4,FALSE))","v":""},{"$f":"IF($N33=\"\",\"\",VLOOKUP($N33,'Reference Passenger Transport'!$C:$O,BG$4,FALSE))","v":""},{"$f":"IF($N33=\"\",\"\",VLOOKUP($N33,'Reference Passenger Transport'!$C:$O,BH$4,FALSE))","v":""},{"$f":"IF($N33=\"\",\"\",VLOOKUP($N33,'Reference Passenger Transport'!$C:$O,BI$4,FALSE))","v":""},{"$f":"IF($N33=\"\",\"\",VLOOKUP($N33,'Reference Passenger Transport'!$C:$O,BJ$4,FALSE))","v":""},{"$f":"IF($N33=\"\",\"\",VLOOKUP($N33,'Reference Passenger Transport'!$C:$O,BK$4,FALSE))","v":""},{"$f":"IF($N33=\"\",\"\",VLOOKUP($N33,'Reference Passenger Transport'!$C:$O,BL$4,FALSE))","v":""},{"$f":"IF($N33=\"\",\"\",VLOOKUP($N33,'Reference Passenger Transport'!$C:$O,BM$4,FALSE))","v":""},null,"","","","","","","","",null,"",null,"","",null,""]
[null,null,null,null,null,null,null,null,null,null,null,null,null,null,null,null,null,{"$f":"INDEX('Dropdown menus'!$A$1:$D$6,MATCH($E34,'Dropdown menus'!$A$1:$A$6,0),$R$6)","v":{"$error":"#N/A"}},null,{"$f":"IF($F34=\"\",\"\",VLOOKUP($F34,'Reference Data - Transport fuel'!$C:$O,T$4,FALSE))","v":""},{"$f":"IF($F34=\"\",\"\",VLOOKUP($F34,'Reference Data - Transport fuel'!$C:$O,U$4,FALSE))","v":""},{"$f":"IF($F34=\"\",\"\",VLOOKUP($F34,'Reference Data - Transport fuel'!$C:$O,V$4,FALSE))","v":""},{"$f":"IF($F34=\"\",\"\",VLOOKUP($F34,'Reference Data - Transport fuel'!$C:$O,W$4,FALSE))","v":""},{"$f":"IF($F34=\"\",\"\",VLOOKUP($F34,'Reference Data - Transport fuel'!$C:$O,X$4,FALSE))","v":""},{"$f":"IF($F34=\"\",\"\",VLOOKUP($F34,'Reference Data - Transport fuel'!$C:$O,Y$4,FALSE))","v":""},{"$f":"IF($F34=\"\",\"\",VLOOKUP($F34,'Reference Data - Transport fuel'!$C:$O,Z$4,FALSE))","v":""},{"$f":"IF($F34=\"\",\"\",VLOOKUP($F34,'Reference Data - Transport fuel'!$C:$O,AA$4,FALSE))","v":""},{"$f":"IF($F34=\"\",\"\",VLOOKUP($F34,'Reference Data - Transport fuel'!$C:$O,AB$4,FALSE))","v":""},null,{"$f":"IF($F34=\"\",\"\",VLOOKUP($F34,'Reference Data - Transport fuel'!$C:$O,AD$4,FALSE))","v":""},null,{"$f":"IF($F34=\"\",\"\",VLOOKUP($F34,'Reference Data - Transport fuel'!$C:$O,AF$4,FALSE))","v":""},null,"","","","","","","","",null,"",null,"","",null,"",null,null,{"$f":"INDEX('Dropdown menus'!$A$1:$D$6,MATCH($M34,'Dropdown menus'!$A$1:$A$6,0),$AY$6)","v":{"$error":"#N/A"}},null,{"$f":"IF($N34=\"\",\"\",VLOOKUP($N34,'Reference Passenger Transport'!$C:$O,BA$4,FALSE))","v":""},{"$f":"IF($N34=\"\",\"\",VLOOKUP($N34,'Reference Passenger Transport'!$C:$O,BB$4,FALSE))","v":""},{"$f":"IF($N34=\"\",\"\",VLOOKUP($N34,'Reference Passenger Transport'!$C:$O,BC$4,FALSE))","v":""},{"$f":"IF($N34=\"\",\"\",VLOOKUP($N34,'Reference Passenger Transport'!$C:$O,BD$4,FALSE))","v":""},{"$f":"IF($N34=\"\",\"\",VLOOKUP($N34,'Reference Passenger Transport'!$C:$O,BE$4,FALSE))","v":""},{"$f":"IF($N34=\"\",\"\",VLOOKUP($N34,'Reference Passenger Transport'!$C:$O,BF$4,FALSE))","v":""},{"$f":"IF($N34=\"\",\"\",VLOOKUP($N34,'Reference Passenger Transport'!$C:$O,BG$4,FALSE))","v":""},{"$f":"IF($N34=\"\",\"\",VLOOKUP($N34,'Reference Passenger Transport'!$C:$O,BH$4,FALSE))","v":""},{"$f":"IF($N34=\"\",\"\",VLOOKUP($N34,'Reference Passenger Transport'!$C:$O,BI$4,FALSE))","v":""},{"$f":"IF($N34=\"\",\"\",VLOOKUP($N34,'Reference Passenger Transport'!$C:$O,BJ$4,FALSE))","v":""},{"$f":"IF($N34=\"\",\"\",VLOOKUP($N34,'Reference Passenger Transport'!$C:$O,BK$4,FALSE))","v":""},{"$f":"IF($N34=\"\",\"\",VLOOKUP($N34,'Reference Passenger Transport'!$C:$O,BL$4,FALSE))","v":""},{"$f":"IF($N34=\"\",\"\",VLOOKUP($N34,'Reference Passenger Transport'!$C:$O,BM$4,FALSE))","v":""},null,"","","","","","","","",null,"",null,"","",null,""]
[null,null,null,null,null,null,null,null,null,null,null,null,null,null,null,null,null,{"$f":"INDEX('Dropdown menus'!$A$1:$D$6,MATCH($E35,'Dropdown menus'!$A$1:$A$6,0),$R$6)","v":{"$error":"#N/A"}},null,{"$f":"IF($F35=\"\",\"\",VLOOKUP($F35,'Reference Data - Transport fuel'!$C:$O,T$4,FALSE))","v":""},{"$f":"IF($F35=\"\",\"\",VLOOKUP($F35,'Reference Data - Transport fuel'!$C:$O,U$4,FALSE))","v":""},{"$f":"IF($F35=\"\",\"\",VLOOKUP($F35,'Reference Data - Transport fuel'!$C:$O,V$4,FALSE))","v":""},{"$f":"IF($F35=\"\",\"\",VLOOKUP($F35,'Reference Data - Transport fuel'!$C:$O,W$4,FALSE))","v":""},{"$f":"IF($F35=\"\",\"\",VLOOKUP($F35,'Reference Data - Transport fuel'!$C:$O,X$4,FALSE))","v":""},{"$f":"IF($F35=\"\",\"\",VLOOKUP($F35,'Reference Data - Transport fuel'!$C:$O,Y$4,FALSE))","v":""},{"$f":"IF($F35=\"\",\"\",VLOOKUP($F35,'Reference Data - Transport fuel'!$C:$O,Z$4,FALSE))","v":""},{"$f":"IF($F35=\"\",\"\",VLOOKUP($F35,'Reference Data - Transport fuel'!$C:$O,AA$4,FALSE))","v":""},{"$f":"IF($F35=\"\",\"\",VLOOKUP($F35,'Reference Data - Transport fuel'!$C:$O,AB$4,FALSE))","v":""},null,{"$f":"IF($F35=\"\",\"\",VLOOKUP($F35,'Reference Data - Transport fuel'!$C:$O,AD$4,FALSE))","v":""},null,{"$f":"IF($F35=\"\",\"\",VLOOKUP($F35,'Reference Data - Transport fuel'!$C:$O,AF$4,FALSE))","v":""},null,"","","","","","","","",null,"",null,"","",null,"",null,null,{"$f":"INDEX('Dropdown menus'!$A$1:$D$6,MATCH($M35,'Dropdown menus'!$A$1:$A$6,0),$AY$6)","v":{"$error":"#N/A"}},null,{"$f":"IF($N35=\"\",\"\",VLOOKUP($N35,'Reference Passenger Transport'!$C:$O,BA$4,FALSE))","v":""},{"$f":"IF($N35=\"\",\"\",VLOOKUP($N35,'Reference Passenger Transport'!$C:$O,BB$4,FALSE))","v":""},{"$f":"IF($N35=\"\",\"\",VLOOKUP($N35,'Reference Passenger Transport'!$C:$O,BC$4,FALSE))","v":""},{"$f":"IF($N35=\"\",\"\",VLOOKUP($N35,'Reference Passenger Transport'!$C:$O,BD$4,FALSE))","v":""},{"$f":"IF($N35=\"\",\"\",VLOOKUP($N35,'Reference Passenger Transport'!$C:$O,BE$4,FALSE))","v":""},{"$f":"IF($N35=\"\",\"\",VLOOKUP($N35,'Reference Passenger Transport'!$C:$O,BF$4,FALSE))","v":""},{"$f":"IF($N35=\"\",\"\",VLOOKUP($N35,'Reference Passenger Transport'!$C:$O,BG$4,FALSE))","v":""},{"$f":"IF($N35=\"\",\"\",VLOOKUP($N35,'Reference Passenger Transport'!$C:$O,BH$4,FALSE))","v":""},{"$f":"IF($N35=\"\",\"\",VLOOKUP($N35,'Reference Passenger Transport'!$C:$O,BI$4,FALSE))","v":""},{"$f":"IF($N35=\"\",\"\",VLOOKUP($N35,'Reference Passenger Transport'!$C:$O,BJ$4,FALSE))","v":""},{"$f":"IF($N35=\"\",\"\",VLOOKUP($N35,'Reference Passenger Transport'!$C:$O,BK$4,FALSE))","v":""},{"$f":"IF($N35=\"\",\"\",VLOOKUP($N35,'Reference Passenger Transport'!$C:$O,BL$4,FALSE))","v":""},{"$f":"IF($N35=\"\",\"\",VLOOKUP($N35,'Reference Passenger Transport'!$C:$O,BM$4,FALSE))","v":""},null,"","","","","","","","",null,"",null,"","",null,""]
[null,null,null,null,null,null,null,null,null,null,null,null,null,null,null,null,null,{"$f":"INDEX('Dropdown menus'!$A$1:$D$6,MATCH($E36,'Dropdown menus'!$A$1:$A$6,0),$R$6)","v":{"$error":"#N/A"}},null,{"$f":"IF($F36=\"\",\"\",VLOOKUP($F36,'Reference Data - Transport fuel'!$C:$O,T$4,FALSE))","v":""},{"$f":"IF($F36=\"\",\"\",VLOOKUP($F36,'Reference Data - Transport fuel'!$C:$O,U$4,FALSE))","v":""},{"$f":"IF($F36=\"\",\"\",VLOOKUP($F36,'Reference Data - Transport fuel'!$C:$O,V$4,FALSE))","v":""},{"$f":"IF($F36=\"\",\"\",VLOOKUP($F36,'Reference Data - Transport fuel'!$C:$O,W$4,FALSE))","v":""},{"$f":"IF($F36=\"\",\"\",VLOOKUP($F36,'Reference Data - Transport fuel'!$C:$O,X$4,FALSE))","v":""},{"$f":"IF($F36=\"\",\"\",VLOOKUP($F36,'Reference Data - Transport fuel'!$C:$O,Y$4,FALSE))","v":""},{"$f":"IF($F36=\"\",\"\",VLOOKUP($F36,'Reference Data - Transport fuel'!$C:$O,Z$4,FALSE))","v":""},{"$f":"IF($F36=\"\",\"\",VLOOKUP($F36,'Reference Data - Transport fuel'!$C:$O,AA$4,FALSE))","v":""},{"$f":"IF($F36=\"\",\"\",VLOOKUP($F36,'Reference Data - Transport fuel'!$C:$O,AB$4,FALSE))","v":""},null,{"$f":"IF($F36=\"\",\"\",VLOOKUP($F36,'Reference Data - Transport fuel'!$C:$O,AD$4,FALSE))","v":""},null,{"$f":"IF($F36=\"\",\"\",VLOOKUP($F36,'Reference Data - Transport fuel'!$C:$O,AF$4,FALSE))","v":""},null,"","","","","","","","",null,"",null,"","",null,"",null,null,{"$f":"INDEX('Dropdown menus'!$A$1:$D$6,MATCH($M36,'Dropdown menus'!$A$1:$A$6,0),$AY$6)","v":{"$error":"#N/A"}},null,{"$f":"IF($N36=\"\",\"\",VLOOKUP($N36,'Reference Passenger Transport'!$C:$O,BA$4,FALSE))","v":""},{"$f":"IF($N36=\"\",\"\",VLOOKUP($N36,'Reference Passenger Transport'!$C:$O,BB$4,FALSE))","v":""},{"$f":"IF($N36=\"\",\"\",VLOOKUP($N36,'Reference Passenger Transport'!$C:$O,BC$4,FALSE))","v":""},{"$f":"IF($N36=\"\",\"\",VLOOKUP($N36,'Reference Passenger Transport'!$C:$O,BD$4,FALSE))","v":""},{"$f":"IF($N36=\"\",\"\",VLOOKUP($N36,'Reference Passenger Transport'!$C:$O,BE$4,FALSE))","v":""},{"$f":"IF($N36=\"\",\"\",VLOOKUP($N36,'Reference Passenger Transport'!$C:$O,BF$4,FALSE))","v":""},{"$f":"IF($N36=\"\",\"\",VLOOKUP($N36,'Reference Passenger Transport'!$C:$O,BG$4,FALSE))","v":""},{"$f":"IF($N36=\"\",\"\",VLOOKUP($N36,'Reference Passenger Transport'!$C:$O,BH$4,FALSE))","v":""},{"$f":"IF($N36=\"\",\"\",VLOOKUP($N36,'Reference Passenger Transport'!$C:$O,BI$4,FALSE))","v":""},{"$f":"IF($N36=\"\",\"\",VLOOKUP($N36,'Reference Passenger Transport'!$C:$O,BJ$4,FALSE))","v":""},{"$f":"IF($N36=\"\",\"\",VLOOKUP($N36,'Reference Passenger Transport'!$C:$O,BK$4,FALSE))","v":""},{"$f":"IF($N36=\"\",\"\",VLOOKUP($N36,'Reference Passenger Transport'!$C:$O,BL$4,FALSE))","v":""},{"$f":"IF($N36=\"\",\"\",VLOOKUP($N36,'Reference Passenger Transport'!$C:$O,BM$4,FALSE))","v":""},null,"","","","","","","","",null,"",null,"","",null,""]
[null,null,null,null,null,null,null,null,null,null,null,null,null,null,null,null,null,{"$f":"INDEX('Dropdown menus'!$A$1:$D$6,MATCH($E37,'Dropdown menus'!$A$1:$A$6,0),$R$6)","v":{"$error":"#N/A"}},null,{"$f":"IF($F37=\"\",\"\",VLOOKUP($F37,'Reference Data - Transport fuel'!$C:$O,T$4,FALSE))","v":""},{"$f":"IF($F37=\"\",\"\",VLOOKUP($F37,'Reference Data - Transport fuel'!$C:$O,U$4,FALSE))","v":""},{"$f":"IF($F37=\"\",\"\",VLOOKUP($F37,'Reference Data - Transport fuel'!$C:$O,V$4,FALSE))","v":""},{"$f":"IF($F37=\"\",\"\",VLOOKUP($F37,'Reference Data - Transport fuel'!$C:$O,W$4,FALSE))","v":""},{"$f":"IF($F37=\"\",\"\",VLOOKUP($F37,'Reference Data - Transport fuel'!$C:$O,X$4,FALSE))","v":""},{"$f":"IF($F37=\"\",\"\",VLOOKUP($F37,'Reference Data - Transport fuel'!$C:$O,Y$4,FALSE))","v":""},{"$f":"IF($F37=\"\",\"\",VLOOKUP($F37,'Reference Data - Transport fuel'!$C:$O,Z$4,FALSE))","v":""},{"$f":"IF($F37=\"\",\"\",VLOOKUP($F37,'Reference Data - Transport fuel'!$C:$O,AA$4,FALSE))","v":""},{"$f":"IF($F37=\"\",\"\",VLOOKUP($F37,'Reference Data - Transport fuel'!$C:$O,AB$4,FALSE))","v":""},null,{"$f":"IF($F37=\"\",\"\",VLOOKUP($F37,'Reference Data - Transport fuel'!$C:$O,AD$4,FALSE))","v":""},null,{"$f":"IF($F37=\"\",\"\",VLOOKUP($F37,'Reference Data - Transport fuel'!$C:$O,AF$4,FALSE))","v":""},null,"","","","","","","","",null,"",null,"","",null,"",null,null,{"$f":"INDEX('Dropdown menus'!$A$1:$D$6,MATCH($M37,'Dropdown menus'!$A$1:$A$6,0),$AY$6)","v":{"$error":"#N/A"}},null,{"$f":"IF($N37=\"\",\"\",VLOOKUP($N37,'Reference Passenger Transport'!$C:$O,BA$4,FALSE))","v":""},{"$f":"IF($N37=\"\",\"\",VLOOKUP($N37,'Reference Passenger Transport'!$C:$O,BB$4,FALSE))","v":""},{"$f":"IF($N37=\"\",\"\",VLOOKUP($N37,'Reference Passenger Transport'!$C:$O,BC$4,FALSE))","v":""},{"$f":"IF($N37=\"\",\"\",VLOOKUP($N37,'Reference Passenger Transport'!$C:$O,BD$4,FALSE))","v":""},{"$f":"IF($N37=\"\",\"\",VLOOKUP($N37,'Reference Passenger Transport'!$C:$O,BE$4,FALSE))","v":""},{"$f":"IF($N37=\"\",\"\",VLOOKUP($N37,'Reference Passenger Transport'!$C:$O,BF$4,FALSE))","v":""},{"$f":"IF($N37=\"\",\"\",VLOOKUP($N37,'Reference Passenger Transport'!$C:$O,BG$4,FALSE))","v":""},{"$f":"IF($N37=\"\",\"\",VLOOKUP($N37,'Reference Passenger Transport'!$C:$O,BH$4,FALSE))","v":""},{"$f":"IF($N37=\"\",\"\",VLOOKUP($N37,'Reference Passenger Transport'!$C:$O,BI$4,FALSE))","v":""},{"$f":"IF($N37=\"\",\"\",VLOOKUP($N37,'Reference Passenger Transport'!$C:$O,BJ$4,FALSE))","v":""},{"$f":"IF($N37=\"\",\"\",VLOOKUP($N37,'Reference Passenger Transport'!$C:$O,BK$4,FALSE))","v":""},{"$f":"IF($N37=\"\",\"\",VLOOKUP($N37,'Reference Passenger Transport'!$C:$O,BL$4,FALSE))","v":""},{"$f":"IF($N37=\"\",\"\",VLOOKUP($N37,'Reference Passenger Transport'!$C:$O,BM$4,FALSE))","v":""},null,"","","","","","","","",null,"",null,"","",null,""]
[null,null,null,null,null,null,null,null,null,null,null,null,null,null,null,null,null,{"$f":"INDEX('Dropdown menus'!$A$1:$D$6,MATCH($E38,'Dropdown menus'!$A$1:$A$6,0),$R$6)","v":{"$error":"#N/A"}},null,{"$f":"IF($F38=\"\",\"\",VLOOKUP($F38,'Reference Data - Transport fuel'!$C:$O,T$4,FALSE))","v":""},{"$f":"IF($F38=\"\",\"\",VLOOKUP($F38,'Reference Data - Transport fuel'!$C:$O,U$4,FALSE))","v":""},{"$f":"IF($F38=\"\",\"\",VLOOKUP($F38,'Reference Data - Transport fuel'!$C:$O,V$4,FALSE))","v":""},{"$f":"IF($F38=\"\",\"\",VLOOKUP($F38,'Reference Data - Transport fuel'!$C:$O,W$4,FALSE))","v":""},{"$f":"IF($F38=\"\",\"\",VLOOKUP($F38,'Reference Data - Transport fuel'!$C:$O,X$4,FALSE))","v":""},{"$f":"IF($F38=\"\",\"\",VLOOKUP($F38,'Reference Data - Transport fuel'!$C:$O,Y$4,FALSE))","v":""},{"$f":"IF($F38=\"\",\"\",VLOOKUP($F38,'Reference Data - Transport fuel'!$C:$O,Z$4,FALSE))","v":""},{"$f":"IF($F38=\"\",\"\",VLOOKUP($F38,'Reference Data - Transport fuel'!$C:$O,AA$4,FALSE))","v":""},{"$f":"IF($F38=\"\",\"\",VLOOKUP($F38,'Reference Data - Transport fuel'!$C:$O,AB$4,FALSE))","v":""},null,{"$f":"IF($F38=\"\",\"\",VLOOKUP($F38,'Reference Data - Transport fuel'!$C:$O,AD$4,FALSE))","v":""},null,{"$f":"IF($F38=\"\",\"\",VLOOKUP($F38,'Reference Data - Transport fuel'!$C:$O,AF$4,FALSE))","v":""},null,"","","","","","","","",null,"",null,"","",null,"",null,null,{"$f":"INDEX('Dropdown menus'!$A$1:$D$6,MATCH($M38,'Dropdown menus'!$A$1:$A$6,0),$AY$6)","v":{"$error":"#N/A"}},null,{"$f":"IF($N38=\"\",\"\",VLOOKUP($N38,'Reference Passenger Transport'!$C:$O,BA$4,FALSE))","v":""},{"$f":"IF($N38=\"\",\"\",VLOOKUP($N38,'Reference Passenger Transport'!$C:$O,BB$4,FALSE))","v":""},{"$f":"IF($N38=\"\",\"\",VLOOKUP($N38,'Reference Passenger Transport'!$C:$O,BC$4,FALSE))","v":""},{"$f":"IF($N38=\"\",\"\",VLOOKUP($N38,'Reference Passenger Transport'!$C:$O,BD$4,FALSE))","v":""},{"$f":"IF($N38=\"\",\"\",VLOOKUP($N38,'Reference Passenger Transport'!$C:$O,BE$4,FALSE))","v":""},{"$f":"IF($N38=\"\",\"\",VLOOKUP($N38,'Reference Passenger Transport'!$C:$O,BF$4,FALSE))","v":""},{"$f":"IF($N38=\"\",\"\",VLOOKUP($N38,'Reference Passenger Transport'!$C:$O,BG$4,FALSE))","v":""},{"$f":"IF($N38=\"\",\"\",VLOOKUP($N38,'Reference Passenger Transport'!$C:$O,BH$4,FALSE))","v":""},{"$f":"IF($N38=\"\",\"\",VLOOKUP($N38,'Reference Passenger Transport'!$C:$O,BI$4,FALSE))","v":""},{"$f":"IF($N38=\"\",\"\",VLOOKUP($N38,'Reference Passenger Transport'!$C:$O,BJ$4,FALSE))","v":""},{"$f":"IF($N38=\"\",\"\",VLOOKUP($N38,'Reference Passenger Transport'!$C:$O,BK$4,FALSE))","v":""},{"$f":"IF($N38=\"\",\"\",VLOOKUP($N38,'Reference Passenger Transport'!$C:$O,BL$4,FALSE))","v":""},{"$f":"IF($N38=\"\",\"\",VLOOKUP($N38,'Reference Passenger Transport'!$C:$O,BM$4,FALSE))","v":""},null,"","","","","","","","",null,"",null,"","",null,""]
[null,null,null,null,null,null,null,null,null,null,null,null,null,null,null,null,null,{"$f":"INDEX('Dropdown menus'!$A$1:$D$6,MATCH($E39,'Dropdown menus'!$A$1:$A$6,0),$R$6)","v":{"$error":"#N/A"}},null,{"$f":"IF($F39=\"\",\"\",VLOOKUP($F39,'Reference Data - Transport fuel'!$C:$O,T$4,FALSE))","v":""},{"$f":"IF($F39=\"\",\"\",VLOOKUP($F39,'Reference Data - Transport fuel'!$C:$O,U$4,FALSE))","v":""},{"$f":"IF($F39=\"\",\"\",VLOOKUP($F39,'Reference Data - Transport fuel'!$C:$O,V$4,FALSE))","v":""},{"$f":"IF($F39=\"\",\"\",VLOOKUP($F39,'Reference Data - Transport fuel'!$C:$O,W$4,FALSE))","v":""},{"$f":"IF($F39=\"\",\"\",VLOOKUP($F39,'Reference Data - Transport fuel'!$C:$O,X$4,FALSE))","v":""},{"$f":"IF($F39=\"\",\"\",VLOOKUP($F39,'Reference Data - Transport fuel'!$C:$O,Y$4,FALSE))","v":""},{"$f":"IF($F39=\"\",\"\",VLOOKUP($F39,'Reference Data - Transport fuel'!$C:$O,Z$4,FALSE))","v":""},{"$f":"IF($F39=\"\",\"\",VLOOKUP($F39,'Reference Data - Transport fuel'!$C:$O,AA$4,FALSE))","v":""},{"$f":"IF($F39=\"\",\"\",VLOOKUP($F39,'Reference Data - Transport fuel'!$C:$O,AB$4,FALSE))","v":""},null,{"$f":"IF($F39=\"\",\"\",VLOOKUP($F39,'Reference Data - Transport fuel'!$C:$O,AD$4,FALSE))","v":""},null,{"$f":"IF($F39=\"\",\"\",VLOOKUP($F39,'Reference Data - Transport fuel'!$C:$O,AF$4,FALSE))","v":""},null,"","","","","","","","",null,"",null,"","",null,"",null,null,{"$f":"INDEX('Dropdown menus'!$A$1:$D$6,MATCH($M39,'Dropdown menus'!$A$1:$A$6,0),$AY$6)","v":{"$error":"#N/A"}},null,{"$f":"IF($N39=\"\",\"\",VLOOKUP($N39,'Reference Passenger Transport'!$C:$O,BA$4,FALSE))","v":""},{"$f":"IF($N39=\"\",\"\",VLOOKUP($N39,'Reference Passenger Transport'!$C:$O,BB$4,FALSE))","v":""},{"$f":"IF($N39=\"\",\"\",VLOOKUP($N39,'Reference Passenger Transport'!$C:$O,BC$4,FALSE))","v":""},{"$f":"IF($N39=\"\",\"\",VLOOKUP($N39,'Reference Passenger Transport'!$C:$O,BD$4,FALSE))","v":""},{"$f":"IF($N39=\"\",\"\",VLOOKUP($N39,'Reference Passenger Transport'!$C:$O,BE$4,FALSE))","v":""},{"$f":"IF($N39=\"\",\"\",VLOOKUP($N39,'Reference Passenger Transport'!$C:$O,BF$4,FALSE))","v":""},{"$f":"IF($N39=\"\",\"\",VLOOKUP($N39,'Reference Passenger Transport'!$C:$O,BG$4,FALSE))","v":""},{"$f":"IF($N39=\"\",\"\",VLOOKUP($N39,'Reference Passenger Transport'!$C:$O,BH$4,FALSE))","v":""},{"$f":"IF($N39=\"\",\"\",VLOOKUP($N39,'Reference Passenger Transport'!$C:$O,BI$4,FALSE))","v":""},{"$f":"IF($N39=\"\",\"\",VLOOKUP($N39,'Reference Passenger Transport'!$C:$O,BJ$4,FALSE))","v":""},{"$f":"IF($N39=\"\",\"\",VLOOKUP($N39,'Reference Passenger Transport'!$C:$O,BK$4,FALSE))","v":""},{"$f":"IF($N39=\"\",\"\",VLOOKUP($N39,'Reference Passenger Transport'!$C:$O,BL$4,FALSE))","v":""},{"$f":"IF($N39=\"\",\"\",VLOOKUP($N39,'Reference Passenger Transport'!$C:$O,BM$4,FALSE))","v":""},null,"","","","","","","","",null,"",null,"","",null,""]
[null,null,null,null,null,null,null,null,null,null,null,null,null,null,null,null,null,{"$f":"INDEX('Dropdown menus'!$A$1:$D$6,MATCH($E40,'Dropdown menus'!$A$1:$A$6,0),$R$6)","v":{"$error":"#N/A"}},null,{"$f":"IF($F40=\"\",\"\",VLOOKUP($F40,'Reference Data - Transport fuel'!$C:$O,T$4,FALSE))","v":""},{"$f":"IF($F40=\"\",\"\",VLOOKUP($F40,'Reference Data - Transport fuel'!$C:$O,U$4,FALSE))","v":""},{"$f":"IF($F40=\"\",\"\",VLOOKUP($F40,'Reference Data - Transport fuel'!$C:$O,V$4,FALSE))","v":""},{"$f":"IF($F40=\"\",\"\",VLOOKUP($F40,'Reference Data - Transport fuel'!$C:$O,W$4,FALSE))","v":""},{"$f":"IF($F40=\"\",\"\",VLOOKUP($F40,'Reference Data - Transport fuel'!$C:$O,X$4,FALSE))","v":""},{"$f":"IF($F40=\"\",\"\",VLOOKUP($F40,'Reference Data - Transport fuel'!$C:$O,Y$4,FALSE))","v":""},{"$f":"IF($F40=\"\",\"\",VLOOKUP($F40,'Reference Data - Transport fuel'!$C:$O,Z$4,FALSE))","v":""},{"$f":"IF($F40=\"\",\"\",VLOOKUP($F40,'Reference Data - Transport fuel'!$C:$O,AA$4,FALSE))","v":""},{"$f":"IF($F40=\"\",\"\",VLOOKUP($F40,'Reference Data - Transport fuel'!$C:$O,AB$4,FALSE))","v":""},null,{"$f":"IF($F40=\"\",\"\",VLOOKUP($F40,'Reference Data - Transport fuel'!$C:$O,AD$4,FALSE))","v":""},null,{"$f":"IF($F40=\"\",\"\",VLOOKUP($F40,'Reference Data - Transport fuel'!$C:$O,AF$4,FALSE))","v":""},null,"","","","","","","","",null,"",null,"","",null,"",null,null,{"$f":"INDEX('Dropdown menus'!$A$1:$D$6,MATCH($M40,'Dropdown menus'!$A$1:$A$6,0),$AY$6)","v":{"$error":"#N/A"}},null,{"$f":"IF($N40=\"\",\"\",VLOOKUP($N40,'Reference Passenger Transport'!$C:$O,BA$4,FALSE))","v":""},{"$f":"IF($N40=\"\",\"\",VLOOKUP($N40,'Reference Passenger Transport'!$C:$O,BB$4,FALSE))","v":""},{"$f":"IF($N40=\"\",\"\",VLOOKUP($N40,'Reference Passenger Transport'!$C:$O,BC$4,FALSE))","v":""},{"$f":"IF($N40=\"\",\"\",VLOOKUP($N40,'Reference Passenger Transport'!$C:$O,BD$4,FALSE))","v":""},{"$f":"IF($N40=\"\",\"\",VLOOKUP($N40,'Reference Passenger Transport'!$C:$O,BE$4,FALSE))","v":""},{"$f":"IF($N40=\"\",\"\",VLOOKUP($N40,'Reference Passenger Transport'!$C:$O,BF$4,FALSE))","v":""},{"$f":"IF($N40=\"\",\"\",VLOOKUP($N40,'Reference Passenger Transport'!$C:$O,BG$4,FALSE))","v":""},{"$f":"IF($N40=\"\",\"\",VLOOKUP($N40,'Reference Passenger Transport'!$C:$O,BH$4,FALSE))","v":""},{"$f":"IF($N40=\"\",\"\",VLOOKUP($N40,'Reference Passenger Transport'!$C:$O,BI$4,FALSE))","v":""},{"$f":"IF($N40=\"\",\"\",VLOOKUP($N40,'Reference Passenger Transport'!$C:$O,BJ$4,FALSE))","v":""},{"$f":"IF($N40=\"\",\"\",VLOOKUP($N40,'Reference Passenger Transport'!$C:$O,BK$4,FALSE))","v":""},{"$f":"IF($N40=\"\",\"\",VLOOKUP($N40,'Reference Passenger Transport'!$C:$O,BL$4,FALSE))","v":""},{"$f":"IF($N40=\"\",\"\",VLOOKUP($N40,'Reference Passenger Transport'!$C:$O,BM$4,FALSE))","v":""},null,"","","","","","","","",null,"",null,"","",null,""]
[null,null,null,null,null,null,null,null,null,null,null,null,null,null,null,null,null,{"$f":"INDEX('Dropdown menus'!$A$1:$D$6,MATCH($E41,'Dropdown menus'!$A$1:$A$6,0),$R$6)","v":{"$error":"#N/A"}},null,{"$f":"IF($F41=\"\",\"\",VLOOKUP($F41,'Reference Data - Transport fuel'!$C:$O,T$4,FALSE))","v":""},{"$f":"IF($F41=\"\",\"\",VLOOKUP($F41,'Reference Data - Transport fuel'!$C:$O,U$4,FALSE))","v":""},{"$f":"IF($F41=\"\",\"\",VLOOKUP($F41,'Reference Data - Transport fuel'!$C:$O,V$4,FALSE))","v":""},{"$f":"IF($F41=\"\",\"\",VLOOKUP($F41,'Reference Data - Transport fuel'!$C:$O,W$4,FALSE))","v":""},{"$f":"IF($F41=\"\",\"\",VLOOKUP($F41,'Reference Data - Transport fuel'!$C:$O,X$4,FALSE))","v":""},{"$f":"IF($F41=\"\",\"\",VLOOKUP($F41,'Reference Data - Transport fuel'!$C:$O,Y$4,FALSE))","v":""},{"$f":"IF($F41=\"\",\"\",VLOOKUP($F41,'Reference Data - Transport fuel'!$C:$O,Z$4,FALSE))","v":""},{"$f":"IF($F41=\"\",\"\",VLOOKUP($F41,'Reference Data - Transport fuel'!$C:$O,AA$4,FALSE))","v":""},{"$f":"IF($F41=\"\",\"\",VLOOKUP($F41,'Reference Data - Transport fuel'!$C:$O,AB$4,FALSE))","v":""},null,{"$f":"IF($F41=\"\",\"\",VLOOKUP($F41,'Reference Data - Transport fuel'!$C:$O,AD$4,FALSE))","v":""},null,{"$f":"IF($F41=\"\",\"\",VLOOKUP($F41,'Reference Data - Transport fuel'!$C:$O,AF$4,FALSE))","v":""},null,"","","","","","","","",null,"",null,"","",null,"",null,null,{"$f":"INDEX('Dropdown menus'!$A$1:$D$6,MATCH($M41,'Dropdown menus'!$A$1:$A$6,0),$AY$6)","v":{"$error":"#N/A"}},null,{"$f":"IF($N41=\"\",\"\",VLOOKUP($N41,'Reference Passenger Transport'!$C:$O,BA$4,FALSE))","v":""},{"$f":"IF($N41=\"\",\"\",VLOOKUP($N41,'Reference Passenger Transport'!$C:$O,BB$4,FALSE))","v":""},{"$f":"IF($N41=\"\",\"\",VLOOKUP($N41,'Reference Passenger Transport'!$C:$O,BC$4,FALSE))","v":""},{"$f":"IF($N41=\"\",\"\",VLOOKUP($N41,'Reference Passenger Transport'!$C:$O,BD$4,FALSE))","v":""},{"$f":"IF($N41=\"\",\"\",VLOOKUP($N41,'Reference Passenger Transport'!$C:$O,BE$4,FALSE))","v":""},{"$f":"IF($N41=\"\",\"\",VLOOKUP($N41,'Reference Passenger Transport'!$C:$O,BF$4,FALSE))","v":""},{"$f":"IF($N41=\"\",\"\",VLOOKUP($N41,'Reference Passenger Transport'!$C:$O,BG$4,FALSE))","v":""},{"$f":"IF($N41=\"\",\"\",VLOOKUP($N41,'Reference Passenger Transport'!$C:$O,BH$4,FALSE))","v":""},{"$f":"IF($N41=\"\",\"\",VLOOKUP($N41,'Reference Passenger Transport'!$C:$O,BI$4,FALSE))","v":""},{"$f":"IF($N41=\"\",\"\",VLOOKUP($N41,'Reference Passenger Transport'!$C:$O,BJ$4,FALSE))","v":""},{"$f":"IF($N41=\"\",\"\",VLOOKUP($N41,'Reference Passenger Transport'!$C:$O,BK$4,FALSE))","v":""},{"$f":"IF($N41=\"\",\"\",VLOOKUP($N41,'Reference Passenger Transport'!$C:$O,BL$4,FALSE))","v":""},{"$f":"IF($N41=\"\",\"\",VLOOKUP($N41,'Reference Passenger Transport'!$C:$O,BM$4,FALSE))","v":""},null,"","","","","","","","",null,"",null,"","",null,""]
[null,null,null,null,null,null,null,null,null,null,null,null,null,null,null,null,null,{"$f":"INDEX('Dropdown menus'!$A$1:$D$6,MATCH($E42,'Dropdown menus'!$A$1:$A$6,0),$R$6)","v":{"$error":"#N/A"}},null,{"$f":"IF($F42=\"\",\"\",VLOOKUP($F42,'Reference Data - Transport fuel'!$C:$O,T$4,FALSE))","v":""},{"$f":"IF($F42=\"\",\"\",VLOOKUP($F42,'Reference Data - Transport fuel'!$C:$O,U$4,FALSE))","v":""},{"$f":"IF($F42=\"\",\"\",VLOOKUP($F42,'Reference Data - Transport fuel'!$C:$O,V$4,FALSE))","v":""},{"$f":"IF($F42=\"\",\"\",VLOOKUP($F42,'Reference Data - Transport fuel'!$C:$O,W$4,FALSE))","v":""},{"$f":"IF($F42=\"\",\"\",VLOOKUP($F42,'Reference Data - Transport fuel'!$C:$O,X$4,FALSE))","v":""},{"$f":"IF($F42=\"\",\"\",VLOOKUP($F42,'Reference Data - Transport fuel'!$C:$O,Y$4,FALSE))","v":""},{"$f":"IF($F42=\"\",\"\",VLOOKUP($F42,'Reference Data - Transport fuel'!$C:$O,Z$4,FALSE))","v":""},{"$f":"IF($F42=\"\",\"\",VLOOKUP($F42,'Reference Data - Transport fuel'!$C:$O,AA$4,FALSE))","v":""},{"$f":"IF($F42=\"\",\"\",VLOOKUP($F42,'Reference Data - Transport fuel'!$C:$O,AB$4,FALSE))","v":""},null,{"$f":"IF($F42=\"\",\"\",VLOOKUP($F42,'Reference Data - Transport fuel'!$C:$O,AD$4,FALSE))","v":""},null,{"$f":"IF($F42=\"\",\"\",VLOOKUP($F42,'Reference Data - Transport fuel'!$C:$O,AF$4,FALSE))","v":""},null,"","","","","","","","",null,"",null,"","",null,"",null,null,{"$f":"INDEX('Dropdown menus'!$A$1:$D$6,MATCH($M42,'Dropdown menus'!$A$1:$A$6,0),$AY$6)","v":{"$error":"#N/A"}},null,{"$f":"IF($N42=\"\",\"\",VLOOKUP($N42,'Reference Passenger Transport'!$C:$O,BA$4,FALSE))","v":""},{"$f":"IF($N42=\"\",\"\",VLOOKUP($N42,'Reference Passenger Transport'!$C:$O,BB$4,FALSE))","v":""},{"$f":"IF($N42=\"\",\"\",VLOOKUP($N42,'Reference Passenger Transport'!$C:$O,BC$4,FALSE))","v":""},{"$f":"IF($N42=\"\",\"\",VLOOKUP($N42,'Reference Passenger Transport'!$C:$O,BD$4,FALSE))","v":""},{"$f":"IF($N42=\"\",\"\",VLOOKUP($N42,'Reference Passenger Transport'!$C:$O,BE$4,FALSE))","v":""},{"$f":"IF($N42=\"\",\"\",VLOOKUP($N42,'Reference Passenger Transport'!$C:$O,BF$4,FALSE))","v":""},{"$f":"IF($N42=\"\",\"\",VLOOKUP($N42,'Reference Passenger Transport'!$C:$O,BG$4,FALSE))","v":""},{"$f":"IF($N42=\"\",\"\",VLOOKUP($N42,'Reference Passenger Transport'!$C:$O,BH$4,FALSE))","v":""},{"$f":"IF($N42=\"\",\"\",VLOOKUP($N42,'Reference Passenger Transport'!$C:$O,BI$4,FALSE))","v":""},{"$f":"IF($N42=\"\",\"\",VLOOKUP($N42,'Reference Passenger Transport'!$C:$O,BJ$4,FALSE))","v":""},{"$f":"IF($N42=\"\",\"\",VLOOKUP($N42,'Reference Passenger Transport'!$C:$O,BK$4,FALSE))","v":""},{"$f":"IF($N42=\"\",\"\",VLOOKUP($N42,'Reference Passenger Transport'!$C:$O,BL$4,FALSE))","v":""},{"$f":"IF($N42=\"\",\"\",VLOOKUP($N42,'Reference Passenger Transport'!$C:$O,BM$4,FALSE))","v":""},null,"","","","","","","","",null,"",null,"","",null,""]
[null,null,null,null,null,null,null,null,null,null,null,null,null,null,null,null,null,{"$f":"INDEX('Dropdown menus'!$A$1:$D$6,MATCH($E43,'Dropdown menus'!$A$1:$A$6,0),$R$6)","v":{"$error":"#N/A"}},null,{"$f":"IF($F43=\"\",\"\",VLOOKUP($F43,'Reference Data - Transport fuel'!$C:$O,T$4,FALSE))","v":""},{"$f":"IF($F43=\"\",\"\",VLOOKUP($F43,'Reference Data - Transport fuel'!$C:$O,U$4,FALSE))","v":""},{"$f":"IF($F43=\"\",\"\",VLOOKUP($F43,'Reference Data - Transport fuel'!$C:$O,V$4,FALSE))","v":""},{"$f":"IF($F43=\"\",\"\",VLOOKUP($F43,'Reference Data - Transport fuel'!$C:$O,W$4,FALSE))","v":""},{"$f":"IF($F43=\"\",\"\",VLOOKUP($F43,'Reference Data - Transport fuel'!$C:$O,X$4,FALSE))","v":""},{"$f":"IF($F43=\"\",\"\",VLOOKUP($F43,'Reference Data - Transport fuel'!$C:$O,Y$4,FALSE))","v":""},{"$f":"IF($F43=\"\",\"\",VLOOKUP($F43,'Reference Data - Transport fuel'!$C:$O,Z$4,FALSE))","v":""},{"$f":"IF($F43=\"\",\"\",VLOOKUP($F43,'Reference Data - Transport fuel'!$C:$O,AA$4,FALSE))","v":""},{"$f":"IF($F43=\"\",\"\",VLOOKUP($F43,'Reference Data - Transport fuel'!$C:$O,AB$4,FALSE))","v":""},null,{"$f":"IF($F43=\"\",\"\",VLOOKUP($F43,'Reference Data - Transport fuel'!$C:$O,AD$4,FALSE))","v":""},null,{"$f":"IF($F43=\"\",\"\",VLOOKUP($F43,'Reference Data - Transport fuel'!$C:$O,AF$4,FALSE))","v":""},null,"","","","","","","","",null,"",null,"","",null,"",null,null,{"$f":"INDEX('Dropdown menus'!$A$1:$D$6,MATCH($M43,'Dropdown menus'!$A$1:$A$6,0),$AY$6)","v":{"$error":"#N/A"}},null,{"$f":"IF($N43=\"\",\"\",VLOOKUP($N43,'Reference Passenger Transport'!$C:$O,BA$4,FALSE))","v":""},{"$f":"IF($N43=\"\",\"\",VLOOKUP($N43,'Reference Passenger Transport'!$C:$O,BB$4,FALSE))","v":""},{"$f":"IF($N43=\"\",\"\",VLOOKUP($N43,'Reference Passenger Transport'!$C:$O,BC$4,FALSE))","v":""},{"$f":"IF($N43=\"\",\"\",VLOOKUP($N43,'Reference Passenger Transport'!$C:$O,BD$4,FALSE))","v":""},{"$f":"IF($N43=\"\",\"\",VLOOKUP($N43,'Reference Passenger Transport'!$C:$O,BE$4,FALSE))","v":""},{"$f":"IF($N43=\"\",\"\",VLOOKUP($N43,'Reference Passenger Transport'!$C:$O,BF$4,FALSE))","v":""},{"$f":"IF($N43=\"\",\"\",VLOOKUP($N43,'Reference Passenger Transport'!$C:$O,BG$4,FALSE))","v":""},{"$f":"IF($N43=\"\",\"\",VLOOKUP($N43,'Reference Passenger Transport'!$C:$O,BH$4,FALSE))","v":""},{"$f":"IF($N43=\"\",\"\",VLOOKUP($N43,'Reference Passenger Transport'!$C:$O,BI$4,FALSE))","v":""},{"$f":"IF($N43=\"\",\"\",VLOOKUP($N43,'Reference Passenger Transport'!$C:$O,BJ$4,FALSE))","v":""},{"$f":"IF($N43=\"\",\"\",VLOOKUP($N43,'Reference Passenger Transport'!$C:$O,BK$4,FALSE))","v":""},{"$f":"IF($N43=\"\",\"\",VLOOKUP($N43,'Reference Passenger Transport'!$C:$O,BL$4,FALSE))","v":""},{"$f":"IF($N43=\"\",\"\",VLOOKUP($N43,'Reference Passenger Transport'!$C:$O,BM$4,FALSE))","v":""},null,"","","","","","","","",null,"",null,"","",null,""]
[null,null,null,null,null,null,null,null,null,null,null,null,null,null,null,null,null,{"$f":"INDEX('Dropdown menus'!$A$1:$D$6,MATCH($E44,'Dropdown menus'!$A$1:$A$6,0),$R$6)","v":{"$error":"#N/A"}},null,{"$f":"IF($F44=\"\",\"\",VLOOKUP($F44,'Reference Data - Transport fuel'!$C:$O,T$4,FALSE))","v":""},{"$f":"IF($F44=\"\",\"\",VLOOKUP($F44,'Reference Data - Transport fuel'!$C:$O,U$4,FALSE))","v":""},{"$f":"IF($F44=\"\",\"\",VLOOKUP($F44,'Reference Data - Transport fuel'!$C:$O,V$4,FALSE))","v":""},{"$f":"IF($F44=\"\",\"\",VLOOKUP($F44,'Reference Data - Transport fuel'!$C:$O,W$4,FALSE))","v":""},{"$f":"IF($F44=\"\",\"\",VLOOKUP($F44,'Reference Data - Transport fuel'!$C:$O,X$4,FALSE))","v":""},{"$f":"IF($F44=\"\",\"\",VLOOKUP($F44,'Reference Data - Transport fuel'!$C:$O,Y$4,FALSE))","v":""},{"$f":"IF($F44=\"\",\"\",VLOOKUP($F44,'Reference Data - Transport fuel'!$C:$O,Z$4,FALSE))","v":""},{"$f":"IF($F44=\"\",\"\",VLOOKUP($F44,'Reference Data - Transport fuel'!$C:$O,AA$4,FALSE))","v":""},{"$f":"IF($F44=\"\",\"\",VLOOKUP($F44,'Reference Data - Transport fuel'!$C:$O,AB$4,FALSE))","v":""},null,{"$f":"IF($F44=\"\",\"\",VLOOKUP($F44,'Reference Data - Transport fuel'!$C:$O,AD$4,FALSE))","v":""},null,{"$f":"IF($F44=\"\",\"\",VLOOKUP($F44,'Reference Data - Transport fuel'!$C:$O,AF$4,FALSE))","v":""},null,"","","","","","","","",null,"",null,"","",null,"",null,null,{"$f":"INDEX('Dropdown menus'!$A$1:$D$6,MATCH($M44,'Dropdown menus'!$A$1:$A$6,0),$AY$6)","v":{"$error":"#N/A"}},null,{"$f":"IF($N44=\"\",\"\",VLOOKUP($N44,'Reference Passenger Transport'!$C:$O,BA$4,FALSE))","v":""},{"$f":"IF($N44=\"\",\"\",VLOOKUP($N44,'Reference Passenger Transport'!$C:$O,BB$4,FALSE))","v":""},{"$f":"IF($N44=\"\",\"\",VLOOKUP($N44,'Reference Passenger Transport'!$C:$O,BC$4,FALSE))","v":""},{"$f":"IF($N44=\"\",\"\",VLOOKUP($N44,'Reference Passenger Transport'!$C:$O,BD$4,FALSE))","v":""},{"$f":"IF($N44=\"\",\"\",VLOOKUP($N44,'Reference Passenger Transport'!$C:$O,BE$4,FALSE))","v":""},{"$f":"IF($N44=\"\",\"\",VLOOKUP($N44,'Reference Passenger Transport'!$C:$O,BF$4,FALSE))","v":""},{"$f":"IF($N44=\"\",\"\",VLOOKUP($N44,'Reference Passenger Transport'!$C:$O,BG$4,FALSE))","v":""},{"$f":"IF($N44=\"\",\"\",VLOOKUP($N44,'Reference Passenger Transport'!$C:$O,BH$4,FALSE))","v":""},{"$f":"IF($N44=\"\",\"\",VLOOKUP($N44,'Reference Passenger Transport'!$C:$O,BI$4,FALSE))","v":""},{"$f":"IF($N44=\"\",\"\",VLOOKUP($N44,'Reference Passenger Transport'!$C:$O,BJ$4,FALSE))","v":""},{"$f":"IF($N44=\"\",\"\",VLOOKUP($N44,'Reference Passenger Transport'!$C:$O,BK$4,FALSE))","v":""},{"$f":"IF($N44=\"\",\"\",VLOOKUP($N44,'Reference Passenger Transport'!$C:$O,BL$4,FALSE))","v":""},{"$f":"IF($N44=\"\",\"\",VLOOKUP($N44,'Reference Passenger Transport'!$C:$O,BM$4,FALSE))","v":""},null,"","","","","","","","",null,"",null,"","",null,""]
[null,null,null,null,null,null,null,null,null,null,null,null,null,null,null,null,null,{"$f":"INDEX('Dropdown menus'!$A$1:$D$6,MATCH($E45,'Dropdown menus'!$A$1:$A$6,0),$R$6)","v":{"$error":"#N/A"}},null,{"$f":"IF($F45=\"\",\"\",VLOOKUP($F45,'Reference Data - Transport fuel'!$C:$O,T$4,FALSE))","v":""},{"$f":"IF($F45=\"\",\"\",VLOOKUP($F45,'Reference Data - Transport fuel'!$C:$O,U$4,FALSE))","v":""},{"$f":"IF($F45=\"\",\"\",VLOOKUP($F45,'Reference Data - Transport fuel'!$C:$O,V$4,FALSE))","v":""},{"$f":"IF($F45=\"\",\"\",VLOOKUP($F45,'Reference Data - Transport fuel'!$C:$O,W$4,FALSE))","v":""},{"$f":"IF($F45=\"\",\"\",VLOOKUP($F45,'Reference Data - Transport fuel'!$C:$O,X$4,FALSE))","v":""},{"$f":"IF($F45=\"\",\"\",VLOOKUP($F45,'Reference Data - Transport fuel'!$C:$O,Y$4,FALSE))","v":""},{"$f":"IF($F45=\"\",\"\",VLOOKUP($F45,'Reference Data - Transport fuel'!$C:$O,Z$4,FALSE))","v":""},{"$f":"IF($F45=\"\",\"\",VLOOKUP($F45,'Reference Data - Transport fuel'!$C:$O,AA$4,FALSE))","v":""},{"$f":"IF($F45=\"\",\"\",VLOOKUP($F45,'Reference Data - Transport fuel'!$C:$O,AB$4,FALSE))","v":""},null,{"$f":"IF($F45=\"\",\"\",VLOOKUP($F45,'Reference Data - Transport fuel'!$C:$O,AD$4,FALSE))","v":""},null,{"$f":"IF($F45=\"\",\"\",VLOOKUP($F45,'Reference Data - Transport fuel'!$C:$O,AF$4,FALSE))","v":""},null,"","","","","","","","",null,"",null,"","",null,"",null,null,{"$f":"INDEX('Dropdown menus'!$A$1:$D$6,MATCH($M45,'Dropdown menus'!$A$1:$A$6,0),$AY$6)","v":{"$error":"#N/A"}},null,{"$f":"IF($N45=\"\",\"\",VLOOKUP($N45,'Reference Passenger Transport'!$C:$O,BA$4,FALSE))","v":""},{"$f":"IF($N45=\"\",\"\",VLOOKUP($N45,'Reference Passenger Transport'!$C:$O,BB$4,FALSE))","v":""},{"$f":"IF($N45=\"\",\"\",VLOOKUP($N45,'Reference Passenger Transport'!$C:$O,BC$4,FALSE))","v":""},{"$f":"IF($N45=\"\",\"\",VLOOKUP($N45,'Reference Passenger Transport'!$C:$O,BD$4,FALSE))","v":""},{"$f":"IF($N45=\"\",\"\",VLOOKUP($N45,'Reference Passenger Transport'!$C:$O,BE$4,FALSE))","v":""},{"$f":"IF($N45=\"\",\"\",VLOOKUP($N45,'Reference Passenger Transport'!$C:$O,BF$4,FALSE))","v":""},{"$f":"IF($N45=\"\",\"\",VLOOKUP($N45,'Reference Passenger Transport'!$C:$O,BG$4,FALSE))","v":""},{"$f":"IF($N45=\"\",\"\",VLOOKUP($N45,'Reference Passenger Transport'!$C:$O,BH$4,FALSE))","v":""},{"$f":"IF($N45=\"\",\"\",VLOOKUP($N45,'Reference Passenger Transport'!$C:$O,BI$4,FALSE))","v":""},{"$f":"IF($N45=\"\",\"\",VLOOKUP($N45,'Reference Passenger Transport'!$C:$O,BJ$4,FALSE))","v":""},{"$f":"IF($N45=\"\",\"\",VLOOKUP($N45,'Reference Passenger Transport'!$C:$O,BK$4,FALSE))","v":""},{"$f":"IF($N45=\"\",\"\",VLOOKUP($N45,'Reference Passenger Transport'!$C:$O,BL$4,FALSE))","v":""},{"$f":"IF($N45=\"\",\"\",VLOOKUP($N45,'Reference Passenger Transport'!$C:$O,BM$4,FALSE))","v":""},null,"","","","","","","","",null,"",null,"","",null,""]
[null,null,null,null,null,null,null,null,null,null,null,null,null,null,null,null,null,{"$f":"INDEX('Dropdown menus'!$A$1:$D$6,MATCH($E46,'Dropdown menus'!$A$1:$A$6,0),$R$6)","v":{"$error":"#N/A"}},null,{"$f":"IF($F46=\"\",\"\",VLOOKUP($F46,'Reference Data - Transport fuel'!$C:$O,T$4,FALSE))","v":""},{"$f":"IF($F46=\"\",\"\",VLOOKUP($F46,'Reference Data - Transport fuel'!$C:$O,U$4,FALSE))","v":""},{"$f":"IF($F46=\"\",\"\",VLOOKUP($F46,'Reference Data - Transport fuel'!$C:$O,V$4,FALSE))","v":""},{"$f":"IF($F46=\"\",\"\",VLOOKUP($F46,'Reference Data - Transport fuel'!$C:$O,W$4,FALSE))","v":""},{"$f":"IF($F46=\"\",\"\",VLOOKUP($F46,'Reference Data - Transport fuel'!$C:$O,X$4,FALSE))","v":""},{"$f":"IF($F46=\"\",\"\",VLOOKUP($F46,'Reference Data - Transport fuel'!$C:$O,Y$4,FALSE))","v":""},{"$f":"IF($F46=\"\",\"\",VLOOKUP($F46,'Reference Data - Transport fuel'!$C:$O,Z$4,FALSE))","v":""},{"$f":"IF($F46=\"\",\"\",VLOOKUP($F46,'Reference Data - Transport fuel'!$C:$O,AA$4,FALSE))","v":""},{"$f":"IF($F46=\"\",\"\",VLOOKUP($F46,'Reference Data - Transport fuel'!$C:$O,AB$4,FALSE))","v":""},null,{"$f":"IF($F46=\"\",\"\",VLOOKUP($F46,'Reference Data - Transport fuel'!$C:$O,AD$4,FALSE))","v":""},null,{"$f":"IF($F46=\"\",\"\",VLOOKUP($F46,'Reference Data - Transport fuel'!$C:$O,AF$4,FALSE))","v":""},null,"","","","","","","","",null,"",null,"","",null,"",null,null,{"$f":"INDEX('Dropdown menus'!$A$1:$D$6,MATCH($M46,'Dropdown menus'!$A$1:$A$6,0),$AY$6)","v":{"$error":"#N/A"}},null,{"$f":"IF($N46=\"\",\"\",VLOOKUP($N46,'Reference Passenger Transport'!$C:$O,BA$4,FALSE))","v":""},{"$f":"IF($N46=\"\",\"\",VLOOKUP($N46,'Reference Passenger Transport'!$C:$O,BB$4,FALSE))","v":""},{"$f":"IF($N46=\"\",\"\",VLOOKUP($N46,'Reference Passenger Transport'!$C:$O,BC$4,FALSE))","v":""},{"$f":"IF($N46=\"\",\"\",VLOOKUP($N46,'Reference Passenger Transport'!$C:$O,BD$4,FALSE))","v":""},{"$f":"IF($N46=\"\",\"\",VLOOKUP($N46,'Reference Passenger Transport'!$C:$O,BE$4,FALSE))","v":""},{"$f":"IF($N46=\"\",\"\",VLOOKUP($N46,'Reference Passenger Transport'!$C:$O,BF$4,FALSE))","v":""},{"$f":"IF($N46=\"\",\"\",VLOOKUP($N46,'Reference Passenger Transport'!$C:$O,BG$4,FALSE))","v":""},{"$f":"IF($N46=\"\",\"\",VLOOKUP($N46,'Reference Passenger Transport'!$C:$O,BH$4,FALSE))","v":""},{"$f":"IF($N46=\"\",\"\",VLOOKUP($N46,'Reference Passenger Transport'!$C:$O,BI$4,FALSE))","v":""},{"$f":"IF($N46=\"\",\"\",VLOOKUP($N46,'Reference Passenger Transport'!$C:$O,BJ$4,FALSE))","v":""},{"$f":"IF($N46=\"\",\"\",VLOOKUP($N46,'Reference Passenger Transport'!$C:$O,BK$4,FALSE))","v":""},{"$f":"IF($N46=\"\",\"\",VLOOKUP($N46,'Reference Passenger Transport'!$C:$O,BL$4,FALSE))","v":""},{"$f":"IF($N46=\"\",\"\",VLOOKUP($N46,'Reference Passenger Transport'!$C:$O,BM$4,FALSE))","v":""},null,"","","","","","","","",null,"",null,"","",null,""]
[null,null,null,null,null,null,null,null,null,null,null,null,null,null,null,null,null,{"$f":"INDEX('Dropdown menus'!$A$1:$D$6,MATCH($E47,'Dropdown menus'!$A$1:$A$6,0),$R$6)","v":{"$error":"#N/A"}},null,{"$f":"IF($F47=\"\",\"\",VLOOKUP($F47,'Reference Data - Transport fuel'!$C:$O,T$4,FALSE))","v":""},{"$f":"IF($F47=\"\",\"\",VLOOKUP($F47,'Reference Data - Transport fuel'!$C:$O,U$4,FALSE))","v":""},{"$f":"IF($F47=\"\",\"\",VLOOKUP($F47,'Reference Data - Transport fuel'!$C:$O,V$4,FALSE))","v":""},{"$f":"IF($F47=\"\",\"\",VLOOKUP($F47,'Reference Data - Transport fuel'!$C:$O,W$4,FALSE))","v":""},{"$f":"IF($F47=\"\",\"\",VLOOKUP($F47,'Reference Data - Transport fuel'!$C:$O,X$4,FALSE))","v":""},{"$f":"IF($F47=\"\",\"\",VLOOKUP($F47,'Reference Data - Transport fuel'!$C:$O,Y$4,FALSE))","v":""},{"$f":"IF($F47=\"\",\"\",VLOOKUP($F47,'Reference Data - Transport fuel'!$C:$O,Z$4,FALSE))","v":""},{"$f":"IF($F47=\"\",\"\",VLOOKUP($F47,'Reference Data - Transport fuel'!$C:$O,AA$4,FALSE))","v":""},{"$f":"IF($F47=\"\",\"\",VLOOKUP($F47,'Reference Data - Transport fuel'!$C:$O,AB$4,FALSE))","v":""},null,{"$f":"IF($F47=\"\",\"\",VLOOKUP($F47,'Reference Data - Transport fuel'!$C:$O,AD$4,FALSE))","v":""},null,{"$f":"IF($F47=\"\",\"\",VLOOKUP($F47,'Reference Data - Transport fuel'!$C:$O,AF$4,FALSE))","v":""},null,"","","","","","","","",null,"",null,"","",null,"",null,null,{"$f":"INDEX('Dropdown menus'!$A$1:$D$6,MATCH($M47,'Dropdown menus'!$A$1:$A$6,0),$AY$6)","v":{"$error":"#N/A"}},null,{"$f":"IF($N47=\"\",\"\",VLOOKUP($N47,'Reference Passenger Transport'!$C:$O,BA$4,FALSE))","v":""},{"$f":"IF($N47=\"\",\"\",VLOOKUP($N47,'Reference Passenger Transport'!$C:$O,BB$4,FALSE))","v":""},{"$f":"IF($N47=\"\",\"\",VLOOKUP($N47,'Reference Passenger Transport'!$C:$O,BC$4,FALSE))","v":""},{"$f":"IF($N47=\"\",\"\",VLOOKUP($N47,'Reference Passenger Transport'!$C:$O,BD$4,FALSE))","v":""},{"$f":"IF($N47=\"\",\"\",VLOOKUP($N47,'Reference Passenger Transport'!$C:$O,BE$4,FALSE))","v":""},{"$f":"IF($N47=\"\",\"\",VLOOKUP($N47,'Reference Passenger Transport'!$C:$O,BF$4,FALSE))","v":""},{"$f":"IF($N47=\"\",\"\",VLOOKUP($N47,'Reference Passenger Transport'!$C:$O,BG$4,FALSE))","v":""},{"$f":"IF($N47=\"\",\"\",VLOOKUP($N47,'Reference Passenger Transport'!$C:$O,BH$4,FALSE))","v":""},{"$f":"IF($N47=\"\",\"\",VLOOKUP($N47,'Reference Passenger Transport'!$C:$O,BI$4,FALSE))","v":""},{"$f":"IF($N47=\"\",\"\",VLOOKUP($N47,'Reference Passenger Transport'!$C:$O,BJ$4,FALSE))","v":""},{"$f":"IF($N47=\"\",\"\",VLOOKUP($N47,'Reference Passenger Transport'!$C:$O,BK$4,FALSE))","v":""},{"$f":"IF($N47=\"\",\"\",VLOOKUP($N47,'Reference Passenger Transport'!$C:$O,BL$4,FALSE))","v":""},{"$f":"IF($N47=\"\",\"\",VLOOKUP($N47,'Reference Passenger Transport'!$C:$O,BM$4,FALSE))","v":""},null,"","","","","","","","",null,"",null,"","",null,""]
[null,null,null,null,null,null,null,null,null,null,null,null,null,null,null,null,null,{"$f":"INDEX('Dropdown menus'!$A$1:$D$6,MATCH($E48,'Dropdown menus'!$A$1:$A$6,0),$R$6)","v":{"$error":"#N/A"}},null,{"$f":"IF($F48=\"\",\"\",VLOOKUP($F48,'Reference Data - Transport fuel'!$C:$O,T$4,FALSE))","v":""},{"$f":"IF($F48=\"\",\"\",VLOOKUP($F48,'Reference Data - Transport fuel'!$C:$O,U$4,FALSE))","v":""},{"$f":"IF($F48=\"\",\"\",VLOOKUP($F48,'Reference Data - Transport fuel'!$C:$O,V$4,FALSE))","v":""},{"$f":"IF($F48=\"\",\"\",VLOOKUP($F48,'Reference Data - Transport fuel'!$C:$O,W$4,FALSE))","v":""},{"$f":"IF($F48=\"\",\"\",VLOOKUP($F48,'Reference Data - Transport fuel'!$C:$O,X$4,FALSE))","v":""},{"$f":"IF($F48=\"\",\"\",VLOOKUP($F48,'Reference Data - Transport fuel'!$C:$O,Y$4,FALSE))","v":""},{"$f":"IF($F48=\"\",\"\",VLOOKUP($F48,'Reference Data - Transport fuel'!$C:$O,Z$4,FALSE))","v":""},{"$f":"IF($F48=\"\",\"\",VLOOKUP($F48,'Reference Data - Transport fuel'!$C:$O,AA$4,FALSE))","v":""},{"$f":"IF($F48=\"\",\"\",VLOOKUP($F48,'Reference Data - Transport fuel'!$C:$O,AB$4,FALSE))","v":""},null,{"$f":"IF($F48=\"\",\"\",VLOOKUP($F48,'Reference Data - Transport fuel'!$C:$O,AD$4,FALSE))","v":""},null,{"$f":"IF($F48=\"\",\"\",VLOOKUP($F48,'Reference Data - Transport fuel'!$C:$O,AF$4,FALSE))","v":""},null,"","","","","","","","",null,"",null,"","",null,"",null,null,{"$f":"INDEX('Dropdown menus'!$A$1:$D$6,MATCH($M48,'Dropdown menus'!$A$1:$A$6,0),$AY$6)","v":{"$error":"#N/A"}},null,{"$f":"IF($N48=\"\",\"\",VLOOKUP($N48,'Reference Passenger Transport'!$C:$O,BA$4,FALSE))","v":""},{"$f":"IF($N48=\"\",\"\",VLOOKUP($N48,'Reference Passenger Transport'!$C:$O,BB$4,FALSE))","v":""},{"$f":"IF($N48=\"\",\"\",VLOOKUP($N48,'Reference Passenger Transport'!$C:$O,BC$4,FALSE))","v":""},{"$f":"IF($N48=\"\",\"\",VLOOKUP($N48,'Reference Passenger Transport'!$C:$O,BD$4,FALSE))","v":""},{"$f":"IF($N48=\"\",\"\",VLOOKUP($N48,'Reference Passenger Transport'!$C:$O,BE$4,FALSE))","v":""},{"$f":"IF($N48=\"\",\"\",VLOOKUP($N48,'Reference Passenger Transport'!$C:$O,BF$4,FALSE))","v":""},{"$f":"IF($N48=\"\",\"\",VLOOKUP($N48,'Reference Passenger Transport'!$C:$O,BG$4,FALSE))","v":""},{"$f":"IF($N48=\"\",\"\",VLOOKUP($N48,'Reference Passenger Transport'!$C:$O,BH$4,FALSE))","v":""},{"$f":"IF($N48=\"\",\"\",VLOOKUP($N48,'Reference Passenger Transport'!$C:$O,BI$4,FALSE))","v":""},{"$f":"IF($N48=\"\",\"\",VLOOKUP($N48,'Reference Passenger Transport'!$C:$O,BJ$4,FALSE))","v":""},{"$f":"IF($N48=\"\",\"\",VLOOKUP($N48,'Reference Passenger Transport'!$C:$O,BK$4,FALSE))","v":""},{"$f":"IF($N48=\"\",\"\",VLOOKUP($N48,'Reference Passenger Transport'!$C:$O,BL$4,FALSE))","v":""},{"$f":"IF($N48=\"\",\"\",VLOOKUP($N48,'Reference Passenger Transport'!$C:$O,BM$4,FALSE))","v":""},null,"","","","","","","","",null,"",null,"","",null,""]
[null,null,null,null,null,null,null,null,null,null,null,null,null,null,null,null,null,{"$f":"INDEX('Dropdown menus'!$A$1:$D$6,MATCH($E49,'Dropdown menus'!$A$1:$A$6,0),$R$6)","v":{"$error":"#N/A"}},null,{"$f":"IF($F49=\"\",\"\",VLOOKUP($F49,'Reference Data - Transport fuel'!$C:$O,T$4,FALSE))","v":""},{"$f":"IF($F49=\"\",\"\",VLOOKUP($F49,'Reference Data - Transport fuel'!$C:$O,U$4,FALSE))","v":""},{"$f":"IF($F49=\"\",\"\",VLOOKUP($F49,'Reference Data - Transport fuel'!$C:$O,V$4,FALSE))","v":""},{"$f":"IF($F49=\"\",\"\",VLOOKUP($F49,'Reference Data - Transport fuel'!$C:$O,W$4,FALSE))","v":""},{"$f":"IF($F49=\"\",\"\",VLOOKUP($F49,'Reference Data - Transport fuel'!$C:$O,X$4,FALSE))","v":""},{"$f":"IF($F49=\"\",\"\",VLOOKUP($F49,'Reference Data - Transport fuel'!$C:$O,Y$4,FALSE))","v":""},{"$f":"IF($F49=\"\",\"\",VLOOKUP($F49,'Reference Data - Transport fuel'!$C:$O,Z$4,FALSE))","v":""},{"$f":"IF($F49=\"\",\"\",VLOOKUP($F49,'Reference Data - Transport fuel'!$C:$O,AA$4,FALSE))","v":""},{"$f":"IF($F49=\"\",\"\",VLOOKUP($F49,'Reference Data - Transport fuel'!$C:$O,AB$4,FALSE))","v":""},null,{"$f":"IF($F49=\"\",\"\",VLOOKUP($F49,'Reference Data - Transport fuel'!$C:$O,AD$4,FALSE))","v":""},null,{"$f":"IF($F49=\"\",\"\",VLOOKUP($F49,'Reference Data - Transport fuel'!$C:$O,AF$4,FALSE))","v":""},null,"","","","","","","","",null,"",null,"","",null,"",null,null,{"$f":"INDEX('Dropdown menus'!$A$1:$D$6,MATCH($M49,'Dropdown menus'!$A$1:$A$6,0),$AY$6)","v":{"$error":"#N/A"}},null,{"$f":"IF($N49=\"\",\"\",VLOOKUP($N49,'Reference Passenger Transport'!$C:$O,BA$4,FALSE))","v":""},{"$f":"IF($N49=\"\",\"\",VLOOKUP($N49,'Reference Passenger Transport'!$C:$O,BB$4,FALSE))","v":""},{"$f":"IF($N49=\"\",\"\",VLOOKUP($N49,'Reference Passenger Transport'!$C:$O,BC$4,FALSE))","v":""},{"$f":"IF($N49=\"\",\"\",VLOOKUP($N49,'Reference Passenger Transport'!$C:$O,BD$4,FALSE))","v":""},{"$f":"IF($N49=\"\",\"\",VLOOKUP($N49,'Reference Passenger Transport'!$C:$O,BE$4,FALSE))","v":""},{"$f":"IF($N49=\"\",\"\",VLOOKUP($N49,'Reference Passenger Transport'!$C:$O,BF$4,FALSE))","v":""},{"$f":"IF($N49=\"\",\"\",VLOOKUP($N49,'Reference Passenger Transport'!$C:$O,BG$4,FALSE))","v":""},{"$f":"IF($N49=\"\",\"\",VLOOKUP($N49,'Reference Passenger Transport'!$C:$O,BH$4,FALSE))","v":""},{"$f":"IF($N49=\"\",\"\",VLOOKUP($N49,'Reference Passenger Transport'!$C:$O,BI$4,FALSE))","v":""},{"$f":"IF($N49=\"\",\"\",VLOOKUP($N49,'Reference Passenger Transport'!$C:$O,BJ$4,FALSE))","v":""},{"$f":"IF($N49=\"\",\"\",VLOOKUP($N49,'Reference Passenger Transport'!$C:$O,BK$4,FALSE))","v":""},{"$f":"IF($N49=\"\",\"\",VLOOKUP($N49,'Reference Passenger Transport'!$C:$O,BL$4,FALSE))","v":""},{"$f":"IF($N49=\"\",\"\",VLOOKUP($N49,'Reference Passenger Transport'!$C:$O,BM$4,FALSE))","v":""},null,"","","","","","","","",null,"",null,"","",null,""]
[null,null,null,null,null,null,null,null,null,null,null,null,null,null,null,null,null,{"$f":"INDEX('Dropdown menus'!$A$1:$D$6,MATCH($E50,'Dropdown menus'!$A$1:$A$6,0),$R$6)","v":{"$error":"#N/A"}},null,{"$f":"IF($F50=\"\",\"\",VLOOKUP($F50,'Reference Data - Transport fuel'!$C:$O,T$4,FALSE))","v":""},{"$f":"IF($F50=\"\",\"\",VLOOKUP($F50,'Reference Data - Transport fuel'!$C:$O,U$4,FALSE))","v":""},{"$f":"IF($F50=\"\",\"\",VLOOKUP($F50,'Reference Data - Transport fuel'!$C:$O,V$4,FALSE))","v":""},{"$f":"IF($F50=\"\",\"\",VLOOKUP($F50,'Reference Data - Transport fuel'!$C:$O,W$4,FALSE))","v":""},{"$f":"IF($F50=\"\",\"\",VLOOKUP($F50,'Reference Data - Transport fuel'!$C:$O,X$4,FALSE))","v":""},{"$f":"IF($F50=\"\",\"\",VLOOKUP($F50,'Reference Data - Transport fuel'!$C:$O,Y$4,FALSE))","v":""},{"$f":"IF($F50=\"\",\"\",VLOOKUP($F50,'Reference Data - Transport fuel'!$C:$O,Z$4,FALSE))","v":""},{"$f":"IF($F50=\"\",\"\",VLOOKUP($F50,'Reference Data - Transport fuel'!$C:$O,AA$4,FALSE))","v":""},{"$f":"IF($F50=\"\",\"\",VLOOKUP($F50,'Reference Data - Transport fuel'!$C:$O,AB$4,FALSE))","v":""},null,{"$f":"IF($F50=\"\",\"\",VLOOKUP($F50,'Reference Data - Transport fuel'!$C:$O,AD$4,FALSE))","v":""},null,{"$f":"IF($F50=\"\",\"\",VLOOKUP($F50,'Reference Data - Transport fuel'!$C:$O,AF$4,FALSE))","v":""},null,"","","","","","","","",null,"",null,"","",null,"",null,null,{"$f":"INDEX('Dropdown menus'!$A$1:$D$6,MATCH($M50,'Dropdown menus'!$A$1:$A$6,0),$AY$6)","v":{"$error":"#N/A"}},null,{"$f":"IF($N50=\"\",\"\",VLOOKUP($N50,'Reference Passenger Transport'!$C:$O,BA$4,FALSE))","v":""},{"$f":"IF($N50=\"\",\"\",VLOOKUP($N50,'Reference Passenger Transport'!$C:$O,BB$4,FALSE))","v":""},{"$f":"IF($N50=\"\",\"\",VLOOKUP($N50,'Reference Passenger Transport'!$C:$O,BC$4,FALSE))","v":""},{"$f":"IF($N50=\"\",\"\",VLOOKUP($N50,'Reference Passenger Transport'!$C:$O,BD$4,FALSE))","v":""},{"$f":"IF($N50=\"\",\"\",VLOOKUP($N50,'Reference Passenger Transport'!$C:$O,BE$4,FALSE))","v":""},{"$f":"IF($N50=\"\",\"\",VLOOKUP($N50,'Reference Passenger Transport'!$C:$O,BF$4,FALSE))","v":""},{"$f":"IF($N50=\"\",\"\",VLOOKUP($N50,'Reference Passenger Transport'!$C:$O,BG$4,FALSE))","v":""},{"$f":"IF($N50=\"\",\"\",VLOOKUP($N50,'Reference Passenger Transport'!$C:$O,BH$4,FALSE))","v":""},{"$f":"IF($N50=\"\",\"\",VLOOKUP($N50,'Reference Passenger Transport'!$C:$O,BI$4,FALSE))","v":""},{"$f":"IF($N50=\"\",\"\",VLOOKUP($N50,'Reference Passenger Transport'!$C:$O,BJ$4,FALSE))","v":""},{"$f":"IF($N50=\"\",\"\",VLOOKUP($N50,'Reference Passenger Transport'!$C:$O,BK$4,FALSE))","v":""},{"$f":"IF($N50=\"\",\"\",VLOOKUP($N50,'Reference Passenger Transport'!$C:$O,BL$4,FALSE))","v":""},{"$f":"IF($N50=\"\",\"\",VLOOKUP($N50,'Reference Passenger Transport'!$C:$O,BM$4,FALSE))","v":""},null,"","","","","","","","",null,"",null,"","",null,""]
[null,null,null,null,null,null,null,null,null,null,null,null,null,null,null,null,null,{"$f":"INDEX('Dropdown menus'!$A$1:$D$6,MATCH($E51,'Dropdown menus'!$A$1:$A$6,0),$R$6)","v":{"$error":"#N/A"}},null,{"$f":"IF($F51=\"\",\"\",VLOOKUP($F51,'Reference Data - Transport fuel'!$C:$O,T$4,FALSE))","v":""},{"$f":"IF($F51=\"\",\"\",VLOOKUP($F51,'Reference Data - Transport fuel'!$C:$O,U$4,FALSE))","v":""},{"$f":"IF($F51=\"\",\"\",VLOOKUP($F51,'Reference Data - Transport fuel'!$C:$O,V$4,FALSE))","v":""},{"$f":"IF($F51=\"\",\"\",VLOOKUP($F51,'Reference Data - Transport fuel'!$C:$O,W$4,FALSE))","v":""},{"$f":"IF($F51=\"\",\"\",VLOOKUP($F51,'Reference Data - Transport fuel'!$C:$O,X$4,FALSE))","v":""},{"$f":"IF($F51=\"\",\"\",VLOOKUP($F51,'Reference Data - Transport fuel'!$C:$O,Y$4,FALSE))","v":""},{"$f":"IF($F51=\"\",\"\",VLOOKUP($F51,'Reference Data - Transport fuel'!$C:$O,Z$4,FALSE))","v":""},{"$f":"IF($F51=\"\",\"\",VLOOKUP($F51,'Reference Data - Transport fuel'!$C:$O,AA$4,FALSE))","v":""},{"$f":"IF($F51=\"\",\"\",VLOOKUP($F51,'Reference Data - Transport fuel'!$C:$O,AB$4,FALSE))","v":""},null,{"$f":"IF($F51=\"\",\"\",VLOOKUP($F51,'Reference Data - Transport fuel'!$C:$O,AD$4,FALSE))","v":""},null,{"$f":"IF($F51=\"\",\"\",VLOOKUP($F51,'Reference Data - Transport fuel'!$C:$O,AF$4,FALSE))","v":""},null,"","","","","","","","",null,"",null,"","",null,"",null,null,{"$f":"INDEX('Dropdown menus'!$A$1:$D$6,MATCH($M51,'Dropdown menus'!$A$1:$A$6,0),$AY$6)","v":{"$error":"#N/A"}},null,{"$f":"IF($N51=\"\",\"\",VLOOKUP($N51,'Reference Passenger Transport'!$C:$O,BA$4,FALSE))","v":""},{"$f":"IF($N51=\"\",\"\",VLOOKUP($N51,'Reference Passenger Transport'!$C:$O,BB$4,FALSE))","v":""},{"$f":"IF($N51=\"\",\"\",VLOOKUP($N51,'Reference Passenger Transport'!$C:$O,BC$4,FALSE))","v":""},{"$f":"IF($N51=\"\",\"\",VLOOKUP($N51,'Reference Passenger Transport'!$C:$O,BD$4,FALSE))","v":""},{"$f":"IF($N51=\"\",\"\",VLOOKUP($N51,'Reference Passenger Transport'!$C:$O,BE$4,FALSE))","v":""},{"$f":"IF($N51=\"\",\"\",VLOOKUP($N51,'Reference Passenger Transport'!$C:$O,BF$4,FALSE))","v":""},{"$f":"IF($N51=\"\",\"\",VLOOKUP($N51,'Reference Passenger Transport'!$C:$O,BG$4,FALSE))","v":""},{"$f":"IF($N51=\"\",\"\",VLOOKUP($N51,'Reference Passenger Transport'!$C:$O,BH$4,FALSE))","v":""},{"$f":"IF($N51=\"\",\"\",VLOOKUP($N51,'Reference Passenger Transport'!$C:$O,BI$4,FALSE))","v":""},{"$f":"IF($N51=\"\",\"\",VLOOKUP($N51,'Reference Passenger Transport'!$C:$O,BJ$4,FALSE))","v":""},{"$f":"IF($N51=\"\",\"\",VLOOKUP($N51,'Reference Passenger Transport'!$C:$O,BK$4,FALSE))","v":""},{"$f":"IF($N51=\"\",\"\",VLOOKUP($N51,'Reference Passenger Transport'!$C:$O,BL$4,FALSE))","v":""},{"$f":"IF($N51=\"\",\"\",VLOOKUP($N51,'Reference Passenger Transport'!$C:$O,BM$4,FALSE))","v":""},null,"","","","","","","","",null,"",null,"","",null,""]
[null,null,null,null,null,null,null,null,null,null,null,null,null,null,null,null,null,{"$f":"INDEX('Dropdown menus'!$A$1:$D$6,MATCH($E52,'Dropdown menus'!$A$1:$A$6,0),$R$6)","v":{"$error":"#N/A"}},null,{"$f":"IF($F52=\"\",\"\",VLOOKUP($F52,'Reference Data - Transport fuel'!$C:$O,T$4,FALSE))","v":""},{"$f":"IF($F52=\"\",\"\",VLOOKUP($F52,'Reference Data - Transport fuel'!$C:$O,U$4,FALSE))","v":""},{"$f":"IF($F52=\"\",\"\",VLOOKUP($F52,'Reference Data - Transport fuel'!$C:$O,V$4,FALSE))","v":""},{"$f":"IF($F52=\"\",\"\",VLOOKUP($F52,'Reference Data - Transport fuel'!$C:$O,W$4,FALSE))","v":""},{"$f":"IF($F52=\"\",\"\",VLOOKUP($F52,'Reference Data - Transport fuel'!$C:$O,X$4,FALSE))","v":""},{"$f":"IF($F52=\"\",\"\",VLOOKUP($F52,'Reference Data - Transport fuel'!$C:$O,Y$4,FALSE))","v":""},{"$f":"IF($F52=\"\",\"\",VLOOKUP($F52,'Reference Data - Transport fuel'!$C:$O,Z$4,FALSE))","v":""},{"$f":"IF($F52=\"\",\"\",VLOOKUP($F52,'Reference Data - Transport fuel'!$C:$O,AA$4,FALSE))","v":""},{"$f":"IF($F52=\"\",\"\",VLOOKUP($F52,'Reference Data - Transport fuel'!$C:$O,AB$4,FALSE))","v":""},null,{"$f":"IF($F52=\"\",\"\",VLOOKUP($F52,'Reference Data - Transport fuel'!$C:$O,AD$4,FALSE))","v":""},null,{"$f":"IF($F52=\"\",\"\",VLOOKUP($F52,'Reference Data - Transport fuel'!$C:$O,AF$4,FALSE))","v":""},null,"","","","","","","","",null,"",null,"","",null,"",null,null,{"$f":"INDEX('Dropdown menus'!$A$1:$D$6,MATCH($M52,'Dropdown menus'!$A$1:$A$6,0),$AY$6)","v":{"$error":"#N/A"}},null,{"$f":"IF($N52=\"\",\"\",VLOOKUP($N52,'Reference Passenger Transport'!$C:$O,BA$4,FALSE))","v":""},{"$f":"IF($N52=\"\",\"\",VLOOKUP($N52,'Reference Passenger Transport'!$C:$O,BB$4,FALSE))","v":""},{"$f":"IF($N52=\"\",\"\",VLOOKUP($N52,'Reference Passenger Transport'!$C:$O,BC$4,FALSE))","v":""},{"$f":"IF($N52=\"\",\"\",VLOOKUP($N52,'Reference Passenger Transport'!$C:$O,BD$4,FALSE))","v":""},{"$f":"IF($N52=\"\",\"\",VLOOKUP($N52,'Reference Passenger Transport'!$C:$O,BE$4,FALSE))","v":""},{"$f":"IF($N52=\"\",\"\",VLOOKUP($N52,'Reference Passenger Transport'!$C:$O,BF$4,FALSE))","v":""},{"$f":"IF($N52=\"\",\"\",VLOOKUP($N52,'Reference Passenger Transport'!$C:$O,BG$4,FALSE))","v":""},{"$f":"IF($N52=\"\",\"\",VLOOKUP($N52,'Reference Passenger Transport'!$C:$O,BH$4,FALSE))","v":""},{"$f":"IF($N52=\"\",\"\",VLOOKUP($N52,'Reference Passenger Transport'!$C:$O,BI$4,FALSE))","v":""},{"$f":"IF($N52=\"\",\"\",VLOOKUP($N52,'Reference Passenger Transport'!$C:$O,BJ$4,FALSE))","v":""},{"$f":"IF($N52=\"\",\"\",VLOOKUP($N52,'Reference Passenger Transport'!$C:$O,BK$4,FALSE))","v":""},{"$f":"IF($N52=\"\",\"\",VLOOKUP($N52,'Reference Passenger Transport'!$C:$O,BL$4,FALSE))","v":""},{"$f":"IF($N52=\"\",\"\",VLOOKUP($N52,'Reference Passenger Transport'!$C:$O,BM$4,FALSE))","v":""},null,"","","","","","","","",null,"",null,"","",null,""]
[null,null,null,null,null,null,null,null,null,null,null,null,null,null,null,null,null,{"$f":"INDEX('Dropdown menus'!$A$1:$D$6,MATCH($E53,'Dropdown menus'!$A$1:$A$6,0),$R$6)","v":{"$error":"#N/A"}},null,{"$f":"IF($F53=\"\",\"\",VLOOKUP($F53,'Reference Data - Transport fuel'!$C:$O,T$4,FALSE))","v":""},{"$f":"IF($F53=\"\",\"\",VLOOKUP($F53,'Reference Data - Transport fuel'!$C:$O,U$4,FALSE))","v":""},{"$f":"IF($F53=\"\",\"\",VLOOKUP($F53,'Reference Data - Transport fuel'!$C:$O,V$4,FALSE))","v":""},{"$f":"IF($F53=\"\",\"\",VLOOKUP($F53,'Reference Data - Transport fuel'!$C:$O,W$4,FALSE))","v":""},{"$f":"IF($F53=\"\",\"\",VLOOKUP($F53,'Reference Data - Transport fuel'!$C:$O,X$4,FALSE))","v":""},{"$f":"IF($F53=\"\",\"\",VLOOKUP($F53,'Reference Data - Transport fuel'!$C:$O,Y$4,FALSE))","v":""},{"$f":"IF($F53=\"\",\"\",VLOOKUP($F53,'Reference Data - Transport fuel'!$C:$O,Z$4,FALSE))","v":""},{"$f":"IF($F53=\"\",\"\",VLOOKUP($F53,'Reference Data - Transport fuel'!$C:$O,AA$4,FALSE))","v":""},{"$f":"IF($F53=\"\",\"\",VLOOKUP($F53,'Reference Data - Transport fuel'!$C:$O,AB$4,FALSE))","v":""},null,{"$f":"IF($F53=\"\",\"\",VLOOKUP($F53,'Reference Data - Transport fuel'!$C:$O,AD$4,FALSE))","v":""},null,{"$f":"IF($F53=\"\",\"\",VLOOKUP($F53,'Reference Data - Transport fuel'!$C:$O,AF$4,FALSE))","v":""},null,"","","","","","","","",null,"",null,"","",null,"",null,null,{"$f":"INDEX('Dropdown menus'!$A$1:$D$6,MATCH($M53,'Dropdown menus'!$A$1:$A$6,0),$AY$6)","v":{"$error":"#N/A"}},null,{"$f":"IF($N53=\"\",\"\",VLOOKUP($N53,'Reference Passenger Transport'!$C:$O,BA$4,FALSE))","v":""},{"$f":"IF($N53=\"\",\"\",VLOOKUP($N53,'Reference Passenger Transport'!$C:$O,BB$4,FALSE))","v":""},{"$f":"IF($N53=\"\",\"\",VLOOKUP($N53,'Reference Passenger Transport'!$C:$O,BC$4,FALSE))","v":""},{"$f":"IF($N53=\"\",\"\",VLOOKUP($N53,'Reference Passenger Transport'!$C:$O,BD$4,FALSE))","v":""},{"$f":"IF($N53=\"\",\"\",VLOOKUP($N53,'Reference Passenger Transport'!$C:$O,BE$4,FALSE))","v":""},{"$f":"IF($N53=\"\",\"\",VLOOKUP($N53,'Reference Passenger Transport'!$C:$O,BF$4,FALSE))","v":""},{"$f":"IF($N53=\"\",\"\",VLOOKUP($N53,'Reference Passenger Transport'!$C:$O,BG$4,FALSE))","v":""},{"$f":"IF($N53=\"\",\"\",VLOOKUP($N53,'Reference Passenger Transport'!$C:$O,BH$4,FALSE))","v":""},{"$f":"IF($N53=\"\",\"\",VLOOKUP($N53,'Reference Passenger Transport'!$C:$O,BI$4,FALSE))","v":""},{"$f":"IF($N53=\"\",\"\",VLOOKUP($N53,'Reference Passenger Transport'!$C:$O,BJ$4,FALSE))","v":""},{"$f":"IF($N53=\"\",\"\",VLOOKUP($N53,'Reference Passenger Transport'!$C:$O,BK$4,FALSE))","v":""},{"$f":"IF($N53=\"\",\"\",VLOOKUP($N53,'Reference Passenger Transport'!$C:$O,BL$4,FALSE))","v":""},{"$f":"IF($N53=\"\",\"\",VLOOKUP($N53,'Reference Passenger Transport'!$C:$O,BM$4,FALSE))","v":""},null,"","","","","","","","",null,"",null,"","",null,""]
[null,null,null,null,null,null,null,null,null,null,null,null,null,null,null,null,null,{"$f":"INDEX('Dropdown menus'!$A$1:$D$6,MATCH($E54,'Dropdown menus'!$A$1:$A$6,0),$R$6)","v":{"$error":"#N/A"}},null,{"$f":"IF($F54=\"\",\"\",VLOOKUP($F54,'Reference Data - Transport fuel'!$C:$O,T$4,FALSE))","v":""},{"$f":"IF($F54=\"\",\"\",VLOOKUP($F54,'Reference Data - Transport fuel'!$C:$O,U$4,FALSE))","v":""},{"$f":"IF($F54=\"\",\"\",VLOOKUP($F54,'Reference Data - Transport fuel'!$C:$O,V$4,FALSE))","v":""},{"$f":"IF($F54=\"\",\"\",VLOOKUP($F54,'Reference Data - Transport fuel'!$C:$O,W$4,FALSE))","v":""},{"$f":"IF($F54=\"\",\"\",VLOOKUP($F54,'Reference Data - Transport fuel'!$C:$O,X$4,FALSE))","v":""},{"$f":"IF($F54=\"\",\"\",VLOOKUP($F54,'Reference Data - Transport fuel'!$C:$O,Y$4,FALSE))","v":""},{"$f":"IF($F54=\"\",\"\",VLOOKUP($F54,'Reference Data - Transport fuel'!$C:$O,Z$4,FALSE))","v":""},{"$f":"IF($F54=\"\",\"\",VLOOKUP($F54,'Reference Data - Transport fuel'!$C:$O,AA$4,FALSE))","v":""},{"$f":"IF($F54=\"\",\"\",VLOOKUP($F54,'Reference Data - Transport fuel'!$C:$O,AB$4,FALSE))","v":""},null,{"$f":"IF($F54=\"\",\"\",VLOOKUP($F54,'Reference Data - Transport fuel'!$C:$O,AD$4,FALSE))","v":""},null,{"$f":"IF($F54=\"\",\"\",VLOOKUP($F54,'Reference Data - Transport fuel'!$C:$O,AF$4,FALSE))","v":""},null,"","","","","","","","",null,"",null,"","",null,"",null,null,{"$f":"INDEX('Dropdown menus'!$A$1:$D$6,MATCH($M54,'Dropdown menus'!$A$1:$A$6,0),$AY$6)","v":{"$error":"#N/A"}},null,{"$f":"IF($N54=\"\",\"\",VLOOKUP($N54,'Reference Passenger Transport'!$C:$O,BA$4,FALSE))","v":""},{"$f":"IF($N54=\"\",\"\",VLOOKUP($N54,'Reference Passenger Transport'!$C:$O,BB$4,FALSE))","v":""},{"$f":"IF($N54=\"\",\"\",VLOOKUP($N54,'Reference Passenger Transport'!$C:$O,BC$4,FALSE))","v":""},{"$f":"IF($N54=\"\",\"\",VLOOKUP($N54,'Reference Passenger Transport'!$C:$O,BD$4,FALSE))","v":""},{"$f":"IF($N54=\"\",\"\",VLOOKUP($N54,'Reference Passenger Transport'!$C:$O,BE$4,FALSE))","v":""},{"$f":"IF($N54=\"\",\"\",VLOOKUP($N54,'Reference Passenger Transport'!$C:$O,BF$4,FALSE))","v":""},{"$f":"IF($N54=\"\",\"\",VLOOKUP($N54,'Reference Passenger Transport'!$C:$O,BG$4,FALSE))","v":""},{"$f":"IF($N54=\"\",\"\",VLOOKUP($N54,'Reference Passenger Transport'!$C:$O,BH$4,FALSE))","v":""},{"$f":"IF($N54=\"\",\"\",VLOOKUP($N54,'Reference Passenger Transport'!$C:$O,BI$4,FALSE))","v":""},{"$f":"IF($N54=\"\",\"\",VLOOKUP($N54,'Reference Passenger Transport'!$C:$O,BJ$4,FALSE))","v":""},{"$f":"IF($N54=\"\",\"\",VLOOKUP($N54,'Reference Passenger Transport'!$C:$O,BK$4,FALSE))","v":""},{"$f":"IF($N54=\"\",\"\",VLOOKUP($N54,'Reference Passenger Transport'!$C:$O,BL$4,FALSE))","v":""},{"$f":"IF($N54=\"\",\"\",VLOOKUP($N54,'Reference Passenger Transport'!$C:$O,BM$4,FALSE))","v":""},null,"","","","","","","","",null,"",null,"","",null,""]
[null,null,null,null,null,null,null,null,null,null,null,null,null,null,null,null,null,{"$f":"INDEX('Dropdown menus'!$A$1:$D$6,MATCH($E55,'Dropdown menus'!$A$1:$A$6,0),$R$6)","v":{"$error":"#N/A"}},null,{"$f":"IF($F55=\"\",\"\",VLOOKUP($F55,'Reference Data - Transport fuel'!$C:$O,T$4,FALSE))","v":""},{"$f":"IF($F55=\"\",\"\",VLOOKUP($F55,'Reference Data - Transport fuel'!$C:$O,U$4,FALSE))","v":""},{"$f":"IF($F55=\"\",\"\",VLOOKUP($F55,'Reference Data - Transport fuel'!$C:$O,V$4,FALSE))","v":""},{"$f":"IF($F55=\"\",\"\",VLOOKUP($F55,'Reference Data - Transport fuel'!$C:$O,W$4,FALSE))","v":""},{"$f":"IF($F55=\"\",\"\",VLOOKUP($F55,'Reference Data - Transport fuel'!$C:$O,X$4,FALSE))","v":""},{"$f":"IF($F55=\"\",\"\",VLOOKUP($F55,'Reference Data - Transport fuel'!$C:$O,Y$4,FALSE))","v":""},{"$f":"IF($F55=\"\",\"\",VLOOKUP($F55,'Reference Data - Transport fuel'!$C:$O,Z$4,FALSE))","v":""},{"$f":"IF($F55=\"\",\"\",VLOOKUP($F55,'Reference Data - Transport fuel'!$C:$O,AA$4,FALSE))","v":""},{"$f":"IF($F55=\"\",\"\",VLOOKUP($F55,'Reference Data - Transport fuel'!$C:$O,AB$4,FALSE))","v":""},null,{"$f":"IF($F55=\"\",\"\",VLOOKUP($F55,'Reference Data - Transport fuel'!$C:$O,AD$4,FALSE))","v":""},null,{"$f":"IF($F55=\"\",\"\",VLOOKUP($F55,'Reference Data - Transport fuel'!$C:$O,AF$4,FALSE))","v":""},null,"","","","","","","","",null,"",null,"","",null,"",null,null,{"$f":"INDEX('Dropdown menus'!$A$1:$D$6,MATCH($M55,'Dropdown menus'!$A$1:$A$6,0),$AY$6)","v":{"$error":"#N/A"}},null,{"$f":"IF($N55=\"\",\"\",VLOOKUP($N55,'Reference Passenger Transport'!$C:$O,BA$4,FALSE))","v":""},{"$f":"IF($N55=\"\",\"\",VLOOKUP($N55,'Reference Passenger Transport'!$C:$O,BB$4,FALSE))","v":""},{"$f":"IF($N55=\"\",\"\",VLOOKUP($N55,'Reference Passenger Transport'!$C:$O,BC$4,FALSE))","v":""},{"$f":"IF($N55=\"\",\"\",VLOOKUP($N55,'Reference Passenger Transport'!$C:$O,BD$4,FALSE))","v":""},{"$f":"IF($N55=\"\",\"\",VLOOKUP($N55,'Reference Passenger Transport'!$C:$O,BE$4,FALSE))","v":""},{"$f":"IF($N55=\"\",\"\",VLOOKUP($N55,'Reference Passenger Transport'!$C:$O,BF$4,FALSE))","v":""},{"$f":"IF($N55=\"\",\"\",VLOOKUP($N55,'Reference Passenger Transport'!$C:$O,BG$4,FALSE))","v":""},{"$f":"IF($N55=\"\",\"\",VLOOKUP($N55,'Reference Passenger Transport'!$C:$O,BH$4,FALSE))","v":""},{"$f":"IF($N55=\"\",\"\",VLOOKUP($N55,'Reference Passenger Transport'!$C:$O,BI$4,FALSE))","v":""},{"$f":"IF($N55=\"\",\"\",VLOOKUP($N55,'Reference Passenger Transport'!$C:$O,BJ$4,FALSE))","v":""},{"$f":"IF($N55=\"\",\"\",VLOOKUP($N55,'Reference Passenger Transport'!$C:$O,BK$4,FALSE))","v":""},{"$f":"IF($N55=\"\",\"\",VLOOKUP($N55,'Reference Passenger Transport'!$C:$O,BL$4,FALSE))","v":""},{"$f":"IF($N55=\"\",\"\",VLOOKUP($N55,'Reference Passenger Transport'!$C:$O,BM$4,FALSE))","v":""},null,"","","","","","","","",null,"",null,"","",null,""]
[null,null,null,null,null,null,null,null,null,null,null,null,null,null,null,null,null,{"$f":"INDEX('Dropdown menus'!$A$1:$D$6,MATCH($E56,'Dropdown menus'!$A$1:$A$6,0),$R$6)","v":{"$error":"#N/A"}},null,{"$f":"IF($F56=\"\",\"\",VLOOKUP($F56,'Reference Data - Transport fuel'!$C:$O,T$4,FALSE))","v":""},{"$f":"IF($F56=\"\",\"\",VLOOKUP($F56,'Reference Data - Transport fuel'!$C:$O,U$4,FALSE))","v":""},{"$f":"IF($F56=\"\",\"\",VLOOKUP($F56,'Reference Data - Transport fuel'!$C:$O,V$4,FALSE))","v":""},{"$f":"IF($F56=\"\",\"\",VLOOKUP($F56,'Reference Data - Transport fuel'!$C:$O,W$4,FALSE))","v":""},{"$f":"IF($F56=\"\",\"\",VLOOKUP($F56,'Reference Data - Transport fuel'!$C:$O,X$4,FALSE))","v":""},{"$f":"IF($F56=\"\",\"\",VLOOKUP($F56,'Reference Data - Transport fuel'!$C:$O,Y$4,FALSE))","v":""},{"$f":"IF($F56=\"\",\"\",VLOOKUP($F56,'Reference Data - Transport fuel'!$C:$O,Z$4,FALSE))","v":""},{"$f":"IF($F56=\"\",\"\",VLOOKUP($F56,'Reference Data - Transport fuel'!$C:$O,AA$4,FALSE))","v":""},{"$f":"IF($F56=\"\",\"\",VLOOKUP($F56,'Reference Data - Transport fuel'!$C:$O,AB$4,FALSE))","v":""},null,{"$f":"IF($F56=\"\",\"\",VLOOKUP($F56,'Reference Data - Transport fuel'!$C:$O,AD$4,FALSE))","v":""},null,{"$f":"IF($F56=\"\",\"\",VLOOKUP($F56,'Reference Data - Transport fuel'!$C:$O,AF$4,FALSE))","v":""},null,"","","","","","","","",null,"",null,"","",null,"",null,null,{"$f":"INDEX('Dropdown menus'!$A$1:$D$6,MATCH($M56,'Dropdown menus'!$A$1:$A$6,0),$AY$6)","v":{"$error":"#N/A"}},null,{"$f":"IF($N56=\"\",\"\",VLOOKUP($N56,'Reference Passenger Transport'!$C:$O,BA$4,FALSE))","v":""},{"$f":"IF($N56=\"\",\"\",VLOOKUP($N56,'Reference Passenger Transport'!$C:$O,BB$4,FALSE))","v":""},{"$f":"IF($N56=\"\",\"\",VLOOKUP($N56,'Reference Passenger Transport'!$C:$O,BC$4,FALSE))","v":""},{"$f":"IF($N56=\"\",\"\",VLOOKUP($N56,'Reference Passenger Transport'!$C:$O,BD$4,FALSE))","v":""},{"$f":"IF($N56=\"\",\"\",VLOOKUP($N56,'Reference Passenger Transport'!$C:$O,BE$4,FALSE))","v":""},{"$f":"IF($N56=\"\",\"\",VLOOKUP($N56,'Reference Passenger Transport'!$C:$O,BF$4,FALSE))","v":""},{"$f":"IF($N56=\"\",\"\",VLOOKUP($N56,'Reference Passenger Transport'!$C:$O,BG$4,FALSE))","v":""},{"$f":"IF($N56=\"\",\"\",VLOOKUP($N56,'Reference Passenger Transport'!$C:$O,BH$4,FALSE))","v":""},{"$f":"IF($N56=\"\",\"\",VLOOKUP($N56,'Reference Passenger Transport'!$C:$O,BI$4,FALSE))","v":""},{"$f":"IF($N56=\"\",\"\",VLOOKUP($N56,'Reference Passenger Transport'!$C:$O,BJ$4,FALSE))","v":""},{"$f":"IF($N56=\"\",\"\",VLOOKUP($N56,'Reference Passenger Transport'!$C:$O,BK$4,FALSE))","v":""},{"$f":"IF($N56=\"\",\"\",VLOOKUP($N56,'Reference Passenger Transport'!$C:$O,BL$4,FALSE))","v":""},{"$f":"IF($N56=\"\",\"\",VLOOKUP($N56,'Reference Passenger Transport'!$C:$O,BM$4,FALSE))","v":""},null,"","","","","","","","",null,"",null,"","",null,""]
[null,null,null,null,null,null,null,null,null,null,null,null,null,null,null,null,null,{"$f":"INDEX('Dropdown menus'!$A$1:$D$6,MATCH($E57,'Dropdown menus'!$A$1:$A$6,0),$R$6)","v":{"$error":"#N/A"}},null,{"$f":"IF($F57=\"\",\"\",VLOOKUP($F57,'Reference Data - Transport fuel'!$C:$O,T$4,FALSE))","v":""},{"$f":"IF($F57=\"\",\"\",VLOOKUP($F57,'Reference Data - Transport fuel'!$C:$O,U$4,FALSE))","v":""},{"$f":"IF($F57=\"\",\"\",VLOOKUP($F57,'Reference Data - Transport fuel'!$C:$O,V$4,FALSE))","v":""},{"$f":"IF($F57=\"\",\"\",VLOOKUP($F57,'Reference Data - Transport fuel'!$C:$O,W$4,FALSE))","v":""},{"$f":"IF($F57=\"\",\"\",VLOOKUP($F57,'Reference Data - Transport fuel'!$C:$O,X$4,FALSE))","v":""},{"$f":"IF($F57=\"\",\"\",VLOOKUP($F57,'Reference Data - Transport fuel'!$C:$O,Y$4,FALSE))","v":""},{"$f":"IF($F57=\"\",\"\",VLOOKUP($F57,'Reference Data - Transport fuel'!$C:$O,Z$4,FALSE))","v":""},{"$f":"IF($F57=\"\",\"\",VLOOKUP($F57,'Reference Data - Transport fuel'!$C:$O,AA$4,FALSE))","v":""},{"$f":"IF($F57=\"\",\"\",VLOOKUP($F57,'Reference Data - Transport fuel'!$C:$O,AB$4,FALSE))","v":""},null,{"$f":"IF($F57=\"\",\"\",VLOOKUP($F57,'Reference Data - Transport fuel'!$C:$O,AD$4,FALSE))","v":""},null,{"$f":"IF($F57=\"\",\"\",VLOOKUP($F57,'Reference Data - Transport fuel'!$C:$O,AF$4,FALSE))","v":""},null,"","","","","","","","",null,"",null,"","",null,"",null,null,{"$f":"INDEX('Dropdown menus'!$A$1:$D$6,MATCH($M57,'Dropdown menus'!$A$1:$A$6,0),$AY$6)","v":{"$error":"#N/A"}},null,{"$f":"IF($N57=\"\",\"\",VLOOKUP($N57,'Reference Passenger Transport'!$C:$O,BA$4,FALSE))","v":""},{"$f":"IF($N57=\"\",\"\",VLOOKUP($N57,'Reference Passenger Transport'!$C:$O,BB$4,FALSE))","v":""},{"$f":"IF($N57=\"\",\"\",VLOOKUP($N57,'Reference Passenger Transport'!$C:$O,BC$4,FALSE))","v":""},{"$f":"IF($N57=\"\",\"\",VLOOKUP($N57,'Reference Passenger Transport'!$C:$O,BD$4,FALSE))","v":""},{"$f":"IF($N57=\"\",\"\",VLOOKUP($N57,'Reference Passenger Transport'!$C:$O,BE$4,FALSE))","v":""},{"$f":"IF($N57=\"\",\"\",VLOOKUP($N57,'Reference Passenger Transport'!$C:$O,BF$4,FALSE))","v":""},{"$f":"IF($N57=\"\",\"\",VLOOKUP($N57,'Reference Passenger Transport'!$C:$O,BG$4,FALSE))","v":""},{"$f":"IF($N57=\"\",\"\",VLOOKUP($N57,'Reference Passenger Transport'!$C:$O,BH$4,FALSE))","v":""},{"$f":"IF($N57=\"\",\"\",VLOOKUP($N57,'Reference Passenger Transport'!$C:$O,BI$4,FALSE))","v":""},{"$f":"IF($N57=\"\",\"\",VLOOKUP($N57,'Reference Passenger Transport'!$C:$O,BJ$4,FALSE))","v":""},{"$f":"IF($N57=\"\",\"\",VLOOKUP($N57,'Reference Passenger Transport'!$C:$O,BK$4,FALSE))","v":""},{"$f":"IF($N57=\"\",\"\",VLOOKUP($N57,'Reference Passenger Transport'!$C:$O,BL$4,FALSE))","v":""},{"$f":"IF($N57=\"\",\"\",VLOOKUP($N57,'Reference Passenger Transport'!$C:$O,BM$4,FALSE))","v":""},null,"","","","","","","","",null,"",null,"","",null,""]
[null,null,null,null,null,null,null,null,null,null,null,null,null,null,null,null,null,{"$f":"INDEX('Dropdown menus'!$A$1:$D$6,MATCH($E58,'Dropdown menus'!$A$1:$A$6,0),$R$6)","v":{"$error":"#N/A"}},null,{"$f":"IF($F58=\"\",\"\",VLOOKUP($F58,'Reference Data - Transport fuel'!$C:$O,T$4,FALSE))","v":""},{"$f":"IF($F58=\"\",\"\",VLOOKUP($F58,'Reference Data - Transport fuel'!$C:$O,U$4,FALSE))","v":""},{"$f":"IF($F58=\"\",\"\",VLOOKUP($F58,'Reference Data - Transport fuel'!$C:$O,V$4,FALSE))","v":""},{"$f":"IF($F58=\"\",\"\",VLOOKUP($F58,'Reference Data - Transport fuel'!$C:$O,W$4,FALSE))","v":""},{"$f":"IF($F58=\"\",\"\",VLOOKUP($F58,'Reference Data - Transport fuel'!$C:$O,X$4,FALSE))","v":""},{"$f":"IF($F58=\"\",\"\",VLOOKUP($F58,'Reference Data - Transport fuel'!$C:$O,Y$4,FALSE))","v":""},{"$f":"IF($F58=\"\",\"\",VLOOKUP($F58,'Reference Data - Transport fuel'!$C:$O,Z$4,FALSE))","v":""},{"$f":"IF($F58=\"\",\"\",VLOOKUP($F58,'Reference Data - Transport fuel'!$C:$O,AA$4,FALSE))","v":""},{"$f":"IF($F58=\"\",\"\",VLOOKUP($F58,'Reference Data - Transport fuel'!$C:$O,AB$4,FALSE))","v":""},null,{"$f":"IF($F58=\"\",\"\",VLOOKUP($F58,'Reference Data - Transport fuel'!$C:$O,AD$4,FALSE))","v":""},null,{"$f":"IF($F58=\"\",\"\",VLOOKUP($F58,'Reference Data - Transport fuel'!$C:$O,AF$4,FALSE))","v":""},null,"","","","","","","","",null,"",null,"","",null,"",null,null,{"$f":"INDEX('Dropdown menus'!$A$1:$D$6,MATCH($M58,'Dropdown menus'!$A$1:$A$6,0),$AY$6)","v":{"$error":"#N/A"}},null,{"$f":"IF($N58=\"\",\"\",VLOOKUP($N58,'Reference Passenger Transport'!$C:$O,BA$4,FALSE))","v":""},{"$f":"IF($N58=\"\",\"\",VLOOKUP($N58,'Reference Passenger Transport'!$C:$O,BB$4,FALSE))","v":""},{"$f":"IF($N58=\"\",\"\",VLOOKUP($N58,'Reference Passenger Transport'!$C:$O,BC$4,FALSE))","v":""},{"$f":"IF($N58=\"\",\"\",VLOOKUP($N58,'Reference Passenger Transport'!$C:$O,BD$4,FALSE))","v":""},{"$f":"IF($N58=\"\",\"\",VLOOKUP($N58,'Reference Passenger Transport'!$C:$O,BE$4,FALSE))","v":""},{"$f":"IF($N58=\"\",\"\",VLOOKUP($N58,'Reference Passenger Transport'!$C:$O,BF$4,FALSE))","v":""},{"$f":"IF($N58=\"\",\"\",VLOOKUP($N58,'Reference Passenger Transport'!$C:$O,BG$4,FALSE))","v":""},{"$f":"IF($N58=\"\",\"\",VLOOKUP($N58,'Reference Passenger Transport'!$C:$O,BH$4,FALSE))","v":""},{"$f":"IF($N58=\"\",\"\",VLOOKUP($N58,'Reference Passenger Transport'!$C:$O,BI$4,FALSE))","v":""},{"$f":"IF($N58=\"\",\"\",VLOOKUP($N58,'Reference Passenger Transport'!$C:$O,BJ$4,FALSE))","v":""},{"$f":"IF($N58=\"\",\"\",VLOOKUP($N58,'Reference Passenger Transport'!$C:$O,BK$4,FALSE))","v":""},{"$f":"IF($N58=\"\",\"\",VLOOKUP($N58,'Reference Passenger Transport'!$C:$O,BL$4,FALSE))","v":""},{"$f":"IF($N58=\"\",\"\",VLOOKUP($N58,'Reference Passenger Transport'!$C:$O,BM$4,FALSE))","v":""},null,"","","","","","","","",null,"",null,"","",null,""]
[null,null,null,null,null,null,null,null,null,null,null,null,null,null,null,null,null,{"$f":"INDEX('Dropdown menus'!$A$1:$D$6,MATCH($E59,'Dropdown menus'!$A$1:$A$6,0),$R$6)","v":{"$error":"#N/A"}},null,{"$f":"IF($F59=\"\",\"\",VLOOKUP($F59,'Reference Data - Transport fuel'!$C:$O,T$4,FALSE))","v":""},{"$f":"IF($F59=\"\",\"\",VLOOKUP($F59,'Reference Data - Transport fuel'!$C:$O,U$4,FALSE))","v":""},{"$f":"IF($F59=\"\",\"\",VLOOKUP($F59,'Reference Data - Transport fuel'!$C:$O,V$4,FALSE))","v":""},{"$f":"IF($F59=\"\",\"\",VLOOKUP($F59,'Reference Data - Transport fuel'!$C:$O,W$4,FALSE))","v":""},{"$f":"IF($F59=\"\",\"\",VLOOKUP($F59,'Reference Data - Transport fuel'!$C:$O,X$4,FALSE))","v":""},{"$f":"IF($F59=\"\",\"\",VLOOKUP($F59,'Reference Data - Transport fuel'!$C:$O,Y$4,FALSE))","v":""},{"$f":"IF($F59=\"\",\"\",VLOOKUP($F59,'Reference Data - Transport fuel'!$C:$O,Z$4,FALSE))","v":""},{"$f":"IF($F59=\"\",\"\",VLOOKUP($F59,'Reference Data - Transport fuel'!$C:$O,AA$4,FALSE))","v":""},{"$f":"IF($F59=\"\",\"\",VLOOKUP($F59,'Reference Data - Transport fuel'!$C:$O,AB$4,FALSE))","v":""},null,{"$f":"IF($F59=\"\",\"\",VLOOKUP($F59,'Reference Data - Transport fuel'!$C:$O,AD$4,FALSE))","v":""},null,{"$f":"IF($F59=\"\",\"\",VLOOKUP($F59,'Reference Data - Transport fuel'!$C:$O,AF$4,FALSE))","v":""},null,"","","","","","","","",null,"",null,"","",null,"",null,null,{"$f":"INDEX('Dropdown menus'!$A$1:$D$6,MATCH($M59,'Dropdown menus'!$A$1:$A$6,0),$AY$6)","v":{"$error":"#N/A"}},null,{"$f":"IF($N59=\"\",\"\",VLOOKUP($N59,'Reference Passenger Transport'!$C:$O,BA$4,FALSE))","v":""},{"$f":"IF($N59=\"\",\"\",VLOOKUP($N59,'Reference Passenger Transport'!$C:$O,BB$4,FALSE))","v":""},{"$f":"IF($N59=\"\",\"\",VLOOKUP($N59,'Reference Passenger Transport'!$C:$O,BC$4,FALSE))","v":""},{"$f":"IF($N59=\"\",\"\",VLOOKUP($N59,'Reference Passenger Transport'!$C:$O,BD$4,FALSE))","v":""},{"$f":"IF($N59=\"\",\"\",VLOOKUP($N59,'Reference Passenger Transport'!$C:$O,BE$4,FALSE))","v":""},{"$f":"IF($N59=\"\",\"\",VLOOKUP($N59,'Reference Passenger Transport'!$C:$O,BF$4,FALSE))","v":""},{"$f":"IF($N59=\"\",\"\",VLOOKUP($N59,'Reference Passenger Transport'!$C:$O,BG$4,FALSE))","v":""},{"$f":"IF($N59=\"\",\"\",VLOOKUP($N59,'Reference Passenger Transport'!$C:$O,BH$4,FALSE))","v":""},{"$f":"IF($N59=\"\",\"\",VLOOKUP($N59,'Reference Passenger Transport'!$C:$O,BI$4,FALSE))","v":""},{"$f":"IF($N59=\"\",\"\",VLOOKUP($N59,'Reference Passenger Transport'!$C:$O,BJ$4,FALSE))","v":""},{"$f":"IF($N59=\"\",\"\",VLOOKUP($N59,'Reference Passenger Transport'!$C:$O,BK$4,FALSE))","v":""},{"$f":"IF($N59=\"\",\"\",VLOOKUP($N59,'Reference Passenger Transport'!$C:$O,BL$4,FALSE))","v":""},{"$f":"IF($N59=\"\",\"\",VLOOKUP($N59,'Reference Passenger Transport'!$C:$O,BM$4,FALSE))","v":""},null,"","","","","","","","",null,"",null,"","",null,""]
[null,null,null,null,null,null,null,null,null,null,null,null,null,null,null,null,null,{"$f":"INDEX('Dropdown menus'!$A$1:$D$6,MATCH($E60,'Dropdown menus'!$A$1:$A$6,0),$R$6)","v":{"$error":"#N/A"}},null,{"$f":"IF($F60=\"\",\"\",VLOOKUP($F60,'Reference Data - Transport fuel'!$C:$O,T$4,FALSE))","v":""},{"$f":"IF($F60=\"\",\"\",VLOOKUP($F60,'Reference Data - Transport fuel'!$C:$O,U$4,FALSE))","v":""},{"$f":"IF($F60=\"\",\"\",VLOOKUP($F60,'Reference Data - Transport fuel'!$C:$O,V$4,FALSE))","v":""},{"$f":"IF($F60=\"\",\"\",VLOOKUP($F60,'Reference Data - Transport fuel'!$C:$O,W$4,FALSE))","v":""},{"$f":"IF($F60=\"\",\"\",VLOOKUP($F60,'Reference Data - Transport fuel'!$C:$O,X$4,FALSE))","v":""},{"$f":"IF($F60=\"\",\"\",VLOOKUP($F60,'Reference Data - Transport fuel'!$C:$O,Y$4,FALSE))","v":""},{"$f":"IF($F60=\"\",\"\",VLOOKUP($F60,'Reference Data - Transport fuel'!$C:$O,Z$4,FALSE))","v":""},{"$f":"IF($F60=\"\",\"\",VLOOKUP($F60,'Reference Data - Transport fuel'!$C:$O,AA$4,FALSE))","v":""},{"$f":"IF($F60=\"\",\"\",VLOOKUP($F60,'Reference Data - Transport fuel'!$C:$O,AB$4,FALSE))","v":""},null,{"$f":"IF($F60=\"\",\"\",VLOOKUP($F60,'Reference Data - Transport fuel'!$C:$O,AD$4,FALSE))","v":""},null,{"$f":"IF($F60=\"\",\"\",VLOOKUP($F60,'Reference Data - Transport fuel'!$C:$O,AF$4,FALSE))","v":""},null,"","","","","","","","",null,"",null,"","",null,"",null,null,{"$f":"INDEX('Dropdown menus'!$A$1:$D$6,MATCH($M60,'Dropdown menus'!$A$1:$A$6,0),$AY$6)","v":{"$error":"#N/A"}},null,{"$f":"IF($N60=\"\",\"\",VLOOKUP($N60,'Reference Passenger Transport'!$C:$O,BA$4,FALSE))","v":""},{"$f":"IF($N60=\"\",\"\",VLOOKUP($N60,'Reference Passenger Transport'!$C:$O,BB$4,FALSE))","v":""},{"$f":"IF($N60=\"\",\"\",VLOOKUP($N60,'Reference Passenger Transport'!$C:$O,BC$4,FALSE))","v":""},{"$f":"IF($N60=\"\",\"\",VLOOKUP($N60,'Reference Passenger Transport'!$C:$O,BD$4,FALSE))","v":""},{"$f":"IF($N60=\"\",\"\",VLOOKUP($N60,'Reference Passenger Transport'!$C:$O,BE$4,FALSE))","v":""},{"$f":"IF($N60=\"\",\"\",VLOOKUP($N60,'Reference Passenger Transport'!$C:$O,BF$4,FALSE))","v":""},{"$f":"IF($N60=\"\",\"\",VLOOKUP($N60,'Reference Passenger Transport'!$C:$O,BG$4,FALSE))","v":""},{"$f":"IF($N60=\"\",\"\",VLOOKUP($N60,'Reference Passenger Transport'!$C:$O,BH$4,FALSE))","v":""},{"$f":"IF($N60=\"\",\"\",VLOOKUP($N60,'Reference Passenger Transport'!$C:$O,BI$4,FALSE))","v":""},{"$f":"IF($N60=\"\",\"\",VLOOKUP($N60,'Reference Passenger Transport'!$C:$O,BJ$4,FALSE))","v":""},{"$f":"IF($N60=\"\",\"\",VLOOKUP($N60,'Reference Passenger Transport'!$C:$O,BK$4,FALSE))","v":""},{"$f":"IF($N60=\"\",\"\",VLOOKUP($N60,'Reference Passenger Transport'!$C:$O,BL$4,FALSE))","v":""},{"$f":"IF($N60=\"\",\"\",VLOOKUP($N60,'Reference Passenger Transport'!$C:$O,BM$4,FALSE))","v":""},null,"","","","","","","","",null,"",null,"","",null,""]
[null,null,null,null,null,null,null,null,null,null,null,null,null,null,null,null,null,{"$f":"INDEX('Dropdown menus'!$A$1:$D$6,MATCH($E61,'Dropdown menus'!$A$1:$A$6,0),$R$6)","v":{"$error":"#N/A"}},null,{"$f":"IF($F61=\"\",\"\",VLOOKUP($F61,'Reference Data - Transport fuel'!$C:$O,T$4,FALSE))","v":""},{"$f":"IF($F61=\"\",\"\",VLOOKUP($F61,'Reference Data - Transport fuel'!$C:$O,U$4,FALSE))","v":""},{"$f":"IF($F61=\"\",\"\",VLOOKUP($F61,'Reference Data - Transport fuel'!$C:$O,V$4,FALSE))","v":""},{"$f":"IF($F61=\"\",\"\",VLOOKUP($F61,'Reference Data - Transport fuel'!$C:$O,W$4,FALSE))","v":""},{"$f":"IF($F61=\"\",\"\",VLOOKUP($F61,'Reference Data - Transport fuel'!$C:$O,X$4,FALSE))","v":""},{"$f":"IF($F61=\"\",\"\",VLOOKUP($F61,'Reference Data - Transport fuel'!$C:$O,Y$4,FALSE))","v":""},{"$f":"IF($F61=\"\",\"\",VLOOKUP($F61,'Reference Data - Transport fuel'!$C:$O,Z$4,FALSE))","v":""},{"$f":"IF($F61=\"\",\"\",VLOOKUP($F61,'Reference Data - Transport fuel'!$C:$O,AA$4,FALSE))","v":""},{"$f":"IF($F61=\"\",\"\",VLOOKUP($F61,'Reference Data - Transport fuel'!$C:$O,AB$4,FALSE))","v":""},null,{"$f":"IF($F61=\"\",\"\",VLOOKUP($F61,'Reference Data - Transport fuel'!$C:$O,AD$4,FALSE))","v":""},null,{"$f":"IF($F61=\"\",\"\",VLOOKUP($F61,'Reference Data - Transport fuel'!$C:$O,AF$4,FALSE))","v":""},null,"","","","","","","","",null,"",null,"","",null,"",null,null,{"$f":"INDEX('Dropdown menus'!$A$1:$D$6,MATCH($M61,'Dropdown menus'!$A$1:$A$6,0),$AY$6)","v":{"$error":"#N/A"}},null,{"$f":"IF($N61=\"\",\"\",VLOOKUP($N61,'Reference Passenger Transport'!$C:$O,BA$4,FALSE))","v":""},{"$f":"IF($N61=\"\",\"\",VLOOKUP($N61,'Reference Passenger Transport'!$C:$O,BB$4,FALSE))","v":""},{"$f":"IF($N61=\"\",\"\",VLOOKUP($N61,'Reference Passenger Transport'!$C:$O,BC$4,FALSE))","v":""},{"$f":"IF($N61=\"\",\"\",VLOOKUP($N61,'Reference Passenger Transport'!$C:$O,BD$4,FALSE))","v":""},{"$f":"IF($N61=\"\",\"\",VLOOKUP($N61,'Reference Passenger Transport'!$C:$O,BE$4,FALSE))","v":""},{"$f":"IF($N61=\"\",\"\",VLOOKUP($N61,'Reference Passenger Transport'!$C:$O,BF$4,FALSE))","v":""},{"$f":"IF($N61=\"\",\"\",VLOOKUP($N61,'Reference Passenger Transport'!$C:$O,BG$4,FALSE))","v":""},{"$f":"IF($N61=\"\",\"\",VLOOKUP($N61,'Reference Passenger Transport'!$C:$O,BH$4,FALSE))","v":""},{"$f":"IF($N61=\"\",\"\",VLOOKUP($N61,'Reference Passenger Transport'!$C:$O,BI$4,FALSE))","v":""},{"$f":"IF($N61=\"\",\"\",VLOOKUP($N61,'Reference Passenger Transport'!$C:$O,BJ$4,FALSE))","v":""},{"$f":"IF($N61=\"\",\"\",VLOOKUP($N61,'Reference Passenger Transport'!$C:$O,BK$4,FALSE))","v":""},{"$f":"IF($N61=\"\",\"\",VLOOKUP($N61,'Reference Passenger Transport'!$C:$O,BL$4,FALSE))","v":""},{"$f":"IF($N61=\"\",\"\",VLOOKUP($N61,'Reference Passenger Transport'!$C:$O,BM$4,FALSE))","v":""},null,"","","","","","","","",null,"",null,"","",null,""]
[null,null,null,null,null,null,null,null,null,null,null,null,null,null,null,null,null,{"$f":"INDEX('Dropdown menus'!$A$1:$D$6,MATCH($E62,'Dropdown menus'!$A$1:$A$6,0),$R$6)","v":{"$error":"#N/A"}},null,{"$f":"IF($F62=\"\",\"\",VLOOKUP($F62,'Reference Data - Transport fuel'!$C:$O,T$4,FALSE))","v":""},{"$f":"IF($F62=\"\",\"\",VLOOKUP($F62,'Reference Data - Transport fuel'!$C:$O,U$4,FALSE))","v":""},{"$f":"IF($F62=\"\",\"\",VLOOKUP($F62,'Reference Data - Transport fuel'!$C:$O,V$4,FALSE))","v":""},{"$f":"IF($F62=\"\",\"\",VLOOKUP($F62,'Reference Data - Transport fuel'!$C:$O,W$4,FALSE))","v":""},{"$f":"IF($F62=\"\",\"\",VLOOKUP($F62,'Reference Data - Transport fuel'!$C:$O,X$4,FALSE))","v":""},{"$f":"IF($F62=\"\",\"\",VLOOKUP($F62,'Reference Data - Transport fuel'!$C:$O,Y$4,FALSE))","v":""},{"$f":"IF($F62=\"\",\"\",VLOOKUP($F62,'Reference Data - Transport fuel'!$C:$O,Z$4,FALSE))","v":""},{"$f":"IF($F62=\"\",\"\",VLOOKUP($F62,'Reference Data - Transport fuel'!$C:$O,AA$4,FALSE))","v":""},{"$f":"IF($F62=\"\",\"\",VLOOKUP($F62,'Reference Data - Transport fuel'!$C:$O,AB$4,FALSE))","v":""},null,{"$f":"IF($F62=\"\",\"\",VLOOKUP($F62,'Reference Data - Transport fuel'!$C:$O,AD$4,FALSE))","v":""},null,{"$f":"IF($F62=\"\",\"\",VLOOKUP($F62,'Reference Data - Transport fuel'!$C:$O,AF$4,FALSE))","v":""},null,"","","","","","","","",null,"",null,"","",null,"",null,null,{"$f":"INDEX('Dropdown menus'!$A$1:$D$6,MATCH($M62,'Dropdown menus'!$A$1:$A$6,0),$AY$6)","v":{"$error":"#N/A"}},null,{"$f":"IF($N62=\"\",\"\",VLOOKUP($N62,'Reference Passenger Transport'!$C:$O,BA$4,FALSE))","v":""},{"$f":"IF($N62=\"\",\"\",VLOOKUP($N62,'Reference Passenger Transport'!$C:$O,BB$4,FALSE))","v":""},{"$f":"IF($N62=\"\",\"\",VLOOKUP($N62,'Reference Passenger Transport'!$C:$O,BC$4,FALSE))","v":""},{"$f":"IF($N62=\"\",\"\",VLOOKUP($N62,'Reference Passenger Transport'!$C:$O,BD$4,FALSE))","v":""},{"$f":"IF($N62=\"\",\"\",VLOOKUP($N62,'Reference Passenger Transport'!$C:$O,BE$4,FALSE))","v":""},{"$f":"IF($N62=\"\",\"\",VLOOKUP($N62,'Reference Passenger Transport'!$C:$O,BF$4,FALSE))","v":""},{"$f":"IF($N62=\"\",\"\",VLOOKUP($N62,'Reference Passenger Transport'!$C:$O,BG$4,FALSE))","v":""},{"$f":"IF($N62=\"\",\"\",VLOOKUP($N62,'Reference Passenger Transport'!$C:$O,BH$4,FALSE))","v":""},{"$f":"IF($N62=\"\",\"\",VLOOKUP($N62,'Reference Passenger Transport'!$C:$O,BI$4,FALSE))","v":""},{"$f":"IF($N62=\"\",\"\",VLOOKUP($N62,'Reference Passenger Transport'!$C:$O,BJ$4,FALSE))","v":""},{"$f":"IF($N62=\"\",\"\",VLOOKUP($N62,'Reference Passenger Transport'!$C:$O,BK$4,FALSE))","v":""},{"$f":"IF($N62=\"\",\"\",VLOOKUP($N62,'Reference Passenger Transport'!$C:$O,BL$4,FALSE))","v":""},{"$f":"IF($N62=\"\",\"\",VLOOKUP($N62,'Reference Passenger Transport'!$C:$O,BM$4,FALSE))","v":""},null,"","","","","","","","",null,"",null,"","",null,""]
[null,null,null,null,null,null,null,null,null,null,null,null,null,null,null,null,null,{"$f":"INDEX('Dropdown menus'!$A$1:$D$6,MATCH($E63,'Dropdown menus'!$A$1:$A$6,0),$R$6)","v":{"$error":"#N/A"}},null,{"$f":"IF($F63=\"\",\"\",VLOOKUP($F63,'Reference Data - Transport fuel'!$C:$O,T$4,FALSE))","v":""},{"$f":"IF($F63=\"\",\"\",VLOOKUP($F63,'Reference Data - Transport fuel'!$C:$O,U$4,FALSE))","v":""},{"$f":"IF($F63=\"\",\"\",VLOOKUP($F63,'Reference Data - Transport fuel'!$C:$O,V$4,FALSE))","v":""},{"$f":"IF($F63=\"\",\"\",VLOOKUP($F63,'Reference Data - Transport fuel'!$C:$O,W$4,FALSE))","v":""},{"$f":"IF($F63=\"\",\"\",VLOOKUP($F63,'Reference Data - Transport fuel'!$C:$O,X$4,FALSE))","v":""},{"$f":"IF($F63=\"\",\"\",VLOOKUP($F63,'Reference Data - Transport fuel'!$C:$O,Y$4,FALSE))","v":""},{"$f":"IF($F63=\"\",\"\",VLOOKUP($F63,'Reference Data - Transport fuel'!$C:$O,Z$4,FALSE))","v":""},{"$f":"IF($F63=\"\",\"\",VLOOKUP($F63,'Reference Data - Transport fuel'!$C:$O,AA$4,FALSE))","v":""},{"$f":"IF($F63=\"\",\"\",VLOOKUP($F63,'Reference Data - Transport fuel'!$C:$O,AB$4,FALSE))","v":""},null,{"$f":"IF($F63=\"\",\"\",VLOOKUP($F63,'Reference Data - Transport fuel'!$C:$O,AD$4,FALSE))","v":""},null,{"$f":"IF($F63=\"\",\"\",VLOOKUP($F63,'Reference Data - Transport fuel'!$C:$O,AF$4,FALSE))","v":""},null,"","","","","","","","",null,"",null,"","",null,"",null,null,{"$f":"INDEX('Dropdown menus'!$A$1:$D$6,MATCH($M63,'Dropdown menus'!$A$1:$A$6,0),$AY$6)","v":{"$error":"#N/A"}},null,{"$f":"IF($N63=\"\",\"\",VLOOKUP($N63,'Reference Passenger Transport'!$C:$O,BA$4,FALSE))","v":""},{"$f":"IF($N63=\"\",\"\",VLOOKUP($N63,'Reference Passenger Transport'!$C:$O,BB$4,FALSE))","v":""},{"$f":"IF($N63=\"\",\"\",VLOOKUP($N63,'Reference Passenger Transport'!$C:$O,BC$4,FALSE))","v":""},{"$f":"IF($N63=\"\",\"\",VLOOKUP($N63,'Reference Passenger Transport'!$C:$O,BD$4,FALSE))","v":""},{"$f":"IF($N63=\"\",\"\",VLOOKUP($N63,'Reference Passenger Transport'!$C:$O,BE$4,FALSE))","v":""},{"$f":"IF($N63=\"\",\"\",VLOOKUP($N63,'Reference Passenger Transport'!$C:$O,BF$4,FALSE))","v":""},{"$f":"IF($N63=\"\",\"\",VLOOKUP($N63,'Reference Passenger Transport'!$C:$O,BG$4,FALSE))","v":""},{"$f":"IF($N63=\"\",\"\",VLOOKUP($N63,'Reference Passenger Transport'!$C:$O,BH$4,FALSE))","v":""},{"$f":"IF($N63=\"\",\"\",VLOOKUP($N63,'Reference Passenger Transport'!$C:$O,BI$4,FALSE))","v":""},{"$f":"IF($N63=\"\",\"\",VLOOKUP($N63,'Reference Passenger Transport'!$C:$O,BJ$4,FALSE))","v":""},{"$f":"IF($N63=\"\",\"\",VLOOKUP($N63,'Reference Passenger Transport'!$C:$O,BK$4,FALSE))","v":""},{"$f":"IF($N63=\"\",\"\",VLOOKUP($N63,'Reference Passenger Transport'!$C:$O,BL$4,FALSE))","v":""},{"$f":"IF($N63=\"\",\"\",VLOOKUP($N63,'Reference Passenger Transport'!$C:$O,BM$4,FALSE))","v":""},null,"","","","","","","","",null,"",null,"","",null,""]
[null,null,null,null,null,null,null,null,null,null,null,null,null,null,null,null,null,{"$f":"INDEX('Dropdown menus'!$A$1:$D$6,MATCH($E64,'Dropdown menus'!$A$1:$A$6,0),$R$6)","v":{"$error":"#N/A"}},null,{"$f":"IF($F64=\"\",\"\",VLOOKUP($F64,'Reference Data - Transport fuel'!$C:$O,T$4,FALSE))","v":""},{"$f":"IF($F64=\"\",\"\",VLOOKUP($F64,'Reference Data - Transport fuel'!$C:$O,U$4,FALSE))","v":""},{"$f":"IF($F64=\"\",\"\",VLOOKUP($F64,'Reference Data - Transport fuel'!$C:$O,V$4,FALSE))","v":""},{"$f":"IF($F64=\"\",\"\",VLOOKUP($F64,'Reference Data - Transport fuel'!$C:$O,W$4,FALSE))","v":""},{"$f":"IF($F64=\"\",\"\",VLOOKUP($F64,'Reference Data - Transport fuel'!$C:$O,X$4,FALSE))","v":""},{"$f":"IF($F64=\"\",\"\",VLOOKUP($F64,'Reference Data - Transport fuel'!$C:$O,Y$4,FALSE))","v":""},{"$f":"IF($F64=\"\",\"\",VLOOKUP($F64,'Reference Data - Transport fuel'!$C:$O,Z$4,FALSE))","v":""},{"$f":"IF($F64=\"\",\"\",VLOOKUP($F64,'Reference Data - Transport fuel'!$C:$O,AA$4,FALSE))","v":""},{"$f":"IF($F64=\"\",\"\",VLOOKUP($F64,'Reference Data - Transport fuel'!$C:$O,AB$4,FALSE))","v":""},null,{"$f":"IF($F64=\"\",\"\",VLOOKUP($F64,'Reference Data - Transport fuel'!$C:$O,AD$4,FALSE))","v":""},null,{"$f":"IF($F64=\"\",\"\",VLOOKUP($F64,'Reference Data - Transport fuel'!$C:$O,AF$4,FALSE))","v":""},null,"","","","","","","","",null,"",null,"","",null,"",null,null,{"$f":"INDEX('Dropdown menus'!$A$1:$D$6,MATCH($M64,'Dropdown menus'!$A$1:$A$6,0),$AY$6)","v":{"$error":"#N/A"}},null,{"$f":"IF($N64=\"\",\"\",VLOOKUP($N64,'Reference Passenger Transport'!$C:$O,BA$4,FALSE))","v":""},{"$f":"IF($N64=\"\",\"\",VLOOKUP($N64,'Reference Passenger Transport'!$C:$O,BB$4,FALSE))","v":""},{"$f":"IF($N64=\"\",\"\",VLOOKUP($N64,'Reference Passenger Transport'!$C:$O,BC$4,FALSE))","v":""},{"$f":"IF($N64=\"\",\"\",VLOOKUP($N64,'Reference Passenger Transport'!$C:$O,BD$4,FALSE))","v":""},{"$f":"IF($N64=\"\",\"\",VLOOKUP($N64,'Reference Passenger Transport'!$C:$O,BE$4,FALSE))","v":""},{"$f":"IF($N64=\"\",\"\",VLOOKUP($N64,'Reference Passenger Transport'!$C:$O,BF$4,FALSE))","v":""},{"$f":"IF($N64=\"\",\"\",VLOOKUP($N64,'Reference Passenger Transport'!$C:$O,BG$4,FALSE))","v":""},{"$f":"IF($N64=\"\",\"\",VLOOKUP($N64,'Reference Passenger Transport'!$C:$O,BH$4,FALSE))","v":""},{"$f":"IF($N64=\"\",\"\",VLOOKUP($N64,'Reference Passenger Transport'!$C:$O,BI$4,FALSE))","v":""},{"$f":"IF($N64=\"\",\"\",VLOOKUP($N64,'Reference Passenger Transport'!$C:$O,BJ$4,FALSE))","v":""},{"$f":"IF($N64=\"\",\"\",VLOOKUP($N64,'Reference Passenger Transport'!$C:$O,BK$4,FALSE))","v":""},{"$f":"IF($N64=\"\",\"\",VLOOKUP($N64,'Reference Passenger Transport'!$C:$O,BL$4,FALSE))","v":""},{"$f":"IF($N64=\"\",\"\",VLOOKUP($N64,'Reference Passenger Transport'!$C:$O,BM$4,FALSE))","v":""},null,"","","","","","","","",null,"",null,"","",null,""]
[null,null,null,null,null,null,null,null,null,null,null,null,null,null,null,null,null,{"$f":"INDEX('Dropdown menus'!$A$1:$D$6,MATCH($E65,'Dropdown menus'!$A$1:$A$6,0),$R$6)","v":{"$error":"#N/A"}},null,{"$f":"IF($F65=\"\",\"\",VLOOKUP($F65,'Reference Data - Transport fuel'!$C:$O,T$4,FALSE))","v":""},{"$f":"IF($F65=\"\",\"\",VLOOKUP($F65,'Reference Data - Transport fuel'!$C:$O,U$4,FALSE))","v":""},{"$f":"IF($F65=\"\",\"\",VLOOKUP($F65,'Reference Data - Transport fuel'!$C:$O,V$4,FALSE))","v":""},{"$f":"IF($F65=\"\",\"\",VLOOKUP($F65,'Reference Data - Transport fuel'!$C:$O,W$4,FALSE))","v":""},{"$f":"IF($F65=\"\",\"\",VLOOKUP($F65,'Reference Data - Transport fuel'!$C:$O,X$4,FALSE))","v":""},{"$f":"IF($F65=\"\",\"\",VLOOKUP($F65,'Reference Data - Transport fuel'!$C:$O,Y$4,FALSE))","v":""},{"$f":"IF($F65=\"\",\"\",VLOOKUP($F65,'Reference Data - Transport fuel'!$C:$O,Z$4,FALSE))","v":""},{"$f":"IF($F65=\"\",\"\",VLOOKUP($F65,'Reference Data - Transport fuel'!$C:$O,AA$4,FALSE))","v":""},{"$f":"IF($F65=\"\",\"\",VLOOKUP($F65,'Reference Data - Transport fuel'!$C:$O,AB$4,FALSE))","v":""},null,{"$f":"IF($F65=\"\",\"\",VLOOKUP($F65,'Reference Data - Transport fuel'!$C:$O,AD$4,FALSE))","v":""},null,{"$f":"IF($F65=\"\",\"\",VLOOKUP($F65,'Reference Data - Transport fuel'!$C:$O,AF$4,FALSE))","v":""},null,"","","","","","","","",null,"",null,"","",null,"",null,null,{"$f":"INDEX('Dropdown menus'!$A$1:$D$6,MATCH($M65,'Dropdown menus'!$A$1:$A$6,0),$AY$6)","v":{"$error":"#N/A"}},null,{"$f":"IF($N65=\"\",\"\",VLOOKUP($N65,'Reference Passenger Transport'!$C:$O,BA$4,FALSE))","v":""},{"$f":"IF($N65=\"\",\"\",VLOOKUP($N65,'Reference Passenger Transport'!$C:$O,BB$4,FALSE))","v":""},{"$f":"IF($N65=\"\",\"\",VLOOKUP($N65,'Reference Passenger Transport'!$C:$O,BC$4,FALSE))","v":""},{"$f":"IF($N65=\"\",\"\",VLOOKUP($N65,'Reference Passenger Transport'!$C:$O,BD$4,FALSE))","v":""},{"$f":"IF($N65=\"\",\"\",VLOOKUP($N65,'Reference Passenger Transport'!$C:$O,BE$4,FALSE))","v":""},{"$f":"IF($N65=\"\",\"\",VLOOKUP($N65,'Reference Passenger Transport'!$C:$O,BF$4,FALSE))","v":""},{"$f":"IF($N65=\"\",\"\",VLOOKUP($N65,'Reference Passenger Transport'!$C:$O,BG$4,FALSE))","v":""},{"$f":"IF($N65=\"\",\"\",VLOOKUP($N65,'Reference Passenger Transport'!$C:$O,BH$4,FALSE))","v":""},{"$f":"IF($N65=\"\",\"\",VLOOKUP($N65,'Reference Passenger Transport'!$C:$O,BI$4,FALSE))","v":""},{"$f":"IF($N65=\"\",\"\",VLOOKUP($N65,'Reference Passenger Transport'!$C:$O,BJ$4,FALSE))","v":""},{"$f":"IF($N65=\"\",\"\",VLOOKUP($N65,'Reference Passenger Transport'!$C:$O,BK$4,FALSE))","v":""},{"$f":"IF($N65=\"\",\"\",VLOOKUP($N65,'Reference Passenger Transport'!$C:$O,BL$4,FALSE))","v":""},{"$f":"IF($N65=\"\",\"\",VLOOKUP($N65,'Reference Passenger Transport'!$C:$O,BM$4,FALSE))","v":""},null,"","","","","","","","",null,"",null,"","",null,""]
[null,null,null,null,null,null,null,null,null,null,null,null,null,null,null,null,null,{"$f":"INDEX('Dropdown menus'!$A$1:$D$6,MATCH($E66,'Dropdown menus'!$A$1:$A$6,0),$R$6)","v":{"$error":"#N/A"}},null,{"$f":"IF($F66=\"\",\"\",VLOOKUP($F66,'Reference Data - Transport fuel'!$C:$O,T$4,FALSE))","v":""},{"$f":"IF($F66=\"\",\"\",VLOOKUP($F66,'Reference Data - Transport fuel'!$C:$O,U$4,FALSE))","v":""},{"$f":"IF($F66=\"\",\"\",VLOOKUP($F66,'Reference Data - Transport fuel'!$C:$O,V$4,FALSE))","v":""},{"$f":"IF($F66=\"\",\"\",VLOOKUP($F66,'Reference Data - Transport fuel'!$C:$O,W$4,FALSE))","v":""},{"$f":"IF($F66=\"\",\"\",VLOOKUP($F66,'Reference Data - Transport fuel'!$C:$O,X$4,FALSE))","v":""},{"$f":"IF($F66=\"\",\"\",VLOOKUP($F66,'Reference Data - Transport fuel'!$C:$O,Y$4,FALSE))","v":""},{"$f":"IF($F66=\"\",\"\",VLOOKUP($F66,'Reference Data - Transport fuel'!$C:$O,Z$4,FALSE))","v":""},{"$f":"IF($F66=\"\",\"\",VLOOKUP($F66,'Reference Data - Transport fuel'!$C:$O,AA$4,FALSE))","v":""},{"$f":"IF($F66=\"\",\"\",VLOOKUP($F66,'Reference Data - Transport fuel'!$C:$O,AB$4,FALSE))","v":""},null,{"$f":"IF($F66=\"\",\"\",VLOOKUP($F66,'Reference Data - Transport fuel'!$C:$O,AD$4,FALSE))","v":""},null,{"$f":"IF($F66=\"\",\"\",VLOOKUP($F66,'Reference Data - Transport fuel'!$C:$O,AF$4,FALSE))","v":""},null,"","","","","","","","",null,"",null,"","",null,"",null,null,{"$f":"INDEX('Dropdown menus'!$A$1:$D$6,MATCH($M66,'Dropdown menus'!$A$1:$A$6,0),$AY$6)","v":{"$error":"#N/A"}},null,{"$f":"IF($N66=\"\",\"\",VLOOKUP($N66,'Reference Passenger Transport'!$C:$O,BA$4,FALSE))","v":""},{"$f":"IF($N66=\"\",\"\",VLOOKUP($N66,'Reference Passenger Transport'!$C:$O,BB$4,FALSE))","v":""},{"$f":"IF($N66=\"\",\"\",VLOOKUP($N66,'Reference Passenger Transport'!$C:$O,BC$4,FALSE))","v":""},{"$f":"IF($N66=\"\",\"\",VLOOKUP($N66,'Reference Passenger Transport'!$C:$O,BD$4,FALSE))","v":""},{"$f":"IF($N66=\"\",\"\",VLOOKUP($N66,'Reference Passenger Transport'!$C:$O,BE$4,FALSE))","v":""},{"$f":"IF($N66=\"\",\"\",VLOOKUP($N66,'Reference Passenger Transport'!$C:$O,BF$4,FALSE))","v":""},{"$f":"IF($N66=\"\",\"\",VLOOKUP($N66,'Reference Passenger Transport'!$C:$O,BG$4,FALSE))","v":""},{"$f":"IF($N66=\"\",\"\",VLOOKUP($N66,'Reference Passenger Transport'!$C:$O,BH$4,FALSE))","v":""},{"$f":"IF($N66=\"\",\"\",VLOOKUP($N66,'Reference Passenger Transport'!$C:$O,BI$4,FALSE))","v":""},{"$f":"IF($N66=\"\",\"\",VLOOKUP($N66,'Reference Passenger Transport'!$C:$O,BJ$4,FALSE))","v":""},{"$f":"IF($N66=\"\",\"\",VLOOKUP($N66,'Reference Passenger Transport'!$C:$O,BK$4,FALSE))","v":""},{"$f":"IF($N66=\"\",\"\",VLOOKUP($N66,'Reference Passenger Transport'!$C:$O,BL$4,FALSE))","v":""},{"$f":"IF($N66=\"\",\"\",VLOOKUP($N66,'Reference Passenger Transport'!$C:$O,BM$4,FALSE))","v":""},null,"","","","","","","","",null,"",null,"","",null,""]
[null,null,null,null,null,null,null,null,null,null,null,null,null,null,null,null,null,{"$f":"INDEX('Dropdown menus'!$A$1:$D$6,MATCH($E67,'Dropdown menus'!$A$1:$A$6,0),$R$6)","v":{"$error":"#N/A"}},null,{"$f":"IF($F67=\"\",\"\",VLOOKUP($F67,'Reference Data - Transport fuel'!$C:$O,T$4,FALSE))","v":""},{"$f":"IF($F67=\"\",\"\",VLOOKUP($F67,'Reference Data - Transport fuel'!$C:$O,U$4,FALSE))","v":""},{"$f":"IF($F67=\"\",\"\",VLOOKUP($F67,'Reference Data - Transport fuel'!$C:$O,V$4,FALSE))","v":""},{"$f":"IF($F67=\"\",\"\",VLOOKUP($F67,'Reference Data - Transport fuel'!$C:$O,W$4,FALSE))","v":""},{"$f":"IF($F67=\"\",\"\",VLOOKUP($F67,'Reference Data - Transport fuel'!$C:$O,X$4,FALSE))","v":""},{"$f":"IF($F67=\"\",\"\",VLOOKUP($F67,'Reference Data - Transport fuel'!$C:$O,Y$4,FALSE))","v":""},{"$f":"IF($F67=\"\",\"\",VLOOKUP($F67,'Reference Data - Transport fuel'!$C:$O,Z$4,FALSE))","v":""},{"$f":"IF($F67=\"\",\"\",VLOOKUP($F67,'Reference Data - Transport fuel'!$C:$O,AA$4,FALSE))","v":""},{"$f":"IF($F67=\"\",\"\",VLOOKUP($F67,'Reference Data - Transport fuel'!$C:$O,AB$4,FALSE))","v":""},null,{"$f":"IF($F67=\"\",\"\",VLOOKUP($F67,'Reference Data - Transport fuel'!$C:$O,AD$4,FALSE))","v":""},null,{"$f":"IF($F67=\"\",\"\",VLOOKUP($F67,'Reference Data - Transport fuel'!$C:$O,AF$4,FALSE))","v":""},null,"","","","","","","","",null,"",null,"","",null,"",null,null,{"$f":"INDEX('Dropdown menus'!$A$1:$D$6,MATCH($M67,'Dropdown menus'!$A$1:$A$6,0),$AY$6)","v":{"$error":"#N/A"}},null,{"$f":"IF($N67=\"\",\"\",VLOOKUP($N67,'Reference Passenger Transport'!$C:$O,BA$4,FALSE))","v":""},{"$f":"IF($N67=\"\",\"\",VLOOKUP($N67,'Reference Passenger Transport'!$C:$O,BB$4,FALSE))","v":""},{"$f":"IF($N67=\"\",\"\",VLOOKUP($N67,'Reference Passenger Transport'!$C:$O,BC$4,FALSE))","v":""},{"$f":"IF($N67=\"\",\"\",VLOOKUP($N67,'Reference Passenger Transport'!$C:$O,BD$4,FALSE))","v":""},{"$f":"IF($N67=\"\",\"\",VLOOKUP($N67,'Reference Passenger Transport'!$C:$O,BE$4,FALSE))","v":""},{"$f":"IF($N67=\"\",\"\",VLOOKUP($N67,'Reference Passenger Transport'!$C:$O,BF$4,FALSE))","v":""},{"$f":"IF($N67=\"\",\"\",VLOOKUP($N67,'Reference Passenger Transport'!$C:$O,BG$4,FALSE))","v":""},{"$f":"IF($N67=\"\",\"\",VLOOKUP($N67,'Reference Passenger Transport'!$C:$O,BH$4,FALSE))","v":""},{"$f":"IF($N67=\"\",\"\",VLOOKUP($N67,'Reference Passenger Transport'!$C:$O,BI$4,FALSE))","v":""},{"$f":"IF($N67=\"\",\"\",VLOOKUP($N67,'Reference Passenger Transport'!$C:$O,BJ$4,FALSE))","v":""},{"$f":"IF($N67=\"\",\"\",VLOOKUP($N67,'Reference Passenger Transport'!$C:$O,BK$4,FALSE))","v":""},{"$f":"IF($N67=\"\",\"\",VLOOKUP($N67,'Reference Passenger Transport'!$C:$O,BL$4,FALSE))","v":""},{"$f":"IF($N67=\"\",\"\",VLOOKUP($N67,'Reference Passenger Transport'!$C:$O,BM$4,FALSE))","v":""},null,"","","","","","","","",null,"",null,"","",null,""]
[null,null,null,null,null,null,null,null,null,null,null,null,null,null,null,null,null,{"$f":"INDEX('Dropdown menus'!$A$1:$D$6,MATCH($E68,'Dropdown menus'!$A$1:$A$6,0),$R$6)","v":{"$error":"#N/A"}},null,{"$f":"IF($F68=\"\",\"\",VLOOKUP($F68,'Reference Data - Transport fuel'!$C:$O,T$4,FALSE))","v":""},{"$f":"IF($F68=\"\",\"\",VLOOKUP($F68,'Reference Data - Transport fuel'!$C:$O,U$4,FALSE))","v":""},{"$f":"IF($F68=\"\",\"\",VLOOKUP($F68,'Reference Data - Transport fuel'!$C:$O,V$4,FALSE))","v":""},{"$f":"IF($F68=\"\",\"\",VLOOKUP($F68,'Reference Data - Transport fuel'!$C:$O,W$4,FALSE))","v":""},{"$f":"IF($F68=\"\",\"\",VLOOKUP($F68,'Reference Data - Transport fuel'!$C:$O,X$4,FALSE))","v":""},{"$f":"IF($F68=\"\",\"\",VLOOKUP($F68,'Reference Data - Transport fuel'!$C:$O,Y$4,FALSE))","v":""},{"$f":"IF($F68=\"\",\"\",VLOOKUP($F68,'Reference Data - Transport fuel'!$C:$O,Z$4,FALSE))","v":""},{"$f":"IF($F68=\"\",\"\",VLOOKUP($F68,'Reference Data - Transport fuel'!$C:$O,AA$4,FALSE))","v":""},{"$f":"IF($F68=\"\",\"\",VLOOKUP($F68,'Reference Data - Transport fuel'!$C:$O,AB$4,FALSE))","v":""},null,{"$f":"IF($F68=\"\",\"\",VLOOKUP($F68,'Reference Data - Transport fuel'!$C:$O,AD$4,FALSE))","v":""},null,{"$f":"IF($F68=\"\",\"\",VLOOKUP($F68,'Reference Data - Transport fuel'!$C:$O,AF$4,FALSE))","v":""},null,"","","","","","","","",null,"",null,"","",null,"",null,null,{"$f":"INDEX('Dropdown menus'!$A$1:$D$6,MATCH($M68,'Dropdown menus'!$A$1:$A$6,0),$AY$6)","v":{"$error":"#N/A"}},null,{"$f":"IF($N68=\"\",\"\",VLOOKUP($N68,'Reference Passenger Transport'!$C:$O,BA$4,FALSE))","v":""},{"$f":"IF($N68=\"\",\"\",VLOOKUP($N68,'Reference Passenger Transport'!$C:$O,BB$4,FALSE))","v":""},{"$f":"IF($N68=\"\",\"\",VLOOKUP($N68,'Reference Passenger Transport'!$C:$O,BC$4,FALSE))","v":""},{"$f":"IF($N68=\"\",\"\",VLOOKUP($N68,'Reference Passenger Transport'!$C:$O,BD$4,FALSE))","v":""},{"$f":"IF($N68=\"\",\"\",VLOOKUP($N68,'Reference Passenger Transport'!$C:$O,BE$4,FALSE))","v":""},{"$f":"IF($N68=\"\",\"\",VLOOKUP($N68,'Reference Passenger Transport'!$C:$O,BF$4,FALSE))","v":""},{"$f":"IF($N68=\"\",\"\",VLOOKUP($N68,'Reference Passenger Transport'!$C:$O,BG$4,FALSE))","v":""},{"$f":"IF($N68=\"\",\"\",VLOOKUP($N68,'Reference Passenger Transport'!$C:$O,BH$4,FALSE))","v":""},{"$f":"IF($N68=\"\",\"\",VLOOKUP($N68,'Reference Passenger Transport'!$C:$O,BI$4,FALSE))","v":""},{"$f":"IF($N68=\"\",\"\",VLOOKUP($N68,'Reference Passenger Transport'!$C:$O,BJ$4,FALSE))","v":""},{"$f":"IF($N68=\"\",\"\",VLOOKUP($N68,'Reference Passenger Transport'!$C:$O,BK$4,FALSE))","v":""},{"$f":"IF($N68=\"\",\"\",VLOOKUP($N68,'Reference Passenger Transport'!$C:$O,BL$4,FALSE))","v":""},{"$f":"IF($N68=\"\",\"\",VLOOKUP($N68,'Reference Passenger Transport'!$C:$O,BM$4,FALSE))","v":""},null,"","","","","","","","",null,"",null,"","",null,""]
[null,null,null,null,null,null,null,null,null,null,null,null,null,null,null,null,null,{"$f":"INDEX('Dropdown menus'!$A$1:$D$6,MATCH($E69,'Dropdown menus'!$A$1:$A$6,0),$R$6)","v":{"$error":"#N/A"}},null,{"$f":"IF($F69=\"\",\"\",VLOOKUP($F69,'Reference Data - Transport fuel'!$C:$O,T$4,FALSE))","v":""},{"$f":"IF($F69=\"\",\"\",VLOOKUP($F69,'Reference Data - Transport fuel'!$C:$O,U$4,FALSE))","v":""},{"$f":"IF($F69=\"\",\"\",VLOOKUP($F69,'Reference Data - Transport fuel'!$C:$O,V$4,FALSE))","v":""},{"$f":"IF($F69=\"\",\"\",VLOOKUP($F69,'Reference Data - Transport fuel'!$C:$O,W$4,FALSE))","v":""},{"$f":"IF($F69=\"\",\"\",VLOOKUP($F69,'Reference Data - Transport fuel'!$C:$O,X$4,FALSE))","v":""},{"$f":"IF($F69=\"\",\"\",VLOOKUP($F69,'Reference Data - Transport fuel'!$C:$O,Y$4,FALSE))","v":""},{"$f":"IF($F69=\"\",\"\",VLOOKUP($F69,'Reference Data - Transport fuel'!$C:$O,Z$4,FALSE))","v":""},{"$f":"IF($F69=\"\",\"\",VLOOKUP($F69,'Reference Data - Transport fuel'!$C:$O,AA$4,FALSE))","v":""},{"$f":"IF($F69=\"\",\"\",VLOOKUP($F69,'Reference Data - Transport fuel'!$C:$O,AB$4,FALSE))","v":""},null,{"$f":"IF($F69=\"\",\"\",VLOOKUP($F69,'Reference Data - Transport fuel'!$C:$O,AD$4,FALSE))","v":""},null,{"$f":"IF($F69=\"\",\"\",VLOOKUP($F69,'Reference Data - Transport fuel'!$C:$O,AF$4,FALSE))","v":""},null,"","","","","","","","",null,"",null,"","",null,"",null,null,{"$f":"INDEX('Dropdown menus'!$A$1:$D$6,MATCH($M69,'Dropdown menus'!$A$1:$A$6,0),$AY$6)","v":{"$error":"#N/A"}},null,{"$f":"IF($N69=\"\",\"\",VLOOKUP($N69,'Reference Passenger Transport'!$C:$O,BA$4,FALSE))","v":""},{"$f":"IF($N69=\"\",\"\",VLOOKUP($N69,'Reference Passenger Transport'!$C:$O,BB$4,FALSE))","v":""},{"$f":"IF($N69=\"\",\"\",VLOOKUP($N69,'Reference Passenger Transport'!$C:$O,BC$4,FALSE))","v":""},{"$f":"IF($N69=\"\",\"\",VLOOKUP($N69,'Reference Passenger Transport'!$C:$O,BD$4,FALSE))","v":""},{"$f":"IF($N69=\"\",\"\",VLOOKUP($N69,'Reference Passenger Transport'!$C:$O,BE$4,FALSE))","v":""},{"$f":"IF($N69=\"\",\"\",VLOOKUP($N69,'Reference Passenger Transport'!$C:$O,BF$4,FALSE))","v":""},{"$f":"IF($N69=\"\",\"\",VLOOKUP($N69,'Reference Passenger Transport'!$C:$O,BG$4,FALSE))","v":""},{"$f":"IF($N69=\"\",\"\",VLOOKUP($N69,'Reference Passenger Transport'!$C:$O,BH$4,FALSE))","v":""},{"$f":"IF($N69=\"\",\"\",VLOOKUP($N69,'Reference Passenger Transport'!$C:$O,BI$4,FALSE))","v":""},{"$f":"IF($N69=\"\",\"\",VLOOKUP($N69,'Reference Passenger Transport'!$C:$O,BJ$4,FALSE))","v":""},{"$f":"IF($N69=\"\",\"\",VLOOKUP($N69,'Reference Passenger Transport'!$C:$O,BK$4,FALSE))","v":""},{"$f":"IF($N69=\"\",\"\",VLOOKUP($N69,'Reference Passenger Transport'!$C:$O,BL$4,FALSE))","v":""},{"$f":"IF($N69=\"\",\"\",VLOOKUP($N69,'Reference Passenger Transport'!$C:$O,BM$4,FALSE))","v":""},null,"","","","","","","","",null,"",null,"","",null,""]
[null,null,null,null,null,null,null,null,null,null,null,null,null,null,null,null,null,{"$f":"INDEX('Dropdown menus'!$A$1:$D$6,MATCH($E70,'Dropdown menus'!$A$1:$A$6,0),$R$6)","v":{"$error":"#N/A"}},null,{"$f":"IF($F70=\"\",\"\",VLOOKUP($F70,'Reference Data - Transport fuel'!$C:$O,T$4,FALSE))","v":""},{"$f":"IF($F70=\"\",\"\",VLOOKUP($F70,'Reference Data - Transport fuel'!$C:$O,U$4,FALSE))","v":""},{"$f":"IF($F70=\"\",\"\",VLOOKUP($F70,'Reference Data - Transport fuel'!$C:$O,V$4,FALSE))","v":""},{"$f":"IF($F70=\"\",\"\",VLOOKUP($F70,'Reference Data - Transport fuel'!$C:$O,W$4,FALSE))","v":""},{"$f":"IF($F70=\"\",\"\",VLOOKUP($F70,'Reference Data - Transport fuel'!$C:$O,X$4,FALSE))","v":""},{"$f":"IF($F70=\"\",\"\",VLOOKUP($F70,'Reference Data - Transport fuel'!$C:$O,Y$4,FALSE))","v":""},{"$f":"IF($F70=\"\",\"\",VLOOKUP($F70,'Reference Data - Transport fuel'!$C:$O,Z$4,FALSE))","v":""},{"$f":"IF($F70=\"\",\"\",VLOOKUP($F70,'Reference Data - Transport fuel'!$C:$O,AA$4,FALSE))","v":""},{"$f":"IF($F70=\"\",\"\",VLOOKUP($F70,'Reference Data - Transport fuel'!$C:$O,AB$4,FALSE))","v":""},null,{"$f":"IF($F70=\"\",\"\",VLOOKUP($F70,'Reference Data - Transport fuel'!$C:$O,AD$4,FALSE))","v":""},null,{"$f":"IF($F70=\"\",\"\",VLOOKUP($F70,'Reference Data - Transport fuel'!$C:$O,AF$4,FALSE))","v":""},null,"","","","","","","","",null,"",null,"","",null,"",null,null,{"$f":"INDEX('Dropdown menus'!$A$1:$D$6,MATCH($M70,'Dropdown menus'!$A$1:$A$6,0),$AY$6)","v":{"$error":"#N/A"}},null,{"$f":"IF($N70=\"\",\"\",VLOOKUP($N70,'Reference Passenger Transport'!$C:$O,BA$4,FALSE))","v":""},{"$f":"IF($N70=\"\",\"\",VLOOKUP($N70,'Reference Passenger Transport'!$C:$O,BB$4,FALSE))","v":""},{"$f":"IF($N70=\"\",\"\",VLOOKUP($N70,'Reference Passenger Transport'!$C:$O,BC$4,FALSE))","v":""},{"$f":"IF($N70=\"\",\"\",VLOOKUP($N70,'Reference Passenger Transport'!$C:$O,BD$4,FALSE))","v":""},{"$f":"IF($N70=\"\",\"\",VLOOKUP($N70,'Reference Passenger Transport'!$C:$O,BE$4,FALSE))","v":""},{"$f":"IF($N70=\"\",\"\",VLOOKUP($N70,'Reference Passenger Transport'!$C:$O,BF$4,FALSE))","v":""},{"$f":"IF($N70=\"\",\"\",VLOOKUP($N70,'Reference Passenger Transport'!$C:$O,BG$4,FALSE))","v":""},{"$f":"IF($N70=\"\",\"\",VLOOKUP($N70,'Reference Passenger Transport'!$C:$O,BH$4,FALSE))","v":""},{"$f":"IF($N70=\"\",\"\",VLOOKUP($N70,'Reference Passenger Transport'!$C:$O,BI$4,FALSE))","v":""},{"$f":"IF($N70=\"\",\"\",VLOOKUP($N70,'Reference Passenger Transport'!$C:$O,BJ$4,FALSE))","v":""},{"$f":"IF($N70=\"\",\"\",VLOOKUP($N70,'Reference Passenger Transport'!$C:$O,BK$4,FALSE))","v":""},{"$f":"IF($N70=\"\",\"\",VLOOKUP($N70,'Reference Passenger Transport'!$C:$O,BL$4,FALSE))","v":""},{"$f":"IF($N70=\"\",\"\",VLOOKUP($N70,'Reference Passenger Transport'!$C:$O,BM$4,FALSE))","v":""},null,"","","","","","","","",null,"",null,"","",null,""]
[null,null,null,null,null,null,null,null,null,null,null,null,null,null,null,null,null,{"$f":"INDEX('Dropdown menus'!$A$1:$D$6,MATCH($E71,'Dropdown menus'!$A$1:$A$6,0),$R$6)","v":{"$error":"#N/A"}},null,{"$f":"IF($F71=\"\",\"\",VLOOKUP($F71,'Reference Data - Transport fuel'!$C:$O,T$4,FALSE))","v":""},{"$f":"IF($F71=\"\",\"\",VLOOKUP($F71,'Reference Data - Transport fuel'!$C:$O,U$4,FALSE))","v":""},{"$f":"IF($F71=\"\",\"\",VLOOKUP($F71,'Reference Data - Transport fuel'!$C:$O,V$4,FALSE))","v":""},{"$f":"IF($F71=\"\",\"\",VLOOKUP($F71,'Reference Data - Transport fuel'!$C:$O,W$4,FALSE))","v":""},{"$f":"IF($F71=\"\",\"\",VLOOKUP($F71,'Reference Data - Transport fuel'!$C:$O,X$4,FALSE))","v":""},{"$f":"IF($F71=\"\",\"\",VLOOKUP($F71,'Reference Data - Transport fuel'!$C:$O,Y$4,FALSE))","v":""},{"$f":"IF($F71=\"\",\"\",VLOOKUP($F71,'Reference Data - Transport fuel'!$C:$O,Z$4,FALSE))","v":""},{"$f":"IF($F71=\"\",\"\",VLOOKUP($F71,'Reference Data - Transport fuel'!$C:$O,AA$4,FALSE))","v":""},{"$f":"IF($F71=\"\",\"\",VLOOKUP($F71,'Reference Data - Transport fuel'!$C:$O,AB$4,FALSE))","v":""},null,{"$f":"IF($F71=\"\",\"\",VLOOKUP($F71,'Reference Data - Transport fuel'!$C:$O,AD$4,FALSE))","v":""},null,{"$f":"IF($F71=\"\",\"\",VLOOKUP($F71,'Reference Data - Transport fuel'!$C:$O,AF$4,FALSE))","v":""},null,"","","","","","","","",null,"",null,"","",null,"",null,null,{"$f":"INDEX('Dropdown menus'!$A$1:$D$6,MATCH($M71,'Dropdown menus'!$A$1:$A$6,0),$AY$6)","v":{"$error":"#N/A"}},null,{"$f":"IF($N71=\"\",\"\",VLOOKUP($N71,'Reference Passenger Transport'!$C:$O,BA$4,FALSE))","v":""},{"$f":"IF($N71=\"\",\"\",VLOOKUP($N71,'Reference Passenger Transport'!$C:$O,BB$4,FALSE))","v":""},{"$f":"IF($N71=\"\",\"\",VLOOKUP($N71,'Reference Passenger Transport'!$C:$O,BC$4,FALSE))","v":""},{"$f":"IF($N71=\"\",\"\",VLOOKUP($N71,'Reference Passenger Transport'!$C:$O,BD$4,FALSE))","v":""},{"$f":"IF($N71=\"\",\"\",VLOOKUP($N71,'Reference Passenger Transport'!$C:$O,BE$4,FALSE))","v":""},{"$f":"IF($N71=\"\",\"\",VLOOKUP($N71,'Reference Passenger Transport'!$C:$O,BF$4,FALSE))","v":""},{"$f":"IF($N71=\"\",\"\",VLOOKUP($N71,'Reference Passenger Transport'!$C:$O,BG$4,FALSE))","v":""},{"$f":"IF($N71=\"\",\"\",VLOOKUP($N71,'Reference Passenger Transport'!$C:$O,BH$4,FALSE))","v":""},{"$f":"IF($N71=\"\",\"\",VLOOKUP($N71,'Reference Passenger Transport'!$C:$O,BI$4,FALSE))","v":""},{"$f":"IF($N71=\"\",\"\",VLOOKUP($N71,'Reference Passenger Transport'!$C:$O,BJ$4,FALSE))","v":""},{"$f":"IF($N71=\"\",\"\",VLOOKUP($N71,'Reference Passenger Transport'!$C:$O,BK$4,FALSE))","v":""},{"$f":"IF($N71=\"\",\"\",VLOOKUP($N71,'Reference Passenger Transport'!$C:$O,BL$4,FALSE))","v":""},{"$f":"IF($N71=\"\",\"\",VLOOKUP($N71,'Reference Passenger Transport'!$C:$O,BM$4,FALSE))","v":""},null,"","","","","","","","",null,"",null,"","",null,""]
[null,null,null,null,null,null,null,null,null,null,null,null,null,null,null,null,null,{"$f":"INDEX('Dropdown menus'!$A$1:$D$6,MATCH($E72,'Dropdown menus'!$A$1:$A$6,0),$R$6)","v":{"$error":"#N/A"}},null,{"$f":"IF($F72=\"\",\"\",VLOOKUP($F72,'Reference Data - Transport fuel'!$C:$O,T$4,FALSE))","v":""},{"$f":"IF($F72=\"\",\"\",VLOOKUP($F72,'Reference Data - Transport fuel'!$C:$O,U$4,FALSE))","v":""},{"$f":"IF($F72=\"\",\"\",VLOOKUP($F72,'Reference Data - Transport fuel'!$C:$O,V$4,FALSE))","v":""},{"$f":"IF($F72=\"\",\"\",VLOOKUP($F72,'Reference Data - Transport fuel'!$C:$O,W$4,FALSE))","v":""},{"$f":"IF($F72=\"\",\"\",VLOOKUP($F72,'Reference Data - Transport fuel'!$C:$O,X$4,FALSE))","v":""},{"$f":"IF($F72=\"\",\"\",VLOOKUP($F72,'Reference Data - Transport fuel'!$C:$O,Y$4,FALSE))","v":""},{"$f":"IF($F72=\"\",\"\",VLOOKUP($F72,'Reference Data - Transport fuel'!$C:$O,Z$4,FALSE))","v":""},{"$f":"IF($F72=\"\",\"\",VLOOKUP($F72,'Reference Data - Transport fuel'!$C:$O,AA$4,FALSE))","v":""},{"$f":"IF($F72=\"\",\"\",VLOOKUP($F72,'Reference Data - Transport fuel'!$C:$O,AB$4,FALSE))","v":""},null,{"$f":"IF($F72=\"\",\"\",VLOOKUP($F72,'Reference Data - Transport fuel'!$C:$O,AD$4,FALSE))","v":""},null,{"$f":"IF($F72=\"\",\"\",VLOOKUP($F72,'Reference Data - Transport fuel'!$C:$O,AF$4,FALSE))","v":""},null,{"$f":"IF($F72=\"\",\"\",IF($R72=1,(T72*$G72)-AQ72,\"\"))","v":""},{"$f":"IF($F72=\"\",\"\",IF($R72=1,IF(AD72=\"Yes\",0,U72*$G72),\"\"))","v":""},{"$f":"IF($F72=\"\",\"\",IF($R72=1,V72*$G72,\"\"))","v":""},{"$f":"IF($F72=\"\",\"\",IF($R72=1,W72*$G72,\"\"))","v":""},{"$f":"IF($F72=\"\",\"\",IF($R72=1,X72*$G72,\"\"))","v":""},{"$f":"IF($F72=\"\",\"\",IF($R72=1,Y72*$G72,\"\"))","v":""},{"$f":"IF($F72=\"\",\"\",IF($R72=1,Z72*$G72,\"\"))","v":""},{"$f":"IF($F72=\"\",\"\",IF($R72=1,AA72*$G72,\"\"))","v":""},null,{"$f":"IF($F72=\"\",\"\",IF($R72=1,IF(AD72=\"Yes\",U72*G72,0),\"\"))","v":""},null,{"$f":"IF($F72=\"\",\"\",$G72*AB72)","v":""},{"$f":"IF($F72=\"\",\"\",IF($R72=3,T72*$G72,\"\"))","v":""},null,{"$f":"IF($F72=\"\",\"\",IF($R72=1,$G72*AF72,\"\"))","v":""},null,null,{"$f":"INDEX('Dropdown menus'!$A$1:$D$6,MATCH($M72,'Dropdown menus'!$A$1:$A$6,0),$AY$6)","v":{"$error":"#N/A"}},null,{"$f":"IF($N72=\"\",\"\",VLOOKUP($N72,'Reference Passenger Transport'!$C:$O,BA$4,FALSE))","v":""},{"$f":"IF($N72=\"\",\"\",VLOOKUP($N72,'Reference Passenger Transport'!$C:$O,BB$4,FALSE))","v":""},{"$f":"IF($N72=\"\",\"\",VLOOKUP($N72,'Reference Passenger Transport'!$C:$O,BC$4,FALSE))","v":""},{"$f":"IF($N72=\"\",\"\",VLOOKUP($N72,'Reference Passenger Transport'!$C:$O,BD$4,FALSE))","v":""},{"$f":"IF($N72=\"\",\"\",VLOOKUP($N72,'Reference Passenger Transport'!$C:$O,BE$4,FALSE))","v":""},{"$f":"IF($N72=\"\",\"\",VLOOKUP($N72,'Reference Passenger Transport'!$C:$O,BF$4,FALSE))","v":""},{"$f":"IF($N72=\"\",\"\",VLOOKUP($N72,'Reference Passenger Transport'!$C:$O,BG$4,FALSE))","v":""},{"$f":"IF($N72=\"\",\"\",VLOOKUP($N72,'Reference Passenger Transport'!$C:$O,BH$4,FALSE))","v":""},{"$f":"IF($N72=\"\",\"\",VLOOKUP($N72,'Reference Passenger Transport'!$C:$O,BI$4,FALSE))","v":""},{"$f":"IF($N72=\"\",\"\",VLOOKUP($N72,'Reference Passenger Transport'!$C:$O,BJ$4,FALSE))","v":""},{"$f":"IF($N72=\"\",\"\",VLOOKUP($N72,'Reference Passenger Transport'!$C:$O,BK$4,FALSE))","v":""},{"$f":"IF($N72=\"\",\"\",VLOOKUP($N72,'Reference Passenger Transport'!$C:$O,BL$4,FALSE))","v":""},{"$f":"IF($N72=\"\",\"\",VLOOKUP($N72,'Reference Passenger Transport'!$C:$O,BM$4,FALSE))","v":""},null,{"$f":"IF($N72=\"\",\"\",IF($AY72=1,(BA72*$O72)-BX72,\"\"))","v":""},{"$f":"IF($N72=\"\",\"\",IF($AY72=1,IF(BK72=\"Yes\",0,BB72*$O72),\"\"))","v":""},{"$f":"IF($N72=\"\",\"\",IF($AY72=1,BC72*$O72,\"\"))","v":""},{"$f":"IF($N72=\"\",\"\",IF($AY72=1,BD72*$O72,\"\"))","v":""},{"$f":"IF($N72=\"\",\"\",IF($AY72=1,BE72*$O72,\"\"))","v":""},{"$f":"IF($N72=\"\",\"\",IF($AY72=1,BF72*$O72,\"\"))","v":""},{"$f":"IF($N72=\"\",\"\",IF($AY72=1,BG72*$O72,\"\"))","v":""},{"$f":"IF($N72=\"\",\"\",IF($AY72=1,BH72*$O72,\"\"))","v":""},null,{"$f":"IF($N72=\"\",\"\",IF($AY72=1,IF(BK72=\"Yes\",BB72*O72,0),\"\"))","v":""},null,{"$f":"IF($N72=\"\",\"\",$O72*BI72)","v":""},{"$f":"IF($N72=\"\",\"\",IF($AY72=3,BM72*$O72,\"\"))","v":""},null,{"$f":"IF($N72=\"\",\"\",IF($AY72=1,$O72*BM72,\"\"))","v":""}]
[null,null,null,null,null,null,null,null,null,null,null,null,null,null,null,null,null,{"$f":"INDEX('Dropdown menus'!$A$1:$D$6,MATCH($E73,'Dropdown menus'!$A$1:$A$6,0),$R$6)","v":{"$error":"#N/A"}},null,{"$f":"IF($F73=\"\",\"\",VLOOKUP($F73,'Reference Data - Transport fuel'!$C:$O,T$4,FALSE))","v":""},{"$f":"IF($F73=\"\",\"\",VLOOKUP($F73,'Reference Data - Transport fuel'!$C:$O,U$4,FALSE))","v":""},{"$f":"IF($F73=\"\",\"\",VLOOKUP($F73,'Reference Data - Transport fuel'!$C:$O,V$4,FALSE))","v":""},{"$f":"IF($F73=\"\",\"\",VLOOKUP($F73,'Reference Data - Transport fuel'!$C:$O,W$4,FALSE))","v":""},{"$f":"IF($F73=\"\",\"\",VLOOKUP($F73,'Reference Data - Transport fuel'!$C:$O,X$4,FALSE))","v":""},{"$f":"IF($F73=\"\",\"\",VLOOKUP($F73,'Reference Data - Transport fuel'!$C:$O,Y$4,FALSE))","v":""},{"$f":"IF($F73=\"\",\"\",VLOOKUP($F73,'Reference Data - Transport fuel'!$C:$O,Z$4,FALSE))","v":""},{"$f":"IF($F73=\"\",\"\",VLOOKUP($F73,'Reference Data - Transport fuel'!$C:$O,AA$4,FALSE))","v":""},{"$f":"IF($F73=\"\",\"\",VLOOKUP($F73,'Reference Data - Transport fuel'!$C:$O,AB$4,FALSE))","v":""},null,{"$f":"IF($F73=\"\",\"\",VLOOKUP($F73,'Reference Data - Transport fuel'!$C:$O,AD$4,FALSE))","v":""},null,{"$f":"IF($F73=\"\",\"\",VLOOKUP($F73,'Reference Data - Transport fuel'!$C:$O,AF$4,FALSE))","v":""},null,"","","","","","","","",null,"",null,"","",null,"",null,null,{"$f":"INDEX('Dropdown menus'!$A$1:$D$6,MATCH($M73,'Dropdown menus'!$A$1:$A$6,0),$AY$6)","v":{"$error":"#N/A"}},null,{"$f":"IF($N73=\"\",\"\",VLOOKUP($N73,'Reference Passenger Transport'!$C:$O,BA$4,FALSE))","v":""},{"$f":"IF($N73=\"\",\"\",VLOOKUP($N73,'Reference Passenger Transport'!$C:$O,BB$4,FALSE))","v":""},{"$f":"IF($N73=\"\",\"\",VLOOKUP($N73,'Reference Passenger Transport'!$C:$O,BC$4,FALSE))","v":""},{"$f":"IF($N73=\"\",\"\",VLOOKUP($N73,'Reference Passenger Transport'!$C:$O,BD$4,FALSE))","v":""},{"$f":"IF($N73=\"\",\"\",VLOOKUP($N73,'Reference Passenger Transport'!$C:$O,BE$4,FALSE))","v":""},{"$f":"IF($N73=\"\",\"\",VLOOKUP($N73,'Reference Passenger Transport'!$C:$O,BF$4,FALSE))","v":""},{"$f":"IF($N73=\"\",\"\",VLOOKUP($N73,'Reference Passenger Transport'!$C:$O,BG$4,FALSE))","v":""},{"$f":"IF($N73=\"\",\"\",VLOOKUP($N73,'Reference Passenger Transport'!$C:$O,BH$4,FALSE))","v":""},{"$f":"IF($N73=\"\",\"\",VLOOKUP($N73,'Reference Passenger Transport'!$C:$O,BI$4,FALSE))","v":""},{"$f":"IF($N73=\"\",\"\",VLOOKUP($N73,'Reference Passenger Transport'!$C:$O,BJ$4,FALSE))","v":""},{"$f":"IF($N73=\"\",\"\",VLOOKUP($N73,'Reference Passenger Transport'!$C:$O,BK$4,FALSE))","v":""},{"$f":"IF($N73=\"\",\"\",VLOOKUP($N73,'Reference Passenger Transport'!$C:$O,BL$4,FALSE))","v":""},{"$f":"IF($N73=\"\",\"\",VLOOKUP($N73,'Reference Passenger Transport'!$C:$O,BM$4,FALSE))","v":""},null,"","","","","","","","",null,"",null,"","",null,""]
[null,null,null,null,null,null,null,null,null,null,null,null,null,null,null,null,null,{"$f":"INDEX('Dropdown menus'!$A$1:$D$6,MATCH($E74,'Dropdown menus'!$A$1:$A$6,0),$R$6)","v":{"$error":"#N/A"}},null,{"$f":"IF($F74=\"\",\"\",VLOOKUP($F74,'Reference Data - Transport fuel'!$C:$O,T$4,FALSE))","v":""},{"$f":"IF($F74=\"\",\"\",VLOOKUP($F74,'Reference Data - Transport fuel'!$C:$O,U$4,FALSE))","v":""},{"$f":"IF($F74=\"\",\"\",VLOOKUP($F74,'Reference Data - Transport fuel'!$C:$O,V$4,FALSE))","v":""},{"$f":"IF($F74=\"\",\"\",VLOOKUP($F74,'Reference Data - Transport fuel'!$C:$O,W$4,FALSE))","v":""},{"$f":"IF($F74=\"\",\"\",VLOOKUP($F74,'Reference Data - Transport fuel'!$C:$O,X$4,FALSE))","v":""},{"$f":"IF($F74=\"\",\"\",VLOOKUP($F74,'Reference Data - Transport fuel'!$C:$O,Y$4,FALSE))","v":""},{"$f":"IF($F74=\"\",\"\",VLOOKUP($F74,'Reference Data - Transport fuel'!$C:$O,Z$4,FALSE))","v":""},{"$f":"IF($F74=\"\",\"\",VLOOKUP($F74,'Reference Data - Transport fuel'!$C:$O,AA$4,FALSE))","v":""},{"$f":"IF($F74=\"\",\"\",VLOOKUP($F74,'Reference Data - Transport fuel'!$C:$O,AB$4,FALSE))","v":""},null,{"$f":"IF($F74=\"\",\"\",VLOOKUP($F74,'Reference Data - Transport fuel'!$C:$O,AD$4,FALSE))","v":""},null,{"$f":"IF($F74=\"\",\"\",VLOOKUP($F74,'Reference Data - Transport fuel'!$C:$O,AF$4,FALSE))","v":""},null,"","","","","","","","",null,"",null,"","",null,"",null,null,{"$f":"INDEX('Dropdown menus'!$A$1:$D$6,MATCH($M74,'Dropdown menus'!$A$1:$A$6,0),$AY$6)","v":{"$error":"#N/A"}},null,{"$f":"IF($N74=\"\",\"\",VLOOKUP($N74,'Reference Passenger Transport'!$C:$O,BA$4,FALSE))","v":""},{"$f":"IF($N74=\"\",\"\",VLOOKUP($N74,'Reference Passenger Transport'!$C:$O,BB$4,FALSE))","v":""},{"$f":"IF($N74=\"\",\"\",VLOOKUP($N74,'Reference Passenger Transport'!$C:$O,BC$4,FALSE))","v":""},{"$f":"IF($N74=\"\",\"\",VLOOKUP($N74,'Reference Passenger Transport'!$C:$O,BD$4,FALSE))","v":""},{"$f":"IF($N74=\"\",\"\",VLOOKUP($N74,'Reference Passenger Transport'!$C:$O,BE$4,FALSE))","v":""},{"$f":"IF($N74=\"\",\"\",VLOOKUP($N74,'Reference Passenger Transport'!$C:$O,BF$4,FALSE))","v":""},{"$f":"IF($N74=\"\",\"\",VLOOKUP($N74,'Reference Passenger Transport'!$C:$O,BG$4,FALSE))","v":""},{"$f":"IF($N74=\"\",\"\",VLOOKUP($N74,'Reference Passenger Transport'!$C:$O,BH$4,FALSE))","v":""},{"$f":"IF($N74=\"\",\"\",VLOOKUP($N74,'Reference Passenger Transport'!$C:$O,BI$4,FALSE))","v":""},{"$f":"IF($N74=\"\",\"\",VLOOKUP($N74,'Reference Passenger Transport'!$C:$O,BJ$4,FALSE))","v":""},{"$f":"IF($N74=\"\",\"\",VLOOKUP($N74,'Reference Passenger Transport'!$C:$O,BK$4,FALSE))","v":""},{"$f":"IF($N74=\"\",\"\",VLOOKUP($N74,'Reference Passenger Transport'!$C:$O,BL$4,FALSE))","v":""},{"$f":"IF($N74=\"\",\"\",VLOOKUP($N74,'Reference Passenger Transport'!$C:$O,BM$4,FALSE))","v":""},null,"","","","","","","","",null,"",null,"","",null,""]
[null,null,null,null,null,null,null,null,null,null,null,null,null,null,null,null,null,{"$f":"INDEX('Dropdown menus'!$A$1:$D$6,MATCH($E75,'Dropdown menus'!$A$1:$A$6,0),$R$6)","v":{"$error":"#N/A"}},null,{"$f":"IF($F75=\"\",\"\",VLOOKUP($F75,'Reference Data - Transport fuel'!$C:$O,T$4,FALSE))","v":""},{"$f":"IF($F75=\"\",\"\",VLOOKUP($F75,'Reference Data - Transport fuel'!$C:$O,U$4,FALSE))","v":""},{"$f":"IF($F75=\"\",\"\",VLOOKUP($F75,'Reference Data - Transport fuel'!$C:$O,V$4,FALSE))","v":""},{"$f":"IF($F75=\"\",\"\",VLOOKUP($F75,'Reference Data - Transport fuel'!$C:$O,W$4,FALSE))","v":""},{"$f":"IF($F75=\"\",\"\",VLOOKUP($F75,'Reference Data - Transport fuel'!$C:$O,X$4,FALSE))","v":""},{"$f":"IF($F75=\"\",\"\",VLOOKUP($F75,'Reference Data - Transport fuel'!$C:$O,Y$4,FALSE))","v":""},{"$f":"IF($F75=\"\",\"\",VLOOKUP($F75,'Reference Data - Transport fuel'!$C:$O,Z$4,FALSE))","v":""},{"$f":"IF($F75=\"\",\"\",VLOOKUP($F75,'Reference Data - Transport fuel'!$C:$O,AA$4,FALSE))","v":""},{"$f":"IF($F75=\"\",\"\",VLOOKUP($F75,'Reference Data - Transport fuel'!$C:$O,AB$4,FALSE))","v":""},null,{"$f":"IF($F75=\"\",\"\",VLOOKUP($F75,'Reference Data - Transport fuel'!$C:$O,AD$4,FALSE))","v":""},null,{"$f":"IF($F75=\"\",\"\",VLOOKUP($F75,'Reference Data - Transport fuel'!$C:$O,AF$4,FALSE))","v":""},null,"","","","","","","","",null,"",null,"","",null,"",null,null,{"$f":"INDEX('Dropdown menus'!$A$1:$D$6,MATCH($M75,'Dropdown menus'!$A$1:$A$6,0),$AY$6)","v":{"$error":"#N/A"}},null,{"$f":"IF($N75=\"\",\"\",VLOOKUP($N75,'Reference Passenger Transport'!$C:$O,BA$4,FALSE))","v":""},{"$f":"IF($N75=\"\",\"\",VLOOKUP($N75,'Reference Passenger Transport'!$C:$O,BB$4,FALSE))","v":""},{"$f":"IF($N75=\"\",\"\",VLOOKUP($N75,'Reference Passenger Transport'!$C:$O,BC$4,FALSE))","v":""},{"$f":"IF($N75=\"\",\"\",VLOOKUP($N75,'Reference Passenger Transport'!$C:$O,BD$4,FALSE))","v":""},{"$f":"IF($N75=\"\",\"\",VLOOKUP($N75,'Reference Passenger Transport'!$C:$O,BE$4,FALSE))","v":""},{"$f":"IF($N75=\"\",\"\",VLOOKUP($N75,'Reference Passenger Transport'!$C:$O,BF$4,FALSE))","v":""},{"$f":"IF($N75=\"\",\"\",VLOOKUP($N75,'Reference Passenger Transport'!$C:$O,BG$4,FALSE))","v":""},{"$f":"IF($N75=\"\",\"\",VLOOKUP($N75,'Reference Passenger Transport'!$C:$O,BH$4,FALSE))","v":""},{"$f":"IF($N75=\"\",\"\",VLOOKUP($N75,'Reference Passenger Transport'!$C:$O,BI$4,FALSE))","v":""},{"$f":"IF($N75=\"\",\"\",VLOOKUP($N75,'Reference Passenger Transport'!$C:$O,BJ$4,FALSE))","v":""},{"$f":"IF($N75=\"\",\"\",VLOOKUP($N75,'Reference Passenger Transport'!$C:$O,BK$4,FALSE))","v":""},{"$f":"IF($N75=\"\",\"\",VLOOKUP($N75,'Reference Passenger Transport'!$C:$O,BL$4,FALSE))","v":""},{"$f":"IF($N75=\"\",\"\",VLOOKUP($N75,'Reference Passenger Transport'!$C:$O,BM$4,FALSE))","v":""},null,"","","","","","","","",null,"",null,"","",null,""]
[null,null,null,null,null,null,null,null,null,null,null,null,null,null,null,null,null,{"$f":"INDEX('Dropdown menus'!$A$1:$D$6,MATCH($E76,'Dropdown menus'!$A$1:$A$6,0),$R$6)","v":{"$error":"#N/A"}},null,{"$f":"IF($F76=\"\",\"\",VLOOKUP($F76,'Reference Data - Transport fuel'!$C:$O,T$4,FALSE))","v":""},{"$f":"IF($F76=\"\",\"\",VLOOKUP($F76,'Reference Data - Transport fuel'!$C:$O,U$4,FALSE))","v":""},{"$f":"IF($F76=\"\",\"\",VLOOKUP($F76,'Reference Data - Transport fuel'!$C:$O,V$4,FALSE))","v":""},{"$f":"IF($F76=\"\",\"\",VLOOKUP($F76,'Reference Data - Transport fuel'!$C:$O,W$4,FALSE))","v":""},{"$f":"IF($F76=\"\",\"\",VLOOKUP($F76,'Reference Data - Transport fuel'!$C:$O,X$4,FALSE))","v":""},{"$f":"IF($F76=\"\",\"\",VLOOKUP($F76,'Reference Data - Transport fuel'!$C:$O,Y$4,FALSE))","v":""},{"$f":"IF($F76=\"\",\"\",VLOOKUP($F76,'Reference Data - Transport fuel'!$C:$O,Z$4,FALSE))","v":""},{"$f":"IF($F76=\"\",\"\",VLOOKUP($F76,'Reference Data - Transport fuel'!$C:$O,AA$4,FALSE))","v":""},{"$f":"IF($F76=\"\",\"\",VLOOKUP($F76,'Reference Data - Transport fuel'!$C:$O,AB$4,FALSE))","v":""},null,{"$f":"IF($F76=\"\",\"\",VLOOKUP($F76,'Reference Data - Transport fuel'!$C:$O,AD$4,FALSE))","v":""},null,{"$f":"IF($F76=\"\",\"\",VLOOKUP($F76,'Reference Data - Transport fuel'!$C:$O,AF$4,FALSE))","v":""},null,"","","","","","","","",null,"",null,"","",null,"",null,null,{"$f":"INDEX('Dropdown menus'!$A$1:$D$6,MATCH($M76,'Dropdown menus'!$A$1:$A$6,0),$AY$6)","v":{"$error":"#N/A"}},null,{"$f":"IF($N76=\"\",\"\",VLOOKUP($N76,'Reference Passenger Transport'!$C:$O,BA$4,FALSE))","v":""},{"$f":"IF($N76=\"\",\"\",VLOOKUP($N76,'Reference Passenger Transport'!$C:$O,BB$4,FALSE))","v":""},{"$f":"IF($N76=\"\",\"\",VLOOKUP($N76,'Reference Passenger Transport'!$C:$O,BC$4,FALSE))","v":""},{"$f":"IF($N76=\"\",\"\",VLOOKUP($N76,'Reference Passenger Transport'!$C:$O,BD$4,FALSE))","v":""},{"$f":"IF($N76=\"\",\"\",VLOOKUP($N76,'Reference Passenger Transport'!$C:$O,BE$4,FALSE))","v":""},{"$f":"IF($N76=\"\",\"\",VLOOKUP($N76,'Reference Passenger Transport'!$C:$O,BF$4,FALSE))","v":""},{"$f":"IF($N76=\"\",\"\",VLOOKUP($N76,'Reference Passenger Transport'!$C:$O,BG$4,FALSE))","v":""},{"$f":"IF($N76=\"\",\"\",VLOOKUP($N76,'Reference Passenger Transport'!$C:$O,BH$4,FALSE))","v":""},{"$f":"IF($N76=\"\",\"\",VLOOKUP($N76,'Reference Passenger Transport'!$C:$O,BI$4,FALSE))","v":""},{"$f":"IF($N76=\"\",\"\",VLOOKUP($N76,'Reference Passenger Transport'!$C:$O,BJ$4,FALSE))","v":""},{"$f":"IF($N76=\"\",\"\",VLOOKUP($N76,'Reference Passenger Transport'!$C:$O,BK$4,FALSE))","v":""},{"$f":"IF($N76=\"\",\"\",VLOOKUP($N76,'Reference Passenger Transport'!$C:$O,BL$4,FALSE))","v":""},{"$f":"IF($N76=\"\",\"\",VLOOKUP($N76,'Reference Passenger Transport'!$C:$O,BM$4,FALSE))","v":""},null,"","","","","","","","",null,"",null,"","",null,""]
[null,null,null,null,null,null,null,null,null,null,null,null,null,null,null,null,null,{"$f":"INDEX('Dropdown menus'!$A$1:$D$6,MATCH($E77,'Dropdown menus'!$A$1:$A$6,0),$R$6)","v":{"$error":"#N/A"}},null,{"$f":"IF($F77=\"\",\"\",VLOOKUP($F77,'Reference Data - Transport fuel'!$C:$O,T$4,FALSE))","v":""},{"$f":"IF($F77=\"\",\"\",VLOOKUP($F77,'Reference Data - Transport fuel'!$C:$O,U$4,FALSE))","v":""},{"$f":"IF($F77=\"\",\"\",VLOOKUP($F77,'Reference Data - Transport fuel'!$C:$O,V$4,FALSE))","v":""},{"$f":"IF($F77=\"\",\"\",VLOOKUP($F77,'Reference Data - Transport fuel'!$C:$O,W$4,FALSE))","v":""},{"$f":"IF($F77=\"\",\"\",VLOOKUP($F77,'Reference Data - Transport fuel'!$C:$O,X$4,FALSE))","v":""},{"$f":"IF($F77=\"\",\"\",VLOOKUP($F77,'Reference Data - Transport fuel'!$C:$O,Y$4,FALSE))","v":""},{"$f":"IF($F77=\"\",\"\",VLOOKUP($F77,'Reference Data - Transport fuel'!$C:$O,Z$4,FALSE))","v":""},{"$f":"IF($F77=\"\",\"\",VLOOKUP($F77,'Reference Data - Transport fuel'!$C:$O,AA$4,FALSE))","v":""},{"$f":"IF($F77=\"\",\"\",VLOOKUP($F77,'Reference Data - Transport fuel'!$C:$O,AB$4,FALSE))","v":""},null,{"$f":"IF($F77=\"\",\"\",VLOOKUP($F77,'Reference Data - Transport fuel'!$C:$O,AD$4,FALSE))","v":""},null,{"$f":"IF($F77=\"\",\"\",VLOOKUP($F77,'Reference Data - Transport fuel'!$C:$O,AF$4,FALSE))","v":""},null,"","","","","","","","",null,"",null,"","",null,"",null,null,{"$f":"INDEX('Dropdown menus'!$A$1:$D$6,MATCH($M77,'Dropdown menus'!$A$1:$A$6,0),$AY$6)","v":{"$error":"#N/A"}},null,{"$f":"IF($N77=\"\",\"\",VLOOKUP($N77,'Reference Passenger Transport'!$C:$O,BA$4,FALSE))","v":""},{"$f":"IF($N77=\"\",\"\",VLOOKUP($N77,'Reference Passenger Transport'!$C:$O,BB$4,FALSE))","v":""},{"$f":"IF($N77=\"\",\"\",VLOOKUP($N77,'Reference Passenger Transport'!$C:$O,BC$4,FALSE))","v":""},{"$f":"IF($N77=\"\",\"\",VLOOKUP($N77,'Reference Passenger Transport'!$C:$O,BD$4,FALSE))","v":""},{"$f":"IF($N77=\"\",\"\",VLOOKUP($N77,'Reference Passenger Transport'!$C:$O,BE$4,FALSE))","v":""},{"$f":"IF($N77=\"\",\"\",VLOOKUP($N77,'Reference Passenger Transport'!$C:$O,BF$4,FALSE))","v":""},{"$f":"IF($N77=\"\",\"\",VLOOKUP($N77,'Reference Passenger Transport'!$C:$O,BG$4,FALSE))","v":""},{"$f":"IF($N77=\"\",\"\",VLOOKUP($N77,'Reference Passenger Transport'!$C:$O,BH$4,FALSE))","v":""},{"$f":"IF($N77=\"\",\"\",VLOOKUP($N77,'Reference Passenger Transport'!$C:$O,BI$4,FALSE))","v":""},{"$f":"IF($N77=\"\",\"\",VLOOKUP($N77,'Reference Passenger Transport'!$C:$O,BJ$4,FALSE))","v":""},{"$f":"IF($N77=\"\",\"\",VLOOKUP($N77,'Reference Passenger Transport'!$C:$O,BK$4,FALSE))","v":""},{"$f":"IF($N77=\"\",\"\",VLOOKUP($N77,'Reference Passenger Transport'!$C:$O,BL$4,FALSE))","v":""},{"$f":"IF($N77=\"\",\"\",VLOOKUP($N77,'Reference Passenger Transport'!$C:$O,BM$4,FALSE))","v":""},null,"","","","","","","","",null,"",null,"","",null,""]
[null,null,null,null,null,null,null,null,null,null,null,null,null,null,null,null,null,{"$f":"INDEX('Dropdown menus'!$A$1:$D$6,MATCH($E78,'Dropdown menus'!$A$1:$A$6,0),$R$6)","v":{"$error":"#N/A"}},null,{"$f":"IF($F78=\"\",\"\",VLOOKUP($F78,'Reference Data - Transport fuel'!$C:$O,T$4,FALSE))","v":""},{"$f":"IF($F78=\"\",\"\",VLOOKUP($F78,'Reference Data - Transport fuel'!$C:$O,U$4,FALSE))","v":""},{"$f":"IF($F78=\"\",\"\",VLOOKUP($F78,'Reference Data - Transport fuel'!$C:$O,V$4,FALSE))","v":""},{"$f":"IF($F78=\"\",\"\",VLOOKUP($F78,'Reference Data - Transport fuel'!$C:$O,W$4,FALSE))","v":""},{"$f":"IF($F78=\"\",\"\",VLOOKUP($F78,'Reference Data - Transport fuel'!$C:$O,X$4,FALSE))","v":""},{"$f":"IF($F78=\"\",\"\",VLOOKUP($F78,'Reference Data - Transport fuel'!$C:$O,Y$4,FALSE))","v":""},{"$f":"IF($F78=\"\",\"\",VLOOKUP($F78,'Reference Data - Transport fuel'!$C:$O,Z$4,FALSE))","v":""},{"$f":"IF($F78=\"\",\"\",VLOOKUP($F78,'Reference Data - Transport fuel'!$C:$O,AA$4,FALSE))","v":""},{"$f":"IF($F78=\"\",\"\",VLOOKUP($F78,'Reference Data - Transport fuel'!$C:$O,AB$4,FALSE))","v":""},null,{"$f":"IF($F78=\"\",\"\",VLOOKUP($F78,'Reference Data - Transport fuel'!$C:$O,AD$4,FALSE))","v":""},null,{"$f":"IF($F78=\"\",\"\",VLOOKUP($F78,'Reference Data - Transport fuel'!$C:$O,AF$4,FALSE))","v":""},null,"","","","","","","","",null,"",null,"","",null,"",null,null,{"$f":"INDEX('Dropdown menus'!$A$1:$D$6,MATCH($M78,'Dropdown menus'!$A$1:$A$6,0),$AY$6)","v":{"$error":"#N/A"}},null,{"$f":"IF($N78=\"\",\"\",VLOOKUP($N78,'Reference Passenger Transport'!$C:$O,BA$4,FALSE))","v":""},{"$f":"IF($N78=\"\",\"\",VLOOKUP($N78,'Reference Passenger Transport'!$C:$O,BB$4,FALSE))","v":""},{"$f":"IF($N78=\"\",\"\",VLOOKUP($N78,'Reference Passenger Transport'!$C:$O,BC$4,FALSE))","v":""},{"$f":"IF($N78=\"\",\"\",VLOOKUP($N78,'Reference Passenger Transport'!$C:$O,BD$4,FALSE))","v":""},{"$f":"IF($N78=\"\",\"\",VLOOKUP($N78,'Reference Passenger Transport'!$C:$O,BE$4,FALSE))","v":""},{"$f":"IF($N78=\"\",\"\",VLOOKUP($N78,'Reference Passenger Transport'!$C:$O,BF$4,FALSE))","v":""},{"$f":"IF($N78=\"\",\"\",VLOOKUP($N78,'Reference Passenger Transport'!$C:$O,BG$4,FALSE))","v":""},{"$f":"IF($N78=\"\",\"\",VLOOKUP($N78,'Reference Passenger Transport'!$C:$O,BH$4,FALSE))","v":""},{"$f":"IF($N78=\"\",\"\",VLOOKUP($N78,'Reference Passenger Transport'!$C:$O,BI$4,FALSE))","v":""},{"$f":"IF($N78=\"\",\"\",VLOOKUP($N78,'Reference Passenger Transport'!$C:$O,BJ$4,FALSE))","v":""},{"$f":"IF($N78=\"\",\"\",VLOOKUP($N78,'Reference Passenger Transport'!$C:$O,BK$4,FALSE))","v":""},{"$f":"IF($N78=\"\",\"\",VLOOKUP($N78,'Reference Passenger Transport'!$C:$O,BL$4,FALSE))","v":""},{"$f":"IF($N78=\"\",\"\",VLOOKUP($N78,'Reference Passenger Transport'!$C:$O,BM$4,FALSE))","v":""},null,"","","","","","","","",null,"",null,"","",null,""]
[null,null,null,null,null,null,null,null,null,null,null,null,null,null,null,null,null,{"$f":"INDEX('Dropdown menus'!$A$1:$D$6,MATCH($E79,'Dropdown menus'!$A$1:$A$6,0),$R$6)","v":{"$error":"#N/A"}},null,{"$f":"IF($F79=\"\",\"\",VLOOKUP($F79,'Reference Data - Transport fuel'!$C:$O,T$4,FALSE))","v":""},{"$f":"IF($F79=\"\",\"\",VLOOKUP($F79,'Reference Data - Transport fuel'!$C:$O,U$4,FALSE))","v":""},{"$f":"IF($F79=\"\",\"\",VLOOKUP($F79,'Reference Data - Transport fuel'!$C:$O,V$4,FALSE))","v":""},{"$f":"IF($F79=\"\",\"\",VLOOKUP($F79,'Reference Data - Transport fuel'!$C:$O,W$4,FALSE))","v":""},{"$f":"IF($F79=\"\",\"\",VLOOKUP($F79,'Reference Data - Transport fuel'!$C:$O,X$4,FALSE))","v":""},{"$f":"IF($F79=\"\",\"\",VLOOKUP($F79,'Reference Data - Transport fuel'!$C:$O,Y$4,FALSE))","v":""},{"$f":"IF($F79=\"\",\"\",VLOOKUP($F79,'Reference Data - Transport fuel'!$C:$O,Z$4,FALSE))","v":""},{"$f":"IF($F79=\"\",\"\",VLOOKUP($F79,'Reference Data - Transport fuel'!$C:$O,AA$4,FALSE))","v":""},{"$f":"IF($F79=\"\",\"\",VLOOKUP($F79,'Reference Data - Transport fuel'!$C:$O,AB$4,FALSE))","v":""},null,{"$f":"IF($F79=\"\",\"\",VLOOKUP($F79,'Reference Data - Transport fuel'!$C:$O,AD$4,FALSE))","v":""},null,{"$f":"IF($F79=\"\",\"\",VLOOKUP($F79,'Reference Data - Transport fuel'!$C:$O,AF$4,FALSE))","v":""},null,"","","","","","","","",null,"",null,"","",null,"",null,null,{"$f":"INDEX('Dropdown menus'!$A$1:$D$6,MATCH($M79,'Dropdown menus'!$A$1:$A$6,0),$AY$6)","v":{"$error":"#N/A"}},null,{"$f":"IF($N79=\"\",\"\",VLOOKUP($N79,'Reference Passenger Transport'!$C:$O,BA$4,FALSE))","v":""},{"$f":"IF($N79=\"\",\"\",VLOOKUP($N79,'Reference Passenger Transport'!$C:$O,BB$4,FALSE))","v":""},{"$f":"IF($N79=\"\",\"\",VLOOKUP($N79,'Reference Passenger Transport'!$C:$O,BC$4,FALSE))","v":""},{"$f":"IF($N79=\"\",\"\",VLOOKUP($N79,'Reference Passenger Transport'!$C:$O,BD$4,FALSE))","v":""},{"$f":"IF($N79=\"\",\"\",VLOOKUP($N79,'Reference Passenger Transport'!$C:$O,BE$4,FALSE))","v":""},{"$f":"IF($N79=\"\",\"\",VLOOKUP($N79,'Reference Passenger Transport'!$C:$O,BF$4,FALSE))","v":""},{"$f":"IF($N79=\"\",\"\",VLOOKUP($N79,'Reference Passenger Transport'!$C:$O,BG$4,FALSE))","v":""},{"$f":"IF($N79=\"\",\"\",VLOOKUP($N79,'Reference Passenger Transport'!$C:$O,BH$4,FALSE))","v":""},{"$f":"IF($N79=\"\",\"\",VLOOKUP($N79,'Reference Passenger Transport'!$C:$O,BI$4,FALSE))","v":""},{"$f":"IF($N79=\"\",\"\",VLOOKUP($N79,'Reference Passenger Transport'!$C:$O,BJ$4,FALSE))","v":""},{"$f":"IF($N79=\"\",\"\",VLOOKUP($N79,'Reference Passenger Transport'!$C:$O,BK$4,FALSE))","v":""},{"$f":"IF($N79=\"\",\"\",VLOOKUP($N79,'Reference Passenger Transport'!$C:$O,BL$4,FALSE))","v":""},{"$f":"IF($N79=\"\",\"\",VLOOKUP($N79,'Reference Passenger Transport'!$C:$O,BM$4,FALSE))","v":""},null,"","","","","","","","",null,"",null,"","",null,""]
[null,null,null,null,null,null,null,null,null,null,null,null,null,null,null,null,null,{"$f":"INDEX('Dropdown menus'!$A$1:$D$6,MATCH($E80,'Dropdown menus'!$A$1:$A$6,0),$R$6)","v":{"$error":"#N/A"}},null,{"$f":"IF($F80=\"\",\"\",VLOOKUP($F80,'Reference Data - Transport fuel'!$C:$O,T$4,FALSE))","v":""},{"$f":"IF($F80=\"\",\"\",VLOOKUP($F80,'Reference Data - Transport fuel'!$C:$O,U$4,FALSE))","v":""},{"$f":"IF($F80=\"\",\"\",VLOOKUP($F80,'Reference Data - Transport fuel'!$C:$O,V$4,FALSE))","v":""},{"$f":"IF($F80=\"\",\"\",VLOOKUP($F80,'Reference Data - Transport fuel'!$C:$O,W$4,FALSE))","v":""},{"$f":"IF($F80=\"\",\"\",VLOOKUP($F80,'Reference Data - Transport fuel'!$C:$O,X$4,FALSE))","v":""},{"$f":"IF($F80=\"\",\"\",VLOOKUP($F80,'Reference Data - Transport fuel'!$C:$O,Y$4,FALSE))","v":""},{"$f":"IF($F80=\"\",\"\",VLOOKUP($F80,'Reference Data - Transport fuel'!$C:$O,Z$4,FALSE))","v":""},{"$f":"IF($F80=\"\",\"\",VLOOKUP($F80,'Reference Data - Transport fuel'!$C:$O,AA$4,FALSE))","v":""},{"$f":"IF($F80=\"\",\"\",VLOOKUP($F80,'Reference Data - Transport fuel'!$C:$O,AB$4,FALSE))","v":""},null,{"$f":"IF($F80=\"\",\"\",VLOOKUP($F80,'Reference Data - Transport fuel'!$C:$O,AD$4,FALSE))","v":""},null,{"$f":"IF($F80=\"\",\"\",VLOOKUP($F80,'Reference Data - Transport fuel'!$C:$O,AF$4,FALSE))","v":""},null,"","","","","","","","",null,"",null,"","",null,"",null,null,{"$f":"INDEX('Dropdown menus'!$A$1:$D$6,MATCH($M80,'Dropdown menus'!$A$1:$A$6,0),$AY$6)","v":{"$error":"#N/A"}},null,{"$f":"IF($N80=\"\",\"\",VLOOKUP($N80,'Reference Passenger Transport'!$C:$O,BA$4,FALSE))","v":""},{"$f":"IF($N80=\"\",\"\",VLOOKUP($N80,'Reference Passenger Transport'!$C:$O,BB$4,FALSE))","v":""},{"$f":"IF($N80=\"\",\"\",VLOOKUP($N80,'Reference Passenger Transport'!$C:$O,BC$4,FALSE))","v":""},{"$f":"IF($N80=\"\",\"\",VLOOKUP($N80,'Reference Passenger Transport'!$C:$O,BD$4,FALSE))","v":""},{"$f":"IF($N80=\"\",\"\",VLOOKUP($N80,'Reference Passenger Transport'!$C:$O,BE$4,FALSE))","v":""},{"$f":"IF($N80=\"\",\"\",VLOOKUP($N80,'Reference Passenger Transport'!$C:$O,BF$4,FALSE))","v":""},{"$f":"IF($N80=\"\",\"\",VLOOKUP($N80,'Reference Passenger Transport'!$C:$O,BG$4,FALSE))","v":""},{"$f":"IF($N80=\"\",\"\",VLOOKUP($N80,'Reference Passenger Transport'!$C:$O,BH$4,FALSE))","v":""},{"$f":"IF($N80=\"\",\"\",VLOOKUP($N80,'Reference Passenger Transport'!$C:$O,BI$4,FALSE))","v":""},{"$f":"IF($N80=\"\",\"\",VLOOKUP($N80,'Reference Passenger Transport'!$C:$O,BJ$4,FALSE))","v":""},{"$f":"IF($N80=\"\",\"\",VLOOKUP($N80,'Reference Passenger Transport'!$C:$O,BK$4,FALSE))","v":""},{"$f":"IF($N80=\"\",\"\",VLOOKUP($N80,'Reference Passenger Transport'!$C:$O,BL$4,FALSE))","v":""},{"$f":"IF($N80=\"\",\"\",VLOOKUP($N80,'Reference Passenger Transport'!$C:$O,BM$4,FALSE))","v":""},null,"","","","","","","","",null,"",null,"","",null,""]
[null,null,null,null,null,null,null,null,null,null,null,null,null,null,null,null,null,{"$f":"INDEX('Dropdown menus'!$A$1:$D$6,MATCH($E81,'Dropdown menus'!$A$1:$A$6,0),$R$6)","v":{"$error":"#N/A"}},null,{"$f":"IF($F81=\"\",\"\",VLOOKUP($F81,'Reference Data - Transport fuel'!$C:$O,T$4,FALSE))","v":""},{"$f":"IF($F81=\"\",\"\",VLOOKUP($F81,'Reference Data - Transport fuel'!$C:$O,U$4,FALSE))","v":""},{"$f":"IF($F81=\"\",\"\",VLOOKUP($F81,'Reference Data - Transport fuel'!$C:$O,V$4,FALSE))","v":""},{"$f":"IF($F81=\"\",\"\",VLOOKUP($F81,'Reference Data - Transport fuel'!$C:$O,W$4,FALSE))","v":""},{"$f":"IF($F81=\"\",\"\",VLOOKUP($F81,'Reference Data - Transport fuel'!$C:$O,X$4,FALSE))","v":""},{"$f":"IF($F81=\"\",\"\",VLOOKUP($F81,'Reference Data - Transport fuel'!$C:$O,Y$4,FALSE))","v":""},{"$f":"IF($F81=\"\",\"\",VLOOKUP($F81,'Reference Data - Transport fuel'!$C:$O,Z$4,FALSE))","v":""},{"$f":"IF($F81=\"\",\"\",VLOOKUP($F81,'Reference Data - Transport fuel'!$C:$O,AA$4,FALSE))","v":""},{"$f":"IF($F81=\"\",\"\",VLOOKUP($F81,'Reference Data - Transport fuel'!$C:$O,AB$4,FALSE))","v":""},null,{"$f":"IF($F81=\"\",\"\",VLOOKUP($F81,'Reference Data - Transport fuel'!$C:$O,AD$4,FALSE))","v":""},null,{"$f":"IF($F81=\"\",\"\",VLOOKUP($F81,'Reference Data - Transport fuel'!$C:$O,AF$4,FALSE))","v":""},null,"","","","","","","","",null,"",null,"","",null,"",null,null,{"$f":"INDEX('Dropdown menus'!$A$1:$D$6,MATCH($M81,'Dropdown menus'!$A$1:$A$6,0),$AY$6)","v":{"$error":"#N/A"}},null,{"$f":"IF($N81=\"\",\"\",VLOOKUP($N81,'Reference Passenger Transport'!$C:$O,BA$4,FALSE))","v":""},{"$f":"IF($N81=\"\",\"\",VLOOKUP($N81,'Reference Passenger Transport'!$C:$O,BB$4,FALSE))","v":""},{"$f":"IF($N81=\"\",\"\",VLOOKUP($N81,'Reference Passenger Transport'!$C:$O,BC$4,FALSE))","v":""},{"$f":"IF($N81=\"\",\"\",VLOOKUP($N81,'Reference Passenger Transport'!$C:$O,BD$4,FALSE))","v":""},{"$f":"IF($N81=\"\",\"\",VLOOKUP($N81,'Reference Passenger Transport'!$C:$O,BE$4,FALSE))","v":""},{"$f":"IF($N81=\"\",\"\",VLOOKUP($N81,'Reference Passenger Transport'!$C:$O,BF$4,FALSE))","v":""},{"$f":"IF($N81=\"\",\"\",VLOOKUP($N81,'Reference Passenger Transport'!$C:$O,BG$4,FALSE))","v":""},{"$f":"IF($N81=\"\",\"\",VLOOKUP($N81,'Reference Passenger Transport'!$C:$O,BH$4,FALSE))","v":""},{"$f":"IF($N81=\"\",\"\",VLOOKUP($N81,'Reference Passenger Transport'!$C:$O,BI$4,FALSE))","v":""},{"$f":"IF($N81=\"\",\"\",VLOOKUP($N81,'Reference Passenger Transport'!$C:$O,BJ$4,FALSE))","v":""},{"$f":"IF($N81=\"\",\"\",VLOOKUP($N81,'Reference Passenger Transport'!$C:$O,BK$4,FALSE))","v":""},{"$f":"IF($N81=\"\",\"\",VLOOKUP($N81,'Reference Passenger Transport'!$C:$O,BL$4,FALSE))","v":""},{"$f":"IF($N81=\"\",\"\",VLOOKUP($N81,'Reference Passenger Transport'!$C:$O,BM$4,FALSE))","v":""},null,"","","","","","","","",null,"",null,"","",null,""]
[null,null,null,null,null,null,null,null,null,null,null,null,null,null,null,null,null,{"$f":"INDEX('Dropdown menus'!$A$1:$D$6,MATCH($E82,'Dropdown menus'!$A$1:$A$6,0),$R$6)","v":{"$error":"#N/A"}},null,{"$f":"IF($F82=\"\",\"\",VLOOKUP($F82,'Reference Data - Transport fuel'!$C:$O,T$4,FALSE))","v":""},{"$f":"IF($F82=\"\",\"\",VLOOKUP($F82,'Reference Data - Transport fuel'!$C:$O,U$4,FALSE))","v":""},{"$f":"IF($F82=\"\",\"\",VLOOKUP($F82,'Reference Data - Transport fuel'!$C:$O,V$4,FALSE))","v":""},{"$f":"IF($F82=\"\",\"\",VLOOKUP($F82,'Reference Data - Transport fuel'!$C:$O,W$4,FALSE))","v":""},{"$f":"IF($F82=\"\",\"\",VLOOKUP($F82,'Reference Data - Transport fuel'!$C:$O,X$4,FALSE))","v":""},{"$f":"IF($F82=\"\",\"\",VLOOKUP($F82,'Reference Data - Transport fuel'!$C:$O,Y$4,FALSE))","v":""},{"$f":"IF($F82=\"\",\"\",VLOOKUP($F82,'Reference Data - Transport fuel'!$C:$O,Z$4,FALSE))","v":""},{"$f":"IF($F82=\"\",\"\",VLOOKUP($F82,'Reference Data - Transport fuel'!$C:$O,AA$4,FALSE))","v":""},{"$f":"IF($F82=\"\",\"\",VLOOKUP($F82,'Reference Data - Transport fuel'!$C:$O,AB$4,FALSE))","v":""},null,{"$f":"IF($F82=\"\",\"\",VLOOKUP($F82,'Reference Data - Transport fuel'!$C:$O,AD$4,FALSE))","v":""},null,{"$f":"IF($F82=\"\",\"\",VLOOKUP($F82,'Reference Data - Transport fuel'!$C:$O,AF$4,FALSE))","v":""},null,"","","","","","","","",null,"",null,"","",null,"",null,null,{"$f":"INDEX('Dropdown menus'!$A$1:$D$6,MATCH($M82,'Dropdown menus'!$A$1:$A$6,0),$AY$6)","v":{"$error":"#N/A"}},null,{"$f":"IF($N82=\"\",\"\",VLOOKUP($N82,'Reference Passenger Transport'!$C:$O,BA$4,FALSE))","v":""},{"$f":"IF($N82=\"\",\"\",VLOOKUP($N82,'Reference Passenger Transport'!$C:$O,BB$4,FALSE))","v":""},{"$f":"IF($N82=\"\",\"\",VLOOKUP($N82,'Reference Passenger Transport'!$C:$O,BC$4,FALSE))","v":""},{"$f":"IF($N82=\"\",\"\",VLOOKUP($N82,'Reference Passenger Transport'!$C:$O,BD$4,FALSE))","v":""},{"$f":"IF($N82=\"\",\"\",VLOOKUP($N82,'Reference Passenger Transport'!$C:$O,BE$4,FALSE))","v":""},{"$f":"IF($N82=\"\",\"\",VLOOKUP($N82,'Reference Passenger Transport'!$C:$O,BF$4,FALSE))","v":""},{"$f":"IF($N82=\"\",\"\",VLOOKUP($N82,'Reference Passenger Transport'!$C:$O,BG$4,FALSE))","v":""},{"$f":"IF($N82=\"\",\"\",VLOOKUP($N82,'Reference Passenger Transport'!$C:$O,BH$4,FALSE))","v":""},{"$f":"IF($N82=\"\",\"\",VLOOKUP($N82,'Reference Passenger Transport'!$C:$O,BI$4,FALSE))","v":""},{"$f":"IF($N82=\"\",\"\",VLOOKUP($N82,'Reference Passenger Transport'!$C:$O,BJ$4,FALSE))","v":""},{"$f":"IF($N82=\"\",\"\",VLOOKUP($N82,'Reference Passenger Transport'!$C:$O,BK$4,FALSE))","v":""},{"$f":"IF($N82=\"\",\"\",VLOOKUP($N82,'Reference Passenger Transport'!$C:$O,BL$4,FALSE))","v":""},{"$f":"IF($N82=\"\",\"\",VLOOKUP($N82,'Reference Passenger Transport'!$C:$O,BM$4,FALSE))","v":""},null,"","","","","","","","",null,"",null,"","",null,""]
[null,null,null,null,null,null,null,null,null,null,null,null,null,null,null,null,null,{"$f":"INDEX('Dropdown menus'!$A$1:$D$6,MATCH($E83,'Dropdown menus'!$A$1:$A$6,0),$R$6)","v":{"$error":"#N/A"}},null,{"$f":"IF($F83=\"\",\"\",VLOOKUP($F83,'Reference Data - Transport fuel'!$C:$O,T$4,FALSE))","v":""},{"$f":"IF($F83=\"\",\"\",VLOOKUP($F83,'Reference Data - Transport fuel'!$C:$O,U$4,FALSE))","v":""},{"$f":"IF($F83=\"\",\"\",VLOOKUP($F83,'Reference Data - Transport fuel'!$C:$O,V$4,FALSE))","v":""},{"$f":"IF($F83=\"\",\"\",VLOOKUP($F83,'Reference Data - Transport fuel'!$C:$O,W$4,FALSE))","v":""},{"$f":"IF($F83=\"\",\"\",VLOOKUP($F83,'Reference Data - Transport fuel'!$C:$O,X$4,FALSE))","v":""},{"$f":"IF($F83=\"\",\"\",VLOOKUP($F83,'Reference Data - Transport fuel'!$C:$O,Y$4,FALSE))","v":""},{"$f":"IF($F83=\"\",\"\",VLOOKUP($F83,'Reference Data - Transport fuel'!$C:$O,Z$4,FALSE))","v":""},{"$f":"IF($F83=\"\",\"\",VLOOKUP($F83,'Reference Data - Transport fuel'!$C:$O,AA$4,FALSE))","v":""},{"$f":"IF($F83=\"\",\"\",VLOOKUP($F83,'Reference Data - Transport fuel'!$C:$O,AB$4,FALSE))","v":""},null,{"$f":"IF($F83=\"\",\"\",VLOOKUP($F83,'Reference Data - Transport fuel'!$C:$O,AD$4,FALSE))","v":""},null,{"$f":"IF($F83=\"\",\"\",VLOOKUP($F83,'Reference Data - Transport fuel'!$C:$O,AF$4,FALSE))","v":""},null,"","","","","","","","",null,"",null,"","",null,"",null,null,{"$f":"INDEX('Dropdown menus'!$A$1:$D$6,MATCH($M83,'Dropdown menus'!$A$1:$A$6,0),$AY$6)","v":{"$error":"#N/A"}},null,{"$f":"IF($N83=\"\",\"\",VLOOKUP($N83,'Reference Passenger Transport'!$C:$O,BA$4,FALSE))","v":""},{"$f":"IF($N83=\"\",\"\",VLOOKUP($N83,'Reference Passenger Transport'!$C:$O,BB$4,FALSE))","v":""},{"$f":"IF($N83=\"\",\"\",VLOOKUP($N83,'Reference Passenger Transport'!$C:$O,BC$4,FALSE))","v":""},{"$f":"IF($N83=\"\",\"\",VLOOKUP($N83,'Reference Passenger Transport'!$C:$O,BD$4,FALSE))","v":""},{"$f":"IF($N83=\"\",\"\",VLOOKUP($N83,'Reference Passenger Transport'!$C:$O,BE$4,FALSE))","v":""},{"$f":"IF($N83=\"\",\"\",VLOOKUP($N83,'Reference Passenger Transport'!$C:$O,BF$4,FALSE))","v":""},{"$f":"IF($N83=\"\",\"\",VLOOKUP($N83,'Reference Passenger Transport'!$C:$O,BG$4,FALSE))","v":""},{"$f":"IF($N83=\"\",\"\",VLOOKUP($N83,'Reference Passenger Transport'!$C:$O,BH$4,FALSE))","v":""},{"$f":"IF($N83=\"\",\"\",VLOOKUP($N83,'Reference Passenger Transport'!$C:$O,BI$4,FALSE))","v":""},{"$f":"IF($N83=\"\",\"\",VLOOKUP($N83,'Reference Passenger Transport'!$C:$O,BJ$4,FALSE))","v":""},{"$f":"IF($N83=\"\",\"\",VLOOKUP($N83,'Reference Passenger Transport'!$C:$O,BK$4,FALSE))","v":""},{"$f":"IF($N83=\"\",\"\",VLOOKUP($N83,'Reference Passenger Transport'!$C:$O,BL$4,FALSE))","v":""},{"$f":"IF($N83=\"\",\"\",VLOOKUP($N83,'Reference Passenger Transport'!$C:$O,BM$4,FALSE))","v":""},null,"","","","","","","","",null,"",null,"","",null,""]
[null,null,null,null,null,null,null,null,null,null,null,null,null,null,null,null,null,{"$f":"INDEX('Dropdown menus'!$A$1:$D$6,MATCH($E84,'Dropdown menus'!$A$1:$A$6,0),$R$6)","v":{"$error":"#N/A"}},null,{"$f":"IF($F84=\"\",\"\",VLOOKUP($F84,'Reference Data - Transport fuel'!$C:$O,T$4,FALSE))","v":""},{"$f":"IF($F84=\"\",\"\",VLOOKUP($F84,'Reference Data - Transport fuel'!$C:$O,U$4,FALSE))","v":""},{"$f":"IF($F84=\"\",\"\",VLOOKUP($F84,'Reference Data - Transport fuel'!$C:$O,V$4,FALSE))","v":""},{"$f":"IF($F84=\"\",\"\",VLOOKUP($F84,'Reference Data - Transport fuel'!$C:$O,W$4,FALSE))","v":""},{"$f":"IF($F84=\"\",\"\",VLOOKUP($F84,'Reference Data - Transport fuel'!$C:$O,X$4,FALSE))","v":""},{"$f":"IF($F84=\"\",\"\",VLOOKUP($F84,'Reference Data - Transport fuel'!$C:$O,Y$4,FALSE))","v":""},{"$f":"IF($F84=\"\",\"\",VLOOKUP($F84,'Reference Data - Transport fuel'!$C:$O,Z$4,FALSE))","v":""},{"$f":"IF($F84=\"\",\"\",VLOOKUP($F84,'Reference Data - Transport fuel'!$C:$O,AA$4,FALSE))","v":""},{"$f":"IF($F84=\"\",\"\",VLOOKUP($F84,'Reference Data - Transport fuel'!$C:$O,AB$4,FALSE))","v":""},null,{"$f":"IF($F84=\"\",\"\",VLOOKUP($F84,'Reference Data - Transport fuel'!$C:$O,AD$4,FALSE))","v":""},null,{"$f":"IF($F84=\"\",\"\",VLOOKUP($F84,'Reference Data - Transport fuel'!$C:$O,AF$4,FALSE))","v":""},null,"","","","","","","","",null,"",null,"","",null,"",null,null,{"$f":"INDEX('Dropdown menus'!$A$1:$D$6,MATCH($M84,'Dropdown menus'!$A$1:$A$6,0),$AY$6)","v":{"$error":"#N/A"}},null,{"$f":"IF($N84=\"\",\"\",VLOOKUP($N84,'Reference Passenger Transport'!$C:$O,BA$4,FALSE))","v":""},{"$f":"IF($N84=\"\",\"\",VLOOKUP($N84,'Reference Passenger Transport'!$C:$O,BB$4,FALSE))","v":""},{"$f":"IF($N84=\"\",\"\",VLOOKUP($N84,'Reference Passenger Transport'!$C:$O,BC$4,FALSE))","v":""},{"$f":"IF($N84=\"\",\"\",VLOOKUP($N84,'Reference Passenger Transport'!$C:$O,BD$4,FALSE))","v":""},{"$f":"IF($N84=\"\",\"\",VLOOKUP($N84,'Reference Passenger Transport'!$C:$O,BE$4,FALSE))","v":""},{"$f":"IF($N84=\"\",\"\",VLOOKUP($N84,'Reference Passenger Transport'!$C:$O,BF$4,FALSE))","v":""},{"$f":"IF($N84=\"\",\"\",VLOOKUP($N84,'Reference Passenger Transport'!$C:$O,BG$4,FALSE))","v":""},{"$f":"IF($N84=\"\",\"\",VLOOKUP($N84,'Reference Passenger Transport'!$C:$O,BH$4,FALSE))","v":""},{"$f":"IF($N84=\"\",\"\",VLOOKUP($N84,'Reference Passenger Transport'!$C:$O,BI$4,FALSE))","v":""},{"$f":"IF($N84=\"\",\"\",VLOOKUP($N84,'Reference Passenger Transport'!$C:$O,BJ$4,FALSE))","v":""},{"$f":"IF($N84=\"\",\"\",VLOOKUP($N84,'Reference Passenger Transport'!$C:$O,BK$4,FALSE))","v":""},{"$f":"IF($N84=\"\",\"\",VLOOKUP($N84,'Reference Passenger Transport'!$C:$O,BL$4,FALSE))","v":""},{"$f":"IF($N84=\"\",\"\",VLOOKUP($N84,'Reference Passenger Transport'!$C:$O,BM$4,FALSE))","v":""},null,"","","","","","","","",null,"",null,"","",null,""]
[null,null,null,null,null,null,null,null,null,null,null,null,null,null,null,null,null,{"$f":"INDEX('Dropdown menus'!$A$1:$D$6,MATCH($E85,'Dropdown menus'!$A$1:$A$6,0),$R$6)","v":{"$error":"#N/A"}},null,{"$f":"IF($F85=\"\",\"\",VLOOKUP($F85,'Reference Data - Transport fuel'!$C:$O,T$4,FALSE))","v":""},{"$f":"IF($F85=\"\",\"\",VLOOKUP($F85,'Reference Data - Transport fuel'!$C:$O,U$4,FALSE))","v":""},{"$f":"IF($F85=\"\",\"\",VLOOKUP($F85,'Reference Data - Transport fuel'!$C:$O,V$4,FALSE))","v":""},{"$f":"IF($F85=\"\",\"\",VLOOKUP($F85,'Reference Data - Transport fuel'!$C:$O,W$4,FALSE))","v":""},{"$f":"IF($F85=\"\",\"\",VLOOKUP($F85,'Reference Data - Transport fuel'!$C:$O,X$4,FALSE))","v":""},{"$f":"IF($F85=\"\",\"\",VLOOKUP($F85,'Reference Data - Transport fuel'!$C:$O,Y$4,FALSE))","v":""},{"$f":"IF($F85=\"\",\"\",VLOOKUP($F85,'Reference Data - Transport fuel'!$C:$O,Z$4,FALSE))","v":""},{"$f":"IF($F85=\"\",\"\",VLOOKUP($F85,'Reference Data - Transport fuel'!$C:$O,AA$4,FALSE))","v":""},{"$f":"IF($F85=\"\",\"\",VLOOKUP($F85,'Reference Data - Transport fuel'!$C:$O,AB$4,FALSE))","v":""},null,{"$f":"IF($F85=\"\",\"\",VLOOKUP($F85,'Reference Data - Transport fuel'!$C:$O,AD$4,FALSE))","v":""},null,{"$f":"IF($F85=\"\",\"\",VLOOKUP($F85,'Reference Data - Transport fuel'!$C:$O,AF$4,FALSE))","v":""},null,"","","","","","","","",null,"",null,"","",null,"",null,null,{"$f":"INDEX('Dropdown menus'!$A$1:$D$6,MATCH($M85,'Dropdown menus'!$A$1:$A$6,0),$AY$6)","v":{"$error":"#N/A"}},null,{"$f":"IF($N85=\"\",\"\",VLOOKUP($N85,'Reference Passenger Transport'!$C:$O,BA$4,FALSE))","v":""},{"$f":"IF($N85=\"\",\"\",VLOOKUP($N85,'Reference Passenger Transport'!$C:$O,BB$4,FALSE))","v":""},{"$f":"IF($N85=\"\",\"\",VLOOKUP($N85,'Reference Passenger Transport'!$C:$O,BC$4,FALSE))","v":""},{"$f":"IF($N85=\"\",\"\",VLOOKUP($N85,'Reference Passenger Transport'!$C:$O,BD$4,FALSE))","v":""},{"$f":"IF($N85=\"\",\"\",VLOOKUP($N85,'Reference Passenger Transport'!$C:$O,BE$4,FALSE))","v":""},{"$f":"IF($N85=\"\",\"\",VLOOKUP($N85,'Reference Passenger Transport'!$C:$O,BF$4,FALSE))","v":""},{"$f":"IF($N85=\"\",\"\",VLOOKUP($N85,'Reference Passenger Transport'!$C:$O,BG$4,FALSE))","v":""},{"$f":"IF($N85=\"\",\"\",VLOOKUP($N85,'Reference Passenger Transport'!$C:$O,BH$4,FALSE))","v":""},{"$f":"IF($N85=\"\",\"\",VLOOKUP($N85,'Reference Passenger Transport'!$C:$O,BI$4,FALSE))","v":""},{"$f":"IF($N85=\"\",\"\",VLOOKUP($N85,'Reference Passenger Transport'!$C:$O,BJ$4,FALSE))","v":""},{"$f":"IF($N85=\"\",\"\",VLOOKUP($N85,'Reference Passenger Transport'!$C:$O,BK$4,FALSE))","v":""},{"$f":"IF($N85=\"\",\"\",VLOOKUP($N85,'Reference Passenger Transport'!$C:$O,BL$4,FALSE))","v":""},{"$f":"IF($N85=\"\",\"\",VLOOKUP($N85,'Reference Passenger Transport'!$C:$O,BM$4,FALSE))","v":""},null,"","","","","","","","",null,"",null,"","",null,""]
[null,null,null,null,null,null,null,null,null,null,null,null,null,null,null,null,null,{"$f":"INDEX('Dropdown menus'!$A$1:$D$6,MATCH($E86,'Dropdown menus'!$A$1:$A$6,0),$R$6)","v":{"$error":"#N/A"}},null,{"$f":"IF($F86=\"\",\"\",VLOOKUP($F86,'Reference Data - Transport fuel'!$C:$O,T$4,FALSE))","v":""},{"$f":"IF($F86=\"\",\"\",VLOOKUP($F86,'Reference Data - Transport fuel'!$C:$O,U$4,FALSE))","v":""},{"$f":"IF($F86=\"\",\"\",VLOOKUP($F86,'Reference Data - Transport fuel'!$C:$O,V$4,FALSE))","v":""},{"$f":"IF($F86=\"\",\"\",VLOOKUP($F86,'Reference Data - Transport fuel'!$C:$O,W$4,FALSE))","v":""},{"$f":"IF($F86=\"\",\"\",VLOOKUP($F86,'Reference Data - Transport fuel'!$C:$O,X$4,FALSE))","v":""},{"$f":"IF($F86=\"\",\"\",VLOOKUP($F86,'Reference Data - Transport fuel'!$C:$O,Y$4,FALSE))","v":""},{"$f":"IF($F86=\"\",\"\",VLOOKUP($F86,'Reference Data - Transport fuel'!$C:$O,Z$4,FALSE))","v":""},{"$f":"IF($F86=\"\",\"\",VLOOKUP($F86,'Reference Data - Transport fuel'!$C:$O,AA$4,FALSE))","v":""},{"$f":"IF($F86=\"\",\"\",VLOOKUP($F86,'Reference Data - Transport fuel'!$C:$O,AB$4,FALSE))","v":""},null,{"$f":"IF($F86=\"\",\"\",VLOOKUP($F86,'Reference Data - Transport fuel'!$C:$O,AD$4,FALSE))","v":""},null,{"$f":"IF($F86=\"\",\"\",VLOOKUP($F86,'Reference Data - Transport fuel'!$C:$O,AF$4,FALSE))","v":""},null,"","","","","","","","",null,"",null,"","",null,"",null,null,{"$f":"INDEX('Dropdown menus'!$A$1:$D$6,MATCH($M86,'Dropdown menus'!$A$1:$A$6,0),$AY$6)","v":{"$error":"#N/A"}},null,{"$f":"IF($N86=\"\",\"\",VLOOKUP($N86,'Reference Passenger Transport'!$C:$O,BA$4,FALSE))","v":""},{"$f":"IF($N86=\"\",\"\",VLOOKUP($N86,'Reference Passenger Transport'!$C:$O,BB$4,FALSE))","v":""},{"$f":"IF($N86=\"\",\"\",VLOOKUP($N86,'Reference Passenger Transport'!$C:$O,BC$4,FALSE))","v":""},{"$f":"IF($N86=\"\",\"\",VLOOKUP($N86,'Reference Passenger Transport'!$C:$O,BD$4,FALSE))","v":""},{"$f":"IF($N86=\"\",\"\",VLOOKUP($N86,'Reference Passenger Transport'!$C:$O,BE$4,FALSE))","v":""},{"$f":"IF($N86=\"\",\"\",VLOOKUP($N86,'Reference Passenger Transport'!$C:$O,BF$4,FALSE))","v":""},{"$f":"IF($N86=\"\",\"\",VLOOKUP($N86,'Reference Passenger Transport'!$C:$O,BG$4,FALSE))","v":""},{"$f":"IF($N86=\"\",\"\",VLOOKUP($N86,'Reference Passenger Transport'!$C:$O,BH$4,FALSE))","v":""},{"$f":"IF($N86=\"\",\"\",VLOOKUP($N86,'Reference Passenger Transport'!$C:$O,BI$4,FALSE))","v":""},{"$f":"IF($N86=\"\",\"\",VLOOKUP($N86,'Reference Passenger Transport'!$C:$O,BJ$4,FALSE))","v":""},{"$f":"IF($N86=\"\",\"\",VLOOKUP($N86,'Reference Passenger Transport'!$C:$O,BK$4,FALSE))","v":""},{"$f":"IF($N86=\"\",\"\",VLOOKUP($N86,'Reference Passenger Transport'!$C:$O,BL$4,FALSE))","v":""},{"$f":"IF($N86=\"\",\"\",VLOOKUP($N86,'Reference Passenger Transport'!$C:$O,BM$4,FALSE))","v":""},null,"","","","","","","","",null,"",null,"","",null,""]
[null,null,null,null,null,null,null,null,null,null,null,null,null,null,null,null,null,{"$f":"INDEX('Dropdown menus'!$A$1:$D$6,MATCH($E87,'Dropdown menus'!$A$1:$A$6,0),$R$6)","v":{"$error":"#N/A"}},null,{"$f":"IF($F87=\"\",\"\",VLOOKUP($F87,'Reference Data - Transport fuel'!$C:$O,T$4,FALSE))","v":""},{"$f":"IF($F87=\"\",\"\",VLOOKUP($F87,'Reference Data - Transport fuel'!$C:$O,U$4,FALSE))","v":""},{"$f":"IF($F87=\"\",\"\",VLOOKUP($F87,'Reference Data - Transport fuel'!$C:$O,V$4,FALSE))","v":""},{"$f":"IF($F87=\"\",\"\",VLOOKUP($F87,'Reference Data - Transport fuel'!$C:$O,W$4,FALSE))","v":""},{"$f":"IF($F87=\"\",\"\",VLOOKUP($F87,'Reference Data - Transport fuel'!$C:$O,X$4,FALSE))","v":""},{"$f":"IF($F87=\"\",\"\",VLOOKUP($F87,'Reference Data - Transport fuel'!$C:$O,Y$4,FALSE))","v":""},{"$f":"IF($F87=\"\",\"\",VLOOKUP($F87,'Reference Data - Transport fuel'!$C:$O,Z$4,FALSE))","v":""},{"$f":"IF($F87=\"\",\"\",VLOOKUP($F87,'Reference Data - Transport fuel'!$C:$O,AA$4,FALSE))","v":""},{"$f":"IF($F87=\"\",\"\",VLOOKUP($F87,'Reference Data - Transport fuel'!$C:$O,AB$4,FALSE))","v":""},null,{"$f":"IF($F87=\"\",\"\",VLOOKUP($F87,'Reference Data - Transport fuel'!$C:$O,AD$4,FALSE))","v":""},null,{"$f":"IF($F87=\"\",\"\",VLOOKUP($F87,'Reference Data - Transport fuel'!$C:$O,AF$4,FALSE))","v":""},null,"","","","","","","","",null,"",null,"","",null,"",null,null,{"$f":"INDEX('Dropdown menus'!$A$1:$D$6,MATCH($M87,'Dropdown menus'!$A$1:$A$6,0),$AY$6)","v":{"$error":"#N/A"}},null,{"$f":"IF($N87=\"\",\"\",VLOOKUP($N87,'Reference Passenger Transport'!$C:$O,BA$4,FALSE))","v":""},{"$f":"IF($N87=\"\",\"\",VLOOKUP($N87,'Reference Passenger Transport'!$C:$O,BB$4,FALSE))","v":""},{"$f":"IF($N87=\"\",\"\",VLOOKUP($N87,'Reference Passenger Transport'!$C:$O,BC$4,FALSE))","v":""},{"$f":"IF($N87=\"\",\"\",VLOOKUP($N87,'Reference Passenger Transport'!$C:$O,BD$4,FALSE))","v":""},{"$f":"IF($N87=\"\",\"\",VLOOKUP($N87,'Reference Passenger Transport'!$C:$O,BE$4,FALSE))","v":""},{"$f":"IF($N87=\"\",\"\",VLOOKUP($N87,'Reference Passenger Transport'!$C:$O,BF$4,FALSE))","v":""},{"$f":"IF($N87=\"\",\"\",VLOOKUP($N87,'Reference Passenger Transport'!$C:$O,BG$4,FALSE))","v":""},{"$f":"IF($N87=\"\",\"\",VLOOKUP($N87,'Reference Passenger Transport'!$C:$O,BH$4,FALSE))","v":""},{"$f":"IF($N87=\"\",\"\",VLOOKUP($N87,'Reference Passenger Transport'!$C:$O,BI$4,FALSE))","v":""},{"$f":"IF($N87=\"\",\"\",VLOOKUP($N87,'Reference Passenger Transport'!$C:$O,BJ$4,FALSE))","v":""},{"$f":"IF($N87=\"\",\"\",VLOOKUP($N87,'Reference Passenger Transport'!$C:$O,BK$4,FALSE))","v":""},{"$f":"IF($N87=\"\",\"\",VLOOKUP($N87,'Reference Passenger Transport'!$C:$O,BL$4,FALSE))","v":""},{"$f":"IF($N87=\"\",\"\",VLOOKUP($N87,'Reference Passenger Transport'!$C:$O,BM$4,FALSE))","v":""},null,"","","","","","","","",null,"",null,"","",null,""]
[null,null,null,null,null,null,null,null,null,null,null,null,null,null,null,null,null,{"$f":"INDEX('Dropdown menus'!$A$1:$D$6,MATCH($E88,'Dropdown menus'!$A$1:$A$6,0),$R$6)","v":{"$error":"#N/A"}},null,{"$f":"IF($F88=\"\",\"\",VLOOKUP($F88,'Reference Data - Transport fuel'!$C:$O,T$4,FALSE))","v":""},{"$f":"IF($F88=\"\",\"\",VLOOKUP($F88,'Reference Data - Transport fuel'!$C:$O,U$4,FALSE))","v":""},{"$f":"IF($F88=\"\",\"\",VLOOKUP($F88,'Reference Data - Transport fuel'!$C:$O,V$4,FALSE))","v":""},{"$f":"IF($F88=\"\",\"\",VLOOKUP($F88,'Reference Data - Transport fuel'!$C:$O,W$4,FALSE))","v":""},{"$f":"IF($F88=\"\",\"\",VLOOKUP($F88,'Reference Data - Transport fuel'!$C:$O,X$4,FALSE))","v":""},{"$f":"IF($F88=\"\",\"\",VLOOKUP($F88,'Reference Data - Transport fuel'!$C:$O,Y$4,FALSE))","v":""},{"$f":"IF($F88=\"\",\"\",VLOOKUP($F88,'Reference Data - Transport fuel'!$C:$O,Z$4,FALSE))","v":""},{"$f":"IF($F88=\"\",\"\",VLOOKUP($F88,'Reference Data - Transport fuel'!$C:$O,AA$4,FALSE))","v":""},{"$f":"IF($F88=\"\",\"\",VLOOKUP($F88,'Reference Data - Transport fuel'!$C:$O,AB$4,FALSE))","v":""},null,{"$f":"IF($F88=\"\",\"\",VLOOKUP($F88,'Reference Data - Transport fuel'!$C:$O,AD$4,FALSE))","v":""},null,{"$f":"IF($F88=\"\",\"\",VLOOKUP($F88,'Reference Data - Transport fuel'!$C:$O,AF$4,FALSE))","v":""},null,"","","","","","","","",null,"",null,"","",null,"",null,null,{"$f":"INDEX('Dropdown menus'!$A$1:$D$6,MATCH($M88,'Dropdown menus'!$A$1:$A$6,0),$AY$6)","v":{"$error":"#N/A"}},null,{"$f":"IF($N88=\"\",\"\",VLOOKUP($N88,'Reference Passenger Transport'!$C:$O,BA$4,FALSE))","v":""},{"$f":"IF($N88=\"\",\"\",VLOOKUP($N88,'Reference Passenger Transport'!$C:$O,BB$4,FALSE))","v":""},{"$f":"IF($N88=\"\",\"\",VLOOKUP($N88,'Reference Passenger Transport'!$C:$O,BC$4,FALSE))","v":""},{"$f":"IF($N88=\"\",\"\",VLOOKUP($N88,'Reference Passenger Transport'!$C:$O,BD$4,FALSE))","v":""},{"$f":"IF($N88=\"\",\"\",VLOOKUP($N88,'Reference Passenger Transport'!$C:$O,BE$4,FALSE))","v":""},{"$f":"IF($N88=\"\",\"\",VLOOKUP($N88,'Reference Passenger Transport'!$C:$O,BF$4,FALSE))","v":""},{"$f":"IF($N88=\"\",\"\",VLOOKUP($N88,'Reference Passenger Transport'!$C:$O,BG$4,FALSE))","v":""},{"$f":"IF($N88=\"\",\"\",VLOOKUP($N88,'Reference Passenger Transport'!$C:$O,BH$4,FALSE))","v":""},{"$f":"IF($N88=\"\",\"\",VLOOKUP($N88,'Reference Passenger Transport'!$C:$O,BI$4,FALSE))","v":""},{"$f":"IF($N88=\"\",\"\",VLOOKUP($N88,'Reference Passenger Transport'!$C:$O,BJ$4,FALSE))","v":""},{"$f":"IF($N88=\"\",\"\",VLOOKUP($N88,'Reference Passenger Transport'!$C:$O,BK$4,FALSE))","v":""},{"$f":"IF($N88=\"\",\"\",VLOOKUP($N88,'Reference Passenger Transport'!$C:$O,BL$4,FALSE))","v":""},{"$f":"IF($N88=\"\",\"\",VLOOKUP($N88,'Reference Passenger Transport'!$C:$O,BM$4,FALSE))","v":""},null,"","","","","","","","",null,"",null,"","",null,""]
[null,null,null,null,null,null,null,null,null,null,null,null,null,null,null,null,null,{"$f":"INDEX('Dropdown menus'!$A$1:$D$6,MATCH($E89,'Dropdown menus'!$A$1:$A$6,0),$R$6)","v":{"$error":"#N/A"}},null,{"$f":"IF($F89=\"\",\"\",VLOOKUP($F89,'Reference Data - Transport fuel'!$C:$O,T$4,FALSE))","v":""},{"$f":"IF($F89=\"\",\"\",VLOOKUP($F89,'Reference Data - Transport fuel'!$C:$O,U$4,FALSE))","v":""},{"$f":"IF($F89=\"\",\"\",VLOOKUP($F89,'Reference Data - Transport fuel'!$C:$O,V$4,FALSE))","v":""},{"$f":"IF($F89=\"\",\"\",VLOOKUP($F89,'Reference Data - Transport fuel'!$C:$O,W$4,FALSE))","v":""},{"$f":"IF($F89=\"\",\"\",VLOOKUP($F89,'Reference Data - Transport fuel'!$C:$O,X$4,FALSE))","v":""},{"$f":"IF($F89=\"\",\"\",VLOOKUP($F89,'Reference Data - Transport fuel'!$C:$O,Y$4,FALSE))","v":""},{"$f":"IF($F89=\"\",\"\",VLOOKUP($F89,'Reference Data - Transport fuel'!$C:$O,Z$4,FALSE))","v":""},{"$f":"IF($F89=\"\",\"\",VLOOKUP($F89,'Reference Data - Transport fuel'!$C:$O,AA$4,FALSE))","v":""},{"$f":"IF($F89=\"\",\"\",VLOOKUP($F89,'Reference Data - Transport fuel'!$C:$O,AB$4,FALSE))","v":""},null,{"$f":"IF($F89=\"\",\"\",VLOOKUP($F89,'Reference Data - Transport fuel'!$C:$O,AD$4,FALSE))","v":""},null,{"$f":"IF($F89=\"\",\"\",VLOOKUP($F89,'Reference Data - Transport fuel'!$C:$O,AF$4,FALSE))","v":""},null,"","","","","","","","",null,"",null,"","",null,"",null,null,{"$f":"INDEX('Dropdown menus'!$A$1:$D$6,MATCH($M89,'Dropdown menus'!$A$1:$A$6,0),$AY$6)","v":{"$error":"#N/A"}},null,{"$f":"IF($N89=\"\",\"\",VLOOKUP($N89,'Reference Passenger Transport'!$C:$O,BA$4,FALSE))","v":""},{"$f":"IF($N89=\"\",\"\",VLOOKUP($N89,'Reference Passenger Transport'!$C:$O,BB$4,FALSE))","v":""},{"$f":"IF($N89=\"\",\"\",VLOOKUP($N89,'Reference Passenger Transport'!$C:$O,BC$4,FALSE))","v":""},{"$f":"IF($N89=\"\",\"\",VLOOKUP($N89,'Reference Passenger Transport'!$C:$O,BD$4,FALSE))","v":""},{"$f":"IF($N89=\"\",\"\",VLOOKUP($N89,'Reference Passenger Transport'!$C:$O,BE$4,FALSE))","v":""},{"$f":"IF($N89=\"\",\"\",VLOOKUP($N89,'Reference Passenger Transport'!$C:$O,BF$4,FALSE))","v":""},{"$f":"IF($N89=\"\",\"\",VLOOKUP($N89,'Reference Passenger Transport'!$C:$O,BG$4,FALSE))","v":""},{"$f":"IF($N89=\"\",\"\",VLOOKUP($N89,'Reference Passenger Transport'!$C:$O,BH$4,FALSE))","v":""},{"$f":"IF($N89=\"\",\"\",VLOOKUP($N89,'Reference Passenger Transport'!$C:$O,BI$4,FALSE))","v":""},{"$f":"IF($N89=\"\",\"\",VLOOKUP($N89,'Reference Passenger Transport'!$C:$O,BJ$4,FALSE))","v":""},{"$f":"IF($N89=\"\",\"\",VLOOKUP($N89,'Reference Passenger Transport'!$C:$O,BK$4,FALSE))","v":""},{"$f":"IF($N89=\"\",\"\",VLOOKUP($N89,'Reference Passenger Transport'!$C:$O,BL$4,FALSE))","v":""},{"$f":"IF($N89=\"\",\"\",VLOOKUP($N89,'Reference Passenger Transport'!$C:$O,BM$4,FALSE))","v":""},null,"","","","","","","","",null,"",null,"","",null,""]
[null,null,null,null,null,null,null,null,null,null,null,null,null,null,null,null,null,{"$f":"INDEX('Dropdown menus'!$A$1:$D$6,MATCH($E90,'Dropdown menus'!$A$1:$A$6,0),$R$6)","v":{"$error":"#N/A"}},null,{"$f":"IF($F90=\"\",\"\",VLOOKUP($F90,'Reference Data - Transport fuel'!$C:$O,T$4,FALSE))","v":""},{"$f":"IF($F90=\"\",\"\",VLOOKUP($F90,'Reference Data - Transport fuel'!$C:$O,U$4,FALSE))","v":""},{"$f":"IF($F90=\"\",\"\",VLOOKUP($F90,'Reference Data - Transport fuel'!$C:$O,V$4,FALSE))","v":""},{"$f":"IF($F90=\"\",\"\",VLOOKUP($F90,'Reference Data - Transport fuel'!$C:$O,W$4,FALSE))","v":""},{"$f":"IF($F90=\"\",\"\",VLOOKUP($F90,'Reference Data - Transport fuel'!$C:$O,X$4,FALSE))","v":""},{"$f":"IF($F90=\"\",\"\",VLOOKUP($F90,'Reference Data - Transport fuel'!$C:$O,Y$4,FALSE))","v":""},{"$f":"IF($F90=\"\",\"\",VLOOKUP($F90,'Reference Data - Transport fuel'!$C:$O,Z$4,FALSE))","v":""},{"$f":"IF($F90=\"\",\"\",VLOOKUP($F90,'Reference Data - Transport fuel'!$C:$O,AA$4,FALSE))","v":""},{"$f":"IF($F90=\"\",\"\",VLOOKUP($F90,'Reference Data - Transport fuel'!$C:$O,AB$4,FALSE))","v":""},null,{"$f":"IF($F90=\"\",\"\",VLOOKUP($F90,'Reference Data - Transport fuel'!$C:$O,AD$4,FALSE))","v":""},null,{"$f":"IF($F90=\"\",\"\",VLOOKUP($F90,'Reference Data - Transport fuel'!$C:$O,AF$4,FALSE))","v":""},null,"","","","","","","","",null,"",null,"","",null,"",null,null,{"$f":"INDEX('Dropdown menus'!$A$1:$D$6,MATCH($M90,'Dropdown menus'!$A$1:$A$6,0),$AY$6)","v":{"$error":"#N/A"}},null,{"$f":"IF($N90=\"\",\"\",VLOOKUP($N90,'Reference Passenger Transport'!$C:$O,BA$4,FALSE))","v":""},{"$f":"IF($N90=\"\",\"\",VLOOKUP($N90,'Reference Passenger Transport'!$C:$O,BB$4,FALSE))","v":""},{"$f":"IF($N90=\"\",\"\",VLOOKUP($N90,'Reference Passenger Transport'!$C:$O,BC$4,FALSE))","v":""},{"$f":"IF($N90=\"\",\"\",VLOOKUP($N90,'Reference Passenger Transport'!$C:$O,BD$4,FALSE))","v":""},{"$f":"IF($N90=\"\",\"\",VLOOKUP($N90,'Reference Passenger Transport'!$C:$O,BE$4,FALSE))","v":""},{"$f":"IF($N90=\"\",\"\",VLOOKUP($N90,'Reference Passenger Transport'!$C:$O,BF$4,FALSE))","v":""},{"$f":"IF($N90=\"\",\"\",VLOOKUP($N90,'Reference Passenger Transport'!$C:$O,BG$4,FALSE))","v":""},{"$f":"IF($N90=\"\",\"\",VLOOKUP($N90,'Reference Passenger Transport'!$C:$O,BH$4,FALSE))","v":""},{"$f":"IF($N90=\"\",\"\",VLOOKUP($N90,'Reference Passenger Transport'!$C:$O,BI$4,FALSE))","v":""},{"$f":"IF($N90=\"\",\"\",VLOOKUP($N90,'Reference Passenger Transport'!$C:$O,BJ$4,FALSE))","v":""},{"$f":"IF($N90=\"\",\"\",VLOOKUP($N90,'Reference Passenger Transport'!$C:$O,BK$4,FALSE))","v":""},{"$f":"IF($N90=\"\",\"\",VLOOKUP($N90,'Reference Passenger Transport'!$C:$O,BL$4,FALSE))","v":""},{"$f":"IF($N90=\"\",\"\",VLOOKUP($N90,'Reference Passenger Transport'!$C:$O,BM$4,FALSE))","v":""},null,"","","","","","","","",null,"",null,"","",null,""]
[null,null,null,null,null,null,null,null,null,null,null,null,null,null,null,null,null,{"$f":"INDEX('Dropdown menus'!$A$1:$D$6,MATCH($E91,'Dropdown menus'!$A$1:$A$6,0),$R$6)","v":{"$error":"#N/A"}},null,{"$f":"IF($F91=\"\",\"\",VLOOKUP($F91,'Reference Data - Transport fuel'!$C:$O,T$4,FALSE))","v":""},{"$f":"IF($F91=\"\",\"\",VLOOKUP($F91,'Reference Data - Transport fuel'!$C:$O,U$4,FALSE))","v":""},{"$f":"IF($F91=\"\",\"\",VLOOKUP($F91,'Reference Data - Transport fuel'!$C:$O,V$4,FALSE))","v":""},{"$f":"IF($F91=\"\",\"\",VLOOKUP($F91,'Reference Data - Transport fuel'!$C:$O,W$4,FALSE))","v":""},{"$f":"IF($F91=\"\",\"\",VLOOKUP($F91,'Reference Data - Transport fuel'!$C:$O,X$4,FALSE))","v":""},{"$f":"IF($F91=\"\",\"\",VLOOKUP($F91,'Reference Data - Transport fuel'!$C:$O,Y$4,FALSE))","v":""},{"$f":"IF($F91=\"\",\"\",VLOOKUP($F91,'Reference Data - Transport fuel'!$C:$O,Z$4,FALSE))","v":""},{"$f":"IF($F91=\"\",\"\",VLOOKUP($F91,'Reference Data - Transport fuel'!$C:$O,AA$4,FALSE))","v":""},{"$f":"IF($F91=\"\",\"\",VLOOKUP($F91,'Reference Data - Transport fuel'!$C:$O,AB$4,FALSE))","v":""},null,{"$f":"IF($F91=\"\",\"\",VLOOKUP($F91,'Reference Data - Transport fuel'!$C:$O,AD$4,FALSE))","v":""},null,{"$f":"IF($F91=\"\",\"\",VLOOKUP($F91,'Reference Data - Transport fuel'!$C:$O,AF$4,FALSE))","v":""},null,"","","","","","","","",null,"",null,"","",null,"",null,null,{"$f":"INDEX('Dropdown menus'!$A$1:$D$6,MATCH($M91,'Dropdown menus'!$A$1:$A$6,0),$AY$6)","v":{"$error":"#N/A"}},null,{"$f":"IF($N91=\"\",\"\",VLOOKUP($N91,'Reference Passenger Transport'!$C:$O,BA$4,FALSE))","v":""},{"$f":"IF($N91=\"\",\"\",VLOOKUP($N91,'Reference Passenger Transport'!$C:$O,BB$4,FALSE))","v":""},{"$f":"IF($N91=\"\",\"\",VLOOKUP($N91,'Reference Passenger Transport'!$C:$O,BC$4,FALSE))","v":""},{"$f":"IF($N91=\"\",\"\",VLOOKUP($N91,'Reference Passenger Transport'!$C:$O,BD$4,FALSE))","v":""},{"$f":"IF($N91=\"\",\"\",VLOOKUP($N91,'Reference Passenger Transport'!$C:$O,BE$4,FALSE))","v":""},{"$f":"IF($N91=\"\",\"\",VLOOKUP($N91,'Reference Passenger Transport'!$C:$O,BF$4,FALSE))","v":""},{"$f":"IF($N91=\"\",\"\",VLOOKUP($N91,'Reference Passenger Transport'!$C:$O,BG$4,FALSE))","v":""},{"$f":"IF($N91=\"\",\"\",VLOOKUP($N91,'Reference Passenger Transport'!$C:$O,BH$4,FALSE))","v":""},{"$f":"IF($N91=\"\",\"\",VLOOKUP($N91,'Reference Passenger Transport'!$C:$O,BI$4,FALSE))","v":""},{"$f":"IF($N91=\"\",\"\",VLOOKUP($N91,'Reference Passenger Transport'!$C:$O,BJ$4,FALSE))","v":""},{"$f":"IF($N91=\"\",\"\",VLOOKUP($N91,'Reference Passenger Transport'!$C:$O,BK$4,FALSE))","v":""},{"$f":"IF($N91=\"\",\"\",VLOOKUP($N91,'Reference Passenger Transport'!$C:$O,BL$4,FALSE))","v":""},{"$f":"IF($N91=\"\",\"\",VLOOKUP($N91,'Reference Passenger Transport'!$C:$O,BM$4,FALSE))","v":""},null,"","","","","","","","",null,"",null,"","",null,""]
[null,null,null,null,null,null,null,null,null,null,null,null,null,null,null,null,null,{"$f":"INDEX('Dropdown menus'!$A$1:$D$6,MATCH($E92,'Dropdown menus'!$A$1:$A$6,0),$R$6)","v":{"$error":"#N/A"}},null,{"$f":"IF($F92=\"\",\"\",VLOOKUP($F92,'Reference Data - Transport fuel'!$C:$O,T$4,FALSE))","v":""},{"$f":"IF($F92=\"\",\"\",VLOOKUP($F92,'Reference Data - Transport fuel'!$C:$O,U$4,FALSE))","v":""},{"$f":"IF($F92=\"\",\"\",VLOOKUP($F92,'Reference Data - Transport fuel'!$C:$O,V$4,FALSE))","v":""},{"$f":"IF($F92=\"\",\"\",VLOOKUP($F92,'Reference Data - Transport fuel'!$C:$O,W$4,FALSE))","v":""},{"$f":"IF($F92=\"\",\"\",VLOOKUP($F92,'Reference Data - Transport fuel'!$C:$O,X$4,FALSE))","v":""},{"$f":"IF($F92=\"\",\"\",VLOOKUP($F92,'Reference Data - Transport fuel'!$C:$O,Y$4,FALSE))","v":""},{"$f":"IF($F92=\"\",\"\",VLOOKUP($F92,'Reference Data - Transport fuel'!$C:$O,Z$4,FALSE))","v":""},{"$f":"IF($F92=\"\",\"\",VLOOKUP($F92,'Reference Data - Transport fuel'!$C:$O,AA$4,FALSE))","v":""},{"$f":"IF($F92=\"\",\"\",VLOOKUP($F92,'Reference Data - Transport fuel'!$C:$O,AB$4,FALSE))","v":""},null,{"$f":"IF($F92=\"\",\"\",VLOOKUP($F92,'Reference Data - Transport fuel'!$C:$O,AD$4,FALSE))","v":""},null,{"$f":"IF($F92=\"\",\"\",VLOOKUP($F92,'Reference Data - Transport fuel'!$C:$O,AF$4,FALSE))","v":""},null,"","","","","","","","",null,"",null,"","",null,"",null,null,{"$f":"INDEX('Dropdown menus'!$A$1:$D$6,MATCH($M92,'Dropdown menus'!$A$1:$A$6,0),$AY$6)","v":{"$error":"#N/A"}},null,{"$f":"IF($N92=\"\",\"\",VLOOKUP($N92,'Reference Passenger Transport'!$C:$O,BA$4,FALSE))","v":""},{"$f":"IF($N92=\"\",\"\",VLOOKUP($N92,'Reference Passenger Transport'!$C:$O,BB$4,FALSE))","v":""},{"$f":"IF($N92=\"\",\"\",VLOOKUP($N92,'Reference Passenger Transport'!$C:$O,BC$4,FALSE))","v":""},{"$f":"IF($N92=\"\",\"\",VLOOKUP($N92,'Reference Passenger Transport'!$C:$O,BD$4,FALSE))","v":""},{"$f":"IF($N92=\"\",\"\",VLOOKUP($N92,'Reference Passenger Transport'!$C:$O,BE$4,FALSE))","v":""},{"$f":"IF($N92=\"\",\"\",VLOOKUP($N92,'Reference Passenger Transport'!$C:$O,BF$4,FALSE))","v":""},{"$f":"IF($N92=\"\",\"\",VLOOKUP($N92,'Reference Passenger Transport'!$C:$O,BG$4,FALSE))","v":""},{"$f":"IF($N92=\"\",\"\",VLOOKUP($N92,'Reference Passenger Transport'!$C:$O,BH$4,FALSE))","v":""},{"$f":"IF($N92=\"\",\"\",VLOOKUP($N92,'Reference Passenger Transport'!$C:$O,BI$4,FALSE))","v":""},{"$f":"IF($N92=\"\",\"\",VLOOKUP($N92,'Reference Passenger Transport'!$C:$O,BJ$4,FALSE))","v":""},{"$f":"IF($N92=\"\",\"\",VLOOKUP($N92,'Reference Passenger Transport'!$C:$O,BK$4,FALSE))","v":""},{"$f":"IF($N92=\"\",\"\",VLOOKUP($N92,'Reference Passenger Transport'!$C:$O,BL$4,FALSE))","v":""},{"$f":"IF($N92=\"\",\"\",VLOOKUP($N92,'Reference Passenger Transport'!$C:$O,BM$4,FALSE))","v":""},null,"","","","","","","","",null,"",null,"","",null,""]
[null,null,null,null,null,null,null,null,null,null,null,null,null,null,null,null,null,{"$f":"INDEX('Dropdown menus'!$A$1:$D$6,MATCH($E93,'Dropdown menus'!$A$1:$A$6,0),$R$6)","v":{"$error":"#N/A"}},null,{"$f":"IF($F93=\"\",\"\",VLOOKUP($F93,'Reference Data - Transport fuel'!$C:$O,T$4,FALSE))","v":""},{"$f":"IF($F93=\"\",\"\",VLOOKUP($F93,'Reference Data - Transport fuel'!$C:$O,U$4,FALSE))","v":""},{"$f":"IF($F93=\"\",\"\",VLOOKUP($F93,'Reference Data - Transport fuel'!$C:$O,V$4,FALSE))","v":""},{"$f":"IF($F93=\"\",\"\",VLOOKUP($F93,'Reference Data - Transport fuel'!$C:$O,W$4,FALSE))","v":""},{"$f":"IF($F93=\"\",\"\",VLOOKUP($F93,'Reference Data - Transport fuel'!$C:$O,X$4,FALSE))","v":""},{"$f":"IF($F93=\"\",\"\",VLOOKUP($F93,'Reference Data - Transport fuel'!$C:$O,Y$4,FALSE))","v":""},{"$f":"IF($F93=\"\",\"\",VLOOKUP($F93,'Reference Data - Transport fuel'!$C:$O,Z$4,FALSE))","v":""},{"$f":"IF($F93=\"\",\"\",VLOOKUP($F93,'Reference Data - Transport fuel'!$C:$O,AA$4,FALSE))","v":""},{"$f":"IF($F93=\"\",\"\",VLOOKUP($F93,'Reference Data - Transport fuel'!$C:$O,AB$4,FALSE))","v":""},null,{"$f":"IF($F93=\"\",\"\",VLOOKUP($F93,'Reference Data - Transport fuel'!$C:$O,AD$4,FALSE))","v":""},null,{"$f":"IF($F93=\"\",\"\",VLOOKUP($F93,'Reference Data - Transport fuel'!$C:$O,AF$4,FALSE))","v":""},null,"","","","","","","","",null,"",null,"","",null,"",null,null,{"$f":"INDEX('Dropdown menus'!$A$1:$D$6,MATCH($M93,'Dropdown menus'!$A$1:$A$6,0),$AY$6)","v":{"$error":"#N/A"}},null,{"$f":"IF($N93=\"\",\"\",VLOOKUP($N93,'Reference Passenger Transport'!$C:$O,BA$4,FALSE))","v":""},{"$f":"IF($N93=\"\",\"\",VLOOKUP($N93,'Reference Passenger Transport'!$C:$O,BB$4,FALSE))","v":""},{"$f":"IF($N93=\"\",\"\",VLOOKUP($N93,'Reference Passenger Transport'!$C:$O,BC$4,FALSE))","v":""},{"$f":"IF($N93=\"\",\"\",VLOOKUP($N93,'Reference Passenger Transport'!$C:$O,BD$4,FALSE))","v":""},{"$f":"IF($N93=\"\",\"\",VLOOKUP($N93,'Reference Passenger Transport'!$C:$O,BE$4,FALSE))","v":""},{"$f":"IF($N93=\"\",\"\",VLOOKUP($N93,'Reference Passenger Transport'!$C:$O,BF$4,FALSE))","v":""},{"$f":"IF($N93=\"\",\"\",VLOOKUP($N93,'Reference Passenger Transport'!$C:$O,BG$4,FALSE))","v":""},{"$f":"IF($N93=\"\",\"\",VLOOKUP($N93,'Reference Passenger Transport'!$C:$O,BH$4,FALSE))","v":""},{"$f":"IF($N93=\"\",\"\",VLOOKUP($N93,'Reference Passenger Transport'!$C:$O,BI$4,FALSE))","v":""},{"$f":"IF($N93=\"\",\"\",VLOOKUP($N93,'Reference Passenger Transport'!$C:$O,BJ$4,FALSE))","v":""},{"$f":"IF($N93=\"\",\"\",VLOOKUP($N93,'Reference Passenger Transport'!$C:$O,BK$4,FALSE))","v":""},{"$f":"IF($N93=\"\",\"\",VLOOKUP($N93,'Reference Passenger Transport'!$C:$O,BL$4,FALSE))","v":""},{"$f":"IF($N93=\"\",\"\",VLOOKUP($N93,'Reference Passenger Transport'!$C:$O,BM$4,FALSE))","v":""},null,"","","","","","","","",null,"",null,"","",null,""]
[null,null,null,null,null,null,null,null,null,null,null,null,null,null,null,null,null,{"$f":"INDEX('Dropdown menus'!$A$1:$D$6,MATCH($E94,'Dropdown menus'!$A$1:$A$6,0),$R$6)","v":{"$error":"#N/A"}},null,{"$f":"IF($F94=\"\",\"\",VLOOKUP($F94,'Reference Data - Transport fuel'!$C:$O,T$4,FALSE))","v":""},{"$f":"IF($F94=\"\",\"\",VLOOKUP($F94,'Reference Data - Transport fuel'!$C:$O,U$4,FALSE))","v":""},{"$f":"IF($F94=\"\",\"\",VLOOKUP($F94,'Reference Data - Transport fuel'!$C:$O,V$4,FALSE))","v":""},{"$f":"IF($F94=\"\",\"\",VLOOKUP($F94,'Reference Data - Transport fuel'!$C:$O,W$4,FALSE))","v":""},{"$f":"IF($F94=\"\",\"\",VLOOKUP($F94,'Reference Data - Transport fuel'!$C:$O,X$4,FALSE))","v":""},{"$f":"IF($F94=\"\",\"\",VLOOKUP($F94,'Reference Data - Transport fuel'!$C:$O,Y$4,FALSE))","v":""},{"$f":"IF($F94=\"\",\"\",VLOOKUP($F94,'Reference Data - Transport fuel'!$C:$O,Z$4,FALSE))","v":""},{"$f":"IF($F94=\"\",\"\",VLOOKUP($F94,'Reference Data - Transport fuel'!$C:$O,AA$4,FALSE))","v":""},{"$f":"IF($F94=\"\",\"\",VLOOKUP($F94,'Reference Data - Transport fuel'!$C:$O,AB$4,FALSE))","v":""},null,{"$f":"IF($F94=\"\",\"\",VLOOKUP($F94,'Reference Data - Transport fuel'!$C:$O,AD$4,FALSE))","v":""},null,{"$f":"IF($F94=\"\",\"\",VLOOKUP($F94,'Reference Data - Transport fuel'!$C:$O,AF$4,FALSE))","v":""},null,"","","","","","","","",null,"",null,"","",null,"",null,null,{"$f":"INDEX('Dropdown menus'!$A$1:$D$6,MATCH($M94,'Dropdown menus'!$A$1:$A$6,0),$AY$6)","v":{"$error":"#N/A"}},null,{"$f":"IF($N94=\"\",\"\",VLOOKUP($N94,'Reference Passenger Transport'!$C:$O,BA$4,FALSE))","v":""},{"$f":"IF($N94=\"\",\"\",VLOOKUP($N94,'Reference Passenger Transport'!$C:$O,BB$4,FALSE))","v":""},{"$f":"IF($N94=\"\",\"\",VLOOKUP($N94,'Reference Passenger Transport'!$C:$O,BC$4,FALSE))","v":""},{"$f":"IF($N94=\"\",\"\",VLOOKUP($N94,'Reference Passenger Transport'!$C:$O,BD$4,FALSE))","v":""},{"$f":"IF($N94=\"\",\"\",VLOOKUP($N94,'Reference Passenger Transport'!$C:$O,BE$4,FALSE))","v":""},{"$f":"IF($N94=\"\",\"\",VLOOKUP($N94,'Reference Passenger Transport'!$C:$O,BF$4,FALSE))","v":""},{"$f":"IF($N94=\"\",\"\",VLOOKUP($N94,'Reference Passenger Transport'!$C:$O,BG$4,FALSE))","v":""},{"$f":"IF($N94=\"\",\"\",VLOOKUP($N94,'Reference Passenger Transport'!$C:$O,BH$4,FALSE))","v":""},{"$f":"IF($N94=\"\",\"\",VLOOKUP($N94,'Reference Passenger Transport'!$C:$O,BI$4,FALSE))","v":""},{"$f":"IF($N94=\"\",\"\",VLOOKUP($N94,'Reference Passenger Transport'!$C:$O,BJ$4,FALSE))","v":""},{"$f":"IF($N94=\"\",\"\",VLOOKUP($N94,'Reference Passenger Transport'!$C:$O,BK$4,FALSE))","v":""},{"$f":"IF($N94=\"\",\"\",VLOOKUP($N94,'Reference Passenger Transport'!$C:$O,BL$4,FALSE))","v":""},{"$f":"IF($N94=\"\",\"\",VLOOKUP($N94,'Reference Passenger Transport'!$C:$O,BM$4,FALSE))","v":""},null,"","","","","","","","",null,"",null,"","",null,""]
[null,null,null,null,null,null,null,null,null,null,null,null,null,null,null,null,null,{"$f":"INDEX('Dropdown menus'!$A$1:$D$6,MATCH($E95,'Dropdown menus'!$A$1:$A$6,0),$R$6)","v":{"$error":"#N/A"}},null,{"$f":"IF($F95=\"\",\"\",VLOOKUP($F95,'Reference Data - Transport fuel'!$C:$O,T$4,FALSE))","v":""},{"$f":"IF($F95=\"\",\"\",VLOOKUP($F95,'Reference Data - Transport fuel'!$C:$O,U$4,FALSE))","v":""},{"$f":"IF($F95=\"\",\"\",VLOOKUP($F95,'Reference Data - Transport fuel'!$C:$O,V$4,FALSE))","v":""},{"$f":"IF($F95=\"\",\"\",VLOOKUP($F95,'Reference Data - Transport fuel'!$C:$O,W$4,FALSE))","v":""},{"$f":"IF($F95=\"\",\"\",VLOOKUP($F95,'Reference Data - Transport fuel'!$C:$O,X$4,FALSE))","v":""},{"$f":"IF($F95=\"\",\"\",VLOOKUP($F95,'Reference Data - Transport fuel'!$C:$O,Y$4,FALSE))","v":""},{"$f":"IF($F95=\"\",\"\",VLOOKUP($F95,'Reference Data - Transport fuel'!$C:$O,Z$4,FALSE))","v":""},{"$f":"IF($F95=\"\",\"\",VLOOKUP($F95,'Reference Data - Transport fuel'!$C:$O,AA$4,FALSE))","v":""},{"$f":"IF($F95=\"\",\"\",VLOOKUP($F95,'Reference Data - Transport fuel'!$C:$O,AB$4,FALSE))","v":""},null,{"$f":"IF($F95=\"\",\"\",VLOOKUP($F95,'Reference Data - Transport fuel'!$C:$O,AD$4,FALSE))","v":""},null,{"$f":"IF($F95=\"\",\"\",VLOOKUP($F95,'Reference Data - Transport fuel'!$C:$O,AF$4,FALSE))","v":""},null,"","","","","","","","",null,"",null,"","",null,"",null,null,{"$f":"INDEX('Dropdown menus'!$A$1:$D$6,MATCH($M95,'Dropdown menus'!$A$1:$A$6,0),$AY$6)","v":{"$error":"#N/A"}},null,{"$f":"IF($N95=\"\",\"\",VLOOKUP($N95,'Reference Passenger Transport'!$C:$O,BA$4,FALSE))","v":""},{"$f":"IF($N95=\"\",\"\",VLOOKUP($N95,'Reference Passenger Transport'!$C:$O,BB$4,FALSE))","v":""},{"$f":"IF($N95=\"\",\"\",VLOOKUP($N95,'Reference Passenger Transport'!$C:$O,BC$4,FALSE))","v":""},{"$f":"IF($N95=\"\",\"\",VLOOKUP($N95,'Reference Passenger Transport'!$C:$O,BD$4,FALSE))","v":""},{"$f":"IF($N95=\"\",\"\",VLOOKUP($N95,'Reference Passenger Transport'!$C:$O,BE$4,FALSE))","v":""},{"$f":"IF($N95=\"\",\"\",VLOOKUP($N95,'Reference Passenger Transport'!$C:$O,BF$4,FALSE))","v":""},{"$f":"IF($N95=\"\",\"\",VLOOKUP($N95,'Reference Passenger Transport'!$C:$O,BG$4,FALSE))","v":""},{"$f":"IF($N95=\"\",\"\",VLOOKUP($N95,'Reference Passenger Transport'!$C:$O,BH$4,FALSE))","v":""},{"$f":"IF($N95=\"\",\"\",VLOOKUP($N95,'Reference Passenger Transport'!$C:$O,BI$4,FALSE))","v":""},{"$f":"IF($N95=\"\",\"\",VLOOKUP($N95,'Reference Passenger Transport'!$C:$O,BJ$4,FALSE))","v":""},{"$f":"IF($N95=\"\",\"\",VLOOKUP($N95,'Reference Passenger Transport'!$C:$O,BK$4,FALSE))","v":""},{"$f":"IF($N95=\"\",\"\",VLOOKUP($N95,'Reference Passenger Transport'!$C:$O,BL$4,FALSE))","v":""},{"$f":"IF($N95=\"\",\"\",VLOOKUP($N95,'Reference Passenger Transport'!$C:$O,BM$4,FALSE))","v":""},null,"","","","","","","","",null,"",null,"","",null,""]
[null,null,null,null,null,null,null,null,null,null,null,null,null,null,null,null,null,{"$f":"INDEX('Dropdown menus'!$A$1:$D$6,MATCH($E96,'Dropdown menus'!$A$1:$A$6,0),$R$6)","v":{"$error":"#N/A"}},null,{"$f":"IF($F96=\"\",\"\",VLOOKUP($F96,'Reference Data - Transport fuel'!$C:$O,T$4,FALSE))","v":""},{"$f":"IF($F96=\"\",\"\",VLOOKUP($F96,'Reference Data - Transport fuel'!$C:$O,U$4,FALSE))","v":""},{"$f":"IF($F96=\"\",\"\",VLOOKUP($F96,'Reference Data - Transport fuel'!$C:$O,V$4,FALSE))","v":""},{"$f":"IF($F96=\"\",\"\",VLOOKUP($F96,'Reference Data - Transport fuel'!$C:$O,W$4,FALSE))","v":""},{"$f":"IF($F96=\"\",\"\",VLOOKUP($F96,'Reference Data - Transport fuel'!$C:$O,X$4,FALSE))","v":""},{"$f":"IF($F96=\"\",\"\",VLOOKUP($F96,'Reference Data - Transport fuel'!$C:$O,Y$4,FALSE))","v":""},{"$f":"IF($F96=\"\",\"\",VLOOKUP($F96,'Reference Data - Transport fuel'!$C:$O,Z$4,FALSE))","v":""},{"$f":"IF($F96=\"\",\"\",VLOOKUP($F96,'Reference Data - Transport fuel'!$C:$O,AA$4,FALSE))","v":""},{"$f":"IF($F96=\"\",\"\",VLOOKUP($F96,'Reference Data - Transport fuel'!$C:$O,AB$4,FALSE))","v":""},null,{"$f":"IF($F96=\"\",\"\",VLOOKUP($F96,'Reference Data - Transport fuel'!$C:$O,AD$4,FALSE))","v":""},null,{"$f":"IF($F96=\"\",\"\",VLOOKUP($F96,'Reference Data - Transport fuel'!$C:$O,AF$4,FALSE))","v":""},null,"","","","","","","","",null,"",null,"","",null,"",null,null,{"$f":"INDEX('Dropdown menus'!$A$1:$D$6,MATCH($M96,'Dropdown menus'!$A$1:$A$6,0),$AY$6)","v":{"$error":"#N/A"}},null,{"$f":"IF($N96=\"\",\"\",VLOOKUP($N96,'Reference Passenger Transport'!$C:$O,BA$4,FALSE))","v":""},{"$f":"IF($N96=\"\",\"\",VLOOKUP($N96,'Reference Passenger Transport'!$C:$O,BB$4,FALSE))","v":""},{"$f":"IF($N96=\"\",\"\",VLOOKUP($N96,'Reference Passenger Transport'!$C:$O,BC$4,FALSE))","v":""},{"$f":"IF($N96=\"\",\"\",VLOOKUP($N96,'Reference Passenger Transport'!$C:$O,BD$4,FALSE))","v":""},{"$f":"IF($N96=\"\",\"\",VLOOKUP($N96,'Reference Passenger Transport'!$C:$O,BE$4,FALSE))","v":""},{"$f":"IF($N96=\"\",\"\",VLOOKUP($N96,'Reference Passenger Transport'!$C:$O,BF$4,FALSE))","v":""},{"$f":"IF($N96=\"\",\"\",VLOOKUP($N96,'Reference Passenger Transport'!$C:$O,BG$4,FALSE))","v":""},{"$f":"IF($N96=\"\",\"\",VLOOKUP($N96,'Reference Passenger Transport'!$C:$O,BH$4,FALSE))","v":""},{"$f":"IF($N96=\"\",\"\",VLOOKUP($N96,'Reference Passenger Transport'!$C:$O,BI$4,FALSE))","v":""},{"$f":"IF($N96=\"\",\"\",VLOOKUP($N96,'Reference Passenger Transport'!$C:$O,BJ$4,FALSE))","v":""},{"$f":"IF($N96=\"\",\"\",VLOOKUP($N96,'Reference Passenger Transport'!$C:$O,BK$4,FALSE))","v":""},{"$f":"IF($N96=\"\",\"\",VLOOKUP($N96,'Reference Passenger Transport'!$C:$O,BL$4,FALSE))","v":""},{"$f":"IF($N96=\"\",\"\",VLOOKUP($N96,'Reference Passenger Transport'!$C:$O,BM$4,FALSE))","v":""},null,"","","","","","","","",null,"",null,"","",null,""]
[null,null,null,null,null,null,null,null,null,null,null,null,null,null,null,null,null,{"$f":"INDEX('Dropdown menus'!$A$1:$D$6,MATCH($E97,'Dropdown menus'!$A$1:$A$6,0),$R$6)","v":{"$error":"#N/A"}},null,{"$f":"IF($F97=\"\",\"\",VLOOKUP($F97,'Reference Data - Transport fuel'!$C:$O,T$4,FALSE))","v":""},{"$f":"IF($F97=\"\",\"\",VLOOKUP($F97,'Reference Data - Transport fuel'!$C:$O,U$4,FALSE))","v":""},{"$f":"IF($F97=\"\",\"\",VLOOKUP($F97,'Reference Data - Transport fuel'!$C:$O,V$4,FALSE))","v":""},{"$f":"IF($F97=\"\",\"\",VLOOKUP($F97,'Reference Data - Transport fuel'!$C:$O,W$4,FALSE))","v":""},{"$f":"IF($F97=\"\",\"\",VLOOKUP($F97,'Reference Data - Transport fuel'!$C:$O,X$4,FALSE))","v":""},{"$f":"IF($F97=\"\",\"\",VLOOKUP($F97,'Reference Data - Transport fuel'!$C:$O,Y$4,FALSE))","v":""},{"$f":"IF($F97=\"\",\"\",VLOOKUP($F97,'Reference Data - Transport fuel'!$C:$O,Z$4,FALSE))","v":""},{"$f":"IF($F97=\"\",\"\",VLOOKUP($F97,'Reference Data - Transport fuel'!$C:$O,AA$4,FALSE))","v":""},{"$f":"IF($F97=\"\",\"\",VLOOKUP($F97,'Reference Data - Transport fuel'!$C:$O,AB$4,FALSE))","v":""},null,{"$f":"IF($F97=\"\",\"\",VLOOKUP($F97,'Reference Data - Transport fuel'!$C:$O,AD$4,FALSE))","v":""},null,{"$f":"IF($F97=\"\",\"\",VLOOKUP($F97,'Reference Data - Transport fuel'!$C:$O,AF$4,FALSE))","v":""},null,"","","","","","","","",null,"",null,"","",null,"",null,null,{"$f":"INDEX('Dropdown menus'!$A$1:$D$6,MATCH($M97,'Dropdown menus'!$A$1:$A$6,0),$AY$6)","v":{"$error":"#N/A"}},null,{"$f":"IF($N97=\"\",\"\",VLOOKUP($N97,'Reference Passenger Transport'!$C:$O,BA$4,FALSE))","v":""},{"$f":"IF($N97=\"\",\"\",VLOOKUP($N97,'Reference Passenger Transport'!$C:$O,BB$4,FALSE))","v":""},{"$f":"IF($N97=\"\",\"\",VLOOKUP($N97,'Reference Passenger Transport'!$C:$O,BC$4,FALSE))","v":""},{"$f":"IF($N97=\"\",\"\",VLOOKUP($N97,'Reference Passenger Transport'!$C:$O,BD$4,FALSE))","v":""},{"$f":"IF($N97=\"\",\"\",VLOOKUP($N97,'Reference Passenger Transport'!$C:$O,BE$4,FALSE))","v":""},{"$f":"IF($N97=\"\",\"\",VLOOKUP($N97,'Reference Passenger Transport'!$C:$O,BF$4,FALSE))","v":""},{"$f":"IF($N97=\"\",\"\",VLOOKUP($N97,'Reference Passenger Transport'!$C:$O,BG$4,FALSE))","v":""},{"$f":"IF($N97=\"\",\"\",VLOOKUP($N97,'Reference Passenger Transport'!$C:$O,BH$4,FALSE))","v":""},{"$f":"IF($N97=\"\",\"\",VLOOKUP($N97,'Reference Passenger Transport'!$C:$O,BI$4,FALSE))","v":""},{"$f":"IF($N97=\"\",\"\",VLOOKUP($N97,'Reference Passenger Transport'!$C:$O,BJ$4,FALSE))","v":""},{"$f":"IF($N97=\"\",\"\",VLOOKUP($N97,'Reference Passenger Transport'!$C:$O,BK$4,FALSE))","v":""},{"$f":"IF($N97=\"\",\"\",VLOOKUP($N97,'Reference Passenger Transport'!$C:$O,BL$4,FALSE))","v":""},{"$f":"IF($N97=\"\",\"\",VLOOKUP($N97,'Reference Passenger Transport'!$C:$O,BM$4,FALSE))","v":""},null,"","","","","","","","",null,"",null,"","",null,""]
[null,null,null,null,null,null,null,null,null,null,null,null,null,null,null,null,null,{"$f":"INDEX('Dropdown menus'!$A$1:$D$6,MATCH($E98,'Dropdown menus'!$A$1:$A$6,0),$R$6)","v":{"$error":"#N/A"}},null,{"$f":"IF($F98=\"\",\"\",VLOOKUP($F98,'Reference Data - Transport fuel'!$C:$O,T$4,FALSE))","v":""},{"$f":"IF($F98=\"\",\"\",VLOOKUP($F98,'Reference Data - Transport fuel'!$C:$O,U$4,FALSE))","v":""},{"$f":"IF($F98=\"\",\"\",VLOOKUP($F98,'Reference Data - Transport fuel'!$C:$O,V$4,FALSE))","v":""},{"$f":"IF($F98=\"\",\"\",VLOOKUP($F98,'Reference Data - Transport fuel'!$C:$O,W$4,FALSE))","v":""},{"$f":"IF($F98=\"\",\"\",VLOOKUP($F98,'Reference Data - Transport fuel'!$C:$O,X$4,FALSE))","v":""},{"$f":"IF($F98=\"\",\"\",VLOOKUP($F98,'Reference Data - Transport fuel'!$C:$O,Y$4,FALSE))","v":""},{"$f":"IF($F98=\"\",\"\",VLOOKUP($F98,'Reference Data - Transport fuel'!$C:$O,Z$4,FALSE))","v":""},{"$f":"IF($F98=\"\",\"\",VLOOKUP($F98,'Reference Data - Transport fuel'!$C:$O,AA$4,FALSE))","v":""},{"$f":"IF($F98=\"\",\"\",VLOOKUP($F98,'Reference Data - Transport fuel'!$C:$O,AB$4,FALSE))","v":""},null,{"$f":"IF($F98=\"\",\"\",VLOOKUP($F98,'Reference Data - Transport fuel'!$C:$O,AD$4,FALSE))","v":""},null,{"$f":"IF($F98=\"\",\"\",VLOOKUP($F98,'Reference Data - Transport fuel'!$C:$O,AF$4,FALSE))","v":""},null,"","","","","","","","",null,"",null,"","",null,"",null,null,{"$f":"INDEX('Dropdown menus'!$A$1:$D$6,MATCH($M98,'Dropdown menus'!$A$1:$A$6,0),$AY$6)","v":{"$error":"#N/A"}},null,{"$f":"IF($N98=\"\",\"\",VLOOKUP($N98,'Reference Passenger Transport'!$C:$O,BA$4,FALSE))","v":""},{"$f":"IF($N98=\"\",\"\",VLOOKUP($N98,'Reference Passenger Transport'!$C:$O,BB$4,FALSE))","v":""},{"$f":"IF($N98=\"\",\"\",VLOOKUP($N98,'Reference Passenger Transport'!$C:$O,BC$4,FALSE))","v":""},{"$f":"IF($N98=\"\",\"\",VLOOKUP($N98,'Reference Passenger Transport'!$C:$O,BD$4,FALSE))","v":""},{"$f":"IF($N98=\"\",\"\",VLOOKUP($N98,'Reference Passenger Transport'!$C:$O,BE$4,FALSE))","v":""},{"$f":"IF($N98=\"\",\"\",VLOOKUP($N98,'Reference Passenger Transport'!$C:$O,BF$4,FALSE))","v":""},{"$f":"IF($N98=\"\",\"\",VLOOKUP($N98,'Reference Passenger Transport'!$C:$O,BG$4,FALSE))","v":""},{"$f":"IF($N98=\"\",\"\",VLOOKUP($N98,'Reference Passenger Transport'!$C:$O,BH$4,FALSE))","v":""},{"$f":"IF($N98=\"\",\"\",VLOOKUP($N98,'Reference Passenger Transport'!$C:$O,BI$4,FALSE))","v":""},{"$f":"IF($N98=\"\",\"\",VLOOKUP($N98,'Reference Passenger Transport'!$C:$O,BJ$4,FALSE))","v":""},{"$f":"IF($N98=\"\",\"\",VLOOKUP($N98,'Reference Passenger Transport'!$C:$O,BK$4,FALSE))","v":""},{"$f":"IF($N98=\"\",\"\",VLOOKUP($N98,'Reference Passenger Transport'!$C:$O,BL$4,FALSE))","v":""},{"$f":"IF($N98=\"\",\"\",VLOOKUP($N98,'Reference Passenger Transport'!$C:$O,BM$4,FALSE))","v":""},null,"","","","","","","","",null,"",null,"","",null,""]
[null,null,null,null,null,null,null,null,null,null,null,null,null,null,null,null,null,{"$f":"INDEX('Dropdown menus'!$A$1:$D$6,MATCH($E99,'Dropdown menus'!$A$1:$A$6,0),$R$6)","v":{"$error":"#N/A"}},null,{"$f":"IF($F99=\"\",\"\",VLOOKUP($F99,'Reference Data - Transport fuel'!$C:$O,T$4,FALSE))","v":""},{"$f":"IF($F99=\"\",\"\",VLOOKUP($F99,'Reference Data - Transport fuel'!$C:$O,U$4,FALSE))","v":""},{"$f":"IF($F99=\"\",\"\",VLOOKUP($F99,'Reference Data - Transport fuel'!$C:$O,V$4,FALSE))","v":""},{"$f":"IF($F99=\"\",\"\",VLOOKUP($F99,'Reference Data - Transport fuel'!$C:$O,W$4,FALSE))","v":""},{"$f":"IF($F99=\"\",\"\",VLOOKUP($F99,'Reference Data - Transport fuel'!$C:$O,X$4,FALSE))","v":""},{"$f":"IF($F99=\"\",\"\",VLOOKUP($F99,'Reference Data - Transport fuel'!$C:$O,Y$4,FALSE))","v":""},{"$f":"IF($F99=\"\",\"\",VLOOKUP($F99,'Reference Data - Transport fuel'!$C:$O,Z$4,FALSE))","v":""},{"$f":"IF($F99=\"\",\"\",VLOOKUP($F99,'Reference Data - Transport fuel'!$C:$O,AA$4,FALSE))","v":""},{"$f":"IF($F99=\"\",\"\",VLOOKUP($F99,'Reference Data - Transport fuel'!$C:$O,AB$4,FALSE))","v":""},null,{"$f":"IF($F99=\"\",\"\",VLOOKUP($F99,'Reference Data - Transport fuel'!$C:$O,AD$4,FALSE))","v":""},null,{"$f":"IF($F99=\"\",\"\",VLOOKUP($F99,'Reference Data - Transport fuel'!$C:$O,AF$4,FALSE))","v":""},null,"","","","","","","","",null,"",null,"","",null,"",null,null,{"$f":"INDEX('Dropdown menus'!$A$1:$D$6,MATCH($M99,'Dropdown menus'!$A$1:$A$6,0),$AY$6)","v":{"$error":"#N/A"}},null,{"$f":"IF($N99=\"\",\"\",VLOOKUP($N99,'Reference Passenger Transport'!$C:$O,BA$4,FALSE))","v":""},{"$f":"IF($N99=\"\",\"\",VLOOKUP($N99,'Reference Passenger Transport'!$C:$O,BB$4,FALSE))","v":""},{"$f":"IF($N99=\"\",\"\",VLOOKUP($N99,'Reference Passenger Transport'!$C:$O,BC$4,FALSE))","v":""},{"$f":"IF($N99=\"\",\"\",VLOOKUP($N99,'Reference Passenger Transport'!$C:$O,BD$4,FALSE))","v":""},{"$f":"IF($N99=\"\",\"\",VLOOKUP($N99,'Reference Passenger Transport'!$C:$O,BE$4,FALSE))","v":""},{"$f":"IF($N99=\"\",\"\",VLOOKUP($N99,'Reference Passenger Transport'!$C:$O,BF$4,FALSE))","v":""},{"$f":"IF($N99=\"\",\"\",VLOOKUP($N99,'Reference Passenger Transport'!$C:$O,BG$4,FALSE))","v":""},{"$f":"IF($N99=\"\",\"\",VLOOKUP($N99,'Reference Passenger Transport'!$C:$O,BH$4,FALSE))","v":""},{"$f":"IF($N99=\"\",\"\",VLOOKUP($N99,'Reference Passenger Transport'!$C:$O,BI$4,FALSE))","v":""},{"$f":"IF($N99=\"\",\"\",VLOOKUP($N99,'Reference Passenger Transport'!$C:$O,BJ$4,FALSE))","v":""},{"$f":"IF($N99=\"\",\"\",VLOOKUP($N99,'Reference Passenger Transport'!$C:$O,BK$4,FALSE))","v":""},{"$f":"IF($N99=\"\",\"\",VLOOKUP($N99,'Reference Passenger Transport'!$C:$O,BL$4,FALSE))","v":""},{"$f":"IF($N99=\"\",\"\",VLOOKUP($N99,'Reference Passenger Transport'!$C:$O,BM$4,FALSE))","v":""},null,"","","","","","","","",null,"",null,"","",null,""]
[null,null,null,null,null,null,null,null,null,null,null,null,null,null,null,null,null,{"$f":"INDEX('Dropdown menus'!$A$1:$D$6,MATCH($E100,'Dropdown menus'!$A$1:$A$6,0),$R$6)","v":{"$error":"#N/A"}},null,{"$f":"IF($F100=\"\",\"\",VLOOKUP($F100,'Reference Data - Transport fuel'!$C:$O,T$4,FALSE))","v":""},{"$f":"IF($F100=\"\",\"\",VLOOKUP($F100,'Reference Data - Transport fuel'!$C:$O,U$4,FALSE))","v":""},{"$f":"IF($F100=\"\",\"\",VLOOKUP($F100,'Reference Data - Transport fuel'!$C:$O,V$4,FALSE))","v":""},{"$f":"IF($F100=\"\",\"\",VLOOKUP($F100,'Reference Data - Transport fuel'!$C:$O,W$4,FALSE))","v":""},{"$f":"IF($F100=\"\",\"\",VLOOKUP($F100,'Reference Data - Transport fuel'!$C:$O,X$4,FALSE))","v":""},{"$f":"IF($F100=\"\",\"\",VLOOKUP($F100,'Reference Data - Transport fuel'!$C:$O,Y$4,FALSE))","v":""},{"$f":"IF($F100=\"\",\"\",VLOOKUP($F100,'Reference Data - Transport fuel'!$C:$O,Z$4,FALSE))","v":""},{"$f":"IF($F100=\"\",\"\",VLOOKUP($F100,'Reference Data - Transport fuel'!$C:$O,AA$4,FALSE))","v":""},{"$f":"IF($F100=\"\",\"\",VLOOKUP($F100,'Reference Data - Transport fuel'!$C:$O,AB$4,FALSE))","v":""},null,{"$f":"IF($F100=\"\",\"\",VLOOKUP($F100,'Reference Data - Transport fuel'!$C:$O,AD$4,FALSE))","v":""},null,{"$f":"IF($F100=\"\",\"\",VLOOKUP($F100,'Reference Data - Transport fuel'!$C:$O,AF$4,FALSE))","v":""},null,"","","","","","","","",null,"",null,"","",null,"",null,null,{"$f":"INDEX('Dropdown menus'!$A$1:$D$6,MATCH($M100,'Dropdown menus'!$A$1:$A$6,0),$AY$6)","v":{"$error":"#N/A"}},null,{"$f":"IF($N100=\"\",\"\",VLOOKUP($N100,'Reference Passenger Transport'!$C:$O,BA$4,FALSE))","v":""},{"$f":"IF($N100=\"\",\"\",VLOOKUP($N100,'Reference Passenger Transport'!$C:$O,BB$4,FALSE))","v":""},{"$f":"IF($N100=\"\",\"\",VLOOKUP($N100,'Reference Passenger Transport'!$C:$O,BC$4,FALSE))","v":""},{"$f":"IF($N100=\"\",\"\",VLOOKUP($N100,'Reference Passenger Transport'!$C:$O,BD$4,FALSE))","v":""},{"$f":"IF($N100=\"\",\"\",VLOOKUP($N100,'Reference Passenger Transport'!$C:$O,BE$4,FALSE))","v":""},{"$f":"IF($N100=\"\",\"\",VLOOKUP($N100,'Reference Passenger Transport'!$C:$O,BF$4,FALSE))","v":""},{"$f":"IF($N100=\"\",\"\",VLOOKUP($N100,'Reference Passenger Transport'!$C:$O,BG$4,FALSE))","v":""},{"$f":"IF($N100=\"\",\"\",VLOOKUP($N100,'Reference Passenger Transport'!$C:$O,BH$4,FALSE))","v":""},{"$f":"IF($N100=\"\",\"\",VLOOKUP($N100,'Reference Passenger Transport'!$C:$O,BI$4,FALSE))","v":""},{"$f":"IF($N100=\"\",\"\",VLOOKUP($N100,'Reference Passenger Transport'!$C:$O,BJ$4,FALSE))","v":""},{"$f":"IF($N100=\"\",\"\",VLOOKUP($N100,'Reference Passenger Transport'!$C:$O,BK$4,FALSE))","v":""},{"$f":"IF($N100=\"\",\"\",VLOOKUP($N100,'Reference Passenger Transport'!$C:$O,BL$4,FALSE))","v":""},{"$f":"IF($N100=\"\",\"\",VLOOKUP($N100,'Reference Passenger Transport'!$C:$O,BM$4,FALSE))","v":""},null,"","","","","","","","",null,"",null,"","",null,""]
[null,null,null,null,null,null,null,null,null,null,null,null,null,null,null,null,null,{"$f":"INDEX('Dropdown menus'!$A$1:$D$6,MATCH($E101,'Dropdown menus'!$A$1:$A$6,0),$R$6)","v":{"$error":"#N/A"}},null,{"$f":"IF($F101=\"\",\"\",VLOOKUP($F101,'Reference Data - Transport fuel'!$C:$O,T$4,FALSE))","v":""},{"$f":"IF($F101=\"\",\"\",VLOOKUP($F101,'Reference Data - Transport fuel'!$C:$O,U$4,FALSE))","v":""},{"$f":"IF($F101=\"\",\"\",VLOOKUP($F101,'Reference Data - Transport fuel'!$C:$O,V$4,FALSE))","v":""},{"$f":"IF($F101=\"\",\"\",VLOOKUP($F101,'Reference Data - Transport fuel'!$C:$O,W$4,FALSE))","v":""},{"$f":"IF($F101=\"\",\"\",VLOOKUP($F101,'Reference Data - Transport fuel'!$C:$O,X$4,FALSE))","v":""},{"$f":"IF($F101=\"\",\"\",VLOOKUP($F101,'Reference Data - Transport fuel'!$C:$O,Y$4,FALSE))","v":""},{"$f":"IF($F101=\"\",\"\",VLOOKUP($F101,'Reference Data - Transport fuel'!$C:$O,Z$4,FALSE))","v":""},{"$f":"IF($F101=\"\",\"\",VLOOKUP($F101,'Reference Data - Transport fuel'!$C:$O,AA$4,FALSE))","v":""},{"$f":"IF($F101=\"\",\"\",VLOOKUP($F101,'Reference Data - Transport fuel'!$C:$O,AB$4,FALSE))","v":""},null,{"$f":"IF($F101=\"\",\"\",VLOOKUP($F101,'Reference Data - Transport fuel'!$C:$O,AD$4,FALSE))","v":""},null,{"$f":"IF($F101=\"\",\"\",VLOOKUP($F101,'Reference Data - Transport fuel'!$C:$O,AF$4,FALSE))","v":""},null,"","","","","","","","",null,"",null,"","",null,"",null,null,{"$f":"INDEX('Dropdown menus'!$A$1:$D$6,MATCH($M101,'Dropdown menus'!$A$1:$A$6,0),$AY$6)","v":{"$error":"#N/A"}},null,{"$f":"IF($N101=\"\",\"\",VLOOKUP($N101,'Reference Passenger Transport'!$C:$O,BA$4,FALSE))","v":""},{"$f":"IF($N101=\"\",\"\",VLOOKUP($N101,'Reference Passenger Transport'!$C:$O,BB$4,FALSE))","v":""},{"$f":"IF($N101=\"\",\"\",VLOOKUP($N101,'Reference Passenger Transport'!$C:$O,BC$4,FALSE))","v":""},{"$f":"IF($N101=\"\",\"\",VLOOKUP($N101,'Reference Passenger Transport'!$C:$O,BD$4,FALSE))","v":""},{"$f":"IF($N101=\"\",\"\",VLOOKUP($N101,'Reference Passenger Transport'!$C:$O,BE$4,FALSE))","v":""},{"$f":"IF($N101=\"\",\"\",VLOOKUP($N101,'Reference Passenger Transport'!$C:$O,BF$4,FALSE))","v":""},{"$f":"IF($N101=\"\",\"\",VLOOKUP($N101,'Reference Passenger Transport'!$C:$O,BG$4,FALSE))","v":""},{"$f":"IF($N101=\"\",\"\",VLOOKUP($N101,'Reference Passenger Transport'!$C:$O,BH$4,FALSE))","v":""},{"$f":"IF($N101=\"\",\"\",VLOOKUP($N101,'Reference Passenger Transport'!$C:$O,BI$4,FALSE))","v":""},{"$f":"IF($N101=\"\",\"\",VLOOKUP($N101,'Reference Passenger Transport'!$C:$O,BJ$4,FALSE))","v":""},{"$f":"IF($N101=\"\",\"\",VLOOKUP($N101,'Reference Passenger Transport'!$C:$O,BK$4,FALSE))","v":""},{"$f":"IF($N101=\"\",\"\",VLOOKUP($N101,'Reference Passenger Transport'!$C:$O,BL$4,FALSE))","v":""},{"$f":"IF($N101=\"\",\"\",VLOOKUP($N101,'Reference Passenger Transport'!$C:$O,BM$4,FALSE))","v":""},null,"","","","","","","","",null,"",null,"","",null,""]
[null,null,null,null,null,null,null,null,null,null,null,null,null,null,null,null,null,{"$f":"INDEX('Dropdown menus'!$A$1:$D$6,MATCH($E102,'Dropdown menus'!$A$1:$A$6,0),$R$6)","v":{"$error":"#N/A"}},null,{"$f":"IF($F102=\"\",\"\",VLOOKUP($F102,'Reference Data - Transport fuel'!$C:$O,T$4,FALSE))","v":""},{"$f":"IF($F102=\"\",\"\",VLOOKUP($F102,'Reference Data - Transport fuel'!$C:$O,U$4,FALSE))","v":""},{"$f":"IF($F102=\"\",\"\",VLOOKUP($F102,'Reference Data - Transport fuel'!$C:$O,V$4,FALSE))","v":""},{"$f":"IF($F102=\"\",\"\",VLOOKUP($F102,'Reference Data - Transport fuel'!$C:$O,W$4,FALSE))","v":""},{"$f":"IF($F102=\"\",\"\",VLOOKUP($F102,'Reference Data - Transport fuel'!$C:$O,X$4,FALSE))","v":""},{"$f":"IF($F102=\"\",\"\",VLOOKUP($F102,'Reference Data - Transport fuel'!$C:$O,Y$4,FALSE))","v":""},{"$f":"IF($F102=\"\",\"\",VLOOKUP($F102,'Reference Data - Transport fuel'!$C:$O,Z$4,FALSE))","v":""},{"$f":"IF($F102=\"\",\"\",VLOOKUP($F102,'Reference Data - Transport fuel'!$C:$O,AA$4,FALSE))","v":""},{"$f":"IF($F102=\"\",\"\",VLOOKUP($F102,'Reference Data - Transport fuel'!$C:$O,AB$4,FALSE))","v":""},null,{"$f":"IF($F102=\"\",\"\",VLOOKUP($F102,'Reference Data - Transport fuel'!$C:$O,AD$4,FALSE))","v":""},null,{"$f":"IF($F102=\"\",\"\",VLOOKUP($F102,'Reference Data - Transport fuel'!$C:$O,AF$4,FALSE))","v":""},null,"","","","","","","","",null,"",null,"","",null,"",null,null,{"$f":"INDEX('Dropdown menus'!$A$1:$D$6,MATCH($M102,'Dropdown menus'!$A$1:$A$6,0),$AY$6)","v":{"$error":"#N/A"}},null,{"$f":"IF($N102=\"\",\"\",VLOOKUP($N102,'Reference Passenger Transport'!$C:$O,BA$4,FALSE))","v":""},{"$f":"IF($N102=\"\",\"\",VLOOKUP($N102,'Reference Passenger Transport'!$C:$O,BB$4,FALSE))","v":""},{"$f":"IF($N102=\"\",\"\",VLOOKUP($N102,'Reference Passenger Transport'!$C:$O,BC$4,FALSE))","v":""},{"$f":"IF($N102=\"\",\"\",VLOOKUP($N102,'Reference Passenger Transport'!$C:$O,BD$4,FALSE))","v":""},{"$f":"IF($N102=\"\",\"\",VLOOKUP($N102,'Reference Passenger Transport'!$C:$O,BE$4,FALSE))","v":""},{"$f":"IF($N102=\"\",\"\",VLOOKUP($N102,'Reference Passenger Transport'!$C:$O,BF$4,FALSE))","v":""},{"$f":"IF($N102=\"\",\"\",VLOOKUP($N102,'Reference Passenger Transport'!$C:$O,BG$4,FALSE))","v":""},{"$f":"IF($N102=\"\",\"\",VLOOKUP($N102,'Reference Passenger Transport'!$C:$O,BH$4,FALSE))","v":""},{"$f":"IF($N102=\"\",\"\",VLOOKUP($N102,'Reference Passenger Transport'!$C:$O,BI$4,FALSE))","v":""},{"$f":"IF($N102=\"\",\"\",VLOOKUP($N102,'Reference Passenger Transport'!$C:$O,BJ$4,FALSE))","v":""},{"$f":"IF($N102=\"\",\"\",VLOOKUP($N102,'Reference Passenger Transport'!$C:$O,BK$4,FALSE))","v":""},{"$f":"IF($N102=\"\",\"\",VLOOKUP($N102,'Reference Passenger Transport'!$C:$O,BL$4,FALSE))","v":""},{"$f":"IF($N102=\"\",\"\",VLOOKUP($N102,'Reference Passenger Transport'!$C:$O,BM$4,FALSE))","v":""},null,"","","","","","","","",null,"",null,"","",null,""]
[null,null,null,null,null,null,null,null,null,null,null,null,null,null,null,null,null,{"$f":"INDEX('Dropdown menus'!$A$1:$D$6,MATCH($E103,'Dropdown menus'!$A$1:$A$6,0),$R$6)","v":{"$error":"#N/A"}},null,{"$f":"IF($F103=\"\",\"\",VLOOKUP($F103,'Reference Data - Transport fuel'!$C:$O,T$4,FALSE))","v":""},{"$f":"IF($F103=\"\",\"\",VLOOKUP($F103,'Reference Data - Transport fuel'!$C:$O,U$4,FALSE))","v":""},{"$f":"IF($F103=\"\",\"\",VLOOKUP($F103,'Reference Data - Transport fuel'!$C:$O,V$4,FALSE))","v":""},{"$f":"IF($F103=\"\",\"\",VLOOKUP($F103,'Reference Data - Transport fuel'!$C:$O,W$4,FALSE))","v":""},{"$f":"IF($F103=\"\",\"\",VLOOKUP($F103,'Reference Data - Transport fuel'!$C:$O,X$4,FALSE))","v":""},{"$f":"IF($F103=\"\",\"\",VLOOKUP($F103,'Reference Data - Transport fuel'!$C:$O,Y$4,FALSE))","v":""},{"$f":"IF($F103=\"\",\"\",VLOOKUP($F103,'Reference Data - Transport fuel'!$C:$O,Z$4,FALSE))","v":""},{"$f":"IF($F103=\"\",\"\",VLOOKUP($F103,'Reference Data - Transport fuel'!$C:$O,AA$4,FALSE))","v":""},{"$f":"IF($F103=\"\",\"\",VLOOKUP($F103,'Reference Data - Transport fuel'!$C:$O,AB$4,FALSE))","v":""},null,{"$f":"IF($F103=\"\",\"\",VLOOKUP($F103,'Reference Data - Transport fuel'!$C:$O,AD$4,FALSE))","v":""},null,{"$f":"IF($F103=\"\",\"\",VLOOKUP($F103,'Reference Data - Transport fuel'!$C:$O,AF$4,FALSE))","v":""},null,"","","","","","","","",null,"",null,"","",null,"",null,null,{"$f":"INDEX('Dropdown menus'!$A$1:$D$6,MATCH($M103,'Dropdown menus'!$A$1:$A$6,0),$AY$6)","v":{"$error":"#N/A"}},null,{"$f":"IF($N103=\"\",\"\",VLOOKUP($N103,'Reference Passenger Transport'!$C:$O,BA$4,FALSE))","v":""},{"$f":"IF($N103=\"\",\"\",VLOOKUP($N103,'Reference Passenger Transport'!$C:$O,BB$4,FALSE))","v":""},{"$f":"IF($N103=\"\",\"\",VLOOKUP($N103,'Reference Passenger Transport'!$C:$O,BC$4,FALSE))","v":""},{"$f":"IF($N103=\"\",\"\",VLOOKUP($N103,'Reference Passenger Transport'!$C:$O,BD$4,FALSE))","v":""},{"$f":"IF($N103=\"\",\"\",VLOOKUP($N103,'Reference Passenger Transport'!$C:$O,BE$4,FALSE))","v":""},{"$f":"IF($N103=\"\",\"\",VLOOKUP($N103,'Reference Passenger Transport'!$C:$O,BF$4,FALSE))","v":""},{"$f":"IF($N103=\"\",\"\",VLOOKUP($N103,'Reference Passenger Transport'!$C:$O,BG$4,FALSE))","v":""},{"$f":"IF($N103=\"\",\"\",VLOOKUP($N103,'Reference Passenger Transport'!$C:$O,BH$4,FALSE))","v":""},{"$f":"IF($N103=\"\",\"\",VLOOKUP($N103,'Reference Passenger Transport'!$C:$O,BI$4,FALSE))","v":""},{"$f":"IF($N103=\"\",\"\",VLOOKUP($N103,'Reference Passenger Transport'!$C:$O,BJ$4,FALSE))","v":""},{"$f":"IF($N103=\"\",\"\",VLOOKUP($N103,'Reference Passenger Transport'!$C:$O,BK$4,FALSE))","v":""},{"$f":"IF($N103=\"\",\"\",VLOOKUP($N103,'Reference Passenger Transport'!$C:$O,BL$4,FALSE))","v":""},{"$f":"IF($N103=\"\",\"\",VLOOKUP($N103,'Reference Passenger Transport'!$C:$O,BM$4,FALSE))","v":""},null,"","","","","","","","",null,"",null,"","",null,""]
[null,null,null,null,null,null,null,null,null,null,null,null,null,null,null,null,null,{"$f":"INDEX('Dropdown menus'!$A$1:$D$6,MATCH($E104,'Dropdown menus'!$A$1:$A$6,0),$R$6)","v":{"$error":"#N/A"}},null,{"$f":"IF($F104=\"\",\"\",VLOOKUP($F104,'Reference Data - Transport fuel'!$C:$O,T$4,FALSE))","v":""},{"$f":"IF($F104=\"\",\"\",VLOOKUP($F104,'Reference Data - Transport fuel'!$C:$O,U$4,FALSE))","v":""},{"$f":"IF($F104=\"\",\"\",VLOOKUP($F104,'Reference Data - Transport fuel'!$C:$O,V$4,FALSE))","v":""},{"$f":"IF($F104=\"\",\"\",VLOOKUP($F104,'Reference Data - Transport fuel'!$C:$O,W$4,FALSE))","v":""},{"$f":"IF($F104=\"\",\"\",VLOOKUP($F104,'Reference Data - Transport fuel'!$C:$O,X$4,FALSE))","v":""},{"$f":"IF($F104=\"\",\"\",VLOOKUP($F104,'Reference Data - Transport fuel'!$C:$O,Y$4,FALSE))","v":""},{"$f":"IF($F104=\"\",\"\",VLOOKUP($F104,'Reference Data - Transport fuel'!$C:$O,Z$4,FALSE))","v":""},{"$f":"IF($F104=\"\",\"\",VLOOKUP($F104,'Reference Data - Transport fuel'!$C:$O,AA$4,FALSE))","v":""},{"$f":"IF($F104=\"\",\"\",VLOOKUP($F104,'Reference Data - Transport fuel'!$C:$O,AB$4,FALSE))","v":""},null,{"$f":"IF($F104=\"\",\"\",VLOOKUP($F104,'Reference Data - Transport fuel'!$C:$O,AD$4,FALSE))","v":""},null,{"$f":"IF($F104=\"\",\"\",VLOOKUP($F104,'Reference Data - Transport fuel'!$C:$O,AF$4,FALSE))","v":""},null,"","","","","","","","",null,"",null,"","",null,"",null,null,{"$f":"INDEX('Dropdown menus'!$A$1:$D$6,MATCH($M104,'Dropdown menus'!$A$1:$A$6,0),$AY$6)","v":{"$error":"#N/A"}},null,{"$f":"IF($N104=\"\",\"\",VLOOKUP($N104,'Reference Passenger Transport'!$C:$O,BA$4,FALSE))","v":""},{"$f":"IF($N104=\"\",\"\",VLOOKUP($N104,'Reference Passenger Transport'!$C:$O,BB$4,FALSE))","v":""},{"$f":"IF($N104=\"\",\"\",VLOOKUP($N104,'Reference Passenger Transport'!$C:$O,BC$4,FALSE))","v":""},{"$f":"IF($N104=\"\",\"\",VLOOKUP($N104,'Reference Passenger Transport'!$C:$O,BD$4,FALSE))","v":""},{"$f":"IF($N104=\"\",\"\",VLOOKUP($N104,'Reference Passenger Transport'!$C:$O,BE$4,FALSE))","v":""},{"$f":"IF($N104=\"\",\"\",VLOOKUP($N104,'Reference Passenger Transport'!$C:$O,BF$4,FALSE))","v":""},{"$f":"IF($N104=\"\",\"\",VLOOKUP($N104,'Reference Passenger Transport'!$C:$O,BG$4,FALSE))","v":""},{"$f":"IF($N104=\"\",\"\",VLOOKUP($N104,'Reference Passenger Transport'!$C:$O,BH$4,FALSE))","v":""},{"$f":"IF($N104=\"\",\"\",VLOOKUP($N104,'Reference Passenger Transport'!$C:$O,BI$4,FALSE))","v":""},{"$f":"IF($N104=\"\",\"\",VLOOKUP($N104,'Reference Passenger Transport'!$C:$O,BJ$4,FALSE))","v":""},{"$f":"IF($N104=\"\",\"\",VLOOKUP($N104,'Reference Passenger Transport'!$C:$O,BK$4,FALSE))","v":""},{"$f":"IF($N104=\"\",\"\",VLOOKUP($N104,'Reference Passenger Transport'!$C:$O,BL$4,FALSE))","v":""},{"$f":"IF($N104=\"\",\"\",VLOOKUP($N104,'Reference Passenger Transport'!$C:$O,BM$4,FALSE))","v":""},null,"","","","","","","","",null,"",null,"","",null,""]
[null,null,null,null,null,null,null,null,null,null,null,null,null,null,null,null,null,{"$f":"INDEX('Dropdown menus'!$A$1:$D$6,MATCH($E105,'Dropdown menus'!$A$1:$A$6,0),$R$6)","v":{"$error":"#N/A"}},null,{"$f":"IF($F105=\"\",\"\",VLOOKUP($F105,'Reference Data - Transport fuel'!$C:$O,T$4,FALSE))","v":""},{"$f":"IF($F105=\"\",\"\",VLOOKUP($F105,'Reference Data - Transport fuel'!$C:$O,U$4,FALSE))","v":""},{"$f":"IF($F105=\"\",\"\",VLOOKUP($F105,'Reference Data - Transport fuel'!$C:$O,V$4,FALSE))","v":""},{"$f":"IF($F105=\"\",\"\",VLOOKUP($F105,'Reference Data - Transport fuel'!$C:$O,W$4,FALSE))","v":""},{"$f":"IF($F105=\"\",\"\",VLOOKUP($F105,'Reference Data - Transport fuel'!$C:$O,X$4,FALSE))","v":""},{"$f":"IF($F105=\"\",\"\",VLOOKUP($F105,'Reference Data - Transport fuel'!$C:$O,Y$4,FALSE))","v":""},{"$f":"IF($F105=\"\",\"\",VLOOKUP($F105,'Reference Data - Transport fuel'!$C:$O,Z$4,FALSE))","v":""},{"$f":"IF($F105=\"\",\"\",VLOOKUP($F105,'Reference Data - Transport fuel'!$C:$O,AA$4,FALSE))","v":""},{"$f":"IF($F105=\"\",\"\",VLOOKUP($F105,'Reference Data - Transport fuel'!$C:$O,AB$4,FALSE))","v":""},null,{"$f":"IF($F105=\"\",\"\",VLOOKUP($F105,'Reference Data - Transport fuel'!$C:$O,AD$4,FALSE))","v":""},null,{"$f":"IF($F105=\"\",\"\",VLOOKUP($F105,'Reference Data - Transport fuel'!$C:$O,AF$4,FALSE))","v":""},null,"","","","","","","","",null,"",null,"","",null,"",null,null,{"$f":"INDEX('Dropdown menus'!$A$1:$D$6,MATCH($M105,'Dropdown menus'!$A$1:$A$6,0),$AY$6)","v":{"$error":"#N/A"}},null,{"$f":"IF($N105=\"\",\"\",VLOOKUP($N105,'Reference Passenger Transport'!$C:$O,BA$4,FALSE))","v":""},{"$f":"IF($N105=\"\",\"\",VLOOKUP($N105,'Reference Passenger Transport'!$C:$O,BB$4,FALSE))","v":""},{"$f":"IF($N105=\"\",\"\",VLOOKUP($N105,'Reference Passenger Transport'!$C:$O,BC$4,FALSE))","v":""},{"$f":"IF($N105=\"\",\"\",VLOOKUP($N105,'Reference Passenger Transport'!$C:$O,BD$4,FALSE))","v":""},{"$f":"IF($N105=\"\",\"\",VLOOKUP($N105,'Reference Passenger Transport'!$C:$O,BE$4,FALSE))","v":""},{"$f":"IF($N105=\"\",\"\",VLOOKUP($N105,'Reference Passenger Transport'!$C:$O,BF$4,FALSE))","v":""},{"$f":"IF($N105=\"\",\"\",VLOOKUP($N105,'Reference Passenger Transport'!$C:$O,BG$4,FALSE))","v":""},{"$f":"IF($N105=\"\",\"\",VLOOKUP($N105,'Reference Passenger Transport'!$C:$O,BH$4,FALSE))","v":""},{"$f":"IF($N105=\"\",\"\",VLOOKUP($N105,'Reference Passenger Transport'!$C:$O,BI$4,FALSE))","v":""},{"$f":"IF($N105=\"\",\"\",VLOOKUP($N105,'Reference Passenger Transport'!$C:$O,BJ$4,FALSE))","v":""},{"$f":"IF($N105=\"\",\"\",VLOOKUP($N105,'Reference Passenger Transport'!$C:$O,BK$4,FALSE))","v":""},{"$f":"IF($N105=\"\",\"\",VLOOKUP($N105,'Reference Passenger Transport'!$C:$O,BL$4,FALSE))","v":""},{"$f":"IF($N105=\"\",\"\",VLOOKUP($N105,'Reference Passenger Transport'!$C:$O,BM$4,FALSE))","v":""},null,"","","","","","","","",null,"",null,"","",null,""]
[null,null,null,null,null,null,null,null,null,null,null,null,null,null,null,null,null,{"$f":"INDEX('Dropdown menus'!$A$1:$D$6,MATCH($E106,'Dropdown menus'!$A$1:$A$6,0),$R$6)","v":{"$error":"#N/A"}},null,{"$f":"IF($F106=\"\",\"\",VLOOKUP($F106,'Reference Data - Transport fuel'!$C:$O,T$4,FALSE))","v":""},{"$f":"IF($F106=\"\",\"\",VLOOKUP($F106,'Reference Data - Transport fuel'!$C:$O,U$4,FALSE))","v":""},{"$f":"IF($F106=\"\",\"\",VLOOKUP($F106,'Reference Data - Transport fuel'!$C:$O,V$4,FALSE))","v":""},{"$f":"IF($F106=\"\",\"\",VLOOKUP($F106,'Reference Data - Transport fuel'!$C:$O,W$4,FALSE))","v":""},{"$f":"IF($F106=\"\",\"\",VLOOKUP($F106,'Reference Data - Transport fuel'!$C:$O,X$4,FALSE))","v":""},{"$f":"IF($F106=\"\",\"\",VLOOKUP($F106,'Reference Data - Transport fuel'!$C:$O,Y$4,FALSE))","v":""},{"$f":"IF($F106=\"\",\"\",VLOOKUP($F106,'Reference Data - Transport fuel'!$C:$O,Z$4,FALSE))","v":""},{"$f":"IF($F106=\"\",\"\",VLOOKUP($F106,'Reference Data - Transport fuel'!$C:$O,AA$4,FALSE))","v":""},{"$f":"IF($F106=\"\",\"\",VLOOKUP($F106,'Reference Data - Transport fuel'!$C:$O,AB$4,FALSE))","v":""},null,{"$f":"IF($F106=\"\",\"\",VLOOKUP($F106,'Reference Data - Transport fuel'!$C:$O,AD$4,FALSE))","v":""},null,{"$f":"IF($F106=\"\",\"\",VLOOKUP($F106,'Reference Data - Transport fuel'!$C:$O,AF$4,FALSE))","v":""},null,"","","","","","","","",null,"",null,"","",null,"",null,null,{"$f":"INDEX('Dropdown menus'!$A$1:$D$6,MATCH($M106,'Dropdown menus'!$A$1:$A$6,0),$AY$6)","v":{"$error":"#N/A"}},null,{"$f":"IF($N106=\"\",\"\",VLOOKUP($N106,'Reference Passenger Transport'!$C:$O,BA$4,FALSE))","v":""},{"$f":"IF($N106=\"\",\"\",VLOOKUP($N106,'Reference Passenger Transport'!$C:$O,BB$4,FALSE))","v":""},{"$f":"IF($N106=\"\",\"\",VLOOKUP($N106,'Reference Passenger Transport'!$C:$O,BC$4,FALSE))","v":""},{"$f":"IF($N106=\"\",\"\",VLOOKUP($N106,'Reference Passenger Transport'!$C:$O,BD$4,FALSE))","v":""},{"$f":"IF($N106=\"\",\"\",VLOOKUP($N106,'Reference Passenger Transport'!$C:$O,BE$4,FALSE))","v":""},{"$f":"IF($N106=\"\",\"\",VLOOKUP($N106,'Reference Passenger Transport'!$C:$O,BF$4,FALSE))","v":""},{"$f":"IF($N106=\"\",\"\",VLOOKUP($N106,'Reference Passenger Transport'!$C:$O,BG$4,FALSE))","v":""},{"$f":"IF($N106=\"\",\"\",VLOOKUP($N106,'Reference Passenger Transport'!$C:$O,BH$4,FALSE))","v":""},{"$f":"IF($N106=\"\",\"\",VLOOKUP($N106,'Reference Passenger Transport'!$C:$O,BI$4,FALSE))","v":""},{"$f":"IF($N106=\"\",\"\",VLOOKUP($N106,'Reference Passenger Transport'!$C:$O,BJ$4,FALSE))","v":""},{"$f":"IF($N106=\"\",\"\",VLOOKUP($N106,'Reference Passenger Transport'!$C:$O,BK$4,FALSE))","v":""},{"$f":"IF($N106=\"\",\"\",VLOOKUP($N106,'Reference Passenger Transport'!$C:$O,BL$4,FALSE))","v":""},{"$f":"IF($N106=\"\",\"\",VLOOKUP($N106,'Reference Passenger Transport'!$C:$O,BM$4,FALSE))","v":""},null,"","","","","","","","",null,"",null,"","",null,""]

{"sheet":"9. Employee Commuting（员工通勤）","index":8,"n_rows":106,"n_cols":15,"rows_kept":106,"cut":false,"hidden":false,"merged":[]}
[]
[null,null,null,"员工通勤--基于距离"]
[null,null,null,"Employee commuting - by distance"]
[]
[null,"C",null,"描述","方式","每年人-千米",null,null,"Emission Factors",null,null,"Scope 3 emissions (kg CO2e)"]
[null,"E",null,"Description","Mode","Passenger-km per year",null,null,"Combustion EF (kg CO2e/passenger-km)","Upstream emission factor (kg CO2e/passenger-km)",null,"Direct Combusion (Employee Commuting)","Upstream emissions (fuel + energy related activites)",null,"Supporting calculations -->"]
[null,null,null,null,null,null,null,null,{"$f":"IF($E7=\"\",\"\",VLOOKUP($E7,'Reference - Logistics Distance'!$C:$O,2,FALSE))","v":""},{"$f":"IF($E7=\"\",\"\",VLOOKUP($E7,'Reference - Logistics Distance'!$C:$O,13,FALSE))","v":""},null,{"$f":"IF($E7=\"\",\"\",I7*$F7)","v":""},{"$f":"IF($E7=\"\",\"\",J7*$F7)","v":""}]
[null,null,null,null,null,null,null,null,{"$f":"IF($E8=\"\",\"\",VLOOKUP($E8,'Reference - Logistics Distance'!$C:$O,2,FALSE))","v":""},{"$f":"IF($E8=\"\",\"\",VLOOKUP($E8,'Reference - Logistics Distance'!$C:$O,13,FALSE))","v":""},null,{"$f":"IF($E8=\"\",\"\",I8*$F8)","v":""},{"$f":"IF($E8=\"\",\"\",J8*$F8)","v":""}]
[null,null,null,null,null,null,null,null,{"$f":"IF($E9=\"\",\"\",VLOOKUP($E9,'Reference - Logistics Distance'!$C:$O,2,FALSE))","v":""},{"$f":"IF($E9=\"\",\"\",VLOOKUP($E9,'Reference - Logistics Distance'!$C:$O,13,FALSE))","v":""},null,"",""]
[null,null,null,null,null,null,null,null,{"$f":"IF($E10=\"\",\"\",VLOOKUP($E10,'Reference - Logistics Distance'!$C:$O,2,FALSE))","v":""},{"$f":"IF($E10=\"\",\"\",VLOOKUP($E10,'Reference - Logistics Distance'!$C:$O,13,FALSE))","v":""},null,"",""]
[null,null,null,null,null,null,null,null,{"$f":"IF($E11=\"\",\"\",VLOOKUP($E11,'Reference - Logistics Distance'!$C:$O,2,FALSE))","v":""},{"$f":"IF($E11=\"\",\"\",VLOOKUP($E11,'Reference - Logistics Distance'!$C:$O,13,FALSE))","v":""},null,"",""]
[null,null,null,null,null,null,null,null,{"$f":"IF($E12=\"\",\"\",VLOOKUP($E12,'Reference - Logistics Distance'!$C:$O,2,FALSE))","v":""},{"$f":"IF($E12=\"\",\"\",VLOOKUP($E12,'Reference - Logistics Distance'!$C:$O,13,FALSE))","v":""},null,"",""]
[null,null,null,null,null,null,null,null,{"$f":"IF($E13=\"\",\"\",VLOOKUP($E13,'Reference - Logistics Distance'!$C:$O,2,FALSE))","v":""},{"$f":"IF($E13=\"\",\"\",VLOOKUP($E13,'Reference - Logistics Distance'!$C:$O,13,FALSE))","v":""},null,"",""]
[null,null,null,null,null,null,null,null,{"$f":"IF($E14=\"\",\"\",VLOOKUP($E14,'Reference - Logistics Distance'!$C:$O,2,FALSE))","v":""},{"$f":"IF($E14=\"\",\"\",VLOOKUP($E14,'Reference - Logistics Distance'!$C:$O,13,FALSE))","v":""},null,"",""]
[null,null,null,null,null,null,null,null,{"$f":"IF($E15=\"\",\"\",VLOOKUP($E15,'Reference - Logistics Distance'!$C:$O,2,FALSE))","v":""},{"$f":"IF($E15=\"\",\"\",VLOOKUP($E15,'Reference - Logistics Distance'!$C:$O,13,FALSE))","v":""},null,"",""]
[null,null,null,null,null,null,null,null,{"$f":"IF($E16=\"\",\"\",VLOOKUP($E16,'Reference - Logistics Distance'!$C:$O,2,FALSE))","v":""},{"$f":"IF($E16=\"\",\"\",VLOOKUP($E16,'Reference - Logistics Distance'!$C:$O,13,FALSE))","v":""},null,"",""]
[null,null,null,null,null,null,null,null,{"$f":"IF($E17=\"\",\"\",VLOOKUP($E17,'Reference - Logistics Distance'!$C:$O,2,FALSE))","v":""},{"$f":"IF($E17=\"\",\"\",VLOOKUP($E17,'Reference - Logistics Distance'!$C:$O,13,FALSE))","v":""},null,"",""]
[null,null,null,null,null,null,null,null,{"$f":"IF($E18=\"\",\"\",VLOOKUP($E18,'Reference - Logistics Distance'!$C:$O,2,FALSE))","v":""},{"$f":"IF($E18=\"\",\"\",VLOOKUP($E18,'Reference - Logistics Distance'!$C:$O,13,FALSE))","v":""},null,"",""]
[null,null,null,null,null,null,null,null,{"$f":"IF($E19=\"\",\"\",VLOOKUP($E19,'Reference - Logistics Distance'!$C:$O,2,FALSE))","v":""},{"$f":"IF($E19=\"\",\"\",VLOOKUP($E19,'Reference - Logistics Distance'!$C:$O,13,FALSE))","v":""},null,"",""]
[null,null,null,null,null,null,null,null,{"$f":"IF($E20=\"\",\"\",VLOOKUP($E20,'Reference - Logistics Distance'!$C:$O,2,FALSE))","v":""},{"$f":"IF($E20=\"\",\"\",VLOOKUP($E20,'Reference - Logistics Distance'!$C:$O,13,FALSE))","v":""},null,"",""]
[null,null,null,null,null,null,null,null,{"$f":"IF($E21=\"\",\"\",VLOOKUP($E21,'Reference - Logistics Distance'!$C:$O,2,FALSE))","v":""},{"$f":"IF($E21=\"\",\"\",VLOOKUP($E21,'Reference - Logistics Distance'!$C:$O,13,FALSE))","v":""},null,"",""]
[null,null,null,null,null,null,null,null,{"$f":"IF($E22=\"\",\"\",VLOOKUP($E22,'Reference - Logistics Distance'!$C:$O,2,FALSE))","v":""},{"$f":"IF($E22=\"\",\"\",VLOOKUP($E22,'Reference - Logistics Distance'!$C:$O,13,FALSE))","v":""},null,"",""]
[null,null,null,null,null,null,null,null,{"$f":"IF($E23=\"\",\"\",VLOOKUP($E23,'Reference - Logistics Distance'!$C:$O,2,FALSE))","v":""},{"$f":"IF($E23=\"\",\"\",VLOOKUP($E23,'Reference - Logistics Distance'!$C:$O,13,FALSE))","v":""},null,"",""]
[null,null,null,null,null,null,null,null,{"$f":"IF($E24=\"\",\"\",VLOOKUP($E24,'Reference - Logistics Distance'!$C:$O,2,FALSE))","v":""},{"$f":"IF($E24=\"\",\"\",VLOOKUP($E24,'Reference - Logistics Distance'!$C:$O,13,FALSE))","v":""},null,"",""]
[null,null,null,null,null,null,null,null,{"$f":"IF($E25=\"\",\"\",VLOOKUP($E25,'Reference - Logistics Distance'!$C:$O,2,FALSE))","v":""},{"$f":"IF($E25=\"\",\"\",VLOOKUP($E25,'Reference - Logistics Distance'!$C:$O,13,FALSE))","v":""},null,"",""]
[null,null,null,null,null,null,null,null,{"$f":"IF($E26=\"\",\"\",VLOOKUP($E26,'Reference - Logistics Distance'!$C:$O,2,FALSE))","v":""},{"$f":"IF($E26=\"\",\"\",VLOOKUP($E26,'Reference - Logistics Distance'!$C:$O,13,FALSE))","v":""},null,"",""]
[null,null,null,null,null,null,null,null,{"$f":"IF($E27=\"\",\"\",VLOOKUP($E27,'Reference - Logistics Distance'!$C:$O,2,FALSE))","v":""},{"$f":"IF($E27=\"\",\"\",VLOOKUP($E27,'Reference - Logistics Distance'!$C:$O,13,FALSE))","v":""},null,"",""]
[null,null,null,null,null,null,null,null,{"$f":"IF($E28=\"\",\"\",VLOOKUP($E28,'Reference - Logistics Distance'!$C:$O,2,FALSE))","v":""},{"$f":"IF($E28=\"\",\"\",VLOOKUP($E28,'Reference - Logistics Distance'!$C:$O,13,FALSE))","v":""},null,"",""]
[null,null,null,null,null,null,null,null,{"$f":"IF($E29=\"\",\"\",VLOOKUP($E29,'Reference - Logistics Distance'!$C:$O,2,FALSE))","v":""},{"$f":"IF($E29=\"\",\"\",VLOOKUP($E29,'Reference - Logistics Distance'!$C:$O,13,FALSE))","v":""},null,"",""]
[null,null,null,null,null,null,null,null,{"$f":"IF($E30=\"\",\"\",VLOOKUP($E30,'Reference - Logistics Distance'!$C:$O,2,FALSE))","v":""},{"$f":"IF($E30=\"\",\"\",VLOOKUP($E30,'Reference - Logistics Distance'!$C:$O,13,FALSE))","v":""},null,"",""]
[null,null,null,null,null,null,null,null,{"$f":"IF($E31=\"\",\"\",VLOOKUP($E31,'Reference - Logistics Distance'!$C:$O,2,FALSE))","v":""},{"$f":"IF($E31=\"\",\"\",VLOOKUP($E31,'Reference - Logistics Distance'!$C:$O,13,FALSE))","v":""},null,"",""]
[null,null,null,null,null,null,null,null,{"$f":"IF($E32=\"\",\"\",VLOOKUP($E32,'Reference - Logistics Distance'!$C:$O,2,FALSE))","v":""},{"$f":"IF($E32=\"\",\"\",VLOOKUP($E32,'Reference - Logistics Distance'!$C:$O,13,FALSE))","v":""},null,"",""]
[null,null,null,null,null,null,null,null,{"$f":"IF($E33=\"\",\"\",VLOOKUP($E33,'Reference - Logistics Distance'!$C:$O,2,FALSE))","v":""},{"$f":"IF($E33=\"\",\"\",VLOOKUP($E33,'Reference - Logistics Distance'!$C:$O,13,FALSE))","v":""},null,"",""]
[null,null,null,null,null,null,null,null,{"$f":"IF($E34=\"\",\"\",VLOOKUP($E34,'Reference - Logistics Distance'!$C:$O,2,FALSE))","v":""},{"$f":"IF($E34=\"\",\"\",VLOOKUP($E34,'Reference - Logistics Distance'!$C:$O,13,FALSE))","v":""},null,"",""]
[null,null,null,null,null,null,null,null,{"$f":"IF($E35=\"\",\"\",VLOOKUP($E35,'Reference - Logistics Distance'!$C:$O,2,FALSE))","v":""},{"$f":"IF($E35=\"\",\"\",VLOOKUP($E35,'Reference - Logistics Distance'!$C:$O,13,FALSE))","v":""},null,"",""]
[null,null,null,null,null,null,null,null,{"$f":"IF($E36=\"\",\"\",VLOOKUP($E36,'Reference - Logistics Distance'!$C:$O,2,FALSE))","v":""},{"$f":"IF($E36=\"\",\"\",VLOOKUP($E36,'Reference - Logistics Distance'!$C:$O,13,FALSE))","v":""},null,"",""]
[null,null,null,null,null,null,null,null,{"$f":"IF($E37=\"\",\"\",VLOOKUP($E37,'Reference - Logistics Distance'!$C:$O,2,FALSE))","v":""},{"$f":"IF($E37=\"\",\"\",VLOOKUP($E37,'Reference - Logistics Distance'!$C:$O,13,FALSE))","v":""},null,"",""]
[null,null,null,null,null,null,null,null,{"$f":"IF($E38=\"\",\"\",VLOOKUP($E38,'Reference - Logistics Distance'!$C:$O,2,FALSE))","v":""},{"$f":"IF($E38=\"\",\"\",VLOOKUP($E38,'Reference - Logistics Distance'!$C:$O,13,FALSE))","v":""},null,"",""]
[null,null,null,null,null,null,null,null,{"$f":"IF($E39=\"\",\"\",VLOOKUP($E39,'Reference - Logistics Distance'!$C:$O,2,FALSE))","v":""},{"$f":"IF($E39=\"\",\"\",VLOOKUP($E39,'Reference - Logistics Distance'!$C:$O,13,FALSE))","v":""},null,"",""]
[null,null,null,null,null,null,null,null,{"$f":"IF($E40=\"\",\"\",VLOOKUP($E40,'Reference - Logistics Distance'!$C:$O,2,FALSE))","v":""},{"$f":"IF($E40=\"\",\"\",VLOOKUP($E40,'Reference - Logistics Distance'!$C:$O,13,FALSE))","v":""},null,"",""]
[null,null,null,null,null,null,null,null,{"$f":"IF($E41=\"\",\"\",VLOOKUP($E41,'Reference - Logistics Distance'!$C:$O,2,FALSE))","v":""},{"$f":"IF($E41=\"\",\"\",VLOOKUP($E41,'Reference - Logistics Distance'!$C:$O,13,FALSE))","v":""},null,"",""]
[null,null,null,null,null,null,null,null,{"$f":"IF($E42=\"\",\"\",VLOOKUP($E42,'Reference - Logistics Distance'!$C:$O,2,FALSE))","v":""},{"$f":"IF($E42=\"\",\"\",VLOOKUP($E42,'Reference - Logistics Distance'!$C:$O,13,FALSE))","v":""},null,"",""]
[null,null,null,null,null,null,null,null,{"$f":"IF($E43=\"\",\"\",VLOOKUP($E43,'Reference - Logistics Distance'!$C:$O,2,FALSE))","v":""},{"$f":"IF($E43=\"\",\"\",VLOOKUP($E43,'Reference - Logistics Distance'!$C:$O,13,FALSE))","v":""},null,"",""]
[null,null,null,null,null,null,null,null,{"$f":"IF($E44=\"\",\"\",VLOOKUP($E44,'Reference - Logistics Distance'!$C:$O,2,FALSE))","v":""},{"$f":"IF($E44=\"\",\"\",VLOOKUP($E44,'Reference - Logistics Distance'!$C:$O,13,FALSE))","v":""},null,"",""]
[null,null,null,null,null,null,null,null,{"$f":"IF($E45=\"\",\"\",VLOOKUP($E45,'Reference - Logistics Distance'!$C:$O,2,FALSE))","v":""},{"$f":"IF($E45=\"\",\"\",VLOOKUP($E45,'Reference - Logistics Distance'!$C:$O,13,FALSE))","v":""},null,"",""]
[null,null,null,null,null,null,null,null,{"$f":"IF($E46=\"\",\"\",VLOOKUP($E46,'Reference - Logistics Distance'!$C:$O,2,FALSE))","v":""},{"$f":"IF($E46=\"\",\"\",VLOOKUP($E46,'Reference - Logistics Distance'!$C:$O,13,FALSE))","v":""},null,"",""]
[null,null,null,null,null,null,null,null,{"$f":"IF($E47=\"\",\"\",VLOOKUP($E47,'Reference - Logistics Distance'!$C:$O,2,FALSE))","v":""},{"$f":"IF($E47=\"\",\"\",VLOOKUP($E47,'Reference - Logistics Distance'!$C:$O,13,FALSE))","v":""},null,"",""]
[null,null,null,null,null,null,null,null,{"$f":"IF($E48=\"\",\"\",VLOOKUP($E48,'Reference - Logistics Distance'!$C:$O,2,FALSE))","v":""},{"$f":"IF($E48=\"\",\"\",VLOOKUP($E48,'Reference - Logistics Distance'!$C:$O,13,FALSE))","v":""},null,"",""]
[null,null,null,null,null,null,null,null,{"$f":"IF($E49=\"\",\"\",VLOOKUP($E49,'Reference - Logistics Distance'!$C:$O,2,FALSE))","v":""},{"$f":"IF($E49=\"\",\"\",VLOOKUP($E49,'Reference - Logistics Distance'!$C:$O,13,FALSE))","v":""},null,"",""]
[null,null,null,null,null,null,null,null,{"$f":"IF($E50=\"\",\"\",VLOOKUP($E50,'Reference - Logistics Distance'!$C:$O,2,FALSE))","v":""},{"$f":"IF($E50=\"\",\"\",VLOOKUP($E50,'Reference - Logistics Distance'!$C:$O,13,FALSE))","v":""},null,"",""]
[null,null,null,null,null,null,null,null,{"$f":"IF($E51=\"\",\"\",VLOOKUP($E51,'Reference - Logistics Distance'!$C:$O,2,FALSE))","v":""},{"$f":"IF($E51=\"\",\"\",VLOOKUP($E51,'Reference - Logistics Distance'!$C:$O,13,FALSE))","v":""},null,"",""]
[null,null,null,null,null,null,null,null,{"$f":"IF($E52=\"\",\"\",VLOOKUP($E52,'Reference - Logistics Distance'!$C:$O,2,FALSE))","v":""},{"$f":"IF($E52=\"\",\"\",VLOOKUP($E52,'Reference - Logistics Distance'!$C:$O,13,FALSE))","v":""},null,"",""]
[null,null,null,null,null,null,null,null,{"$f":"IF($E53=\"\",\"\",VLOOKUP($E53,'Reference - Logistics Distance'!$C:$O,2,FALSE))","v":""},{"$f":"IF($E53=\"\",\"\",VLOOKUP($E53,'Reference - Logistics Distance'!$C:$O,13,FALSE))","v":""},null,"",""]
[null,null,null,null,null,null,null,null,{"$f":"IF($E54=\"\",\"\",VLOOKUP($E54,'Reference - Logistics Distance'!$C:$O,2,FALSE))","v":""},{"$f":"IF($E54=\"\",\"\",VLOOKUP($E54,'Reference - Logistics Distance'!$C:$O,13,FALSE))","v":""},null,"",""]
[null,null,null,null,null,null,null,null,{"$f":"IF($E55=\"\",\"\",VLOOKUP($E55,'Reference - Logistics Distance'!$C:$O,2,FALSE))","v":""},{"$f":"IF($E55=\"\",\"\",VLOOKUP($E55,'Reference - Logistics Distance'!$C:$O,13,FALSE))","v":""},null,"",""]
[null,null,null,null,null,null,null,null,{"$f":"IF($E56=\"\",\"\",VLOOKUP($E56,'Reference - Logistics Distance'!$C:$O,2,FALSE))","v":""},{"$f":"IF($E56=\"\",\"\",VLOOKUP($E56,'Reference - Logistics Distance'!$C:$O,13,FALSE))","v":""},null,"",""]
[null,null,null,null,null,null,null,null,{"$f":"IF($E57=\"\",\"\",VLOOKUP($E57,'Reference - Logistics Distance'!$C:$O,2,FALSE))","v":""},{"$f":"IF($E57=\"\",\"\",VLOOKUP($E57,'Reference - Logistics Distance'!$C:$O,13,FALSE))","v":""},null,"",""]
[null,null,null,null,null,null,null,null,{"$f":"IF($E58=\"\",\"\",VLOOKUP($E58,'Reference - Logistics Distance'!$C:$O,2,FALSE))","v":""},{"$f":"IF($E58=\"\",\"\",VLOOKUP($E58,'Reference - Logistics Distance'!$C:$O,13,FALSE))","v":""},null,"",""]
[null,null,null,null,null,null,null,null,{"$f":"IF($E59=\"\",\"\",VLOOKUP($E59,'Reference - Logistics Distance'!$C:$O,2,FALSE))","v":""},{"$f":"IF($E59=\"\",\"\",VLOOKUP($E59,'Reference - Logistics Distance'!$C:$O,13,FALSE))","v":""},null,"",""]
[null,null,null,null,null,null,null,null,{"$f":"IF($E60=\"\",\"\",VLOOKUP($E60,'Reference - Logistics Distance'!$C:$O,2,FALSE))","v":""},{"$f":"IF($E60=\"\",\"\",VLOOKUP($E60,'Reference - Logistics Distance'!$C:$O,13,FALSE))","v":""},null,"",""]
[null,null,null,null,null,null,null,null,{"$f":"IF($E61=\"\",\"\",VLOOKUP($E61,'Reference - Logistics Distance'!$C:$O,2,FALSE))","v":""},{"$f":"IF($E61=\"\",\"\",VLOOKUP($E61,'Reference - Logistics Distance'!$C:$O,13,FALSE))","v":""},null,"",""]
[null,null,null,null,null,null,null,null,{"$f":"IF($E62=\"\",\"\",VLOOKUP($E62,'Reference - Logistics Distance'!$C:$O,2,FALSE))","v":""},{"$f":"IF($E62=\"\",\"\",VLOOKUP($E62,'Reference - Logistics Distance'!$C:$O,13,FALSE))","v":""},null,"",""]
[null,null,null,null,null,null,null,null,{"$f":"IF($E63=\"\",\"\",VLOOKUP($E63,'Reference - Logistics Distance'!$C:$O,2,FALSE))","v":""},{"$f":"IF($E63=\"\",\"\",VLOOKUP($E63,'Reference - Logistics Distance'!$C:$O,13,FALSE))","v":""},null,"",""]
[null,null,null,null,null,null,null,null,{"$f":"IF($E64=\"\",\"\",VLOOKUP($E64,'Reference - Logistics Distance'!$C:$O,2,FALSE))","v":""},{"$f":"IF($E64=\"\",\"\",VLOOKUP($E64,'Reference - Logistics Distance'!$C:$O,13,FALSE))","v":""},null,"",""]
[null,null,null,null,null,null,null,null,{"$f":"IF($E65=\"\",\"\",VLOOKUP($E65,'Reference - Logistics Distance'!$C:$O,2,FALSE))","v":""},{"$f":"IF($E65=\"\",\"\",VLOOKUP($E65,'Reference - Logistics Distance'!$C:$O,13,FALSE))","v":""},null,"",""]
[null,null,null,null,null,null,null,null,{"$f":"IF($E66=\"\",\"\",VLOOKUP($E66,'Reference - Logistics Distance'!$C:$O,2,FALSE))","v":""},{"$f":"IF($E66=\"\",\"\",VLOOKUP($E66,'Reference - Logistics Distance'!$C:$O,13,FALSE))","v":""},null,"",""]
[null,null,null,null,null,null,null,null,{"$f":"IF($E67=\"\",\"\",VLOOKUP($E67,'Reference - Logistics Distance'!$C:$O,2,FALSE))","v":""},{"$f":"IF($E67=\"\",\"\",VLOOKUP($E67,'Reference - Logistics Distance'!$C:$O,13,FALSE))","v":""},null,"",""]
[null,null,null,null,null,null,null,null,{"$f":"IF($E68=\"\",\"\",VLOOKUP($E68,'Reference - Logistics Distance'!$C:$O,2,FALSE))","v":""},{"$f":"IF($E68=\"\",\"\",VLOOKUP($E68,'Reference - Logistics Distance'!$C:$O,13,FALSE))","v":""},null,"",""]
[null,null,null,null,null,null,null,null,{"$f":"IF($E69=\"\",\"\",VLOOKUP($E69,'Reference - Logistics Distance'!$C:$O,2,FALSE))","v":""},{"$f":"IF($E69=\"\",\"\",VLOOKUP($E69,'Reference - Logistics Distance'!$C:$O,13,FALSE))","v":""},null,"",""]
[null,null,null,null,null,null,null,null,{"$f":"IF($E70=\"\",\"\",VLOOKUP($E70,'Reference - Logistics Distance'!$C:$O,2,FALSE))","v":""},{"$f":"IF($E70=\"\",\"\",VLOOKUP($E70,'Reference - Logistics Distance'!$C:$O,13,FALSE))","v":""},null,"",""]
[null,null,null,null,null,null,null,null,{"$f":"IF($E71=\"\",\"\",VLOOKUP($E71,'Reference - Logistics Distance'!$C:$O,2,FALSE))","v":""},{"$f":"IF($E71=\"\",\"\",VLOOKUP($E71,'Reference - Logistics Distance'!$C:$O,13,FALSE))","v":""},null,"",""]
[null,null,null,null,null,null,null,null,{"$f":"IF($E72=\"\",\"\",VLOOKUP($E72,'Reference - Logistics Distance'!$C:$O,2,FALSE))","v":""},{"$f":"IF($E72=\"\",\"\",VLOOKUP($E72,'Reference - Logistics Distance'!$C:$O,13,FALSE))","v":""},null,{"$f":"IF($E72=\"\",\"\",I72*$F72)","v":""},{"$f":"IF($E72=\"\",\"\",J72*$F72)","v":""}]
[null,null,null,null,null,null,null,null,{"$f":"IF($E73=\"\",\"\",VLOOKUP($E73,'Reference - Logistics Distance'!$C:$O,2,FALSE))","v":""},{"$f":"IF($E73=\"\",\"\",VLOOKUP($E73,'Reference - Logistics Distance'!$C:$O,13,FALSE))","v":""},null,"",""]
[null,null,null,null,null,null,null,null,{"$f":"IF($E74=\"\",\"\",VLOOKUP($E74,'Reference - Logistics Distance'!$C:$O,2,FALSE))","v":""},{"$f":"IF($E74=\"\",\"\",VLOOKUP($E74,'Reference - Logistics Distance'!$C:$O,13,FALSE))","v":""},null,"",""]
[null,null,null,null,null,null,null,null,{"$f":"IF($E75=\"\",\"\",VLOOKUP($E75,'Reference - Logistics Distance'!$C:$O,2,FALSE))","v":""},{"$f":"IF($E75=\"\",\"\",VLOOKUP($E75,'Reference - Logistics Distance'!$C:$O,13,FALSE))","v":""},null,"",""]
[null,null,null,null,null,null,null,null,{"$f":"IF($E76=\"\",\"\",VLOOKUP($E76,'Reference - Logistics Distance'!$C:$O,2,FALSE))","v":""},{"$f":"IF($E76=\"\",\"\",VLOOKUP($E76,'Reference - Logistics Distance'!$C:$O,13,FALSE))","v":""},null,"",""]
[null,null,null,null,null,null,null,null,{"$f":"IF($E77=\"\",\"\",VLOOKUP($E77,'Reference - Logistics Distance'!$C:$O,2,FALSE))","v":""},{"$f":"IF($E77=\"\",\"\",VLOOKUP($E77,'Reference - Logistics Distance'!$C:$O,13,FALSE))","v":""},null,"",""]
[null,null,null,null,null,null,null,null,{"$f":"IF($E78=\"\",\"\",VLOOKUP($E78,'Reference - Logistics Distance'!$C:$O,2,FALSE))","v":""},{"$f":"IF($E78=\"\",\"\",VLOOKUP($E78,'Reference - Logistics Distance'!$C:$O,13,FALSE))","v":""},null,"",""]
[null,null,null,null,null,null,null,null,{"$f":"IF($E79=\"\",\"\",VLOOKUP($E79,'Reference - Logistics Distance'!$C:$O,2,FALSE))","v":""},{"$f":"IF($E79=\"\",\"\",VLOOKUP($E79,'Reference - Logistics Distance'!$C:$O,13,FALSE))","v":""},null,"",""]
[null,null,null,null,null,null,null,null,{"$f":"IF($E80=\"\",\"\",VLOOKUP($E80,'Reference - Logistics Distance'!$C:$O,2,FALSE))","v":""},{"$f":"IF($E80=\"\",\"\",VLOOKUP($E80,'Reference - Logistics Distance'!$C:$O,13,FALSE))","v":""},null,"",""]
[null,null,null,null,null,null,null,null,{"$f":"IF($E81=\"\",\"\",VLOOKUP($E81,'Reference - Logistics Distance'!$C:$O,2,FALSE))","v":""},{"$f":"IF($E81=\"\",\"\",VLOOKUP($E81,'Reference - Logistics Distance'!$C:$O,13,FALSE))","v":""},null,"",""]
[null,null,null,null,null,null,null,null,{"$f":"IF($E82=\"\",\"\",VLOOKUP($E82,'Reference - Logistics Distance'!$C:$O,2,FALSE))","v":""},{"$f":"IF($E82=\"\",\"\",VLOOKUP($E82,'Reference - Logistics Distance'!$C:$O,13,FALSE))","v":""},null,"",""]
[null,null,null,null,null,null,null,null,{"$f":"IF($E83=\"\",\"\",VLOOKUP($E83,'Reference - Logistics Distance'!$C:$O,2,FALSE))","v":""},{"$f":"IF($E83=\"\",\"\",VLOOKUP($E83,'Reference - Logistics Distance'!$C:$O,13,FALSE))","v":""},null,"",""]
[null,null,null,null,null,null,null,null,{"$f":"IF($E84=\"\",\"\",VLOOKUP($E84,'Reference - Logistics Distance'!$C:$O,2,FALSE))","v":""},{"$f":"IF($E84=\"\",\"\",VLOOKUP($E84,'Reference - Logistics Distance'!$C:$O,13,FALSE))","v":""},null,"",""]
[null,null,null,null,null,null,null,null,{"$f":"IF($E85=\"\",\"\",VLOOKUP($E85,'Reference - Logistics Distance'!$C:$O,2,FALSE))","v":""},{"$f":"IF($E85=\"\",\"\",VLOOKUP($E85,'Reference - Logistics Distance'!$C:$O,13,FALSE))","v":""},null,"",""]
[null,null,null,null,null,null,null,null,{"$f":"IF($E86=\"\",\"\",VLOOKUP($E86,'Reference - Logistics Distance'!$C:$O,2,FALSE))","v":""},{"$f":"IF($E86=\"\",\"\",VLOOKUP($E86,'Reference - Logistics Distance'!$C:$O,13,FALSE))","v":""},null,"",""]
[null,null,null,null,null,null,null,null,{"$f":"IF($E87=\"\",\"\",VLOOKUP($E87,'Reference - Logistics Distance'!$C:$O,2,FALSE))","v":""},{"$f":"IF($E87=\"\",\"\",VLOOKUP($E87,'Reference - Logistics Distance'!$C:$O,13,FALSE))","v":""},null,"",""]
[null,null,null,null,null,null,null,null,{"$f":"IF($E88=\"\",\"\",VLOOKUP($E88,'Reference - Logistics Distance'!$C:$O,2,FALSE))","v":""},{"$f":"IF($E88=\"\",\"\",VLOOKUP($E88,'Reference - Logistics Distance'!$C:$O,13,FALSE))","v":""},null,"",""]
[null,null,null,null,null,null,null,null,{"$f":"IF($E89=\"\",\"\",VLOOKUP($E89,'Reference - Logistics Distance'!$C:$O,2,FALSE))","v":""},{"$f":"IF($E89=\"\",\"\",VLOOKUP($E89,'Reference - Logistics Distance'!$C:$O,13,FALSE))","v":""},null,"",""]
[null,null,null,null,null,null,null,null,{"$f":"IF($E90=\"\",\"\",VLOOKUP($E90,'Reference - Logistics Distance'!$C:$O,2,FALSE))","v":""},{"$f":"IF($E90=\"\",\"\",VLOOKUP($E90,'Reference - Logistics Distance'!$C:$O,13,FALSE))","v":""},null,"",""]
[null,null,null,null,null,null,null,null,{"$f":"IF($E91=\"\",\"\",VLOOKUP($E91,'Reference - Logistics Distance'!$C:$O,2,FALSE))","v":""},{"$f":"IF($E91=\"\",\"\",VLOOKUP($E91,'Reference - Logistics Distance'!$C:$O,13,FALSE))","v":""},null,"",""]
[null,null,null,null,null,null,null,null,{"$f":"IF($E92=\"\",\"\",VLOOKUP($E92,'Reference - Logistics Distance'!$C:$O,2,FALSE))","v":""},{"$f":"IF($E92=\"\",\"\",VLOOKUP($E92,'Reference - Logistics Distance'!$C:$O,13,FALSE))","v":""},null,"",""]
[null,null,null,null,null,null,null,null,{"$f":"IF($E93=\"\",\"\",VLOOKUP($E93,'Reference - Logistics Distance'!$C:$O,2,FALSE))","v":""},{"$f":"IF($E93=\"\",\"\",VLOOKUP($E93,'Reference - Logistics Distance'!$C:$O,13,FALSE))","v":""},null,"",""]
[null,null,null,null,null,null,null,null,{"$f":"IF($E94=\"\",\"\",VLOOKUP($E94,'Reference - Logistics Distance'!$C:$O,2,FALSE))","v":""},{"$f":"IF($E94=\"\",\"\",VLOOKUP($E94,'Reference - Logistics Distance'!$C:$O,13,FALSE))","v":""},null,"",""]
[null,null,null,null,null,null,null,null,{"$f":"IF($E95=\"\",\"\",VLOOKUP($E95,'Reference - Logistics Distance'!$C:$O,2,FALSE))","v":""},{"$f":"IF($E95=\"\",\"\",VLOOKUP($E95,'Reference - Logistics Distance'!$C:$O,13,FALSE))","v":""},null,"",""]
[null,null,null,null,null,null,null,null,{"$f":"IF($E96=\"\",\"\",VLOOKUP($E96,'Reference - Logistics Distance'!$C:$O,2,FALSE))","v":""},{"$f":"IF($E96=\"\",\"\",VLOOKUP($E96,'Reference - Logistics Distance'!$C:$O,13,FALSE))","v":""},null,"",""]
[null,null,null,null,null,null,null,null,{"$f":"IF($E97=\"\",\"\",VLOOKUP($E97,'Reference - Logistics Distance'!$C:$O,2,FALSE))","v":""},{"$f":"IF($E97=\"\",\"\",VLOOKUP($E97,'Reference - Logistics Distance'!$C:$O,13,FALSE))","v":""},null,"",""]
[null,null,null,null,null,null,null,null,{"$f":"IF($E98=\"\",\"\",VLOOKUP($E98,'Reference - Logistics Distance'!$C:$O,2,FALSE))","v":""},{"$f":"IF($E98=\"\",\"\",VLOOKUP($E98,'Reference - Logistics Distance'!$C:$O,13,FALSE))","v":""},null,"",""]
[null,null,null,null,null,null,null,null,{"$f":"IF($E99=\"\",\"\",VLOOKUP($E99,'Reference - Logistics Distance'!$C:$O,2,FALSE))","v":""},{"$f":"IF($E99=\"\",\"\",VLOOKUP($E99,'Reference - Logistics Distance'!$C:$O,13,FALSE))","v":""},null,"",""]
[null,null,null,null,null,null,null,null,{"$f":"IF($E100=\"\",\"\",VLOOKUP($E100,'Reference - Logistics Distance'!$C:$O,2,FALSE))","v":""},{"$f":"IF($E100=\"\",\"\",VLOOKUP($E100,'Reference - Logistics Distance'!$C:$O,13,FALSE))","v":""},null,"",""]
[null,null,null,null,null,null,null,null,{"$f":"IF($E101=\"\",\"\",VLOOKUP($E101,'Reference - Logistics Distance'!$C:$O,2,FALSE))","v":""},{"$f":"IF($E101=\"\",\"\",VLOOKUP($E101,'Reference - Logistics Distance'!$C:$O,13,FALSE))","v":""},null,"",""]
[null,null,null,null,null,null,null,null,{"$f":"IF($E102=\"\",\"\",VLOOKUP($E102,'Reference - Logistics Distance'!$C:$O,2,FALSE))","v":""},{"$f":"IF($E102=\"\",\"\",VLOOKUP($E102,'Reference - Logistics Distance'!$C:$O,13,FALSE))","v":""},null,"",""]
[null,null,null,null,null,null,null,null,{"$f":"IF($E103=\"\",\"\",VLOOKUP($E103,'Reference - Logistics Distance'!$C:$O,2,FALSE))","v":""},{"$f":"IF($E103=\"\",\"\",VLOOKUP($E103,'Reference - Logistics Distance'!$C:$O,13,FALSE))","v":""},null,"",""]
[null,null,null,null,null,null,null,null,{"$f":"IF($E104=\"\",\"\",VLOOKUP($E104,'Reference - Logistics Distance'!$C:$O,2,FALSE))","v":""},{"$f":"IF($E104=\"\",\"\",VLOOKUP($E104,'Reference - Logistics Distance'!$C:$O,13,FALSE))","v":""},null,"",""]
[null,null,null,null,null,null,null,null,{"$f":"IF($E105=\"\",\"\",VLOOKUP($E105,'Reference - Logistics Distance'!$C:$O,2,FALSE))","v":""},{"$f":"IF($E105=\"\",\"\",VLOOKUP($E105,'Reference - Logistics Distance'!$C:$O,13,FALSE))","v":""},null,"",""]
[null,null,null,null,null,null,null,null,{"$f":"IF($E106=\"\",\"\",VLOOKUP($E106,'Reference - Logistics Distance'!$C:$O,2,FALSE))","v":""},{"$f":"IF($E106=\"\",\"\",VLOOKUP($E106,'Reference - Logistics Distance'!$C:$O,13,FALSE))","v":""},null,"",""]

{"sheet":"10. Waste and Water（废弃物和水）","index":9,"n_rows":38,"n_cols":18,"rows_kept":38,"cut":false,"hidden":false,"merged":[[26,4,27,4],[28,4,29,4],[26,5,27,5],[26,6,27,6],[28,9,29,9],[26,7,27,7],[26,8,27,8],[26,9,27,9],[22,5,23,5],[22,6,23,6],[22,7,23,7],[22,8,23,8],[28,7,29,7],[28,8,29,8],[28,5,29,5],[28,6,29,6],[24,7,25,7],[24,8,25,8],[22,9,23,9],[24,4,25,4],[24,5,25,5],[24,6,25,6],[24,9,25,9],[22,4,23,4],[16,4,17,4],[18,9,19,9],[20,4,21,4],[20,5,21,5],[20,6,21,6],[20,7,21,7],[20,8,21,8],[20,9,21,9],[18,4,19,4],[16,9,17,9],[16,8,17,8],[18,5,19,5],[18,6,19,6],[18,7,19,7],[18,8,19,8],[16,5,17,5],[16,6,17,6],[16,7,17,7],[5,12,5,17],[12,9,13,9],[14,9,15,9],[14,8,15,8],[12,4,13,4],[4,4,4,9],[5,4,5,9],[10,5,11,5],[10,6,11,6],[10,8,11,8],[10,9,11,9],[10,7,11,7],[28,10,29,10],[8,4,9,4],[8,5,9,5],[8,6,9,6],[8,7,9,7],[8,8,9,8],[12,7,13,7],[8,9,9,9],[12,6,13,6],[10,4,11,4],[12,5,13,5],[14,4,15,4],[14,5,15,5],[14,6,15,6],[14,7,15,7],[12,8,13,8]]}
[]
[null,null,null,"废弃物"]
[null,null,null,"Waste"]
[]
[null,"C",null,null,"年消耗量（千克）",null,null,null,null,null,"年消耗量(升）",null,"CALCULATIONS (TO HIDE)"]
[null,"E",null,null,"Quantity per year (kg)",null,null,null,null,null,"Quantity per year (l)",null,"Emissions (kg CO2e)"]
[null,null,null,"材料","回收","填埋","有能量回收焚烧","无能量回收焚烧","堆肥","其他","废水"]
[null,null,null,"Material","Recycling","Landfill","Incineration with energy recovery","Incineration without energy recovery","Composting","Unknown","Waste Water",null,"Recycling","Landfill","Incineration with energy recovery","Incineration without energy recovery","Composting","Unknown (assume landfill)"]
[null,null,null,"钢铁"]
[null,null,null,"Iron and steel",null,null,null,null,null,null,null,null,{"$f":"E9*VLOOKUP($D10,'Reference Data - Waste EFs'!$A:$F,2,FALSE)","v":0},{"$f":"F9*VLOOKUP($D10,'Reference Data - Waste EFs'!$A:$F,3,FALSE)","v":0},{"$f":"G9*VLOOKUP($D10,'Reference Data - Waste EFs'!$A:$F,4,FALSE)","v":0},{"$f":"H9*VLOOKUP($D10,'Reference Data - Waste EFs'!$A:$F,5,FALSE)","v":0},{"$f":"I9*VLOOKUP($D10,'Reference Data - Waste EFs'!$A:$F,6,FALSE)","v":0},{"$f":"J9*VLOOKUP($D10,'Reference Data - Waste EFs'!$A:$F,2,FALSE)","v":0}]
[null,null,null,"铝"]
[null,null,null,"Aluminium",null,null,null,null,null,null,null,null,{"$f":"E11*VLOOKUP($D12,'Reference Data - Waste EFs'!$A:$F,2,FALSE)","v":0},{"$f":"F11*VLOOKUP($D12,'Reference Data - Waste EFs'!$A:$F,3,FALSE)","v":0},{"$f":"G11*VLOOKUP($D12,'Reference Data - Waste EFs'!$A:$F,4,FALSE)","v":0},{"$f":"H11*VLOOKUP($D12,'Reference Data - Waste EFs'!$A:$F,5,FALSE)","v":0},{"$f":"I11*VLOOKUP($D12,'Reference Data - Waste EFs'!$A:$F,6,FALSE)","v":0},{"$f":"J11*VLOOKUP($D12,'Reference Data - Waste EFs'!$A:$F,2,FALSE)","v":0}]
[null,null,null,"其他金属"]
[null,null,null,"Other metals",null,null,null,null,null,null,null,null,{"$f":"E13*VLOOKUP($D14,'Reference Data - Waste EFs'!$A:$F,2,FALSE)","v":0},{"$f":"F13*VLOOKUP($D14,'Reference Data - Waste EFs'!$A:$F,3,FALSE)","v":0},{"$f":"G13*VLOOKUP($D14,'Reference Data - Waste EFs'!$A:$F,4,FALSE)","v":0},{"$f":"H13*VLOOKUP($D14,'Reference Data - Waste EFs'!$A:$F,5,FALSE)","v":0},{"$f":"I13*VLOOKUP($D14,'Reference Data - Waste EFs'!$A:$F,6,FALSE)","v":0},{"$f":"J13*VLOOKUP($D14,'Reference Data - Waste EFs'!$A:$F,2,FALSE)","v":0}]
[null,null,null,"塑料"]
[null,null,null,"Plastics",null,null,null,null,null,null,null,null,{"$f":"E15*VLOOKUP($D16,'Reference Data - Waste EFs'!$A:$F,2,FALSE)","v":0},{"$f":"F15*VLOOKUP($D16,'Reference Data - Waste EFs'!$A:$F,3,FALSE)","v":0},{"$f":"G15*VLOOKUP($D16,'Reference Data - Waste EFs'!$A:$F,4,FALSE)","v":0},{"$f":"H15*VLOOKUP($D16,'Reference Data - Waste EFs'!$A:$F,5,FALSE)","v":0},{"$f":"I15*VLOOKUP($D16,'Reference Data - Waste EFs'!$A:$F,6,FALSE)","v":0},{"$f":"J15*VLOOKUP($D16,'Reference Data - Waste EFs'!$A:$F,2,FALSE)","v":0}]
[null,null,null,"玻璃"]
[null,null,null,"Glass",null,null,null,null,null,null,null,null,{"$f":"E17*VLOOKUP($D18,'Reference Data - Waste EFs'!$A:$F,2,FALSE)","v":0},{"$f":"F17*VLOOKUP($D18,'Reference Data - Waste EFs'!$A:$F,3,FALSE)","v":0},{"$f":"G17*VLOOKUP($D18,'Reference Data - Waste EFs'!$A:$F,4,FALSE)","v":0},{"$f":"H17*VLOOKUP($D18,'Reference Data - Waste EFs'!$A:$F,5,FALSE)","v":0},{"$f":"I17*VLOOKUP($D18,'Reference Data - Waste EFs'!$A:$F,6,FALSE)","v":0},{"$f":"J17*VLOOKUP($D18,'Reference Data - Waste EFs'!$A:$F,2,FALSE)","v":0}]
[null,null,null,"纸制品"]
[null,null,null,"Paper and Card",null,null,null,null,null,null,null,null,{"$f":"E19*VLOOKUP($D20,'Reference Data - Waste EFs'!$A:$F,2,FALSE)","v":0},{"$f":"F19*VLOOKUP($D20,'Reference Data - Waste EFs'!$A:$F,3,FALSE)","v":0},{"$f":"G19*VLOOKUP($D20,'Reference Data - Waste EFs'!$A:$F,4,FALSE)","v":0},{"$f":"H19*VLOOKUP($D20,'Reference Data - Waste EFs'!$A:$F,5,FALSE)","v":0},{"$f":"I19*VLOOKUP($D20,'Reference Data - Waste EFs'!$A:$F,6,FALSE)","v":0},{"$f":"J19*VLOOKUP($D20,'Reference Data - Waste EFs'!$A:$F,2,FALSE)","v":0}]
[null,null,null,"木材"]
[null,null,null,"Wood",null,null,null,null,null,null,null,null,{"$f":"E21*VLOOKUP($D22,'Reference Data - Waste EFs'!$A:$F,2,FALSE)","v":0},{"$f":"F21*VLOOKUP($D22,'Reference Data - Waste EFs'!$A:$F,3,FALSE)","v":0},{"$f":"G21*VLOOKUP($D22,'Reference Data - Waste EFs'!$A:$F,4,FALSE)","v":0},{"$f":"H21*VLOOKUP($D22,'Reference Data - Waste EFs'!$A:$F,5,FALSE)","v":0},{"$f":"I21*VLOOKUP($D22,'Reference Data - Waste EFs'!$A:$F,6,FALSE)","v":0},{"$f":"J21*VLOOKUP($D22,'Reference Data - Waste EFs'!$A:$F,2,FALSE)","v":0}]
[null,null,null,"食品"]
[null,null,null,"Food",null,null,null,null,null,null,null,null,{"$f":"E23*VLOOKUP($D24,'Reference Data - Waste EFs'!$A:$F,2,FALSE)","v":0},{"$f":"F23*VLOOKUP($D24,'Reference Data - Waste EFs'!$A:$F,3,FALSE)","v":0},{"$f":"G23*VLOOKUP($D24,'Reference Data - Waste EFs'!$A:$F,4,FALSE)","v":0},{"$f":"H23*VLOOKUP($D24,'Reference Data - Waste EFs'!$A:$F,5,FALSE)","v":0},{"$f":"I23*VLOOKUP($D24,'Reference Data - Waste EFs'!$A:$F,6,FALSE)","v":0},{"$f":"J23*VLOOKUP($D24,'Reference Data - Waste EFs'!$A:$F,2,FALSE)","v":0}]
[null,null,null,"其他农业、园艺废弃物"]
[null,null,null,"Other agricultural/garden waste",null,null,null,null,null,null,null,null,{"$f":"E25*VLOOKUP($D26,'Reference Data - Waste EFs'!$A:$F,2,FALSE)","v":0},{"$f":"F25*VLOOKUP($D26,'Reference Data - Waste EFs'!$A:$F,3,FALSE)","v":0},{"$f":"G25*VLOOKUP($D26,'Reference Data - Waste EFs'!$A:$F,4,FALSE)","v":0},{"$f":"H25*VLOOKUP($D26,'Reference Data - Waste EFs'!$A:$F,5,FALSE)","v":0},{"$f":"I25*VLOOKUP($D26,'Reference Data - Waste EFs'!$A:$F,6,FALSE)","v":0},{"$f":"J25*VLOOKUP($D26,'Reference Data - Waste EFs'!$A:$F,2,FALSE)","v":0}]
[null,null,null,"其他非生物可降解废弃物"]
[null,null,null,"Other non-biodegradable waste",null,null,null,null,null,null,null,null,{"$f":"E218*VLOOKUP($D28,'Reference Data - Waste EFs'!$A:$F,2,FALSE)","v":0},{"$f":"F27*VLOOKUP($D28,'Reference Data - Waste EFs'!$A:$F,3,FALSE)","v":0},{"$f":"G27*VLOOKUP($D28,'Reference Data - Waste EFs'!$A:$F,4,FALSE)","v":0},{"$f":"H27*VLOOKUP($D28,'Reference Data - Waste EFs'!$A:$F,5,FALSE)","v":0},{"$f":"I27*VLOOKUP($D28,'Reference Data - Waste EFs'!$A:$F,6,FALSE)","v":0},{"$f":"J27*VLOOKUP($D28,'Reference Data - Waste EFs'!$A:$F,2,FALSE)","v":0}]
[null,null,null,"混合废弃物"]
[null,null,null,"Mixed waste",null,null,null,null,null,null,null,null,{"$f":"E29*VLOOKUP($D30,'Reference Data - Waste EFs'!$A:$F,2,FALSE)","v":0},{"$f":"F29*VLOOKUP($D30,'Reference Data - Waste EFs'!$A:$F,3,FALSE)","v":0},{"$f":"G29*VLOOKUP($D30,'Reference Data - Waste EFs'!$A:$F,4,FALSE)","v":0},{"$f":"H29*VLOOKUP($D30,'Reference Data - Waste EFs'!$A:$F,5,FALSE)","v":0},{"$f":"I29*VLOOKUP($D30,'Reference Data - Waste EFs'!$A:$F,6,FALSE)","v":0},{"$f":"J29*VLOOKUP($D30,'Reference Data - Waste EFs'!$A:$F,2,FALSE)","v":0}]
[]
[]
[null,null,null,null,null,null,null,null,null,null,null,null,"Emission from waste transport (kg CO2e)",{"$f":"SUM($E$10:$J$30)*'Reference Data - Waste EFs'!B16","v":0}]
[]
[]
[null,null,null,null,null,null,null,null,null,null,null,null,"Emissions from waste water (kg CO2e):",{"$f":"K29*'Reference Data - Waste EFs'!B18","v":0}]
[]
[null,null,null,null,null,null,null,null,null,null,null,null,"TOTAL EMISSIONS (kg CO2e):",{"$f":"N36+N33+SUM(M10:R30)","v":0}]

{"sheet":"11. Customer Apportionment（客户分摊","index":10,"n_rows":6,"n_cols":7,"rows_kept":6,"cut":false,"hidden":false,"merged":[[6,6,10,6]]}
[]
[null,null,null,"客户分摊"]
[null,null,null,"Customer Apportionment"]
[]
[null,"C",null,"客户名称","百分比",null,"请在此处对采用的分配方法进行说明"]
[null,"E",null,"Customer","Percent Allocation",null,"Please describe method used for allocation here"]

{"sheet":"12. Product Apportionment（产品分摊）","index":11,"n_rows":6,"n_cols":7,"rows_kept":6,"cut":false,"hidden":false,"merged":[[6,6,10,6]]}
[]
[null,null,null,"产品分摊"]
[null,null,null,"Product Apportionment"]
[]
[null,"C",null,"产品","百分比",null,"请在此处对采用的分配方法进行说明"]
[null,"E",null,"Product/Product Category","Percent Allocation",null,"Please describe method used for allocation here"]

{"sheet":"13. Results（结果）","index":12,"n_rows":234,"n_cols":19,"rows_kept":234,"cut":false,"hidden":false,"merged":[[33,5,34,5],[21,5,22,5],[23,5,24,5],[25,5,26,5],[27,5,28,5],[29,5,30,5],[31,5,32,5],[45,4,46,4],[51,4,52,4],[25,4,26,4],[29,4,30,4],[47,4,48,4],[43,4,44,4],[49,4,50,4],[9,4,10,4],[11,4,12,4],[13,4,14,4],[41,4,42,4],[21,4,22,4],[31,4,32,4],[23,4,24,4],[27,4,28,4],[33,4,34,4],[234,3,251,6],[97,4,98,4],[99,4,100,4],[101,4,102,4],[116,4,117,4],[122,4,123,4],[118,4,119,4],[127,4,128,4],[120,4,121,4],[103,4,104,4],[112,4,113,4],[110,4,111,4],[213,3,230,6],[59,4,60,4],[73,4,74,4],[91,4,92,4],[93,4,94,4],[63,4,64,4],[114,4,115,4],[79,4,80,4],[77,4,78,4],[89,4,90,4],[81,4,82,4],[75,4,76,4],[61,4,62,4],[95,4,96,4],[65,4,66,4]]}
[]
[null,null,null,"结果（每年）"]
[null,null,null,"Results per year"]
[]
[]
[null,"C",null,"范围排放量"]
[null,"E",null,"EMISSIONS BREAKDOWN BY SCOPE"]
[null,null,null,"范围","吨CO2e",null,null,null,null,null,null,null,null,null,null,null,null,"ENGLISH"]
[null,null,null,"Scope","Metric Tonnes CO2e",null,null,null,null,null,null,null,null,null,{"$f":"D10","v":"范围1（此信息也符合CDP8.2a条款的要求）"},{"$f":"E10","v":0},null,"Scope 1",{"$f":"E10","v":0}]
[null,null,null,"范围1（此信息也符合CDP8.2a条款的要求）",{"$f":"SUM(E42:E53)","v":0},null,null,null,null,null,null,null,null,null,{"$f":"D12","v":"范围2（此信息也符合CDP8.3a条款的要求）:"},{"$f":"E12","v":0},null,"Scope 2",{"$f":"E12","v":0}]
[null,null,null,"Scope 1 (CDP question 8.2a):",null,null,null,null,null,null,null,null,null,null,{"$f":"D14","v":"范围3"},{"$f":"E14","v":0},null,"Scope 3",{"$f":"E14","v":0}]
[null,null,null,"范围2（此信息也符合CDP8.3a条款的要求）:",{"$f":"SUM(E60:E67)","v":0}]
[null,null,null,"Scope 2 (CDP question 8.3a):"]
[null,null,null,"范围3",{"$f":"SUM(E90:E105)","v":0}]
[null,null,null,"Scope 3"]
[]
[]
[null,"C",null,"范围1分类(按照温室气体类型）（注：此信息也符合CDP9.2c条款的要求）"]
[null,"E",null,"SCOPE 1 BREAKDOWN BY GREENHOUSE GAS TYPE (CDP QUESTION 9.2c)"]
[null,null,null,"温室气体类型","公吨CO2e","公吨"]
[null,null,null,"GHG Type","Metric tonnes CO2e","Metric tonnes"]
[null,null,null,"二氧化碳（CO2）",{"$f":"(SUM('2. On-site Fuel Use（现场燃料使用）'!AE:AE)+SUM('2. On-site Fuel Use（现场燃料使用）'!BJ:BJ)+'3. Fugitive Emissions（逸散性排放）'!R7+SUM('6. Inbound Logistics（入场物流）'!AI:AI)+SUM('6. Inbound Logistics（入场物流）'!BP:BP)+SUM('7. Outbound Logistics（出场物流）'!AI:AI)+SUM('7. Outbound Logistics（出场物流）'!BP:BP)+SUM('8. Business Travel（差旅）'!AI:AI)+SUM('8. Business Travel（差旅）'!BP:BP))/1000","v":0},{"$f":"E22","v":0}]
[null,null,null,"Carbon dioxide (CO2)"]
[null,null,null,"甲烷（CH4)",{"$f":"(SUM('2. On-site Fuel Use（现场燃料使用）'!AF:AF)+SUM('2. On-site Fuel Use（现场燃料使用）'!BK:BK)+'3. Fugitive Emissions（逸散性排放）'!R8+SUM('6. Inbound Logistics（入场物流）'!AJ:AJ)+SUM('6. Inbound Logistics（入场物流）'!BQ:BQ)+SUM('7. Outbound Logistics（出场物流）'!AJ:AJ)+SUM('7. Outbound Logistics（出场物流）'!BQ:BQ)+SUM('8. Business Travel（差旅）'!AJ:AJ)+SUM('8. Business Travel（差旅）'!BQ:BQ))/1000","v":0},{"$f":"IF(ISERROR(E24/'Reference Data - Fugitive GWP'!C48),0,E24/'Reference Data - Fugitive GWP'!C48)","v":0}]
[null,null,null,"Methane (CH4)"]
[null,null,null,"一氧化二氮(N2O)",{"$f":"(SUM('2. On-site Fuel Use（现场燃料使用）'!AG:AG)+SUM('2. On-site Fuel Use（现场燃料使用）'!BL:BL)+'3. Fugitive Emissions（逸散性排放）'!R10+SUM('6. Inbound Logistics（入场物流）'!AK:AK)+SUM('6. Inbound Logistics（入场物流）'!BR:BR)+SUM('7. Outbound Logistics（出场物流）'!AK:AK)+SUM('7. Outbound Logistics（出场物流）'!BR:BR)+SUM('8. Business Travel（差旅）'!AK:AK)+SUM('8. Business Travel（差旅）'!BR:BR))/1000","v":0},{"$f":"IF(ISERROR(E26/'Reference Data - Fugitive GWP'!C54),0,E26/'Reference Data - Fugitive GWP'!C54)","v":0}]
[null,null,null,"Nitrous Oxide (N2O)"]
[null,null,null,"全氟化碳(PFCs)",{"$f":"(SUM('2. On-site Fuel Use（现场燃料使用）'!AI:AI)+SUM('2. On-site Fuel Use（现场燃料使用）'!BN:BN)+'3. Fugitive Emissions（逸散性排放）'!R12+SUM('6. Inbound Logistics（入场物流）'!AM:AM)+SUM('6. Inbound Logistics（入场物流）'!BT:BT)+SUM('7. Outbound Logistics（出场物流）'!AM:AM)+SUM('7. Outbound Logistics（出场物流）'!BT:BT)+SUM('8. Business Travel（差旅）'!AM:AM)+SUM('8. Business Travel（差旅）'!BT:BT))/1000","v":0},"N/A"]
[null,null,null,"Perfluorocarbons (PFCs)"]
[null,null,null,"氢氟碳化物(HFCs)",{"$f":"(SUM('2. On-site Fuel Use（现场燃料使用）'!AH:AH)+SUM('2. On-site Fuel Use（现场燃料使用）'!BM:BM)+'3. Fugitive Emissions（逸散性排放）'!R11+SUM('6. Inbound Logistics（入场物流）'!AL:AL)+SUM('6. Inbound Logistics（入场物流）'!BS:BS)+SUM('7. Outbound Logistics（出场物流）'!AL:AL)+SUM('7. Outbound Logistics（出场物流）'!BS:BS)+SUM('8. Business Travel（差旅）'!AL:AL)+SUM('8. Business Travel（差旅）'!BS:BS))/1000","v":0},"N/A"]
[null,null,null,"Hydrofluorocarbons (HFCs)"]
[null,null,null,"六氟化硫(SF6)",{"$f":"(SUM('2. On-site Fuel Use（现场燃料使用）'!AJ:AJ)+SUM('2. On-site Fuel Use（现场燃料使用）'!BO:BO)+'3. Fugitive Emissions（逸散性排放）'!R13+SUM('6. Inbound Logistics（入场物流）'!AN:AN)+SUM('6. Inbound Logistics（入场物流）'!BU:BU)+SUM('7. Outbound Logistics（出场物流）'!AN:AN)+SUM('7. Outbound Logistics（出场物流）'!BU:BU)+SUM('8. Business Travel（差旅）'!AN:AN)+SUM('8. Business Travel（差旅）'!BU:BU))/1000","v":0},{"$f":"IF(ISERROR(E32/'Reference Data - Fugitive GWP'!C64),0,E32/'Reference Data - Fugitive GWP'!C64)","v":0}]
[null,null,null,"Sulfur Hexafluoride (SF6)"]
[null,null,null,"三氟化氮",{"$f":"(SUM('2. On-site Fuel Use（现场燃料使用）'!AK:AK)+SUM('2. On-site Fuel Use（现场燃料使用）'!BP:BP)+'3. Fugitive Emissions（逸散性排放）'!R9+SUM('6. Inbound Logistics（入场物流）'!AO:AO)+SUM('6. Inbound Logistics（入场物流）'!BV:BV)+SUM('7. Outbound Logistics（出场物流）'!AO:AO)+SUM('7. Outbound Logistics（出场物流）'!BV:BV)+SUM('8. Business Travel（差旅）'!AO:AO)+SUM('8. Business Travel（差旅）'!BV:BV))/1000","v":0},{"$f":"IF(ISERROR(E34/'Reference Data - Fugitive GWP'!C53),0,E34/'Reference Data - Fugitive GWP'!C53)","v":0}]
[null,null,null,"Nitrogen Trifluoride (NF3)"]
[]
[]
[null,"C",null,"范围1分类（按照活动类型划分）（注：此信息也符合CDP9.2d条款的要求）"]
[null,"E",null,"SCOPE 1 BREAKDOWN BY ACTIVITY (CDP QUESTION 9.2d)"]
[null,null,null,"活动","吨CO2e"]
[null,null,null,"Activity","Metric Tonnes CO2e"]
[null,null,null,"现场燃烧",{"$f":"SUM('2. On-site Fuel Use（现场燃料使用）'!AD:AD)/1000","v":0}]
[null,null,null,"On-Site Combustion"]
[null,null,null,"现场车辆",{"$f":"SUM('2. On-site Fuel Use（现场燃料使用）'!BI:BI)/1000","v":0}]
[null,null,null,"On-Site Vehicles"]
[null,null,null,"过程和逸散性排放",{"$f":"(SUM('3. Fugitive Emissions（逸散性排放）'!L7:L16)+SUM('3. Fugitive Emissions（逸散性排放）'!N7:N9))/1000","v":0}]
[null,null,null,"Process and Fugitive Emissions"]
[null,null,null,"入厂物流",{"$f":"(SUM('6. Inbound Logistics（入场物流）'!AH:AH)+SUM('6. Inbound Logistics（入场物流）'!BO:BO))/1000","v":0}]
[null,null,null,"Inbound Logistics"]
[null,null,null,"出场物流",{"$f":"SUM('7. Outbound Logistics（出场物流）'!AT:AT)+SUM('7. Outbound Logistics（出场物流）'!CA:CA)","v":0}]
[null,null,null,"Outbound Logistics"]
[null,null,null,"差旅",{"$f":"(SUM('8. Business Travel（差旅）'!AH:AH)+SUM('8. Business Travel（差旅）'!BO:BO))/1000","v":0}]
[null,null,null,"Business Travel"]
[]
[]
[null,"C",null,"范围2分类(按照活动类型划分）（注：此信息也符合CDP10.2c条款的要求）"]
[null,"E",null,"SCOPE 2 BREAKDOWN BY ACTIVITY (CDP QUESTION 10.2c)"]
[null,null,null,"活动","吨CO2e"]
[null,null,null,"Activity","Metric Tonnes CO2e"]
[null,null,null,"电力",{"$f":"SUM('4. Purchased Energy（能源购买）'!AK:AK)/1000","v":0}]
[null,null,null,"Electricity"]
[null,null,null,"热力",{"$f":"SUM('4. Purchased Energy（能源购买）'!BF:BF)/1000","v":0}]
[null,null,null,"Heat"]
[null,null,null,"蒸汽",{"$f":"SUM('4. Purchased Energy（能源购买）'!CA:CA)/1000","v":0}]
[null,null,null,"Steam"]
[null,null,null,"冷力",{"$f":"SUM('4. Purchased Energy（能源购买）'!CV:CV)","v":0}]
[null,null,null,"Cooling"]
[]
[]
[null,"C",null,"按能源划分（注：此信息也符合CDP12.2条款的要求）"]
[null,"E",null,"ENERGY BREAKDOWN (CDP QUESTION 12.2)"]
[null,null,null,"能源类型","兆瓦时"]
[null,null,null,"Energy Type","MWh"]
[null,null,null,"燃料",{"$f":"SUM('2. On-site Fuel Use（现场燃料使用）'!AP:AP)+SUM('2. On-site Fuel Use（现场燃料使用）'!BW:BW)+SUM('6. Inbound Logistics（入场物流）'!AV:AV)+SUM('6. Inbound Logistics（入场物流）'!CC:CC)+SUM('7. Outbound Logistics（出场物流）'!AV:AV)+SUM('7. Outbound Logistics（出场物流）'!CC:CC)+SUM('8. Business Travel（差旅）'!AV:AV)+SUM('8. Business Travel（差旅）'!CC:CC)","v":0}]
[null,null,null,"Fuel"]
[null,null,null,"电力",{"$f":"SUM('4. Purchased Energy（能源购买）'!D11:D20)","v":0}]
[null,null,null,"Electricity"]
[null,null,null,"热力",{"$f":"SUM('4. Purchased Energy（能源购买）'!J11:J20)/3.6","v":0}]
[null,null,null,"Heat"]
[null,null,null,"蒸汽",{"$f":"SUM('4. Purchased Energy（能源购买）'!P11:P20)","v":0}]
[null,null,null,"Steam"]
[null,null,null,"冷力",{"$f":"SUM('4. Purchased Energy（能源购买）'!V11:V20)","v":0}]
[null,null,null,"Cooling"]
[]
[]
[null,"C",null,"范围3分类（注：此信息也符合CDP15.1条款的要求）"]
[null,"E",null,"SCOPE 3 BREAKDOWN (CDP QUESTION 15.1)"]
[null,null,null,"来源","吨CO2e"]
[null,null,null,"Source","Metric tonnes CO2e"]
[null,null,null,"购买的商品及服务",{"$f":"(SUM('5. Material Inputs（原材料投入）'!S:S)+SUM('5. Material Inputs（原材料投入）'!U:U))/1000","v":0}]
[null,null,null,"Purchased goods & services"]
[null,null,null,"与燃料和能源消耗相关的活动",{"$f":"(SUM('2. On-site Fuel Use（现场燃料使用）'!AL:AL)+SUM('2. On-site Fuel Use（现场燃料使用）'!BT:BT)+SUM('4. Purchased Energy（能源购买）'!AS:AS)+SUM('4. Purchased Energy（能源购买）'!BN:BN)+SUM('4. Purchased Energy（能源购买）'!CI:CI)+SUM('4. Purchased Energy（能源购买）'!DD:DD)+SUM('6. Inbound Logistics（入场物流）'!AS:AS)+SUM('6. Inbound Logistics（入场物流）'!BZ:BZ)+SUM('7. Outbound Logistics（出场物流）'!AS:AS)+SUM('7. Outbound Logistics（出场物流）'!BZ:BZ)+SUM('8. Business Travel（差旅）'!AS:AS)+SUM('8. Business Travel（差旅）'!BZ:BZ)+SUM('9. Employee Commuting（员工通勤）'!M:M))/1000","v":0}]
[null,null,null,"Fuel- and energy-related activities"]
[null,null,null,"上游交通及分配数量",{"$f":"(SUM('6. Inbound Logistics（入场物流）'!AT:AT)+SUM('6. Inbound Logistics（入场物流）'!CA:CA))/1000","v":0}]
[null,null,null,"Upstream transportation & distribution"]
[null,null,null,"下游交通及分配数量",{"$f":"(SUM('7. Outbound Logistics（出场物流）'!AT:AT)+SUM('7. Outbound Logistics（出场物流）'!CA:CA))/1000","v":0}]
[null,null,null,"Downstream transportation & distribution"]
[null,null,null,"运行中产生的废弃物",{"$f":"'10. Waste and Water（废弃物和水）'!N38/1000","v":0}]
[null,null,null,"Waste generated in operations"]
[null,null,null,"员工差旅",{"$f":"(SUM('8. Business Travel（差旅）'!AT:AT)+SUM('8. Business Travel（差旅）'!CA:CA))/1000","v":0}]
[null,null,null,"Business travel"]
[null,null,null,"员工通勤（上下班往返）",{"$f":"SUM('9. Employee Commuting（员工通勤）'!L:L)/1000","v":0}]
[null,null,null,"Employee commuting"]
[null,null,null,"范围3的现场运输",{"$f":"SUM('2. On-site Fuel Use（现场燃料使用）'!BU:BU)/1000","v":0}]
[null,null,null,"Scope 3 onsite transport"]
[]
[null,"C",null,"按温室气体种类划分的电力排放"]
[null,"E",null,"ELECTRICITY SPLIT BY GHG"]
[null,null,null,"温室气体类型","公吨CO2e"]
[null,null,null,"GHG Type","Metric tonnes CO2e"]
[null,null,null,"二氧化碳（CO2）",{"$f":"SUM('4. Purchased Energy（能源购买）'!AL:AL)/1000","v":0}]
[null,null,null,"Carbon dioxide (CO2)"]
[null,null,null,"甲烷（CH4)",{"$f":"SUM('4. Purchased Energy（能源购买）'!AM:AM)/1000","v":0}]
[null,null,null,"Methane (CH4)"]
[null,null,null,"一氧化二氮(N2O)",{"$f":"SUM('4. Purchased Energy（能源购买）'!AN:AN)/1000","v":0}]
[null,null,null,"Nitrous Oxide (N2O)"]
[null,null,null,"全氟化碳(PFCs)",{"$f":"SUM('4. Purchased Energy（能源购买）'!AO:AO)/1000","v":0}]
[null,null,null,"Perfluorocarbons (PFCs)"]
[null,null,null,"氢氟碳化物(HFCs)",{"$f":"SUM('4. Purchased Energy（能源购买）'!AP:AP)/1000","v":0}]
[null,null,null,"Hydrofluorocarbons (HFCs)"]
[null,null,null,"六氟化硫(SF6)",{"$f":"SUM('4. Purchased Energy（能源购买）'!AQ:AQ)/1000","v":0}]
[null,null,null,"Sulfur Hexafluoride (SF6)"]
[null,null,null,"三氟化氮",{"$f":"SUM('4. Purchased Energy（能源购买）'!AR:AR)/1000","v":0}]
[null,null,null,"Nitrogen Trifluoride (NF3)"]
[]
[null,null,null,"范围1的生物源排放"]
[null,null,null,"SCOPE 1 BIOGENIC EMISSIONS (METRIC TONNES CO2)"]
[null,"C",null,"范围1的生物源排放",{"$f":"(SUM('2. On-site Fuel Use（现场燃料使用）'!AN:AN)+SUM('2. On-site Fuel Use（现场燃料使用）'!BR:BR)+SUM('6. Inbound Logistics（入场物流）'!AQ:AQ)+SUM('6. Inbound Logistics（入场物流）'!BX:BX)+SUM('7. Outbound Logistics（出场物流）'!AQ:AQ)+SUM('7. Outbound Logistics（出场物流）'!BX:BX)+SUM('8. Business Travel（差旅）'!AQ:AQ)+SUM('8. Business Travel（差旅）'!BX:BX))/1000","v":0}]
[null,"E",null,"SCOPE 1 BIOGENIC EMISSIONS (METRIC TONS CO2)"]
[]
[null,"C",null,"按客户划分的排放（注：此信息也符合CDPSM1.1条款的要求）"]
[null,"E",null,"EMISSIONS SPLIT BY CUSTOMER (CDP QUESTION SM1.1)"]
[]
[null,null,null,"客户名称","范围1（吨CO2e）","范围2（吨CO2e）","范围3-购买的商品和服务（吨CO2e）","范围3-上游交通及分配（吨CO2e)","范围3-运行中产生的废弃物（吨CO2e)","范围1、2、3（吨CO2e)"]
[null,null,null,"Customer","Scope 1 (Metric tonnes CO2e)","Scope 2 (Metric tonnes CO2e)","Scope 3 - Purchased goods & services (Metric tonnes CO2e)","Scope 3 - Upstream transportation & distribution (Metric tonnes CO2e)","Scope 3 - Waste generated in operations (Metric Tonnes CO2e)","Scope 1, 2 and 3 (Metric tonnes CO2e)"]
[null,null,null,{"$f":"IF('11. Customer Apportionment（客户分摊'!D7=\"\",\"\",'11. Customer Apportionment（客户分摊'!D7)","v":""},{"$f":"IF('11. Customer Apportionment（客户分摊'!D7=\"\",\"\",'11. Customer Apportionment（客户分摊'!$E7*'13. Results（结果）'!$E$10)","v":""},{"$f":"IF('11. Customer Apportionment（客户分摊'!D7=\"\",\"\",'11. Customer Apportionment（客户分摊'!$E7*$E$12)","v":""},{"$f":"IF('11. Customer Apportionment（客户分摊'!D7=\"\",\"\",'11. Customer Apportionment（客户分摊'!$E7*$E$90)","v":""},{"$f":"IF('11. Customer Apportionment（客户分摊'!D7=\"\",\"\",'11. Customer Apportionment（客户分摊'!$E7*$E$94)","v":""},{"$f":"IF('11. Customer Apportionment（客户分摊'!D7=\"\",\"\",'11. Customer Apportionment（客户分摊'!$E7*$E$98)","v":""},{"$f":"IF('11. Customer Apportionment（客户分摊'!D7=\"\",\"\",'11. Customer Apportionment（客户分摊'!$E7*SUM($E$10:$E$15))","v":""}]
[null,null,null,{"$f":"IF('11. Customer Apportionment（客户分摊'!D8=\"\",\"\",'11. Customer Apportionment（客户分摊'!D8)","v":""},{"$f":"IF('11. Customer Apportionment（客户分摊'!D8=\"\",\"\",'11. Customer Apportionment（客户分摊'!$E8*'13. Results（结果）'!$E$10)","v":""},{"$f":"IF('11. Customer Apportionment（客户分摊'!D8=\"\",\"\",'11. Customer Apportionment（客户分摊'!$E8*$E$12)","v":""},{"$f":"IF('11. Customer Apportionment（客户分摊'!D8=\"\",\"\",'11. Customer Apportionment（客户分摊'!$E8*$E$90)","v":""},{"$f":"IF('11. Customer Apportionment（客户分摊'!D8=\"\",\"\",'11. Customer Apportionment（客户分摊'!$E8*$E$94)","v":""},{"$f":"IF('11. Customer Apportionment（客户分摊'!D8=\"\",\"\",'11. Customer Apportionment（客户分摊'!$E8*$E$98)","v":""},{"$f":"IF('11. Customer Apportionment（客户分摊'!D8=\"\",\"\",'11. Customer Apportionment（客户分摊'!$E8*SUM($E$10:$E$15))","v":""}]
[null,null,null,{"$f":"IF('11. Customer Apportionment（客户分摊'!D9=\"\",\"\",'11. Customer Apportionment（客户分摊'!D9)","v":""},{"$f":"IF('11. Customer Apportionment（客户分摊'!D9=\"\",\"\",'11. Customer Apportionment（客户分摊'!$E9*'13. Results（结果）'!$E$10)","v":""},{"$f":"IF('11. Customer Apportionment（客户分摊'!D9=\"\",\"\",'11. Customer Apportionment（客户分摊'!$E9*$E$12)","v":""},{"$f":"IF('11. Customer Apportionment（客户分摊'!D9=\"\",\"\",'11. Customer Apportionment（客户分摊'!$E9*$E$90)","v":""},{"$f":"IF('11. Customer Apportionment（客户分摊'!D9=\"\",\"\",'11. Customer Apportionment（客户分摊'!$E9*$E$94)","v":""},{"$f":"IF('11. Customer Apportionment（客户分摊'!D9=\"\",\"\",'11. Customer Apportionment（客户分摊'!$E9*$E$98)","v":""},{"$f":"IF('11. Customer Apportionment（客户分摊'!D9=\"\",\"\",'11. Customer Apportionment（客户分摊'!$E9*SUM($E$10:$E$15))","v":""}]
[null,null,null,{"$f":"IF('11. Customer Apportionment（客户分摊'!D10=\"\",\"\",'11. Customer Apportionment（客户分摊'!D10)","v":""},{"$f":"IF('11. Customer Apportionment（客户分摊'!D10=\"\",\"\",'11. Customer Apportionment（客户分摊'!$E10*'13. Results（结果）'!$E$10)","v":""},{"$f":"IF('11. Customer Apportionment（客户分摊'!D10=\"\",\"\",'11. Customer Apportionment（客户分摊'!$E10*$E$12)","v":""},{"$f":"IF('11. Customer Apportionment（客户分摊'!D10=\"\",\"\",'11. Customer Apportionment（客户分摊'!$E10*$E$90)","v":""},{"$f":"IF('11. Customer Apportionment（客户分摊'!D10=\"\",\"\",'11. Customer Apportionment（客户分摊'!$E10*$E$94)","v":""},{"$f":"IF('11. Customer Apportionment（客户分摊'!D10=\"\",\"\",'11. Customer Apportionment（客户分摊'!$E10*$E$98)","v":""},{"$f":"IF('11. Customer Apportionment（客户分摊'!D10=\"\",\"\",'11. Customer Apportionment（客户分摊'!$E10*SUM($E$10:$E$15))","v":""}]
[null,null,null,{"$f":"IF('11. Customer Apportionment（客户分摊'!D11=\"\",\"\",'11. Customer Apportionment（客户分摊'!D11)","v":""},{"$f":"IF('11. Customer Apportionment（客户分摊'!D11=\"\",\"\",'11. Customer Apportionment（客户分摊'!$E11*'13. Results（结果）'!$E$10)","v":""},{"$f":"IF('11. Customer Apportionment（客户分摊'!D11=\"\",\"\",'11. Customer Apportionment（客户分摊'!$E11*$E$12)","v":""},{"$f":"IF('11. Customer Apportionment（客户分摊'!D11=\"\",\"\",'11. Customer Apportionment（客户分摊'!$E11*$E$90)","v":""},{"$f":"IF('11. Customer Apportionment（客户分摊'!D11=\"\",\"\",'11. Customer Apportionment（客户分摊'!$E11*$E$94)","v":""},{"$f":"IF('11. Customer Apportionment（客户分摊'!D11=\"\",\"\",'11. Customer Apportionment（客户分摊'!$E11*$E$98)","v":""},{"$f":"IF('11. Customer Apportionment（客户分摊'!D11=\"\",\"\",'11. Customer Apportionment（客户分摊'!$E11*SUM($E$10:$E$15))","v":""}]
[null,null,null,{"$f":"IF('11. Customer Apportionment（客户分摊'!D12=\"\",\"\",'11. Customer Apportionment（客户分摊'!D12)","v":""},{"$f":"IF('11. Customer Apportionment（客户分摊'!D12=\"\",\"\",'11. Customer Apportionment（客户分摊'!$E12*'13. Results（结果）'!$E$10)","v":""},{"$f":"IF('11. Customer Apportionment（客户分摊'!D12=\"\",\"\",'11. Customer Apportionment（客户分摊'!$E12*$E$12)","v":""},{"$f":"IF('11. Customer Apportionment（客户分摊'!D12=\"\",\"\",'11. Customer Apportionment（客户分摊'!$E12*$E$90)","v":""},{"$f":"IF('11. Customer Apportionment（客户分摊'!D12=\"\",\"\",'11. Customer Apportionment（客户分摊'!$E12*$E$94)","v":""},{"$f":"IF('11. Customer Apportionment（客户分摊'!D12=\"\",\"\",'11. Customer Apportionment（客户分摊'!$E12*$E$98)","v":""},{"$f":"IF('11. Customer Apportionment（客户分摊'!D12=\"\",\"\",'11. Customer Apportionment（客户分摊'!$E12*SUM($E$10:$E$15))","v":""}]
[null,null,null,{"$f":"IF('11. Customer Apportionment（客户分摊'!D13=\"\",\"\",'11. Customer Apportionment（客户分摊'!D13)","v":""},{"$f":"IF('11. Customer Apportionment（客户分摊'!D13=\"\",\"\",'11. Customer Apportionment（客户分摊'!$E13*'13. Results（结果）'!$E$10)","v":""},{"$f":"IF('11. Customer Apportionment（客户分摊'!D13=\"\",\"\",'11. Customer Apportionment（客户分摊'!$E13*$E$12)","v":""},{"$f":"IF('11. Customer Apportionment（客户分摊'!D13=\"\",\"\",'11. Customer Apportionment（客户分摊'!$E13*$E$90)","v":""},{"$f":"IF('11. Customer Apportionment（客户分摊'!D13=\"\",\"\",'11. Customer Apportionment（客户分摊'!$E13*$E$94)","v":""},{"$f":"IF('11. Customer Apportionment（客户分摊'!D13=\"\",\"\",'11. Customer Apportionment（客户分摊'!$E13*$E$98)","v":""},{"$f":"IF('11. Customer Apportionment（客户分摊'!D13=\"\",\"\",'11. Customer Apportionment（客户分摊'!$E13*SUM($E$10:$E$15))","v":""}]
[null,null,null,{"$f":"IF('11. Customer Apportionment（客户分摊'!D14=\"\",\"\",'11. Customer Apportionment（客户分摊'!D14)","v":""},{"$f":"IF('11. Customer Apportionment（客户分摊'!D14=\"\",\"\",'11. Customer Apportionment（客户分摊'!$E14*'13. Results（结果）'!$E$10)","v":""},{"$f":"IF('11. Customer Apportionment（客户分摊'!D14=\"\",\"\",'11. Customer Apportionment（客户分摊'!$E14*$E$12)","v":""},{"$f":"IF('11. Customer Apportionment（客户分摊'!D14=\"\",\"\",'11. Customer Apportionment（客户分摊'!$E14*$E$90)","v":""},{"$f":"IF('11. Customer Apportionment（客户分摊'!D14=\"\",\"\",'11. Customer Apportionment（客户分摊'!$E14*$E$94)","v":""},{"$f":"IF('11. Customer Apportionment（客户分摊'!D14=\"\",\"\",'11. Customer Apportionment（客户分摊'!$E14*$E$98)","v":""},{"$f":"IF('11. Customer Apportionment（客户分摊'!D14=\"\",\"\",'11. Customer Apportionment（客户分摊'!$E14*SUM($E$10:$E$15))","v":""}]
[null,null,null,{"$f":"IF('11. Customer Apportionment（客户分摊'!D15=\"\",\"\",'11. Customer Apportionment（客户分摊'!D15)","v":""},{"$f":"IF('11. Customer Apportionment（客户分摊'!D15=\"\",\"\",'11. Customer Apportionment（客户分摊'!$E15*'13. Results（结果）'!$E$10)","v":""},{"$f":"IF('11. Customer Apportionment（客户分摊'!D15=\"\",\"\",'11. Customer Apportionment（客户分摊'!$E15*$E$12)","v":""},{"$f":"IF('11. Customer Apportionment（客户分摊'!D15=\"\",\"\",'11. Customer Apportionment（客户分摊'!$E15*$E$90)","v":""},{"$f":"IF('11. Customer Apportionment（客户分摊'!D15=\"\",\"\",'11. Customer Apportionment（客户分摊'!$E15*$E$94)","v":""},{"$f":"IF('11. Customer Apportionment（客户分摊'!D15=\"\",\"\",'11. Customer Apportionment（客户分摊'!$E15*$E$98)","v":""},{"$f":"IF('11. Customer Apportionment（客户分摊'!D15=\"\",\"\",'11. Customer Apportionment（客户分摊'!$E15*SUM($E$10:$E$15))","v":""}]
[null,null,null,{"$f":"IF('11. Customer Apportionment（客户分摊'!D16=\"\",\"\",'11. Customer Apportionment（客户分摊'!D16)","v":""},{"$f":"IF('11. Customer Apportionment（客户分摊'!D16=\"\",\"\",'11. Customer Apportionment（客户分摊'!$E16*'13. Results（结果）'!$E$10)","v":""},{"$f":"IF('11. Customer Apportionment（客户分摊'!D16=\"\",\"\",'11. Customer Apportionment（客户分摊'!$E16*$E$12)","v":""},{"$f":"IF('11. Customer Apportionment（客户分摊'!D16=\"\",\"\",'11. Customer Apportionment（客户分摊'!$E16*$E$90)","v":""},{"$f":"IF('11. Customer Apportionment（客户分摊'!D16=\"\",\"\",'11. Customer Apportionment（客户分摊'!$E16*$E$94)","v":""},{"$f":"IF('11. Customer Apportionment（客户分摊'!D16=\"\",\"\",'11. Customer Apportionment（客户分摊'!$E16*$E$98)","v":""},{"$f":"IF('11. Customer Apportionment（客户分摊'!D16=\"\",\"\",'11. Customer Apportionment（客户分摊'!$E16*SUM($E$10:$E$15))","v":""}]
[null,null,null,{"$f":"IF('11. Customer Apportionment（客户分摊'!D17=\"\",\"\",'11. Customer Apportionment（客户分摊'!D17)","v":""},{"$f":"IF('11. Customer Apportionment（客户分摊'!D17=\"\",\"\",'11. Customer Apportionment（客户分摊'!$E17*'13. Results（结果）'!$E$10)","v":""},{"$f":"IF('11. Customer Apportionment（客户分摊'!D17=\"\",\"\",'11. Customer Apportionment（客户分摊'!$E17*$E$12)","v":""},{"$f":"IF('11. Customer Apportionment（客户分摊'!D17=\"\",\"\",'11. Customer Apportionment（客户分摊'!$E17*$E$90)","v":""},{"$f":"IF('11. Customer Apportionment（客户分摊'!D17=\"\",\"\",'11. Customer Apportionment（客户分摊'!$E17*$E$94)","v":""},{"$f":"IF('11. Customer Apportionment（客户分摊'!D17=\"\",\"\",'11. Customer Apportionment（客户分摊'!$E17*$E$98)","v":""},{"$f":"IF('11. Customer Apportionment（客户分摊'!D17=\"\",\"\",'11. Customer Apportionment（客户分摊'!$E17*SUM($E$10:$E$15))","v":""}]
[null,null,null,{"$f":"IF('11. Customer Apportionment（客户分摊'!D18=\"\",\"\",'11. Customer Apportionment（客户分摊'!D18)","v":""},{"$f":"IF('11. Customer Apportionment（客户分摊'!D18=\"\",\"\",'11. Customer Apportionment（客户分摊'!$E18*'13. Results（结果）'!$E$10)","v":""},{"$f":"IF('11. Customer Apportionment（客户分摊'!D18=\"\",\"\",'11. Customer Apportionment（客户分摊'!$E18*$E$12)","v":""},{"$f":"IF('11. Customer Apportionment（客户分摊'!D18=\"\",\"\",'11. Customer Apportionment（客户分摊'!$E18*$E$90)","v":""},{"$f":"IF('11. Customer Apportionment（客户分摊'!D18=\"\",\"\",'11. Customer Apportionment（客户分摊'!$E18*$E$94)","v":""},{"$f":"IF('11. Customer Apportionment（客户分摊'!D18=\"\",\"\",'11. Customer Apportionment（客户分摊'!$E18*$E$98)","v":""},{"$f":"IF('11. Customer Apportionment（客户分摊'!D18=\"\",\"\",'11. Customer Apportionment（客户分摊'!$E18*SUM($E$10:$E$15))","v":""}]
[null,null,null,{"$f":"IF('11. Customer Apportionment（客户分摊'!D19=\"\",\"\",'11. Customer Apportionment（客户分摊'!D19)","v":""},{"$f":"IF('11. Customer Apportionment（客户分摊'!D19=\"\",\"\",'11. Customer Apportionment（客户分摊'!$E19*'13. Results（结果）'!$E$10)","v":""},{"$f":"IF('11. Customer Apportionment（客户分摊'!D19=\"\",\"\",'11. Customer Apportionment（客户分摊'!$E19*$E$12)","v":""},{"$f":"IF('11. Customer Apportionment（客户分摊'!D19=\"\",\"\",'11. Customer Apportionment（客户分摊'!$E19*$E$90)","v":""},{"$f":"IF('11. Customer Apportionment（客户分摊'!D19=\"\",\"\",'11. Customer Apportionment（客户分摊'!$E19*$E$94)","v":""},{"$f":"IF('11. Customer Apportionment（客户分摊'!D19=\"\",\"\",'11. Customer Apportionment（客户分摊'!$E19*$E$98)","v":""},{"$f":"IF('11. Customer Apportionment（客户分摊'!D19=\"\",\"\",'11. Customer Apportionment（客户分摊'!$E19*SUM($E$10:$E$15))","v":""}]
[null,null,null,{"$f":"IF('11. Customer Apportionment（客户分摊'!D20=\"\",\"\",'11. Customer Apportionment（客户分摊'!D20)","v":""},{"$f":"IF('11. Customer Apportionment（客户分摊'!D20=\"\",\"\",'11. Customer Apportionment（客户分摊'!$E20*'13. Results（结果）'!$E$10)","v":""},{"$f":"IF('11. Customer Apportionment（客户分摊'!D20=\"\",\"\",'11. Customer Apportionment（客户分摊'!$E20*$E$12)","v":""},{"$f":"IF('11. Customer Apportionment（客户分摊'!D20=\"\",\"\",'11. Customer Apportionment（客户分摊'!$E20*$E$90)","v":""},{"$f":"IF('11. Customer Apportionment（客户分摊'!D20=\"\",\"\",'11. Customer Apportionment（客户分摊'!$E20*$E$94)","v":""},{"$f":"IF('11. Customer Apportionment（客户分摊'!D20=\"\",\"\",'11. Customer Apportionment（客户分摊'!$E20*$E$98)","v":""},{"$f":"IF('11. Customer Apportionment（客户分摊'!D20=\"\",\"\",'11. Customer Apportionment（客户分摊'!$E20*SUM($E$10:$E$15))","v":""}]
[null,null,null,{"$f":"IF('11. Customer Apportionment（客户分摊'!D21=\"\",\"\",'11. Customer Apportionment（客户分摊'!D21)","v":""},{"$f":"IF('11. Customer Apportionment（客户分摊'!D21=\"\",\"\",'11. Customer Apportionment（客户分摊'!$E21*'13. Results（结果）'!$E$10)","v":""},{"$f":"IF('11. Customer Apportionment（客户分摊'!D21=\"\",\"\",'11. Customer Apportionment（客户分摊'!$E21*$E$12)","v":""},{"$f":"IF('11. Customer Apportionment（客户分摊'!D21=\"\",\"\",'11. Customer Apportionment（客户分摊'!$E21*$E$90)","v":""},{"$f":"IF('11. Customer Apportionment（客户分摊'!D21=\"\",\"\",'11. Customer Apportionment（客户分摊'!$E21*$E$94)","v":""},{"$f":"IF('11. Customer Apportionment（客户分摊'!D21=\"\",\"\",'11. Customer Apportionment（客户分摊'!$E21*$E$98)","v":""},{"$f":"IF('11. Customer Apportionment（客户分摊'!D21=\"\",\"\",'11. Customer Apportionment（客户分摊'!$E21*SUM($E$10:$E$15))","v":""}]
[null,null,null,{"$f":"IF('11. Customer Apportionment（客户分摊'!D22=\"\",\"\",'11. Customer Apportionment（客户分摊'!D22)","v":""},{"$f":"IF('11. Customer Apportionment（客户分摊'!D22=\"\",\"\",'11. Customer Apportionment（客户分摊'!$E22*'13. Results（结果）'!$E$10)","v":""},{"$f":"IF('11. Customer Apportionment（客户分摊'!D22=\"\",\"\",'11. Customer Apportionment（客户分摊'!$E22*$E$12)","v":""},{"$f":"IF('11. Customer Apportionment（客户分摊'!D22=\"\",\"\",'11. Customer Apportionment（客户分摊'!$E22*$E$90)","v":""},{"$f":"IF('11. Customer Apportionment（客户分摊'!D22=\"\",\"\",'11. Customer Apportionment（客户分摊'!$E22*$E$94)","v":""},{"$f":"IF('11. Customer Apportionment（客户分摊'!D22=\"\",\"\",'11. Customer Apportionment（客户分摊'!$E22*$E$98)","v":""},{"$f":"IF('11. Customer Apportionment（客户分摊'!D22=\"\",\"\",'11. Customer Apportionment（客户分摊'!$E22*SUM($E$10:$E$15))","v":""}]
[null,null,null,{"$f":"IF('11. Customer Apportionment（客户分摊'!D23=\"\",\"\",'11. Customer Apportionment（客户分摊'!D23)","v":""},{"$f":"IF('11. Customer Apportionment（客户分摊'!D23=\"\",\"\",'11. Customer Apportionment（客户分摊'!$E23*'13. Results（结果）'!$E$10)","v":""},{"$f":"IF('11. Customer Apportionment（客户分摊'!D23=\"\",\"\",'11. Customer Apportionment（客户分摊'!$E23*$E$12)","v":""},{"$f":"IF('11. Customer Apportionment（客户分摊'!D23=\"\",\"\",'11. Customer Apportionment（客户分摊'!$E23*$E$90)","v":""},{"$f":"IF('11. Customer Apportionment（客户分摊'!D23=\"\",\"\",'11. Customer Apportionment（客户分摊'!$E23*$E$94)","v":""},{"$f":"IF('11. Customer Apportionment（客户分摊'!D23=\"\",\"\",'11. Customer Apportionment（客户分摊'!$E23*$E$98)","v":""},{"$f":"IF('11. Customer Apportionment（客户分摊'!D23=\"\",\"\",'11. Customer Apportionment（客户分摊'!$E23*SUM($E$10:$E$15))","v":""}]
[null,null,null,{"$f":"IF('11. Customer Apportionment（客户分摊'!D24=\"\",\"\",'11. Customer Apportionment（客户分摊'!D24)","v":""},{"$f":"IF('11. Customer Apportionment（客户分摊'!D24=\"\",\"\",'11. Customer Apportionment（客户分摊'!$E24*'13. Results（结果）'!$E$10)","v":""},{"$f":"IF('11. Customer Apportionment（客户分摊'!D24=\"\",\"\",'11. Customer Apportionment（客户分摊'!$E24*$E$12)","v":""},{"$f":"IF('11. Customer Apportionment（客户分摊'!D24=\"\",\"\",'11. Customer Apportionment（客户分摊'!$E24*$E$90)","v":""},{"$f":"IF('11. Customer Apportionment（客户分摊'!D24=\"\",\"\",'11. Customer Apportionment（客户分摊'!$E24*$E$94)","v":""},{"$f":"IF('11. Customer Apportionment（客户分摊'!D24=\"\",\"\",'11. Customer Apportionment（客户分摊'!$E24*$E$98)","v":""},{"$f":"IF('11. Customer Apportionment（客户分摊'!D24=\"\",\"\",'11. Customer Apportionment（客户分摊'!$E24*SUM($E$10:$E$15))","v":""}]
[null,null,null,{"$f":"IF('11. Customer Apportionment（客户分摊'!D25=\"\",\"\",'11. Customer Apportionment（客户分摊'!D25)","v":""},{"$f":"IF('11. Customer Apportionment（客户分摊'!D25=\"\",\"\",'11. Customer Apportionment（客户分摊'!$E25*'13. Results（结果）'!$E$10)","v":""},{"$f":"IF('11. Customer Apportionment（客户分摊'!D25=\"\",\"\",'11. Customer Apportionment（客户分摊'!$E25*$E$12)","v":""},{"$f":"IF('11. Customer Apportionment（客户分摊'!D25=\"\",\"\",'11. Customer Apportionment（客户分摊'!$E25*$E$90)","v":""},{"$f":"IF('11. Customer Apportionment（客户分摊'!D25=\"\",\"\",'11. Customer Apportionment（客户分摊'!$E25*$E$94)","v":""},{"$f":"IF('11. Customer Apportionment（客户分摊'!D25=\"\",\"\",'11. Customer Apportionment（客户分摊'!$E25*$E$98)","v":""},{"$f":"IF('11. Customer Apportionment（客户分摊'!D25=\"\",\"\",'11. Customer Apportionment（客户分摊'!$E25*SUM($E$10:$E$15))","v":""}]
[null,null,null,{"$f":"IF('11. Customer Apportionment（客户分摊'!D26=\"\",\"\",'11. Customer Apportionment（客户分摊'!D26)","v":""},{"$f":"IF('11. Customer Apportionment（客户分摊'!D26=\"\",\"\",'11. Customer Apportionment（客户分摊'!$E26*'13. Results（结果）'!$E$10)","v":""},{"$f":"IF('11. Customer Apportionment（客户分摊'!D26=\"\",\"\",'11. Customer Apportionment（客户分摊'!$E26*$E$12)","v":""},{"$f":"IF('11. Customer Apportionment（客户分摊'!D26=\"\",\"\",'11. Customer Apportionment（客户分摊'!$E26*$E$90)","v":""},{"$f":"IF('11. Customer Apportionment（客户分摊'!D26=\"\",\"\",'11. Customer Apportionment（客户分摊'!$E26*$E$94)","v":""},{"$f":"IF('11. Customer Apportionment（客户分摊'!D26=\"\",\"\",'11. Customer Apportionment（客户分摊'!$E26*$E$98)","v":""},{"$f":"IF('11. Customer Apportionment（客户分摊'!D26=\"\",\"\",'11. Customer Apportionment（客户分摊'!$E26*SUM($E$10:$E$15))","v":""}]
[]
[]
[]
[]
[]
[]
[]
[]
[]
[]
[]
[]
[]
[]
[]
[]
[null,"C",null,"按产品划分的排放"]
[null,"E",null,"EMISSIONS SPLIT BY PRODUCT/PRODUCT CATEGORY"]
[null,null,null,"产品","吨CO2e"]
[null,null,null,"Product","Metric tonnes CO2e"]
[null,null,null,{"$f":"IF('12. Product Apportionment（产品分摊）'!D7=\"\",\"\",'12. Product Apportionment（产品分摊）'!D7)","v":""},{"$f":"IF('12. Product Apportionment（产品分摊）'!D7=\"\",\"\",'12. Product Apportionment（产品分摊）'!E7*SUM($E$10:$E$15))","v":""}]
[null,null,null,{"$f":"IF('12. Product Apportionment（产品分摊）'!D8=\"\",\"\",'12. Product Apportionment（产品分摊）'!D8)","v":""},{"$f":"IF('12. Product Apportionment（产品分摊）'!D8=\"\",\"\",'12. Product Apportionment（产品分摊）'!E8*SUM($E$10:$E$15))","v":""}]
[null,null,null,{"$f":"IF('12. Product Apportionment（产品分摊）'!D9=\"\",\"\",'12. Product Apportionment（产品分摊）'!D9)","v":""},{"$f":"IF('12. Product Apportionment（产品分摊）'!D9=\"\",\"\",'12. Product Apportionment（产品分摊）'!E9*SUM($E$10:$E$15))","v":""}]
[null,null,null,{"$f":"IF('12. Product Apportionment（产品分摊）'!D10=\"\",\"\",'12. Product Apportionment（产品分摊）'!D10)","v":""},{"$f":"IF('12. Product Apportionment（产品分摊）'!D10=\"\",\"\",'12. Product Apportionment（产品分摊）'!E10*SUM($E$10:$E$15))","v":""}]
[null,null,null,{"$f":"IF('12. Product Apportionment（产品分摊）'!D11=\"\",\"\",'12. Product Apportionment（产品分摊）'!D11)","v":""},{"$f":"IF('12. Product Apportionment（产品分摊）'!D11=\"\",\"\",'12. Product Apportionment（产品分摊）'!E11*SUM($E$10:$E$15))","v":""}]
[null,null,null,{"$f":"IF('12. Product Apportionment（产品分摊）'!D12=\"\",\"\",'12. Product Apportionment（产品分摊）'!D12)","v":""},{"$f":"IF('12. Product Apportionment（产品分摊）'!D12=\"\",\"\",'12. Product Apportionment（产品分摊）'!E12*SUM($E$10:$E$15))","v":""}]
[null,null,null,{"$f":"IF('12. Product Apportionment（产品分摊）'!D13=\"\",\"\",'12. Product Apportionment（产品分摊）'!D13)","v":""},{"$f":"IF('12. Product Apportionment（产品分摊）'!D13=\"\",\"\",'12. Product Apportionment（产品分摊）'!E13*SUM($E$10:$E$15))","v":""}]
[null,null,null,{"$f":"IF('12. Product Apportionment（产品分摊）'!D14=\"\",\"\",'12. Product Apportionment（产品分摊）'!D14)","v":""},{"$f":"IF('12. Product Apportionment（产品分摊）'!D14=\"\",\"\",'12. Product Apportionment（产品分摊）'!E14*SUM($E$10:$E$15))","v":""}]
[null,null,null,{"$f":"IF('12. Product Apportionment（产品分摊）'!D15=\"\",\"\",'12. Product Apportionment（产品分摊）'!D15)","v":""},{"$f":"IF('12. Product Apportionment（产品分摊）'!D15=\"\",\"\",'12. Product Apportionment（产品分摊）'!E15*SUM($E$10:$E$15))","v":""}]
[null,null,null,{"$f":"IF('12. Product Apportionment（产品分摊）'!D16=\"\",\"\",'12. Product Apportionment（产品分摊）'!D16)","v":""},{"$f":"IF('12. Product Apportionment（产品分摊）'!D16=\"\",\"\",'12. Product Apportionment（产品分摊）'!E16*SUM($E$10:$E$15))","v":""}]
[null,null,null,{"$f":"IF('12. Product Apportionment（产品分摊）'!D17=\"\",\"\",'12. Product Apportionment（产品分摊）'!D17)","v":""},{"$f":"IF('12. Product Apportionment（产品分摊）'!D17=\"\",\"\",'12. Product Apportionment（产品分摊）'!E17*SUM($E$10:$E$15))","v":""}]
[null,null,null,{"$f":"IF('12. Product Apportionment（产品分摊）'!D18=\"\",\"\",'12. Product Apportionment（产品分摊）'!D18)","v":""},{"$f":"IF('12. Product Apportionment（产品分摊）'!D18=\"\",\"\",'12. Product Apportionment（产品分摊）'!E18*SUM($E$10:$E$15))","v":""}]
[null,null,null,{"$f":"IF('12. Product Apportionment（产品分摊）'!D19=\"\",\"\",'12. Product Apportionment（产品分摊）'!D19)","v":""},{"$f":"IF('12. Product Apportionment（产品分摊）'!D19=\"\",\"\",'12. Product Apportionment（产品分摊）'!E19*SUM($E$10:$E$15))","v":""}]
[null,null,null,{"$f":"IF('12. Product Apportionment（产品分摊）'!D20=\"\",\"\",'12. Product Apportionment（产品分摊）'!D20)","v":""},{"$f":"IF('12. Product Apportionment（产品分摊）'!D20=\"\",\"\",'12. Product Apportionment（产品分摊）'!E20*SUM($E$10:$E$15))","v":""}]
[null,null,null,{"$f":"IF('12. Product Apportionment（产品分摊）'!D21=\"\",\"\",'12. Product Apportionment（产品分摊）'!D21)","v":""},{"$f":"IF('12. Product Apportionment（产品分摊）'!D21=\"\",\"\",'12. Product Apportionment（产品分摊）'!E21*SUM($E$10:$E$15))","v":""}]
[null,null,null,{"$f":"IF('12. Product Apportionment（产品分摊）'!D22=\"\",\"\",'12. Product Apportionment（产品分摊）'!D22)","v":""},{"$f":"IF('12. Product Apportionment（产品分摊）'!D22=\"\",\"\",'12. Product Apportionment（产品分摊）'!E22*SUM($E$10:$E$15))","v":""}]
[null,null,null,{"$f":"IF('12. Product Apportionment（产品分摊）'!D23=\"\",\"\",'12. Product Apportionment（产品分摊）'!D23)","v":""},{"$f":"IF('12. Product Apportionment（产品分摊）'!D23=\"\",\"\",'12. Product Apportionment（产品分摊）'!E23*SUM($E$10:$E$15))","v":""}]
[null,null,null,{"$f":"IF('12. Product Apportionment（产品分摊）'!D24=\"\",\"\",'12. Product Apportionment（产品分摊）'!D24)","v":""},{"$f":"IF('12. Product Apportionment（产品分摊）'!D24=\"\",\"\",'12. Product Apportionment（产品分摊）'!E24*SUM($E$10:$E$15))","v":""}]
[null,null,null,{"$f":"IF('12. Product Apportionment（产品分摊）'!D25=\"\",\"\",'12. Product Apportionment（产品分摊）'!D25)","v":""},{"$f":"IF('12. Product Apportionment（产品分摊）'!D25=\"\",\"\",'12. Product Apportionment（产品分摊）'!E25*SUM($E$10:$E$15))","v":""}]
[null,null,null,{"$f":"IF('12. Product Apportionment（产品分摊）'!D26=\"\",\"\",'12. Product Apportionment（产品分摊）'!D26)","v":""},{"$f":"IF('12. Product Apportionment（产品分摊）'!D26=\"\",\"\",'12. Product Apportionment（产品分摊）'!E26*SUM($E$10:$E$15))","v":""}]
[]
[]
[]
[]
[]
[]
[]
[]
[]
[]
[]
[]
[]
[]
[]
[]
[null,null,null,"所用的假设、方法和数据来源"]
[null,null,null,"ASSUMPTIONS, METHODOLOGIES AND DATA SOURCES USED"]
[]
[]
[]
[]
[]
[]
[]
[]
[]
[]
[]
[]
[]
[]
[]
[]
[]
[]
[]
[null,"C",null,"不包括在内的排放源、设施和运营活动"]
[null,"E",null,"SOURCES, FACILITIES OR OPERATIONS NOT INCLUDED"]

{"sheet":"14. Results - Percentage Split","index":13,"n_rows":148,"n_cols":19,"rows_kept":148,"cut":false,"hidden":false,"merged":[[25,4,26,4],[9,4,10,4],[11,4,12,4],[13,4,14,4],[21,4,22,4],[23,4,24,4],[47,4,48,4],[51,4,52,4],[59,4,60,4],[27,4,28,4],[29,4,30,4],[49,4,50,4],[31,4,32,4],[33,4,34,4],[41,4,42,4],[43,4,44,4],[45,4,46,4],[99,4,100,4],[61,4,62,4],[63,4,64,4],[65,4,66,4],[73,4,74,4],[75,4,76,4],[77,4,78,4],[79,4,80,4],[81,4,82,4],[89,4,90,4],[91,4,92,4],[93,4,94,4],[95,4,96,4],[97,4,98,4],[120,4,121,4],[126,3,143,6],[147,3,164,6],[101,4,102,4],[108,4,109,4],[110,4,111,4],[112,4,113,4],[114,4,115,4],[116,4,117,4],[118,4,119,4]]}
[]
[null,null,null,"结果（每年）"]
[null,null,null,"Results per year"]
[]
[]
[null,"C",null,"范围排放量"]
[null,"E",null,"EMISSIONS BREAKDOWN BY SCOPE"]
[null,null,null,"范围","吨CO2e",null,null,null,null,null,null,null,null,null,null,null,null,"ENGLISH"]
[null,null,null,"Scope","Metric Tonnes CO2e",null,null,null,null,null,null,null,null,null,"范围1",{"$f":"E10","v":""},null,"Scope 1",{"$f":"E10","v":""}]
[null,null,null,"范围1（此信息也符合CDP8.2a条款的要求）",{"$f":"IF(ISERROR('13. Results（结果）'!E10:E11/SUM('13. Results（结果）'!$E$10:$E$15)),\"\",'13. Results（结果）'!E10:E11/SUM('13. Results（结果）'!$E$10:$E$15))","v":""},null,null,null,null,null,null,null,null,null,"范围2",{"$f":"E12","v":""},null,"Scope 2",{"$f":"E12","v":""}]
[null,null,null,"Scope 1 (CDP question 8.2a):",null,null,null,null,null,null,null,null,null,null,"范围3",{"$f":"E14","v":""},null,"Scope 3",{"$f":"E14","v":""}]
[null,null,null,"范围2（此信息也符合CDP8.3a条款的要求）:",{"$f":"IF(ISERROR('13. Results（结果）'!E12:E13/SUM('13. Results（结果）'!$E$10:$E$15)),\"\",'13. Results（结果）'!E12:E13/SUM('13. Results（结果）'!$E$10:$E$15))","v":""}]
[null,null,null,"Scope 2 (CDP question 8.3a):"]
[null,null,null,"范围3（公制吨CO2e排放）",{"$f":"IF(ISERROR('13. Results（结果）'!E14:E15/SUM('13. Results（结果）'!$E$10:$E$15)),\"\",'13. Results（结果）'!E14:E15/SUM('13. Results（结果）'!$E$10:$E$15))","v":""}]
[null,null,null,"Scope 3 (metric tonnes CO2e):"]
[]
[]
[null,"C",null,"范围1分类(按照温室气体类型）（注：此信息也符合CDP9.2c条款的要求）"]
[null,"E",null,"SCOPE 1 BREAKDOWN BY GREENHOUSE GAS TYPE (CDP QUESTION 9.2c)"]
[null,null,null,"温室气体类型","公吨CO2e"]
[null,null,null,"GHG Type","Metric tonnes CO2e"]
[null,null,null,"二氧化碳（CO2）",{"$f":"IF(ISERROR('13. Results（结果）'!E22:E23/SUM('13. Results（结果）'!$E$22:$E$35)),\"\",'13. Results（结果）'!E22:E23/SUM('13. Results（结果）'!$E$22:$E$35))","v":""}]
[null,null,null,"Carbon dioxide (CO2)"]
[null,null,null,"甲烷（CH4)",{"$f":"IF(ISERROR('13. Results（结果）'!E24:E25/SUM('13. Results（结果）'!$E$22:$E$35)),\"\",'13. Results（结果）'!E24:E25/SUM('13. Results（结果）'!$E$22:$E$35))","v":""}]
[null,null,null,"Methane (CH4)"]
[null,null,null,"一氧化二氮(N2O)",{"$f":"IF(ISERROR('13. Results（结果）'!E26:E27/SUM('13. Results（结果）'!$E$22:$E$35)),\"\",'13. Results（结果）'!E26:E27/SUM('13. Results（结果）'!$E$22:$E$35))","v":""}]
[null,null,null,"Nitrous Oxide (N2O)"]
[null,null,null,"全氟化碳(PFCs)",{"$f":"IF(ISERROR('13. Results（结果）'!E28:E29/SUM('13. Results（结果）'!$E$22:$E$35)),\"\",'13. Results（结果）'!E28:E29/SUM('13. Results（结果）'!$E$22:$E$35))","v":""}]
[null,null,null,"Perfluorocarbons (PFCs)"]
[null,null,null,"氢氟碳化物(HFCs)",{"$f":"IF(ISERROR('13. Results（结果）'!E30:E31/SUM('13. Results（结果）'!$E$22:$E$35)),\"\",'13. Results（结果）'!E30:E31/SUM('13. Results（结果）'!$E$22:$E$35))","v":""}]
[null,null,null,"Hydrofluorocarbons (HFCs)"]
[null,null,null,"六氟化硫(SF6)",{"$f":"IF(ISERROR('13. Results（结果）'!E32:E33/SUM('13. Results（结果）'!$E$22:$E$35)),\"\",'13. Results（结果）'!E32:E33/SUM('13. Results（结果）'!$E$22:$E$35))","v":""}]
[null,null,null,"Sulfur Hexafluoride (SF6)"]
[null,null,null,"三氟化氮",{"$f":"IF(ISERROR('13. Results（结果）'!E34:E35/SUM('13. Results（结果）'!$E$22:$E$35)),\"\",'13. Results（结果）'!E34:E35/SUM('13. Results（结果）'!$E$22:$E$35))","v":""}]
[null,null,null,"Nitrogen Trifluoride (NF3)"]
[]
[]
[null,"C",null,"范围1分类（按照活动类型划分）（注：此信息也符合CDP9.2d条款的要求）"]
[null,"E",null,"SCOPE 1 BREAKDOWN BY ACTIVITY (CDP QUESTION 9.2d)"]
[null,null,null,"活动","吨CO2e"]
[null,null,null,"Activity","Metric Tonnes CO2e"]
[null,null,null,"现场燃烧",{"$f":"IF(ISERROR('13. Results（结果）'!E42:E43/SUM('13. Results（结果）'!$E$42:$E$53)),\"\",'13. Results（结果）'!E42:E43/SUM('13. Results（结果）'!$E$42:$E$53))","v":""}]
[null,null,null,"On-Site Combustion"]
[null,null,null,"现场车辆",{"$f":"IF(ISERROR('13. Results（结果）'!E44:E45/SUM('13. Results（结果）'!$E$42:$E$53)),\"\",'13. Results（结果）'!E44:E45/SUM('13. Results（结果）'!$E$42:$E$53))","v":""}]
[null,null,null,"On-Site Vehicles"]
[null,null,null,"过程和逸散性排放",{"$f":"IF(ISERROR('13. Results（结果）'!E46:E47/SUM('13. Results（结果）'!$E$42:$E$53)),\"\",'13. Results（结果）'!E46:E47/SUM('13. Results（结果）'!$E$42:$E$53))","v":""}]
[null,null,null,"Process and Fugitive Emissions"]
[null,null,null,"入场物流",{"$f":"IF(ISERROR('13. Results（结果）'!E48:E49/SUM('13. Results（结果）'!$E$42:$E$53)),\"\",'13. Results（结果）'!E48:E49/SUM('13. Results（结果）'!$E$42:$E$53))","v":""}]
[null,null,null,"Inbound Logistics"]
[null,null,null,"出场物流",{"$f":"IF(ISERROR('13. Results（结果）'!E50:E51/SUM('13. Results（结果）'!$E$42:$E$53)),\"\",'13. Results（结果）'!E50:E51/SUM('13. Results（结果）'!$E$42:$E$53))","v":""}]
[null,null,null,"Outbound Logistics"]
[null,null,null,"差旅",{"$f":"IF(ISERROR('13. Results（结果）'!E52:E53/SUM('13. Results（结果）'!$E$42:$E$53)),\"\",'13. Results（结果）'!E52:E53/SUM('13. Results（结果）'!$E$42:$E$53))","v":""}]
[null,null,null,"Business Travel"]
[]
[]
[null,"C",null,"范围2分类(按照活动类型划分）（注：此信息也符合CDP10.2c条款的要求）"]
[null,"E",null,"SCOPE 2 BREAKDOWN BY ACTIVITY (CDP QUESTION 10.2c)"]
[null,null,null,"活动","吨CO2e"]
[null,null,null,"Activity","Metric Tonnes CO2e"]
[null,null,null,"电力",{"$f":"IF(ISERROR('13. Results（结果）'!E60:E61/SUM('13. Results（结果）'!$E$60:$E$67)),\"\",'13. Results（结果）'!E60:E61/SUM('13. Results（结果）'!$E$60:$E$67))","v":""}]
[null,null,null,"Electricity"]
[null,null,null,"热力",{"$f":"IF(ISERROR('13. Results（结果）'!E62:E63/SUM('13. Results（结果）'!$E$60:$E$67)),\"\",'13. Results（结果）'!E62:E63/SUM('13. Results（结果）'!$E$60:$E$67))","v":""}]
[null,null,null,"Heat"]
[null,null,null,"蒸汽",{"$f":"IF(ISERROR('13. Results（结果）'!E64:E65/SUM('13. Results（结果）'!$E$60:$E$67)),\"\",'13. Results（结果）'!E64:E65/SUM('13. Results（结果）'!$E$60:$E$67))","v":""}]
[null,null,null,"Steam"]
[null,null,null,"冷力",{"$f":"IF(ISERROR('13. Results（结果）'!E66:E67/SUM('13. Results（结果）'!$E$60:$E$67)),\"\",'13. Results（结果）'!E66:E67/SUM('13. Results（结果）'!$E$60:$E$67))","v":""}]
[null,null,null,"Cooling"]
[]
[]
[null,"C",null,"按能源划分（注：此信息也符合CDP12.2条款的要求）"]
[null,"E",null,"ENERGY BREAKDOWN (CDP QUESTION 12.2)"]
[null,null,null,"能源类型","兆瓦时"]
[null,null,null,"Energy Type","MWh"]
[null,null,null,"燃料",{"$f":"IF(ISERROR('13. Results（结果）'!E74:E75/SUM('13. Results（结果）'!$E$74:$E$83)),\"\",'13. Results（结果）'!E74:E75/SUM('13. Results（结果）'!$E$74:$E$83))","v":""}]
[null,null,null,"Fuel"]
[null,null,null,"电力",{"$f":"IF(ISERROR('13. Results（结果）'!E76:E77/SUM('13. Results（结果）'!$E$74:$E$83)),\"\",'13. Results（结果）'!E76:E77/SUM('13. Results（结果）'!$E$74:$E$83))","v":""}]
[null,null,null,"Electricity"]
[null,null,null,"热力",{"$f":"IF(ISERROR('13. Results（结果）'!E78:E79/SUM('13. Results（结果）'!$E$74:$E$83)),\"\",'13. Results（结果）'!E78:E79/SUM('13. Results（结果）'!$E$74:$E$83))","v":""}]
[null,null,null,"Heat"]
[null,null,null,"蒸汽",{"$f":"IF(ISERROR('13. Results（结果）'!E80:E81/SUM('13. Results（结果）'!$E$74:$E$83)),\"\",'13. Results（结果）'!E80:E81/SUM('13. Results（结果）'!$E$74:$E$83))","v":""}]
[null,null,null,"Steam"]
[null,null,null,"冷力",{"$f":"IF(ISERROR('13. Results（结果）'!E82:E83/SUM('13. Results（结果）'!$E$74:$E$83)),\"\",'13. Results（结果）'!E82:E83/SUM('13. Results（结果）'!$E$74:$E$83))","v":""}]
[null,null,null,"Cooling"]
[]
[]
[null,"C",null,"范围3分类（注：此信息也符合CDP15.1条款的要求）"]
[null,"E",null,"SCOPE 3 BREAKDOWN (CDP QUESTION 15.1)"]
[null,null,null,"来源","吨CO2"]
[null,null,null,"Source","Metric tonnes CO2"]
[null,null,null,"购买的商品及服务",{"$f":"IF(ISERROR('13. Results（结果）'!E90:E91/SUM('13. Results（结果）'!$E$90:$E$103)),\"\",'13. Results（结果）'!E90:E91/SUM('13. Results（结果）'!$E$90:$E$103))","v":""},1]
[null,null,null,"Purchased goods & services"]
[null,null,null,"与燃料和能源消耗相关的活动",{"$f":"IF(ISERROR('13. Results（结果）'!E92:E93/SUM('13. Results（结果）'!$E$90:$E$103)),\"\",'13. Results（结果）'!E92:E93/SUM('13. Results（结果）'!$E$90:$E$103))","v":""},2]
[null,null,null,"Fuel- and energy-related activities"]
[null,null,null,"上游交通及分配数量",{"$f":"IF(ISERROR('13. Results（结果）'!E94:E95/SUM('13. Results（结果）'!$E$90:$E$103)),\"\",'13. Results（结果）'!E94:E95/SUM('13. Results（结果）'!$E$90:$E$103))","v":""},3]
[null,null,null,"Upstream transportation & distribution"]
[null,null,null,"下游交通及分配数量",{"$f":"IF(ISERROR('13. Results（结果）'!E96:E97/SUM('13. Results（结果）'!$E$90:$E$103)),\"\",'13. Results（结果）'!E96:E97/SUM('13. Results（结果）'!$E$90:$E$103))","v":""},4]
[null,null,null,"Downstream transportation & distribution"]
[null,null,null,"运行中产生的废弃物",{"$f":"IF(ISERROR('13. Results（结果）'!E98:E99/SUM('13. Results（结果）'!$E$90:$E$103)),\"\",'13. Results（结果）'!E98:E99/SUM('13. Results（结果）'!$E$90:$E$103))","v":""},5]
[null,null,null,"Waste generated in operations"]
[null,null,null,"员工差旅",{"$f":"IF(ISERROR('13. Results（结果）'!E100:E101/SUM('13. Results（结果）'!$E$90:$E$103)),\"\",'13. Results（结果）'!E100:E101/SUM('13. Results（结果）'!$E$90:$E$103))","v":""},6]
[null,null,null,"Business travel"]
[null,null,null,"员工通勤（上下班往返）",{"$f":"IF(ISERROR('13. Results（结果）'!E102:E103/SUM('13. Results（结果）'!$E$90:$E$103)),\"\",'13. Results（结果）'!E102:E103/SUM('13. Results（结果）'!$E$90:$E$103))","v":""},7]
[null,null,null,"Employee commuting"]
[]
[null,"C",null,"按温室气体种类划分的电力排放"]
[null,"E",null,"ELECTRICITY SPLIT BY GHG"]
[null,null,null,"温室气体类型","公吨CO2e"]
[null,null,null,"GHG Type","Metric tonnes CO2e"]
[null,null,null,"二氧化碳（CO2）",{"$f":"IF(ISERROR('13. Results（结果）'!E111/SUM('13. Results（结果）'!$E$111:$E$124)),\"\",'13. Results（结果）'!E111/SUM('13. Results（结果）'!$E$111:$E$124))","v":""}]
[null,null,null,"Carbon dioxide (CO2)"]
[null,null,null,"甲烷（CH4)",{"$f":"IF(ISERROR('13. Results（结果）'!E113/SUM('13. Results（结果）'!$E$111:$E$124)),\"\",'13. Results（结果）'!E113/SUM('13. Results（结果）'!$E$111:$E$124))","v":""}]
[null,null,null,"Methane (CH4)"]
[null,null,null,"一氧化二氮(N2O)",{"$f":"IF(ISERROR('13. Results（结果）'!E115/SUM('13. Results（结果）'!$E$111:$E$124)),\"\",'13. Results（结果）'!E115/SUM('13. Results（结果）'!$E$111:$E$124))","v":""}]
[null,null,null,"Nitrous Oxide (N2O)"]
[null,null,null,"全氟化碳(PFCs)",{"$f":"IF(ISERROR('13. Results（结果）'!E117/SUM('13. Results（结果）'!$E$111:$E$124)),\"\",'13. Results（结果）'!E117/SUM('13. Results（结果）'!$E$111:$E$124))","v":""}]
[null,null,null,"Perfluorocarbons (PFCs)"]
[null,null,null,"氢氟碳化物(HFCs)",{"$f":"IF(ISERROR('13. Results（结果）'!E119/SUM('13. Results（结果）'!$E$111:$E$124)),\"\",'13. Results（结果）'!E119/SUM('13. Results（结果）'!$E$111:$E$124))","v":""}]
[null,null,null,"Hydrofluorocarbons (HFCs)"]
[null,null,null,"六氟化硫(SF6)",{"$f":"IF(ISERROR('13. Results（结果）'!E121/SUM('13. Results（结果）'!$E$111:$E$124)),\"\",'13. Results（结果）'!E121/SUM('13. Results（结果）'!$E$111:$E$124))","v":""}]
[null,null,null,"Sulfur Hexafluoride (SF6)"]
[null,null,null,"三氟化氮",{"$f":"IF(ISERROR('13. Results（结果）'!E123/SUM('13. Results（结果）'!$E$111:$E$124)),\"\",'13. Results（结果）'!E123/SUM('13. Results（结果）'!$E$111:$E$124))","v":""}]
[null,null,null,"Nitrogen Trifluoride (NF3)"]
[]
[]
[null,null,null,"假设（利用方法论和数据来源）"]
[null,null,null,"ASSUMPTIONS, METHODOLOGIES AND DATA SOURCES USED"]
[null,null,null,{"$f":"IF('13. Results（结果）'!D214=\"\",\"\",'13. Results（结果）'!D214)","v":""}]
[]
[]
[]
[]
[]
[]
[]
[]
[]
[]
[]
[]
[]
[]
[]
[]
[]
[]
[null,"C",null,"来源（不包括设施和运营）"]
[null,"E",null,"SOURCES, FACILITIES OR OPERATIONS NOT INCLUDED"]
[null,null,null,{"$f":"IF('13. Results（结果）'!D235=\"\",\"\",'13. Results（结果）'!D235)","v":""}]

{"sheet":"Reference Data - Fuel EFs","index":14,"n_rows":16,"n_cols":15,"rows_kept":16,"cut":false,"hidden":false,"merged":[]}
["燃料","单位",null,"燃烧排放因子(kg CO2e/unit)","生物源燃料所占百分比","参考文献","转化因子（MWH/unit）","CO2排放因子(kg CO2e/unit)","CH4排放因子(kg CO2e/unit）","N2O排放因子(kg CO2e/unit）","HFC 排放因子(kg CO2e/unit）","PFC排放因子(kg CO2e/unit）","SF6 排放因子(kg CO2e/unit）","NF3 排放因子(kg CO2e/unit)","上游排放因子(kg CO2e/unit）"]
["Fuel","Unit",null,"Combustion Emission Factor (kg CO2e/unit)","Biogenic fuel - Yes/No?","Reference","Conversion factor (MWh per unit)","CO2 Emission Factor (kg CO2e/unit)","CH4 Emission Factor (kg CO2e/unit)","N2O  Emission Factor (kg CO2e/unit)","HFC  Emission Factor (kg CO2e/unit)","PFC  Emission Factor (kg CO2e/unit)","SF6  Emission Factor (kg CO2e/unit)","NF3 Emission Factor (kg CO2e/unit)","Upstream emissions (kg CO2e/unit)"]
["Anthracite 无烟煤","MWh",{"$f":"A3&\" - \"&B3","v":"Anthracite 无烟煤 - MWh"},{"$f":"SUM(H3:N3)","v":339.97919999999999},"No","2011省级清单指南",1,339.97919999999999]
["Anthracite 无烟煤","t","Anthracite 无烟煤 - t",2369.4283999999998,"No","2011省级清单指南 公共机构能源资源消耗统计制度",6.9692999999999996,2369.4283999999998]
["coking coal 炼焦煤","MWh","coking coal 炼焦煤 - MWh",328.57440000000003,"No","省级清单指南",1,328.57440000000003]
["coking coal 炼焦煤","t","coking coal 炼焦煤 - t",2289.9445000000001,"No","2011省级清单指南 公共机构能源资源消耗统计制度",6.9692999999999996,2289.9445000000001]
["diesel 柴油","MWh","diesel 柴油 - MWh",261.30720000000002,"No","2011省级清单指南",1,261.30720000000002]
["diesel 柴油","t","diesel 柴油 - t",3095.9096,"No","WRI能源工具2.1版",11.847799999999999,3095.9096]
["ethane 乙烷","MWh","ethane 乙烷 - MWh",221.76,"No","IPCC2006",1,221.76]
["ethane 乙烷","t","ethane 乙烷 - t",2858.24,"No","IPCC2006",12.8889,2858.24]
["lignite 褐煤","MWh","lignite 褐煤 - MWh",354.81599999999997,"No","省级清单指南",1,354.81599999999997]
["lignite 褐煤","t","lignite 褐煤 - t",1236.4155000000001,"No","2011省级清单指南 公共机构能源资源消耗统计制度",3.4847000000000001,1236.4155000000001]
["natural gas 天然气","10^4m3","natural gas 天然气 - 10^4m3",21621.887999999999,"No","WRI能源工具2.1版",108.14167,21621.887999999999]
["natural gas 天然气","MWh","natural gas 天然气 - MWh",199.94040000000001,"No","省级清单指南",1,199.94040000000001]
["petrol 汽油","MWh","petrol 汽油 - MWh",244.49039999999999,"No","省级清单指南",1,244.49039999999999]
["petrol 汽油","t","petrol 汽油 - t",2925.056,"No","WRI能源工具2.1版",11.963900000000001,2925.056]

{"sheet":"Reference Data - Transport fuel","index":15,"n_rows":12,"n_cols":15,"rows_kept":12,"cut":false,"hidden":false,"merged":[]}
["燃料","单位",null,"燃烧排放因子(kg CO2e/unit)","生物源燃料所占百分比","参考文献","转化因子（MWH/unit）","CO2排放因子(kg CO2e/unit)","CH4排放因子(kg CO2e/unit）","N2O排放因子(kg CO2e/unit）","HFC 排放因子(kg CO2e/unit）","PFC排放因子(kg CO2e/unit）","SF6 排放因子(kg CO2e/unit）","NF3 排放因子(kg CO2e/unit)","上游排放因子(kg CO2e/unit）"]
["Fuel","Unit",null,"Combustion Emission Factor (kg CO2e/unit)","Biogenic fuel - Yes/No?","Reference","Conversion factor (MWh per unit)","CO2 Emission Factor (kg CO2e/unit)","CH4 Emission Factor (kg CO2e/unit)","N2O  Emission Factor (kg CO2e/unit)","HFC  Emission Factor (kg CO2e/unit)","PFC  Emission Factor (kg CO2e/unit)","SF6  Emission Factor (kg CO2e/unit)","NF3 Emission Factor (kg CO2e/unit)","Upstream emissions (kg CO2e/unit)"]
["aviation gasoline 航空汽油","MWh",{"$f":"A3&\" - \"&B3","v":"aviation gasoline 航空汽油 - MWh"},{"$f":"SUM(H3:N3)","v":0},"No",null,1]
["aviation gasoline 航空汽油","t","aviation gasoline 航空汽油 - t",0,"No"]
["CNG 混和天然气","kg","CNG 混和天然气 - kg",0,"No"]
["CNG 混和天然气","MWh","CNG 混和天然气 - MWh",0,"No",null,1]
["Diesel 柴油","Litre","Diesel 柴油 - Litre",2.6625000000000001,"No","WRI能源工具2.1 密度数据取0.86kg/L，咨询SGS相关专家",1.01891E-2,2.6625000000000001]
["Diesel 柴油","MWh","Diesel 柴油 - MWh",261.30720000000002,"No","2011省级清单指南",1,261.30720000000002]
["motor gasoline 车用汽油","MWh","motor gasoline 车用汽油 - MWh",0,"No",null,1]
["motor gasoline 车用汽油","t","motor gasoline 车用汽油 - t",0,"No"]
["petrol 汽油","Litre","petrol 汽油 - Litre",2.1353,"No","WRI能源工具2.1 密度数据取0.73kg/L，咨询SGS相关专家",8.7335999999999993E-3,2.1353]
["petrol 汽油","MWh","petrol 汽油 - MWh",244.49039999999999,"No","2011省级清单指南",1,244.49039999999999]

{"sheet":"Reference Data - Electricity","index":16,"n_rows":8,"n_cols":12,"rows_kept":8,"cut":false,"hidden":false,"merged":[]}
["国家/地区","排放因子(kg CO2e/MWh)","参考文献","年份","上游排放因子(kg CO2e/MWh)","CO2排放因子(kg CO2e/unit)","CH4排放因子(kg CO2e/unit）","N2O排放因子(kg CO2e/unit）","HFC 排放因子(kg CO2e/unit）","PFC排放因子(kg CO2e/unit）","SF6 排放因子(kg CO2e/unit）","NF3 排放因子(kg CO2e/unit)"]
["Country/Region","Emission Factor (kg CO2e/MWh)","Reference","Year","Upstream Emissions (kg CO2e/MWh)","CO2 Emission Factor (kg CO2e/unit)","CH4 Emission Factor (kg CO2e/unit)","N2O  Emission Factor (kg CO2e/unit)","HFC  Emission Factor (kg CO2e/unit)","PFC  Emission Factor (kg CO2e/unit)","SF6  Emission Factor (kg CO2e/unit)","NF3 Emission Factor (kg CO2e/unit)"]
["China/East 中国/华东",{"$f":"SUM(F3:L3)","v":788.05417720048888},"WRI grid EF",2011,null,784.27,0.21263306240115573,3.5715441380876811]
["China/Middle 中国/华中",706.29502027468766,"WRI grid EF",2011,null,703,0.1807833951450506,3.1142368795427093]
["China/North 中国/华北",1133.4950119091191,"WRI grid EF",2011,null,1128.1600000000001,0.29218970719289283,5.0428222019262101]
["China/North-east 中国/东北",1142.1880554646114,"WRI grid EF",2011,null,1136.72,0.29637222373196509,5.171683240879279]
["China/North-west 中国/西北",815.88844652828334,"WRI grid EF",2011,null,811.89,0.21626599370398428,3.7821805345793882]
["China/South 中国/南方",672.54240344869993,"WRI grid EF",2011,null,669.37,0.17937839780976383,2.9930250508902496]

{"sheet":"Reference Data - Heat","index":17,"n_rows":32,"n_cols":13,"rows_kept":32,"cut":false,"hidden":false,"merged":[]}
["技术","地区",null,"排放因子(kg CO2e/GJ)","上游排放(kg CO2e/GJ)","参考文献","CO2排放因子(kg CO2e/unit)","CH4排放因子(kg CO2e/unit）","N2O排放因子(kg CO2e/unit）","HFC 排放因子(kg CO2e/unit）","PFC排放因子(kg CO2e/unit）","SF6 排放因子(kg CO2e/unit）","NF3 排放因子(kg CO2e/unit)"]
["Technology","Region",null,"Emission Factor (kg CO2e/GJ)","Upstream Emissions (kg CO2e/GJ)","Reference","CO2 Emission Factor (kg CO2e/unit)","CH4 Emission Factor (kg CO2e/unit)","N2O  Emission Factor (kg CO2e/unit)","HFC  Emission Factor (kg CO2e/unit)","PFC  Emission Factor (kg CO2e/unit)","SF6  Emission Factor (kg CO2e/unit)","NF3 Emission Factor (kg CO2e/unit)"]
[null,"北    京",{"$f":"A3&\" - \"&B3","v":" - 北    京"},{"$f":"SUM(G3:M3)","v":103.04024086489227},null,"WRI能源工具2.1",102.6117767907015,3.4061951462645096E-2,0.39440212272812913]
[null,"天    津",{"$f":"A4&\" - \"&B4","v":" - 天    津"},{"$f":"SUM(G4:M4)","v":115.36400543908064},null,"WRI能源工具2.1",114.80597041223487,3.2922224320308335E-2,0.52511280252546844]
[null,"河    北"," - 河    北",189.73823050812112,null,"WRI能源工具2.1",189.18107246519133,3.859929038686627E-2,0.51855875254291794]
[null,"山    西"," - 山    西",141.32180778086646,null,"WRI能源工具2.1",140.71697320126256,3.4076529455580137E-2,0.57075805014831615]
[null,"内蒙古"," - 内蒙古",173.60740499599427,null,"WRI能源工具2.1",172.79531452577933,4.4188241449065378E-2,0.76790222876588676]
[null,"辽    宁"," - 辽    宁",153.3103606892503,null,"WRI能源工具2.1",152.67806608920506,3.915586557725937E-2,0.59313873446797349]
[null,"吉    林"," - 吉    林",134.82142708072683,null,"WRI能源工具2.1",134.16210659145898,3.6121946822011392E-2,0.62319854244583306]
[null,"黑龙江"," - 黑龙江",172.0636457053979,null,"WRI能源工具2.1",171.33232483964468,4.6653966826228181E-2,0.68466689892700083]
[null,"上    海"," - 上    海",104.5155866673375,null,"WRI能源工具2.1",104.04785500940532,3.407266228166516E-2,0.43365899565052279]
[null,"江    苏"," - 江    苏",107.58570617884577,null,"WRI能源工具2.1",107.05841640909144,2.8667874049787326E-2,0.4986218957045413]
[null,"浙    江"," - 浙    江",123.48352533791068,null,"WRI能源工具2.1",122.85340393420343,3.3992210126760701E-2,0.59612919358049288]
[null,"安    徽"," - 安    徽",106.15749411938944,null,"WRI能源工具2.1",105.64400039258744,2.8567982976157272E-2,0.48492574382584547]
[null,"福    建"," - 福    建",132.09002574082277,null,"WRI能源工具2.1",131.59567698990782,3.7589127126230977E-2,0.45675962378871998]
[null,"江    西"," - 江    西",153.68014405527671,null,"WRI能源工具2.1",153.00727985023761,4.8021328277329002E-2,0.62484287676179373]
[null,"山    东"," - 山    东",121.00572488862528,null,"WRI能源工具2.1",120.43482702218913,3.2402535180387819E-2,0.53849533125577376]
[null,"河    南"," - 河    南",133.06846970420227,null,"WRI能源工具2.1",132.41686759486416,3.6235775528517894E-2,0.61536633380959316]
[null,"湖    北"," - 湖    北",163.35875504129021,null,"WRI能源工具2.1",162.80831633635532,4.7928962016159336E-2,0.50250974291872186]
[null,"湖    南"," - 湖    南",131.1732139258273,null,"WRI能源工具2.1",130.66471641114259,3.6865587575349079E-2,0.47163192710934992]
[null,"广    东"," - 广    东",114.59822209003126,null,"WRI能源工具2.1",114.09527601654986,4.708546291151737E-2,0.45586061056989213]
[null,"广    西"," - 广    西",165.86107787270979,null,"WRI能源工具2.1",165.03900867945535,4.3555419955562086E-2,0.77851377329886662]
[null,"海    南"," - 海    南",34.667757669818847,null,"WRI能源工具2.1",34.639025514123425,1.3107735262511518E-2,1.5624420432913726E-2]
[null,"重    庆"," - 重    庆",133.80950090011538,null,"WRI能源工具2.1",133.15330869639618,3.5536263060616344E-2,0.62065594065859464]
[null,"四    川"," - 四    川",147.84053362086016,null,"WRI能源工具2.1",147.31153201759167,3.5928327807384745E-2,0.49307327546108382]
[null,"贵    州"," - 贵    州",151.67235416281943,null,"WRI能源工具2.1",150.92058786707037,3.981813007145453E-2,0.7119481656776071]
[null,"云    南"," - 云    南",177.15505766618938,null,"WRI能源工具2.1",176.2770910128437,4.6606028260397961E-2,0.83136062508529396]
[null,"陕    西",{"$f":"A28&\" - \"&B28","v":" - 陕    西"},127.76681640836362,null,"WRI能源工具2.1",127.14412538803771,3.4009555035680303E-2,0.58868146529023335]
[null,"甘    肃",{"$f":"A29&\" - \"&B29","v":" - 甘    肃"},122.4836541403415,null,"WRI能源工具2.1",121.94234463699378,3.2145009169789317E-2,0.50916449417791665]
[null,"青    海",{"$f":"A30&\" - \"&B30","v":" - 青    海"},162.11314640360339,null,"WRI能源工具2.1",161.84332310336643,3.2928473650196813E-2,0.23689482658676533]
[null,"宁    夏",{"$f":"A31&\" - \"&B31","v":" - 宁    夏"},134.61457608631244,null,"WRI能源工具2.1",133.95874566043386,3.593212578466945E-2,0.61989830009390268]
[null,"新    疆",{"$f":"A32&\" - \"&B32","v":" - 新    疆"},132.11556859221642,null,"WRI能源工具2.1",131.55171959011665,3.2956726352451324E-2,0.53089227574732034]

{"sheet":"Reference Data - Steam","index":18,"n_rows":8,"n_cols":13,"rows_kept":8,"cut":false,"hidden":false,"merged":[]}
["技术","地区",null,"排放因子(kg CO2e/MWh)","上游排放因子(kg CO2e/MWh)","参考文献","CO2排放因子(kg CO2e/unit)","CH4排放因子(kg CO2e/unit）","N2O排放因子(kg CO2e/unit）","HFC 排放因子(kg CO2e/unit）","PFC排放因子(kg CO2e/unit）","SF6 排放因子(kg CO2e/unit）","NF3 排放因子(kg CO2e/unit)"]
["Technology","Region",null,"Emission Factor (kg CO2e/MWh)","Upstream Emissions (kg CO2e/MWh)","Reference","CO2 Emission Factor (kg CO2e/unit)","CH4 Emission Factor (kg CO2e/unit)","N2O  Emission Factor (kg CO2e/unit)","HFC  Emission Factor (kg CO2e/unit)","PFC  Emission Factor (kg CO2e/unit)","SF6  Emission Factor (kg CO2e/unit)","NF3 Emission Factor (kg CO2e/unit)"]
["CHP 热电联产","China 中国",{"$f":"A3&\" - \"&B3","v":"CHP 热电联产 - China 中国"},0.22005,1]
[null,null," - "]
[null,null," - "]
[null,null," - "]
[null,null," - "]
[null,null," - "]

{"sheet":"Reference Data - Cooling","index":19,"n_rows":3,"n_cols":13,"rows_kept":3,"cut":false,"hidden":false,"merged":[]}
["技术","地区",null,"排放因子(kg CO2e/MWh)","上游排放因子(kg CO2e/MWh)","参考文献","CO2排放因子(kg CO2e/unit)","CH4排放因子(kg CO2e/unit）","N2O排放因子(kg CO2e/unit）","HFC 排放因子(kg CO2e/unit）","PFC排放因子(kg CO2e/unit）","SF6 排放因子(kg CO2e/unit）","NF3 排放因子(kg CO2e/unit)"]
["Technology","Region",null,"Emission Factor (kg CO2e/MWh)","Upstream Emissions (kg CO2e/MWh)","Reference","CO2 Emission Factor (kg CO2e/unit)","CH4 Emission Factor (kg CO2e/unit)","N2O  Emission Factor (kg CO2e/unit)","HFC  Emission Factor (kg CO2e/unit)","PFC  Emission Factor (kg CO2e/unit)","SF6  Emission Factor (kg CO2e/unit)","NF3 Emission Factor (kg CO2e/unit)"]
[null,null,{"$f":"A3&\" - \"&B3","v":" - "}]

{"sheet":"Reference Data - Fugitive GWP","index":20,"n_rows":65,"n_cols":3,"rows_kept":65,"cut":false,"hidden":false,"merged":[]}
["温室气体","分子式","全球变暖潜势"]
["Greenhouse Gas","Formula ","100-year GWP (AR4) "]
["Carbon dioxide 二氧化碳","CO2",1]
["Carbon tetrachloride 四氯化碳","CCl4",1400]
["CFC-11","CCl3F",4750]
["CFC-113","CCl2FCClF2",6130]
["CFC-114","CClF2CClF2",10000]
["CFC-115","CClF2CF3",7370]
["CFC-12","CCl2F2",10900]
["CFC-13","CClF3",14400]
["Dimethylether 甲醚","CH3OCH3",1]
["Halon-1211","CBrClF2",1890]
["Halon-1301","CBrF3",7140]
["Halon-2402","CBrF2CBrF2",1640]
["HCFC-123","CHCl2CF3",77]
["HCFC-124","CHClFCF3",609]
["HCFC-141b","CH3CCl2F",725]
["HCFC-142b","CH3CClF2",2310]
["HCFC-22","CHClF2",1810]
["HCFC-225ca","CHCl2CF2CF3",122]
["HCFC-225cb","CHClFCF2CClF2",595]
["HCFE-235da2","CHF2OCHClCF3",350]
["HFC-125","CHF2CF3",3500]
["HFC-134a","CH2FCF3",1430]
["HFC-143a","CH3CF3",4470]
["HFC-152a","CH3CHF2",124]
["HFC-227ea","CF3CHFCF3",3220]
["HFC-23","CHF3",14800]
["HFC-236fa","CF3CH2CF3",9810]
["HFC-245fa","CHF2CH2CF3",1030]
["HFC-32","CH2F2",675]
["HFC-365mfc","CH3CF2CH2CF3",794]
["HFC-43-10mee","CF3CHFCHFCF2CF3",1640]
["HFE-125","CHF2OCF3",14900]
["HFE-134","CHF2OCHF2",6320]
["HFE-143a","CH3OCF3",756]
["HFE-236ca12 (HG-10)","CH2OCF2OCHF2",2800]
["HFE-245cb2","CH3OCF2CHF2",708]
["HFE-245fa2","CHF2OCH2CF3",659]
["HFE-254cb2","CH3OCF2CHF2",359]
["HFE-338pcc13 (HG-01)","CHF2OCF2CF2OCHF2",1500]
["HFE-347mcc3","CH3OCF2CF2CF3",575]
["HFE-347pcf2","CHF2CF2OCH2CF3",580]
["HFE-356pcc3","CH3OCF2CF2CHF2",110]
["HFE-43-10-pccc124 (H-Galden 1040x)","CHF2OCF2OC2F4OCHF2",1870]
["HFE-449sl (HFE-7100)","C4F9OCH3",297]
["HFE-569sf2 (HFE-7200)","C4F9OC2H5",59]
["Methane 甲烷","CH4",25]
["Methyl chloride 一氯甲烷","CH3Cl",13]
["Methyl chloroform 三氯乙烷","CH3CCl3",146]
["Methylene chloride 二氯甲烷","CH2Cl2",8.6999999999999993]
["Metyl bromide 甲基溴","CH3Br",5]
["Nitrogen trifluoride 三氟化氮","NF3",17200]
["Nitrous oxide 一氧化二氮","N2O",298]
["PFC-116","C2F6",12200]
["PFC-14","CF4",7390]
["PFC-218","C3F8",8830]
["PFC-3-1-10","C4F10",8860]
["PFC-318","c-C4F8",10300]
["PFC-4-1-12","C5F12",9160]
["PFC-5-1-14","C6F14",9300]
["PFC-9-1-18","C10F18",7500]
["PFPMIE","CF3OCF(CF3)CF2OCF2OCF3",10300]
["Sulfur hexafluoride 六氟化硫","SF6",22800]
["Trifluoromethyl sulfur pentafluoride","SF5CF3",17700]

{"sheet":"Reference Data -Refrigerant GWP","index":21,"n_rows":65,"n_cols":3,"rows_kept":65,"cut":false,"hidden":false,"merged":[]}
["温室气体","分子式","全球变暖潜势"]
["Greenhouse Gas","Formula ","100-year GWP (AR4) "]
["Carbon dioxide 二氧化碳","CO2",1]
["Carbon tetrachloride","CCl4",1400]
["CFC-11","CCl3F",4750]
["CFC-113","CCl2FCClF2",6130]
["CFC-114","CClF2CClF2",10000]
["CFC-115","CClF2CF3",7370]
["CFC-12","CCl2F2",10900]
["CFC-13","CClF3",14400]
["Dimethylether 甲醚","CH3OCH3",1]
["Halon-1211","CBrClF2",1890]
["Halon-1301","CBrF3",7140]
["Halon-2402","CBrF2CBrF2",1640]
["HCFC-123","CHCl2CF3",77]
["HCFC-124","CHClFCF3",609]
["HCFC-141b","CH3CCl2F",725]
["HCFC-142b","CH3CClF2",2310]
["HCFC-22","CHClF2",1810]
["HCFC-225ca","CHCl2CF2CF3",122]
["HCFC-225cb","CHClFCF2CClF2",595]
["HCFE-235da2","CHF2OCHClCF3",350]
["HFC-125","CHF2CF3",3500]
["HFC-134a","CH2FCF3",1430]
["HFC-143a","CH3CF3",4470]
["HFC-152a","CH3CHF2",124]
["HFC-227ea","CF3CHFCF3",3220]
["HFC-23","CHF3",14800]
["HFC-236fa","CF3CH2CF3",9810]
["HFC-245fa","CHF2CH2CF3",1030]
["HFC-32","CH2F2",675]
["HFC-365mfc","CH3CF2CH2CF3",794]
["HFC-43-10mee","CF3CHFCHFCF2CF3",1640]
["HFE-125","CHF2OCF3",14900]
["HFE-134","CHF2OCHF2",6320]
["HFE-143a","CH3OCF3",756]
["HFE-236ca12 (HG-10)","CH2OCF2OCHF2",2800]
["HFE-245cb2","CH3OCF2CHF2",708]
["HFE-245fa2","CHF2OCH2CF3",659]
["HFE-254cb2","CH3OCF2CHF2",359]
["HFE-338pcc13 (HG-01)","CHF2OCF2CF2OCHF2",1500]
["HFE-347mcc3","CH3OCF2CF2CF3",575]
["HFE-347pcf2","CHF2CF2OCH2CF3",580]
["HFE-356pcc3","CH3OCF2CF2CHF2",110]
["HFE-43-10-pccc124 (H-Galden 1040x)","CHF2OCF2OC2F4OCHF2",1870]
["HFE-449sl (HFE-7100)","C4F9OCH3",297]
["HFE-569sf2 (HFE-7200)","C4F9OC2H5",59]
["Methane 甲烷","CH4",25]
["Methyl chloride 一氯甲烷","CH3Cl",13]
["Methyl chloroform 三氯乙烷","CH3CCl3",146]
["Methylene chloride 二氯甲烷","CH2Cl2",8.6999999999999993]
["Metyl bromide甲基溴","CH3Br",5]
["Nitrogen trifluoride 三氟化氮","NF3",17200]
["Nitrous oxide 一氧化二氮","N2O",298]
["PFC-116","C2F6",12200]
["PFC-14","CF4",7390]
["PFC-218","C3F8",8830]
["PFC-3-1-10","C4F10",8860]
["PFC-318","c-C4F8",10300]
["PFC-4-1-12","C5F12",9160]
["PFC-5-1-14","C6F14",9300]
["PFC-9-1-18","C10F18",7500]
["PFPMIE","CF3OCF(CF3)CF2OCF2OCF3",10300]
["Sulfur hexafluoride 六氟化硫","SF6",22800]
["Trifluoromethyl sulfur pentafluoride","SF5CF3",17700]

{"sheet":"Reference Material EFs Quantity","index":22,"n_rows":66,"n_cols":5,"rows_kept":66,"cut":false,"hidden":false,"merged":[]}
["原材料","单位",null,"排放因子 (kg CO2e/unit)","参考文献"]
["Material","Unit",null,"Emission factor (kg CO2e/unit)","Reference"]
["ACETATE 醋酸纤维","kg",{"$f":"A3&\" - (\"&B3&\")\"","v":"ACETATE 醋酸纤维 - (kg)"}]
["ACRYLIC 腈纶","kg","ACRYLIC 腈纶 - (kg)"]
["Acrylonitrile Butadiene Styrene 757 Resin ABS757树脂","kg","Acrylonitrile Butadiene Styrene 757 Resin ABS757树脂 - (kg)"]
["BAMBOO VISCOSE 竹纤维","kg","BAMBOO VISCOSE 竹纤维 - (kg)"]
["Carton 纸板箱","t","Carton 纸板箱 - (t)"]
["CASHMERE 羊绒","kg","CASHMERE 羊绒 - (kg)"]
["CD NYLON 66 CD尼龙66","kg","CD NYLON 66 CD尼龙66 - (kg)"]
["CD POLYESTER CD聚酯","kg","CD POLYESTER CD聚酯 - (kg)"]
["Color Masterbatch 色母料","kg","Color Masterbatch 色母料 - (kg)"]
["COOLMAX 酷美丝（竹纤维的一种）","kg","COOLMAX 酷美丝（竹纤维的一种） - (kg)"]
["COTTON 棉花","kg","COTTON 棉花 - (kg)"]
["Diluents/920-UV-0014 UV Thinner 填充剂/920-UV-0014 稀释剂","kg","Diluents/920-UV-0014 UV Thinner 填充剂/920-UV-0014 稀释剂 - (kg)"]
["EVOH 乙烯醇共聚物","kg","EVOH 乙烯醇共聚物 - (kg)"]
["HEMP","kg","HEMP - (kg)"]
["Hign Density Polyethylene 5502 Resin 高密度聚乙烯树脂5502","kg","Hign Density Polyethylene 5502 Resin 高密度聚乙烯树脂5502 - (kg)"]
["LINEN","kg","LINEN - (kg)"]
["Low Density Polyethylene Q200 Resin 低密度聚乙烯树脂Q200","kg","Low Density Polyethylene Q200 Resin 低密度聚乙烯树脂Q200 - (kg)"]
["LYCRA 莱卡","kg","LYCRA 莱卡 - (kg)"]
["LYOCELL 莱赛尔纤维（新溶剂法纤维素纤维）","kg","LYOCELL 莱赛尔纤维（新溶剂法纤维素纤维） - (kg)"]
["MERINO WOOL 美利奴羊毛","kg","MERINO WOOL 美利奴羊毛 - (kg)"]
["METALIZ.PET/NY","kg","METALIZ.PET/NY - (kg)"]
["METALIZE NYL","kg","METALIZE NYL - (kg)"]
["METALIZE PET","kg","METALIZE PET - (kg)"]
["MILK 牛奶","kg","MILK 牛奶 - (kg)"]
["MODAL 莫代尔（纤维）","kg","MODAL 莫代尔（纤维） - (kg)"]
["NYLON 6 尼龙6","kg","NYLON 6 尼龙6 - (kg)"]
["NYLON 66 尼龙66","kg","NYLON 66 尼龙66 - (kg)"]
["NYLON 尼龙","kg","NYLON 尼龙 - (kg)"]
["ORGANIC COTTON 有机棉","kg","ORGANIC COTTON 有机棉 - (kg)"]
["Packaging (seal) Tapes 包装（密封）胶带","m","Packaging (seal) Tapes 包装（密封）胶带 - (m)"]
["Paper Label 纸标签","pcs","Paper Label 纸标签 - (pcs)"]
["PBT 聚对苯二甲酸二丁酯","kg","PBT 聚对苯二甲酸二丁酯 - (kg)"]
["Pearly Foam 珍珠泡沫","pcs",{"$f":"A35&\" - (\"&B35&\")\"","v":"Pearly Foam 珍珠泡沫 - (pcs)"}]
["POLYESTER 聚酯","kg","POLYESTER 聚酯 - (kg)"]
["Polyethylene Bag 聚乙烯袋","pcs","Polyethylene Bag 聚乙烯袋 - (pcs)"]
["Polyethylene Coiled Material 聚乙烯卷材","roll","Polyethylene Coiled Material 聚乙烯卷材 - (roll)"]
["Polyethylene Terephthalate Overwrap 聚对苯二甲酸乙二醇酯包装纸","pcs","Polyethylene Terephthalate Overwrap 聚对苯二甲酸乙二醇酯包装纸 - (pcs)"]
["POLYETHYLENE 聚乙烯","kg","POLYETHYLENE 聚乙烯 - (kg)"]
["POLYLACTICACID 聚乙烯醇","kg","POLYLACTICACID 聚乙烯醇 - (kg)"]
["POLYNOSIC 高湿模量粘胶纤维；富强纤维","kg","POLYNOSIC 高湿模量粘胶纤维；富强纤维 - (kg)"]
["Polypropylene Label 聚丙烯标签","pcs","Polypropylene Label 聚丙烯标签 - (pcs)"]
["Polypropylene M700R Resin 聚丙烯树脂M700R","kg","Polypropylene M700R Resin 聚丙烯树脂M700R - (kg)"]
["Polypropylene M800E Resin 聚丙烯树脂M800E","kg","Polypropylene M800E Resin 聚丙烯树脂M800E - (kg)"]
["Polypropylene T300 Resin 聚丙烯树脂 T300","kg","Polypropylene T300 Resin 聚丙烯树脂 T300 - (kg)"]
["Power Puff 粉扑","pcs","Power Puff 粉扑 - (pcs)"]
["PRO-MODAL PRO-莫代尔","kg","PRO-MODAL PRO-莫代尔 - (kg)"]
["PRO-VISCOSE PRO-粘胶纤维","kg","PRO-VISCOSE PRO-粘胶纤维 - (kg)"]
["PTT 聚对苯二甲酸丙二酯","kg","PTT 聚对苯二甲酸丙二酯 - (kg)"]
["PVA","kg","PVA - (kg)"]
["RABBIT HAIR 兔毛","kg","RABBIT HAIR 兔毛 - (kg)"]
["RAMIE 苎麻纤维","kg","RAMIE 苎麻纤维 - (kg)"]
["RECYCLE NYLON6 再循环尼龙6","kg","RECYCLE NYLON6 再循环尼龙6 - (kg)"]
["Screen Washing Agent/718 extra 屏幕清洗剂/718 extra","kg","Screen Washing Agent/718 extra 屏幕清洗剂/718 extra - (kg)"]
["SEACELL 海藻纤维","kg","SEACELL 海藻纤维 - (kg)"]
["Silk Screen Printing Ink 丝网印刷墨汁","kg","Silk Screen Printing Ink 丝网印刷墨汁 - (kg)"]
["SILK 真丝","kg","SILK 真丝 - (kg)"]
["SOYBEANPROTEIN 大豆蛋白","kg","SOYBEANPROTEIN 大豆蛋白 - (kg)"]
["SPANDEX 斯潘德克斯弹性纤维","kg","SPANDEX 斯潘德克斯弹性纤维 - (kg)"]
["T DIABOLO NYL","kg","T DIABOLO NYL - (kg)"]
["TACTEL NYLON 特达尼龙","kg","TACTEL NYLON 特达尼龙 - (kg)"]
["TENCEL 天丝棉","kg","TENCEL 天丝棉 - (kg)"]
["VISCOSE 粘胶纤维","kg","VISCOSE 粘胶纤维 - (kg)"]
["WOOL 羊毛","kg","WOOL 羊毛 - (kg)"]
["XLA 聚烯烃基弹性纤维","kg","XLA 聚烯烃基弹性纤维 - (kg)"]

{"sheet":"Reference Material EFs EEIO","index":23,"n_rows":30,"n_cols":3,"rows_kept":30,"cut":false,"hidden":false,"merged":[]}
["经济部门","排放因子(kgCO2e/RMB)","参考文献"]
["Economic sector","Emission factor (kg CO2e/RMB)","Reference"]
["Accessory bag 附件包"]
["Antenna 天线",null,"MSU"]
["Battery 电池",null,"MSU"]
["Bottom shell 底壳",null,"MSU"]
["Camera 摄相头",null,"MSU"]
["Cards 卡"]
["CD-ROM 光驱",null,"MSU"]
["COM block slice串口挡片",null,"MSU"]
["Computer case 机箱",null,"MSU"]
["Cooling fin 散热片",null,"MSU"]
["CPU 中央处理器",null,"MSU"]
["Fan 风扇",null,"MSU"]
["Gummed paper胶纸",null,"MSU"]
["Hand disk 硬盘",null,"MSU"]
["Hinge 铰链",null,"MSU"]
["Keyboard 键盘",null,"MSU"]
["Label 标签",null,"MSU"]
["LCD 液晶显示屏",null,"MSU"]
["Loudspeaker 喇叭",null,"MSU"]
["Mainboard主板",null,"MSU"]
["Mouse 鼠标",null,"MSU"]
["Packing material纸质包材",null,"MSU"]
["Plastic parts 塑料件",null,"MSU"]
["Power supply 电源",null,"MSU"]
["RAM 内存",null,"MSU"]
["Screw 螺丝",null,"MSU"]
["Support 支架",null,"MSU"]
["Wire 线"]

{"sheet":"Reference - Logistics Distance","index":24,"n_rows":30,"n_cols":15,"rows_kept":30,"cut":false,"hidden":false,"merged":[]}
["方式","型号",null,"燃烧排放因子(kg CO2e/tonne-km)","参考文献","生物源二氧化碳当量排放百分比","转化因子（MWH/吨千米）","CO2排放因子(kg CO2/tonne-km)","CH4排放因子(kg CO2e/tonne-km)","N2O排放因子(kg CO2e/tonne-km)","HFC排放因子(kg CO2e/tonne-km)","排放因子(kg CO2e/tonne-km)","SF6 排放因子(kg CO2e/tonne-km)","NF3 排放因子(kg CO2e/unit)","上游排放因子(kg CO2e/tonne-km)"]
["Mode","Type",null,"Combustion Emission Factor (kg CO2e/tonne-km)","Reference","Biogenic fuel - Yes/No?","Conversion factor (MWh per tonne-km)","CO2 Emission Factor (kg CO2/tonne-km)","CH4 Emission Factor (kg CO2e/tonne-km)","N2O  Emission Factor (kg CO2e/tonne-km)","HFC  Emission Factor (kg CO2e/tonne-km)","PFC  Emission Factor (kg CO2e/tonne-km)","SF6  Emission Factor (kg CO2e/tonne-km)","NF3 Emission Factor (kg CO2e/unit)","Upstream emissions (kg CO2e/tonne-km)"]
["Air 航空","Domestic 国内",{"$f":"A3&\" - \"&B3","v":"Air 航空 - Domestic 国内"},null,null,"No",null,null,null,null,null,null,null,null,1]
["Air 航空","Long international 国际短途","Air 航空 - Long international 国际短途",null,null,"No",null,null,null,null,null,null,null,null,1]
["Air 航空","Short international 国际长途","Air 航空 - Short international 国际长途",null,null,"No",null,null,null,null,null,null,null,null,1]
["Maritime shipping 水运","Bulk carrier 散货船","Maritime shipping 水运 - Bulk carrier 散货船",null,null,"No",null,null,null,null,null,null,null,null,1]
["Maritime shipping 水运","Chemical tanker 化学品运输船","Maritime shipping 水运 - Chemical tanker 化学品运输船",null,null,"No",null,null,null,null,null,null,null,null,1]
["Maritime shipping 水运","container 集装箱船","Maritime shipping 水运 - container 集装箱船",null,null,"No",null,null,null,null,null,null,null,null,1]
["Maritime shipping 水运","Crude tanker (oil) 原油油轮","Maritime shipping 水运 - Crude tanker (oil) 原油油轮",null,null,"No",null,null,null,null,null,null,null,null,1]
["Maritime shipping 水运","General cargo 一般货物运输船","Maritime shipping 水运 - General cargo 一般货物运输船",null,null,"No",null,null,null,null,null,null,null,null,1]
["Maritime shipping 水运","Large RoPax ferry 大型RoPax轮渡","Maritime shipping 水运 - Large RoPax ferry 大型RoPax轮渡",null,null,"No",null,null,null,null,null,null,null,null,1]
["Maritime shipping 水运","LNG tanker 液化天然气船","Maritime shipping 水运 - LNG tanker 液化天然气船",null,null,"No",null,null,null,null,null,null,null,null,1]
["Maritime shipping 水运","Products tanker 成品油油轮","Maritime shipping 水运 - Products tanker 成品油油轮",null,null,"No",null,null,null,null,null,null,null,null,1]
["Maritime shipping 水运","Refrigerated cargo 冷冻运输船","Maritime shipping 水运 - Refrigerated cargo 冷冻运输船",null,null,"No",null,null,null,null,null,null,null,null,1]
["Maritime shipping 水运","Ro-Ro ferry 滚装轮渡","Maritime shipping 水运 - Ro-Ro ferry 滚装轮渡",null,null,"No",null,null,null,null,null,null,null,null,1]
["Maritime shipping 水运","Vehhicle transport 汽车运输船","Maritime shipping 水运 - Vehhicle transport 汽车运输船",null,null,"No",null,null,null,null,null,null,null,null,1]
["Railway 铁路","Train 火车","Railway 铁路 - Train 火车",null,null,"No",null,null,null,null,null,null,null,null,1]
["Road 公路","CNG van, up to 3.5 tonne 混和天然气轻型商务车，小于3.5吨","Road 公路 - CNG van, up to 3.5 tonne 混和天然气轻型商务车，小于3.5吨",null,null,"No",null,null,null,null,null,null,null,null,1]
["Road 公路","Diesel HGV,Articulated, 3.5 to 33 tonne 柴油载重车，带拖车，3.5-33吨","Road 公路 - Diesel HGV,Articulated, 3.5 to 33 tonne 柴油载重车，带拖车，3.5-33吨",null,null,"No",null,null,null,null,null,null,null,null,1]
["Road 公路","Diesel HGV,Articulated, above 33 tonne 柴油载重车，带拖车，大于33吨","Road 公路 - Diesel HGV,Articulated, above 33 tonne 柴油载重车，带拖车，大于33吨",null,null,"No",null,null,null,null,null,null,null,null,1]
["Road 公路","Diesel HGV,Rigid, 3.5 to 7.5 tonne 柴油载重车，单车，3.5-7.5吨","Road 公路 - Diesel HGV,Rigid, 3.5 to 7.5 tonne 柴油载重车，单车，3.5-7.5吨",null,null,"No",null,null,null,null,null,null,null,null,1]
["Road 公路","Diesel HGV,Rigid, 7.5 to 17 tonne 柴油载重车，单车，7.5-17吨","Road 公路 - Diesel HGV,Rigid, 7.5 to 17 tonne 柴油载重车，单车，7.5-17吨",null,null,"No",null,null,null,null,null,null,null,null,1]
["Road 公路","Diesel HGV,Rigid, above 17 tonne 柴油载重车，单车，大于17吨","Road 公路 - Diesel HGV,Rigid, above 17 tonne 柴油载重车，单车，大于17吨",null,null,"No",null,null,null,null,null,null,null,null,1]
["Road 公路","Diesel van (Class I), up to 1.305 tonne 柴油轻型商务车（I级），小于1.305吨","Road 公路 - Diesel van (Class I), up to 1.305 tonne 柴油轻型商务车（I级），小于1.305吨",null,null,"No",null,null,null,null,null,null,null,null,1]
["Road 公路","Diesel van (Class II), 1.305 to 1.74 tonne 柴油轻型商务车（II级），1.305-1.74吨","Road 公路 - Diesel van (Class II), 1.305 to 1.74 tonne 柴油轻型商务车（II级），1.305-1.74吨",null,null,"No",null,null,null,null,null,null,null,null,1]
["Road 公路","Diesel van (Class III), 1.74 to 3.5 tonne 柴油轻型商务车（III级），1.74-3.5吨","Road 公路 - Diesel van (Class III), 1.74 to 3.5 tonne 柴油轻型商务车（III级），1.74-3.5吨",null,null,"No",null,null,null,null,null,null,null,null,1]
["Road 公路","LPG van, up to 3.5 tonne 液化石油气轻型商务车，小于3.5吨","Road 公路 - LPG van, up to 3.5 tonne 液化石油气轻型商务车，小于3.5吨",null,null,"No",null,null,null,null,null,null,null,null,1]
["Road 公路","Petrol van (Class I), up to 1.305 tonne 汽油轻型商务车（I级），小于1.305吨","Road 公路 - Petrol van (Class I), up to 1.305 tonne 汽油轻型商务车（I级），小于1.305吨",null,null,"No",null,null,null,null,null,null,null,null,1]
["Road 公路","Petrol van (Class II), 1.305 to 1.74 tonne 汽油轻型商务车（II级），1.305-1.74吨","Road 公路 - Petrol van (Class II), 1.305 to 1.74 tonne 汽油轻型商务车（II级），1.305-1.74吨",null,null,"No",null,null,null,null,null,null,null,null,1]
["Road 公路","Petrol van (Class III), 1.74 to 3.5 tonne 汽油轻型商务车（III级），1.74-3.5吨","Road 公路 - Petrol van (Class III), 1.74 to 3.5 tonne 汽油轻型商务车（III级），1.74-3.5吨",null,null,"No",null,null,null,null,null,null,null,null,1]

{"sheet":"Reference Passenger Transport","index":25,"n_rows":31,"n_cols":15,"rows_kept":31,"cut":false,"hidden":false,"merged":[]}
["方式","类型",null,"燃烧排放因子(kg CO2e/passenger-km)","参考文献","生物源二氧化碳当量排放百分比","转化因子（MWH/人千米）","CO2排放因子(kg CO2/passenger-km)","CH4排放因子（kg CO2e/passenger-km)","N2O排放因子（kg CO2e/passenger-km)","HFC排放因子（kg CO2e/passenger-km)","PFC排放因子（kg CO2e/passenger-km)","SF6排放因子（kg CO2e/passenger-km)","NF3 排放因子(kg CO2e/unit)","上游排放（kg CO2e/passenger-km)"]
["Mode","Type",null,"Combustion Emission Factor (kg CO2e/passenger-km)","Reference","Biogenic fuel - Yes/No?","Conversion factor (MWh per passenger-km)","CO2 Emission Factor (kg CO2/passenger-km)","CH4 Emission Factor (kg CO2e/passenger-km)","N2O  Emission Factor (kg CO2e/passenger-km)","HFC  Emission Factor (kg CO2e/passenger-km)","PFC  Emission Factor (kg CO2e/passenger-km)","SF6  Emission Factor (kg CO2e/passenger-km)","NF3 Emission Factor (kg CO2e/unit)","Upstream emissions (kg CO2e/passenger-km)"]
["Air 航空","Domestic, average 国内，平均",{"$f":"A3&\" - \"&B3","v":"Air 航空 - Domestic, average 国内，平均"},null,null,"No",null,null,null,null,null,null,null,null,1]
["Air 航空","Long international, Business class 国际长途，商务舱","Air 航空 - Long international, Business class 国际长途，商务舱",null,null,"No",null,null,null,null,null,null,null,null,1]
["Air 航空","Long international, Economy class 国际长途，经济舱","Air 航空 - Long international, Economy class 国际长途，经济舱",null,null,"No",null,null,null,null,null,null,null,null,1]
["Air 航空","Long international, First class 国际长途，头等舱","Air 航空 - Long international, First class 国际长途，头等舱",null,null,"No",null,null,null,null,null,null,null,null,1]
["Air 航空","Short international, Business class 国际短途，商务舱","Air 航空 - Short international, Business class 国际短途，商务舱",null,null,"No",null,null,null,null,null,null,null,null,1]
["Air 航空","Short international, Economy class 国际短途，经济舱","Air 航空 - Short international, Economy class 国际短途，经济舱",null,null,"No",null,null,null,null,null,null,null,null,1]
["Railway 铁路","Train 火车","Railway 铁路 - Train 火车",null,null,"No",null,null,null,null,null,null,null,null,1]
["Road 公路","Average CNG car 混和天然气轿车，平均","Road 公路 - Average CNG car 混和天然气轿车，平均",null,null,"No",null,null,null,null,null,null,null,null,1]
["Road 公路","Average LPG car 液化石油气轿车，平均","Road 公路 - Average LPG car 液化石油气轿车，平均",null,null,"No",null,null,null,null,null,null,null,null,1]
["Road 公路","Average petrol hybrid car 汽油混和动力轿车，平均","Road 公路 - Average petrol hybrid car 汽油混和动力轿车，平均",null,null,"No",null,null,null,null,null,null,null,null,1]
["Road 公路","Bus 公共汽车","Road 公路 - Bus 公共汽车",null,null,"No",null,null,null,null,null,null,null,null,1]
["Road 公路","CNG van up to 3.5 tonne 混和天然气轻型商务车，小于3.5吨","Road 公路 - CNG van up to 3.5 tonne 混和天然气轻型商务车，小于3.5吨",null,null,"No",null,null,null,null,null,null,null,null,1]
["Road 公路","Diesel van (Class I), up to 1.305 tonne 柴油轻型商务车（I级），小于1.305吨","Road 公路 - Diesel van (Class I), up to 1.305 tonne 柴油轻型商务车（I级），小于1.305吨",null,null,"No",null,null,null,null,null,null,null,null,1]
["Road 公路","Diesel van (Class II), 1.305 to 1.74 tonne 柴油轻型商务车（II级），1.305-1.74吨","Road 公路 - Diesel van (Class II), 1.305 to 1.74 tonne 柴油轻型商务车（II级），1.305-1.74吨",null,null,"No",null,null,null,null,null,null,null,null,1]
["Road 公路","Diesel van (Class III), 1.74 to 3.5 tonne 柴油轻型商务车（III级），1.74-3.5吨","Road 公路 - Diesel van (Class III), 1.74 to 3.5 tonne 柴油轻型商务车（III级），1.74-3.5吨",null,null,"No",null,null,null,null,null,null,null,null,1]
["Road 公路","Diesel van up to 3.5 tonne 柴油轻型商务车，平均，小于3.5吨","Road 公路 - Diesel van up to 3.5 tonne 柴油轻型商务车，平均，小于3.5吨",null,null,"No",null,null,null,null,null,null,null,null,1]
["Road 公路","Large diesel car, over 2.0 litre 柴油轿车，大于2.0升","Road 公路 - Large diesel car, over 2.0 litre 柴油轿车，大于2.0升",null,null,"No",null,null,null,null,null,null,null,null,1]
["Road 公路","Large petrol car, above 2.0 litres 汽油轿车，大于2.0升","Road 公路 - Large petrol car, above 2.0 litres 汽油轿车，大于2.0升",null,null,"No",null,null,null,null,null,null,null,null,1]
["Road 公路","LPG van up to 3.5 tonne 液化石油气轻型商务车，平均，小于3.5吨","Road 公路 - LPG van up to 3.5 tonne 液化石油气轻型商务车，平均，小于3.5吨",null,null,"No",null,null,null,null,null,null,null,null,1]
["Road 公路","Medium diesel car, from 1.7 to 2.0 litre 柴油轿车，1.7-2.0升","Road 公路 - Medium diesel car, from 1.7 to 2.0 litre 柴油轿车，1.7-2.0升",null,null,"No",null,null,null,null,null,null,null,null,1]
["Road 公路","Medium petrol car, from 1.4-2.0 litres 汽油轿车，1.4-2.0升","Road 公路 - Medium petrol car, from 1.4-2.0 litres 汽油轿车，1.4-2.0升",null,null,"No",null,null,null,null,null,null,null,null,1]
["Road 公路","Petrol van (Class I), up to 1.305 tonne 汽油轻型商务车（I级），小于1.305吨","Road 公路 - Petrol van (Class I), up to 1.305 tonne 汽油轻型商务车（I级），小于1.305吨",null,null,"No",null,null,null,null,null,null,null,null,1]
["Road 公路","Petrol van (Class II), 1.305 to 1.74 tonne 汽油轻型商务车（II级），1.305-1.74吨","Road 公路 - Petrol van (Class II), 1.305 to 1.74 tonne 汽油轻型商务车（II级），1.305-1.74吨",null,null,"No",null,null,null,null,null,null,null,null,1]
["Road 公路","Petrol van (Class III), 1.74 to 3.5 tonne 汽油轻型商务车（III级），1.74-3.5吨","Road 公路 - Petrol van (Class III), 1.74 to 3.5 tonne 汽油轻型商务车（III级），1.74-3.5吨",null,null,"No",null,null,null,null,null,null,null,null,1]
["Road 公路","Petrol van up to 3.5 tonne 汽油轻型商务车，平均，小于3.5吨","Road 公路 - Petrol van up to 3.5 tonne 汽油轻型商务车，平均，小于3.5吨",null,null,"No",null,null,null,null,null,null,null,null,1]
["Road 公路","Small diesel car, up to 1.7 litre 柴油轿车，小于1.7升","Road 公路 - Small diesel car, up to 1.7 litre 柴油轿车，小于1.7升",null,null,"No",null,null,null,null,null,null,null,null,1]
["Road 公路","Small petrol car, up to 1.4 litre engine 汽油轿车，小于1.4升","Road 公路 - Small petrol car, up to 1.4 litre engine 汽油轿车，小于1.4升",null,null,"No",null,null,null,null,null,null,null,null,1]
["Road 公路","Taxi 出租车","Road 公路 - Taxi 出租车",null,null,"No",null,null,null,null,null,null,null,null,1]
["Subway 地铁","Subway 地铁","Subway 地铁 - Subway 地铁",null,null,"No",null,null,null,null,null,null,null,null,1]

{"sheet":"Reference Data - Waste EFs","index":26,"n_rows":18,"n_cols":6,"rows_kept":18,"cut":false,"hidden":false,"merged":[]}
["材料","回收（kg CO2e/kg)","填埋(kg CO2e/kg)","有能量回收焚烧(kg CO2e/kg)","无能量回收焚烧(kg CO2e/kg)","堆肥(kg CO2e/kg)"]
["Material","Recycling (kg CO2e/kg)","Landfill (kg CO2e/kg)","Incineration with energy recovery (kg CO2e/kg)","Incineration without energy recovery (kg CO2e/kg)","Composting (kg CO2e/kg)"]
["Iron and steel"]
["Aluminium"]
["Other metals"]
["Plastics"]
["Glass"]
["Paper and Card"]
["Wood"]
["Food"]
["Other agricultural/garden waste"]
["Other non-biodegradable waste"]
["Mixed waste"]
[]
[]
["Emission factor for waste transport (kg CO2e/kg of waste transported):"]
[]
["Emission factor for water disposed of (kg CO2e/l water):"]

{"sheet":"VBA Backend","index":27,"n_rows":26,"n_cols":2,"rows_kept":26,"cut":false,"hidden":true,"merged":[]}
["Previous Values for Worksheet Change Events"]
[]
["On-Site Fuel"]
["Number of On-Site Combustion Inputs:",100]
["Number of On-Site Vehicles Inputs:",100]
[]
["Material Inputs"]
["Number of quantity inputs",100]
["Number of EIO inputs",100]
[]
["Inbound Logistics"]
["Number of fuel inputs",0]
["Number of distance inputs",100]
["Number of economic inputs",100]
["Business Travel"]
["Number of fuel inputs",100]
["Number of distance inputs",100]
[]
["Employee Commuting"]
["Number of Inputs",100]
[]
["Customer Apportionment"]
["Number of Customers",20]
[]
["Product Apportionment"]
["Number of Products",20]

{"sheet":"Dropdown menus","index":28,"n_rows":6,"n_cols":7,"rows_kept":6,"cut":false,"hidden":true,"merged":[]}
[null,"Operating Control","Financial Control","Equity Share"]
[]
["Company Owned and Controlled 公司所有并控制",1,1,1,null,"Equity Share 股权比例",4]
["Company Owned and 3rd Party Controlled 公司所有但第三方控制",3,3,1,null,"Financial Control 财务控制",3]
["3rd Party Owned and 3rd Party Controlled 第三方所有且控制",3,3,3,null,"Operational Control 运营控制",2]
["3rd Party Owned and Company Controlled 第三方所有但公司控制",1,1,3]

{"sheet":"Sheet2","index":29,"n_rows":0,"n_cols":0,"rows_kept":0,"cut":false,"hidden":true,"merged":[]}